{"text_format":"1","workbook":"xlsx","n_sheets":9,"sheets":["基本登録情報","男子様式","女子様式","人数チェック表","明細書","登録データ","男子mat","女子mat","所属"],"not_rendered":{"charts":0,"images":0,"macros":0,"external_links":1,"defined_names":4,"comments":3,"pivot_tables":0},"unopened":[],"bounds":{"document_bytes":16777216,"sheet_cells":100000,"rows_first":2000,"rows_last":500,"rows_between":2000,"halvings":0,"cell_chars":16384,"cell_head_chars":4096},"cells_cut":0,"cells_raw":0,"read":"whole","date_system":"1900"}

{"sheet":"基本登録情報","index":0,"n_rows":19,"n_cols":7,"rows_kept":19,"cut":false,"hidden":false,"merged":[[0,0,2,7],[5,2,5,6],[6,2,6,6],[8,2,8,5],[8,6,9,6],[9,2,9,5],[10,2,10,5],[10,6,11,6],[11,2,11,5],[13,2,13,5],[13,6,14,6],[14,2,14,5],[15,2,15,6],[16,2,16,6],[17,2,17,6],[18,1,20,1],[18,2,20,6]]}
["学連競技会　申込　（一般用）"]
[]
[]
[]
[]
[null,"団体名/ﾌﾘｶﾞﾅ"]
[null,"団体名"]
[]
[null,"部長名 ﾌﾘｶﾞﾅ",null,null,null,null,"印"]
[null,"部長名"]
[null,"監督名　ﾌﾘｶﾞﾅ",null,null,null,null,"印"]
[null,"監督名"]
[]
[null,"申込責任者 ﾌﾘｶﾞﾅ",null,null,null,null,"印"]
[null,"申込責任者　氏名"]
[null,"電話番号"]
[null,"緊急連絡先"]
[null,"郵便番号"]
[null,"住所"]

{"sheet":"男子様式","index":1,"n_rows":620,"n_cols":48,"rows_kept":620,"cut":false,"hidden":false,"merged":[[104,14,106,14],[101,14,103,14],[98,14,100,14],[95,14,97,14],[92,14,94,14],[89,14,91,14],[86,14,88,14],[83,14,85,14],[80,14,82,14],[77,14,79,14],[107,14,109,14],[26,14,28,14],[23,14,25,14],[20,14,22,14],[17,14,18,14],[14,14,15,14],[50,14,52,14],[47,14,49,14],[44,14,46,14],[41,14,43,14],[38,14,40,14],[35,14,37,14],[32,14,34,14],[29,14,31,14],[74,14,76,14],[71,14,73,14],[68,14,70,14],[65,14,67,14],[62,14,64,14],[59,14,61,14],[56,14,58,14],[53,14,55,14],[20,34,22,34],[20,35,22,35],[584,35,586,35],[587,35,589,35],[590,35,592,35],[593,35,595,35],[596,35,598,35],[599,35,601,35],[602,35,604,35],[605,35,607,35],[608,35,610,35],[611,35,613,35],[614,35,616,35],[617,35,619,35],[530,35,532,35],[533,35,535,35],[536,35,538,35],[539,35,541,35],[542,35,544,35],[545,35,547,35],[548,35,550,35],[551,35,553,35],[554,35,556,35],[557,35,559,35],[560,35,562,35],[563,35,565,35],[566,35,568,35],[569,35,571,35],[572,35,574,35],[575,35,577,35],[578,35,580,35],[482,35,484,35],[485,35,487,35],[488,35,490,35],[491,35,493,35],[494,35,496,35],[497,35,499,35],[500,35,502,35],[503,35,505,35],[506,35,508,35],[509,35,511,35],[512,35,514,35],[515,35,517,35],[518,35,520,35],[521,35,523,35],[524,35,526,35],[527,35,529,35],[581,35,583,35],[431,35,433,35],[434,35,436,35],[437,35,439,35],[440,35,442,35],[443,35,445,35],[446,35,448,35],[449,35,451,35],[452,35,454,35],[455,35,457,35],[458,35,460,35],[461,35,463,35],[464,35,466,35],[467,35,469,35],[470,35,472,35],[473,35,475,35],[476,35,478,35],[479,35,481,35],[380,35,382,35],[383,35,385,35],[386,35,388,35],[389,35,391,35],[392,35,394,35],[395,35,397,35],[398,35,400,35],[401,35,403,35],[404,35,406,35],[407,35,409,35],[410,35,412,35],[413,35,415,35],[416,35,418,35],[419,35,421,35],[422,35,424,35],[425,35,427,35],[428,35,430,35],[329,35,331,35],[332,35,334,35],[335,35,337,35],[338,35,340,35],[341,35,343,35],[344,35,346,35],[347,35,349,35],[350,35,352,35],[353,35,355,35],[356,35,358,35],[359,35,361,35],[362,35,364,35],[365,35,367,35],[368,35,370,35],[371,35,373,35],[374,35,376,35],[377,35,379,35],[278,35,280,35],[281,35,283,35],[284,35,286,35],[287,35,289,35],[290,35,292,35],[293,35,295,35],[296,35,298,35],[299,35,301,35],[302,35,304,35],[305,35,307,35],[308,35,310,35],[311,35,313,35],[314,35,316,35],[317,35,319,35],[320,35,322,35],[323,35,325,35],[326,35,328,35],[227,35,229,35],[230,35,232,35],[233,35,235,35],[236,35,238,35],[239,35,241,35],[242,35,244,35],[245,35,247,35],[248,35,250,35],[251,35,253,35],[254,35,256,35],[257,35,259,35],[260,35,262,35],[263,35,265,35],[266,35,268,35],[269,35,271,35],[272,35,274,35],[275,35,277,35],[176,35,178,35],[179,35,181,35],[182,35,184,35],[185,35,187,35],[188,35,190,35],[191,35,193,35],[194,35,196,35],[197,35,199,35],[200,35,202,35],[203,35,205,35],[206,35,208,35],[209,35,211,35],[212,35,214,35],[215,35,217,35],[218,35,220,35],[221,35,223,35],[224,35,226,35],[125,35,127,35],[128,35,130,35],[131,35,133,35],[134,35,136,35],[137,35,139,35],[140,35,142,35],[143,35,145,35],[146,35,148,35],[149,35,151,35],[152,35,154,35],[155,35,157,35],[158,35,160,35],[161,35,163,35],[164,35,166,35],[167,35,169,35],[170,35,172,35],[173,35,175,35],[74,35,76,35],[77,35,79,35],[80,35,82,35],[83,35,85,35],[86,35,88,35],[89,35,91,35],[92,35,94,35],[95,35,97,35],[98,35,100,35],[101,35,103,35],[104,35,106,35],[107,35,109,35],[110,35,112,35],[113,35,115,35],[116,35,118,35],[119,35,121,35],[122,35,124,35],[23,35,25,35],[26,35,28,35],[29,35,31,35],[32,35,34,35],[35,35,37,35],[38,35,40,35],[41,35,43,35],[44,35,46,35],[47,35,49,35],[50,35,52,35],[53,35,55,35],[56,35,58,35],[59,35,61,35],[62,35,64,35],[65,35,67,35],[68,35,70,35],[71,35,73,35],[602,34,604,34],[605,34,607,34],[608,34,610,34],[611,34,613,34],[614,34,616,34],[617,34,619,34],[575,34,577,34],[578,34,580,34],[581,34,583,34],[584,34,586,34],[587,34,589,34],[590,34,592,34],[593,34,595,34],[596,34,598,34],[599,34,601,34],[548,34,550,34],[551,34,553,34],[554,34,556,34],[557,34,559,34],[560,34,562,34],[563,34,565,34],[566,34,568,34],[569,34,571,34],[572,34,574,34],[521,34,523,34],[524,34,526,34],[527,34,529,34],[530,34,532,34],[533,34,535,34],[536,34,538,34],[539,34,541,34],[542,34,544,34],[545,34,547,34],[494,34,496,34],[497,34,499,34],[500,34,502,34],[503,34,505,34],[506,34,508,34],[509,34,511,34],[512,34,514,34],[515,34,517,34],[518,34,520,34],[467,34,469,34],[470,34,472,34],[473,34,475,34],[476,34,478,34],[479,34,481,34],[482,34,484,34],[485,34,487,34],[488,34,490,34],[491,34,493,34],[440,34,442,34],[443,34,445,34],[446,34,448,34],[449,34,451,34],[452,34,454,34],[455,34,457,34],[458,34,460,34],[461,34,463,34],[464,34,466,34],[413,34,415,34],[416,34,418,34],[419,34,421,34],[422,34,424,34],[425,34,427,34],[428,34,430,34],[431,34,433,34],[434,34,436,34],[437,34,439,34],[386,34,388,34],[389,34,391,34],[392,34,394,34],[395,34,397,34],[398,34,400,34],[401,34,403,34],[404,34,406,34],[407,34,409,34],[410,34,412,34],[359,34,361,34],[362,34,364,34],[365,34,367,34],[368,34,370,34],[371,34,373,34],[374,34,376,34],[377,34,379,34],[380,34,382,34],[383,34,385,34],[332,34,334,34],[335,34,337,34],[338,34,340,34],[341,34,343,34],[344,34,346,34],[347,34,349,34],[350,34,352,34],[353,34,355,34],[356,34,358,34],[305,34,307,34],[308,34,310,34],[311,34,313,34],[314,34,316,34],[317,34,319,34],[320,34,322,34],[323,34,325,34],[326,34,328,34],[329,34,331,34],[278,34,280,34],[281,34,283,34],[284,34,286,34],[287,34,289,34],[290,34,292,34],[293,34,295,34],[296,34,298,34],[299,34,301,34],[302,34,304,34],[251,34,253,34],[254,34,256,34],[257,34,259,34],[260,34,262,34],[263,34,265,34],[266,34,268,34],[269,34,271,34],[272,34,274,34],[275,34,277,34],[224,34,226,34],[227,34,229,34],[230,34,232,34],[233,34,235,34],[236,34,238,34],[239,34,241,34],[242,34,244,34],[245,34,247,34],[248,34,250,34],[197,34,199,34],[200,34,202,34],[203,34,205,34],[206,34,208,34],[209,34,211,34],[212,34,214,34],[215,34,217,34],[218,34,220,34],[221,34,223,34],[170,34,172,34],[173,34,175,34],[176,34,178,34],[179,34,181,34],[182,34,184,34],[185,34,187,34],[188,34,190,34],[191,34,193,34],[194,34,196,34],[86,34,88,34],[146,34,148,34],[149,34,151,34],[152,34,154,34],[155,34,157,34],[158,34,160,34],[161,34,163,34],[164,34,166,34],[167,34,169,34],[116,34,118,34],[119,34,121,34],[122,34,124,34],[125,34,127,34],[128,34,130,34],[131,34,133,34],[134,34,136,34],[137,34,139,34],[140,34,142,34],[143,34,145,34],[89,34,91,34],[92,34,94,34],[95,34,97,34],[98,34,100,34],[101,34,103,34],[104,34,106,34],[107,34,109,34],[110,34,112,34],[113,34,115,34],[23,34,25,34],[26,34,28,34],[29,34,31,34],[32,34,34,34],[35,34,37,34],[38,34,40,34],[41,34,43,34],[44,34,46,34],[47,34,49,34],[50,34,52,34],[53,34,55,34],[56,34,58,34],[59,34,61,34],[62,34,64,34],[65,34,67,34],[68,34,70,34],[71,34,73,34],[74,34,76,34],[77,34,79,34],[80,34,82,34],[83,34,85,34],[608,1,610,1],[605,1,607,1],[605,3,607,5],[605,6,607,8],[605,9,607,10],[605,11,607,13],[608,3,610,5],[608,6,610,8],[0,1,1,21],[9,2,10,21],[617,1,619,1],[614,1,616,1],[611,1,613,1],[596,1,598,1],[593,1,595,1],[593,3,595,5],[593,6,595,8],[593,9,595,10],[593,11,595,13],[596,3,598,5],[596,6,598,8],[596,9,598,10],[596,11,598,13],[593,2,595,2],[596,2,598,2],[602,1,604,1],[599,1,601,1],[599,3,601,5],[599,6,601,8],[599,9,601,10],[599,11,601,13],[602,3,604,5],[602,6,604,8],[602,9,604,10],[602,11,604,13],[599,2,601,2],[602,2,604,2],[584,1,586,1],[581,1,583,1],[581,3,583,5],[581,6,583,8],[581,9,583,10],[581,11,583,13],[584,3,586,5],[584,6,586,8],[584,9,586,10],[584,11,586,13],[581,2,583,2],[584,2,586,2],[590,1,592,1],[587,1,589,1],[587,3,589,5],[587,6,589,8],[587,9,589,10],[587,11,589,13],[590,3,592,5],[590,6,592,8],[590,9,592,10],[590,11,592,13],[587,2,589,2],[590,2,592,2],[572,1,574,1],[569,1,571,1],[569,3,571,5],[569,6,571,8],[569,9,571,10],[569,11,571,13],[572,3,574,5],[572,6,574,8],[572,9,574,10],[572,11,574,13],[569,2,571,2],[572,2,574,2],[578,1,580,1],[575,1,577,1],[575,3,577,5],[575,6,577,8],[575,9,577,10],[575,11,577,13],[578,3,580,5],[578,6,580,8],[578,9,580,10],[578,11,580,13],[575,2,577,2],[578,2,580,2],[560,1,562,1],[557,1,559,1],[557,3,559,5],[557,6,559,8],[557,9,559,10],[557,11,559,13],[560,3,562,5],[560,6,562,8],[560,9,562,10],[560,11,562,13],[557,2,559,2],[560,2,562,2],[566,1,568,1],[563,1,565,1],[563,3,565,5],[563,6,565,8],[563,9,565,10],[563,11,565,13],[566,3,568,5],[566,6,568,8],[566,9,568,10],[566,11,568,13],[563,2,565,2],[566,2,568,2],[548,1,550,1],[545,1,547,1],[545,3,547,5],[545,6,547,8],[545,9,547,10],[545,11,547,13],[548,3,550,5],[548,6,550,8],[548,9,550,10],[548,11,550,13],[545,2,547,2],[548,2,550,2],[554,1,556,1],[551,1,553,1],[551,3,553,5],[551,6,553,8],[551,9,553,10],[551,11,553,13],[554,3,556,5],[554,6,556,8],[554,9,556,10],[554,11,556,13],[551,2,553,2],[554,2,556,2],[536,1,538,1],[533,1,535,1],[533,3,535,5],[533,6,535,8],[533,9,535,10],[533,11,535,13],[536,3,538,5],[536,6,538,8],[536,9,538,10],[536,11,538,13],[533,2,535,2],[536,2,538,2],[542,1,544,1],[539,1,541,1],[539,3,541,5],[539,6,541,8],[539,9,541,10],[539,11,541,13],[542,3,544,5],[542,6,544,8],[542,9,544,10],[542,11,544,13],[539,2,541,2],[542,2,544,2],[524,1,526,1],[521,1,523,1],[521,3,523,5],[521,6,523,8],[521,9,523,10],[521,11,523,13],[524,3,526,5],[524,6,526,8],[524,9,526,10],[524,11,526,13],[521,2,523,2],[524,2,526,2],[530,1,532,1],[527,1,529,1],[527,3,529,5],[527,6,529,8],[527,9,529,10],[527,11,529,13],[530,3,532,5],[530,6,532,8],[530,9,532,10],[530,11,532,13],[527,2,529,2],[530,2,532,2],[512,1,514,1],[509,1,511,1],[509,3,511,5],[509,6,511,8],[509,9,511,10],[509,11,511,13],[512,3,514,5],[512,6,514,8],[512,9,514,10],[512,11,514,13],[509,2,511,2],[512,2,514,2],[518,1,520,1],[515,1,517,1],[515,3,517,5],[515,6,517,8],[515,9,517,10],[515,11,517,13],[518,3,520,5],[518,6,520,8],[518,9,520,10],[518,11,520,13],[515,2,517,2],[518,2,520,2],[500,1,502,1],[497,1,499,1],[497,3,499,5],[497,6,499,8],[497,9,499,10],[497,11,499,13],[500,3,502,5],[500,6,502,8],[500,9,502,10],[500,11,502,13],[497,2,499,2],[500,2,502,2],[506,1,508,1],[503,1,505,1],[503,3,505,5],[503,6,505,8],[503,9,505,10],[503,11,505,13],[506,3,508,5],[506,6,508,8],[506,9,508,10],[506,11,508,13],[503,2,505,2],[506,2,508,2],[488,1,490,1],[485,1,487,1],[485,3,487,5],[485,6,487,8],[485,9,487,10],[485,11,487,13],[488,3,490,5],[488,6,490,8],[488,9,490,10],[488,11,490,13],[485,2,487,2],[488,2,490,2],[494,1,496,1],[491,1,493,1],[491,3,493,5],[491,6,493,8],[491,9,493,10],[491,11,493,13],[494,3,496,5],[494,6,496,8],[494,9,496,10],[494,11,496,13],[491,2,493,2],[494,2,496,2],[476,1,478,1],[473,1,475,1],[473,3,475,5],[473,6,475,8],[473,9,475,10],[473,11,475,13],[476,3,478,5],[476,6,478,8],[476,9,478,10],[476,11,478,13],[473,2,475,2],[476,2,478,2],[482,1,484,1],[479,1,481,1],[479,3,481,5],[479,6,481,8],[479,9,481,10],[479,11,481,13],[482,3,484,5],[482,6,484,8],[482,9,484,10],[482,11,484,13],[479,2,481,2],[482,2,484,2],[464,1,466,1],[461,1,463,1],[461,3,463,5],[461,6,463,8],[461,9,463,10],[461,11,463,13],[464,3,466,5],[464,6,466,8],[464,9,466,10],[464,11,466,13],[461,2,463,2],[464,2,466,2],[470,1,472,1],[467,1,469,1],[467,3,469,5],[467,6,469,8],[467,9,469,10],[467,11,469,13],[470,3,472,5],[470,6,472,8],[470,9,472,10],[470,11,472,13],[467,2,469,2],[470,2,472,2],[452,1,454,1],[449,1,451,1],[449,3,451,5],[449,6,451,8],[449,9,451,10],[449,11,451,13],[452,3,454,5],[452,6,454,8],[452,9,454,10],[452,11,454,13],[449,2,451,2],[452,2,454,2],[458,1,460,1],[455,1,457,1],[455,3,457,5],[455,6,457,8],[455,9,457,10],[455,11,457,13],[458,3,460,5],[458,6,460,8],[458,9,460,10],[458,11,460,13],[455,2,457,2],[458,2,460,2],[440,1,442,1],[437,1,439,1],[437,3,439,5],[437,6,439,8],[437,9,439,10],[437,11,439,13],[440,3,442,5],[440,6,442,8],[440,9,442,10],[440,11,442,13],[437,2,439,2],[440,2,442,2],[446,1,448,1],[443,1,445,1],[443,3,445,5],[443,6,445,8],[443,9,445,10],[443,11,445,13],[446,3,448,5],[446,6,448,8],[446,9,448,10],[446,11,448,13],[443,2,445,2],[446,2,448,2],[428,1,430,1],[425,1,427,1],[425,3,427,5],[425,6,427,8],[425,9,427,10],[425,11,427,13],[428,3,430,5],[428,6,430,8],[428,9,430,10],[428,11,430,13],[425,2,427,2],[428,2,430,2],[434,1,436,1],[431,1,433,1],[431,3,433,5],[431,6,433,8],[431,9,433,10],[431,11,433,13],[434,3,436,5],[434,6,436,8],[434,9,436,10],[434,11,436,13],[431,2,433,2],[434,2,436,2],[416,1,418,1],[413,1,415,1],[413,3,415,5],[413,6,415,8],[413,9,415,10],[413,11,415,13],[416,3,418,5],[416,6,418,8],[416,9,418,10],[416,11,418,13],[413,2,415,2],[416,2,418,2],[422,1,424,1],[419,1,421,1],[419,3,421,5],[419,6,421,8],[419,9,421,10],[419,11,421,13],[422,3,424,5],[422,6,424,8],[422,9,424,10],[422,11,424,13],[419,2,421,2],[422,2,424,2],[404,1,406,1],[401,1,403,1],[401,3,403,5],[401,6,403,8],[401,9,403,10],[401,11,403,13],[404,3,406,5],[404,6,406,8],[404,9,406,10],[404,11,406,13],[401,2,403,2],[404,2,406,2],[410,1,412,1],[407,1,409,1],[407,3,409,5],[407,6,409,8],[407,9,409,10],[407,11,409,13],[410,3,412,5],[410,6,412,8],[410,9,412,10],[410,11,412,13],[407,2,409,2],[410,2,412,2],[392,1,394,1],[389,1,391,1],[389,3,391,5],[389,6,391,8],[389,9,391,10],[389,11,391,13],[392,3,394,5],[392,6,394,8],[392,9,394,10],[392,11,394,13],[389,2,391,2],[392,2,394,2],[398,1,400,1],[395,1,397,1],[395,3,397,5],[395,6,397,8],[395,9,397,10],[395,11,397,13],[398,3,400,5],[398,6,400,8],[398,9,400,10],[398,11,400,13],[395,2,397,2],[398,2,400,2],[380,1,382,1],[377,1,379,1],[377,3,379,5],[377,6,379,8],[377,9,379,10],[377,11,379,13],[380,3,382,5],[380,6,382,8],[380,9,382,10],[380,11,382,13],[377,2,379,2],[380,2,382,2],[386,1,388,1],[383,1,385,1],[383,3,385,5],[383,6,385,8],[383,9,385,10],[383,11,385,13],[386,3,388,5],[386,6,388,8],[386,9,388,10],[386,11,388,13],[383,2,385,2],[386,2,388,2],[368,1,370,1],[365,1,367,1],[365,3,367,5],[365,6,367,8],[365,9,367,10],[365,11,367,13],[368,3,370,5],[368,6,370,8],[368,9,370,10],[368,11,370,13],[365,2,367,2],[368,2,370,2],[374,1,376,1],[371,1,373,1],[371,3,373,5],[371,6,373,8],[371,9,373,10],[371,11,373,13],[374,3,376,5],[374,6,376,8],[374,9,376,10],[374,11,376,13],[371,2,373,2],[374,2,376,2],[356,1,358,1],[353,1,355,1],[353,3,355,5],[353,6,355,8],[353,9,355,10],[353,11,355,13],[356,3,358,5],[356,6,358,8],[356,9,358,10],[356,11,358,13],[353,2,355,2],[356,2,358,2],[362,1,364,1],[359,1,361,1],[359,3,361,5],[359,6,361,8],[359,9,361,10],[359,11,361,13],[362,3,364,5],[362,6,364,8],[362,9,364,10],[362,11,364,13],[359,2,361,2],[362,2,364,2],[344,1,346,1],[341,1,343,1],[341,3,343,5],[341,6,343,8],[341,9,343,10],[341,11,343,13],[344,3,346,5],[344,6,346,8],[344,9,346,10],[344,11,346,13],[341,2,343,2],[344,2,346,2],[350,1,352,1],[347,1,349,1],[347,3,349,5],[347,6,349,8],[347,9,349,10],[347,11,349,13],[350,3,352,5],[350,6,352,8],[350,9,352,10],[350,11,352,13],[347,2,349,2],[350,2,352,2],[332,1,334,1],[329,1,331,1],[329,3,331,5],[329,6,331,8],[329,9,331,10],[329,11,331,13],[332,3,334,5],[332,6,334,8],[332,9,334,10],[332,11,334,13],[329,2,331,2],[332,2,334,2],[338,1,340,1],[335,1,337,1],[335,3,337,5],[335,6,337,8],[335,9,337,10],[335,11,337,13],[338,3,340,5],[338,6,340,8],[338,9,340,10],[338,11,340,13],[335,2,337,2],[338,2,340,2],[320,1,322,1],[317,1,319,1],[317,3,319,5]],"merged_total":3071,"flags":["merged_cut"]}
[null,"学連競技会　男子申込"]
[]
[]
[null,"団体名",{"$f":"IF(基本登録情報!$C7=\"\",\"\",基本登録情報!$C7)","v":""},null,null,null,null,null,"申込責任者",{"$f":"IF(基本登録情報!$C15=\"\",\"\",基本登録情報!$C15)","v":""},null,null,null,null,"印"]
[null,null,null,null,null,null,null,null,null,null,null,null,null,null,null,null,"延べ人数",null,"合計金額"]
[null,"部長名",{"$f":"IF(基本登録情報!$C10=\"\",\"\",基本登録情報!$C10)","v":""},null,null,"印",null,null,"電話番号",{"$f":"IF(基本登録情報!$C16=\"\",\"\",基本登録情報!$C16)","v":""}]
[null,null,null,null,null,null,null,null,null,null,null,null,null,null,null,null,{"$f":"COUNTA($Q$21:$Q$620)","v":0},null,{"$f":"Q7*1000","v":0}]
[null,"監督名",{"$f":"IF(基本登録情報!$C12=\"\",\"\",基本登録情報!$C12)","v":""},null,null,"印",null,null,"緊急連絡先",{"$f":"IF(基本登録情報!$C17=\"\",\"\",基本登録情報!$C17)","v":""}]
[]
[null,"エラー\nチェック",{"$f":"IFERROR(HLOOKUP(1,AC10:AJ11,2,FALSE),\"\")","v":""},null,null,null,null,null,null,null,null,null,null,null,null,null,null,null,null,null,null,null,null,null,null,null,null,"エラーチェック",null,null,null,null,null,{"$f":"IF(SUM(AH21:AH620)=0,0,1)","v":{"$error":"#VALUE!"}},{"$f":"IF(SUM(AI21:AI620)=0,0,1)","v":0},{"$f":"IF(SUM(AJ21:AJ620)=0,0,1)","v":0}]
[null,null,null,null,null,null,null,null,null,null,null,null,null,null,null,null,null,null,null,null,null,null,null,null,null,null,null,null,null,null,null,null,null,"入力方法が記入例と異なります。","登録番号にかぶりがあります。","登録陸協が入力方法と異なっています。"]
[]
[]
[null,"No.","登録番号","氏名",null,null,"ﾌﾘｶﾞﾅ",null,null,"アルファベット",null,"生年月日",null,null,"登録陸協","出場種目",null,"最高記録"]
[null,null,0,"学連　太郎",null,null,"ｶﾞｸﾚﾝ ﾀﾛｳ",null,null,"GAKUREN Taro",null,920512,null,null,"福岡県","①","100m",null,"分","11","秒","02"]
[null,null,null,null,null,null,null,null,null,null,null,null,null,null,null,"②","走幅跳",null,null,"7","m","08"]
[null,null,"備考欄",null,null,null,null,null,null,null,null,null,null,null,null,"③","円盤投",null,null,"37","m","70"]
[null,null,"@",null,null,null,null,null,null,null,null,null,null,null,null,"①","1500m","4","分","09","秒","67"]
[null,null,null,null,null,null,null,null,null,null,null,null,null,null,null,"②","三段跳",null,null,"13","m","78"]
[null,null,"備考欄","学連　次郎",null,null,"ｶﾞｸﾚﾝ ｼﾞﾛｳ",null,null,"GAKUREN Jiro",null,971107,null,null,"福岡県","③",null,null,null,null,null,null,null,null,null,null,null,"チェック内容","種目コード","小数以下変換","トラック・フィールド判定","最高記録結合","結合","60秒判定","登録番号かぶり","登録陸協"]
[null,1,null,null,null,null,null,null,null,null,null,null,null,null,null,"①",null,null,null,null,null,null,null,null,null,null,null,null,{"$f":"IF($Q21=\"\",\"0\",VLOOKUP($Q21,登録データ!$Q$4:$R$19,2,FALSE))","v":"0"},{"$f":"IF($V21=\"\",\"00\",IF(LEN($V21)=1,$V21*10,$V21))","v":"00"},{"$f":"IF($Q21=\"\",\"\",IF(OR(RIGHT($Q21,1)=\"m\",RIGHT($Q21,1)=\"H\"),1,2))","v":""},{"$f":"IF($AE21=2,IF($T21=\"\",\"0000\",CONCATENATE(RIGHT($T21+100,2),$AD21)),IF($T21=\"\",\"000000\",CONCATENATE(RIGHT($R21+100,2),RIGHT($T21+100,2),$AD21)))","v":"000000"},{"$f":"IF($Q21=\"\",\"\",CONCATENATE($AC21,\" \",IF($AE21=1,RIGHT($AF21+10000000,7),RIGHT($AF21+100000,5))))","v":""},{"$f":"IF(OR(RIGHT($Q17,1)=\"m\",RIGHT($Q17,1)=\"H\",RIGHT($Q17,1)=\"W\",RIGHT($Q17,1)=\"C\"),IF(VALUE($Q17)>59,1,0),0)","v":0},{"$f":"IF($C21=\"\",\"\",IF($C21=\"@\",0,IF(COUNTIF($C$21:$C$620,$C21)=1,0,1)))","v":""},{"$f":"IF($O21=\"\",\"\",IF(OR($O21=\"北海道\",$O21=\"東京都\",$O21=\"大阪府\",$O21=\"京都府\",RIGHT($O21,1)=\"県\"),0,1))","v":""}]
[null,null,null,null,null,null,null,null,null,null,null,null,null,null,null,null,null,null,null,null,null,null,null,null,null,null,null,null,{"$f":"IF($Q22=\"\",\"0\",VLOOKUP($Q22,登録データ!$Q$4:$R$19,2,FALSE))","v":"0"},"00","","000000","",{"$f":"IF(OR(RIGHT($Q18,1)=\"m\",RIGHT($Q18,1)=\"H\",RIGHT($Q18,1)=\"W\",RIGHT($Q18,1)=\"C\"),IF(VALUE($Q18)>59,1,0),0)","v":{"$error":"#VALUE!"}}]
[null,null,null,null,null,null,null,null,null,null,null,null,null,null,null,null,null,null,null,null,null,null,null,null,null,null,null,null,{"$f":"IF($Q23=\"\",\"0\",VLOOKUP($Q23,登録データ!$Q$4:$R$19,2,FALSE))","v":"0"},"00","",{"$f":"IF($AE23=2,IF($T23=\"\",\"0000\",CONCATENATE(RIGHT($T23+100,2),$AD23)),IF($T23=\"\",\"000000\",CONCATENATE(RIGHT($R23+100,2),RIGHT($T23+100,2),$AD23)))","v":"000000"},"",0]
[null,2,null,null,null,null,null,null,null,null,null,null,null,null,null,"①",null,null,null,null,null,null,null,null,null,null,null,null,{"$f":"IF($Q24=\"\",\"0\",VLOOKUP($Q24,登録データ!$Q$4:$R$19,2,FALSE))","v":"0"},{"$f":"IF($V24=\"\",\"00\",IF(LEN($V24)=1,$V24*10,$V24))","v":"00"},{"$f":"IF($Q24=\"\",\"\",IF(OR(RIGHT($Q24,1)=\"m\",RIGHT($Q24,1)=\"H\"),1,2))","v":""},"000000","",0,{"$f":"IF($C24=\"\",\"\",IF($C24=\"@\",0,IF(COUNTIF($C$21:$C$620,$C24)=1,0,1)))","v":""},{"$f":"IF($O24=\"\",\"\",IF(OR($O24=\"北海道\",$O24=\"東京都\",$O24=\"大阪府\",$O24=\"京都府\",RIGHT($O24,1)=\"県\"),0,1))","v":""}]
[null,null,null,null,null,null,null,null,null,null,null,null,null,null,null,null,null,null,null,null,null,null,null,null,null,null,null,null,{"$f":"IF($Q25=\"\",\"0\",VLOOKUP($Q25,登録データ!$Q$4:$R$19,2,FALSE))","v":"0"},{"$f":"IF($V25=\"\",\"00\",IF(LEN($V25)=1,$V25*10,$V25))","v":"00"},"","000000","",0]
[null,null,null,null,null,null,null,null,null,null,null,null,null,null,null,null,null,null,null,null,null,null,null,null,null,null,null,null,{"$f":"IF($Q26=\"\",\"0\",VLOOKUP($Q26,登録データ!$Q$4:$R$19,2,FALSE))","v":"0"},"00","","000000","",0,null,null,null,null,null,null,null,null,null,null,null,null,null,"i"]
[null,3,null,null,null,null,null,null,null,null,null,null,null,null,null,"①",null,null,null,null,null,null,null,null,null,null,null,null,{"$f":"IF($Q27=\"\",\"0\",VLOOKUP($Q27,登録データ!$Q$4:$R$19,2,FALSE))","v":"0"},"00","","000000","",{"$f":"IF(OR(RIGHT($H23,1)=\"m\",RIGHT($H23,1)=\"H\",RIGHT($H23,1)=\"W\",RIGHT($H23,1)=\"C\"),IF(VALUE($K23)>59,1,0),0)","v":0},{"$f":"IF($C27=\"\",\"\",IF($C27=\"@\",0,IF(COUNTIF($C$21:$C$620,$C27)=1,0,1)))","v":""},{"$f":"IF($O27=\"\",\"\",IF(OR($O27=\"北海道\",$O27=\"東京都\",$O27=\"大阪府\",$O27=\"京都府\",RIGHT($O27,1)=\"県\"),0,1))","v":""}]
[null,null,null,null,null,null,null,null,null,null,null,null,null,null,null,null,null,null,null,null,null,null,null,null,null,null,null,null,{"$f":"IF($Q28=\"\",\"0\",VLOOKUP($Q28,登録データ!$Q$4:$R$19,2,FALSE))","v":"0"},"00","","000000","",0]
[null,null,null,null,null,null,null,null,null,null,null,null,null,null,null,null,null,null,null,null,null,null,null,null,null,null,null,null,{"$f":"IF($Q29=\"\",\"0\",VLOOKUP($Q29,登録データ!$Q$4:$R$19,2,FALSE))","v":"0"},"00","","000000","",0]
[null,4,null,null,null,null,null,null,null,null,null,null,null,null,null,"①",null,null,null,null,null,null,null,null,null,null,null,null,{"$f":"IF($Q30=\"\",\"0\",VLOOKUP($Q30,登録データ!$Q$4:$R$19,2,FALSE))","v":"0"},"00","","000000","",0,{"$f":"IF($C30=\"\",\"\",IF($C30=\"@\",0,IF(COUNTIF($C$21:$C$620,$C30)=1,0,1)))","v":""},{"$f":"IF($O30=\"\",\"\",IF(OR($O30=\"北海道\",$O30=\"東京都\",$O30=\"大阪府\",$O30=\"京都府\",RIGHT($O30,1)=\"県\"),0,1))","v":""}]
[null,null,null,null,null,null,null,null,null,null,null,null,null,null,null,null,null,null,null,null,null,null,null,null,null,null,null,null,{"$f":"IF($Q31=\"\",\"0\",VLOOKUP($Q31,登録データ!$Q$4:$R$19,2,FALSE))","v":"0"},"00","","000000","",0]
[null,null,null,null,null,null,null,null,null,null,null,null,null,null,null,null,null,null,null,null,null,null,null,null,null,null,null,null,{"$f":"IF($Q32=\"\",\"0\",VLOOKUP($Q32,登録データ!$Q$4:$R$19,2,FALSE))","v":"0"},"00","","000000","",0]
[null,5,null,null,null,null,null,null,null,null,null,null,null,null,null,"①",null,null,null,null,null,null,null,null,null,null,null,null,{"$f":"IF($Q33=\"\",\"0\",VLOOKUP($Q33,登録データ!$Q$4:$R$19,2,FALSE))","v":"0"},"00","","000000","",0,{"$f":"IF($C33=\"\",\"\",IF($C33=\"@\",0,IF(COUNTIF($C$21:$C$620,$C33)=1,0,1)))","v":""},{"$f":"IF($O33=\"\",\"\",IF(OR($O33=\"北海道\",$O33=\"東京都\",$O33=\"大阪府\",$O33=\"京都府\",RIGHT($O33,1)=\"県\"),0,1))","v":""}]
[null,null,null,null,null,null,null,null,null,null,null,null,null,null,null,null,null,null,null,null,null,null,null,null,null,null,null,null,{"$f":"IF($Q34=\"\",\"0\",VLOOKUP($Q34,登録データ!$Q$4:$R$19,2,FALSE))","v":"0"},"00","","000000","",0]
[null,null,null,null,null,null,null,null,null,null,null,null,null,null,null,null,null,null,null,null,null,null,null,null,null,null,null,null,{"$f":"IF($Q35=\"\",\"0\",VLOOKUP($Q35,登録データ!$Q$4:$R$19,2,FALSE))","v":"0"},"00","","000000","",0]
[null,6,null,null,null,null,null,null,null,null,null,null,null,null,null,"①",null,null,null,null,null,null,null,null,null,null,null,null,{"$f":"IF($Q36=\"\",\"0\",VLOOKUP($Q36,登録データ!$Q$4:$R$19,2,FALSE))","v":"0"},"00","","000000","",0,{"$f":"IF($C36=\"\",\"\",IF($C36=\"@\",0,IF(COUNTIF($C$21:$C$620,$C36)=1,0,1)))","v":""},{"$f":"IF($O36=\"\",\"\",IF(OR($O36=\"北海道\",$O36=\"東京都\",$O36=\"大阪府\",$O36=\"京都府\",RIGHT($O36,1)=\"県\"),0,1))","v":""}]
[null,null,null,null,null,null,null,null,null,null,null,null,null,null,null,null,null,null,null,null,null,null,null,null,null,null,null,null,{"$f":"IF($Q37=\"\",\"0\",VLOOKUP($Q37,登録データ!$Q$4:$R$19,2,FALSE))","v":"0"},"00","","000000","",0]
[null,null,null,null,null,null,null,null,null,null,null,null,null,null,null,null,null,null,null,null,null,null,null,null,null,null,null,null,{"$f":"IF($Q38=\"\",\"0\",VLOOKUP($Q38,登録データ!$Q$4:$R$19,2,FALSE))","v":"0"},"00","","000000","",0]
[null,7,null,null,null,null,null,null,null,null,null,null,null,null,null,"①",null,null,null,null,null,null,null,null,null,null,null,null,{"$f":"IF($Q39=\"\",\"0\",VLOOKUP($Q39,登録データ!$Q$4:$R$19,2,FALSE))","v":"0"},"00","","000000","",0,{"$f":"IF($C39=\"\",\"\",IF($C39=\"@\",0,IF(COUNTIF($C$21:$C$620,$C39)=1,0,1)))","v":""},{"$f":"IF($O39=\"\",\"\",IF(OR($O39=\"北海道\",$O39=\"東京都\",$O39=\"大阪府\",$O39=\"京都府\",RIGHT($O39,1)=\"県\"),0,1))","v":""}]
[null,null,null,null,null,null,null,null,null,null,null,null,null,null,null,null,null,null,null,null,null,null,null,null,null,null,null,null,{"$f":"IF($Q40=\"\",\"0\",VLOOKUP($Q40,登録データ!$Q$4:$R$19,2,FALSE))","v":"0"},"00","","000000","",0]
[null,null,null,null,null,null,null,null,null,null,null,null,null,null,null,null,null,null,null,null,null,null,null,null,null,null,null,null,{"$f":"IF($Q41=\"\",\"0\",VLOOKUP($Q41,登録データ!$Q$4:$R$19,2,FALSE))","v":"0"},"00","","000000","",0]
[null,8,null,null,null,null,null,null,null,null,null,null,null,null,null,"①",null,null,null,null,null,null,null,null,null,null,null,null,{"$f":"IF($Q42=\"\",\"0\",VLOOKUP($Q42,登録データ!$Q$4:$R$19,2,FALSE))","v":"0"},"00","","000000","",0,{"$f":"IF($C42=\"\",\"\",IF($C42=\"@\",0,IF(COUNTIF($C$21:$C$620,$C42)=1,0,1)))","v":""},{"$f":"IF($O42=\"\",\"\",IF(OR($O42=\"北海道\",$O42=\"東京都\",$O42=\"大阪府\",$O42=\"京都府\",RIGHT($O42,1)=\"県\"),0,1))","v":""}]
[null,null,null,null,null,null,null,null,null,null,null,null,null,null,null,null,null,null,null,null,null,null,null,null,null,null,null,null,{"$f":"IF($Q43=\"\",\"0\",VLOOKUP($Q43,登録データ!$Q$4:$R$19,2,FALSE))","v":"0"},"00","","000000","",0]
[null,null,null,null,null,null,null,null,null,null,null,null,null,null,null,null,null,null,null,null,null,null,null,null,null,null,null,null,{"$f":"IF($Q44=\"\",\"0\",VLOOKUP($Q44,登録データ!$Q$4:$R$19,2,FALSE))","v":"0"},"00","","000000","",0]
[null,9,null,null,null,null,null,null,null,null,null,null,null,null,null,"①",null,null,null,null,null,null,null,null,null,null,null,null,{"$f":"IF($Q45=\"\",\"0\",VLOOKUP($Q45,登録データ!$Q$4:$R$19,2,FALSE))","v":"0"},"00","","000000","",0,{"$f":"IF($C45=\"\",\"\",IF($C45=\"@\",0,IF(COUNTIF($C$21:$C$620,$C45)=1,0,1)))","v":""},{"$f":"IF($O45=\"\",\"\",IF(OR($O45=\"北海道\",$O45=\"東京都\",$O45=\"大阪府\",$O45=\"京都府\",RIGHT($O45,1)=\"県\"),0,1))","v":""}]
[null,null,null,null,null,null,null,null,null,null,null,null,null,null,null,null,null,null,null,null,null,null,null,null,null,null,null,null,{"$f":"IF($Q46=\"\",\"0\",VLOOKUP($Q46,登録データ!$Q$4:$R$19,2,FALSE))","v":"0"},"00","","000000","",0]
[null,null,null,null,null,null,null,null,null,null,null,null,null,null,null,null,null,null,null,null,null,null,null,null,null,null,null,null,{"$f":"IF($Q47=\"\",\"0\",VLOOKUP($Q47,登録データ!$Q$4:$R$19,2,FALSE))","v":"0"},"00","","000000","",0]
[null,10,null,null,null,null,null,null,null,null,null,null,null,null,null,"①",null,null,null,null,null,null,null,null,null,null,null,null,{"$f":"IF($Q48=\"\",\"0\",VLOOKUP($Q48,登録データ!$Q$4:$R$19,2,FALSE))","v":"0"},"00","","000000","",0,{"$f":"IF($C48=\"\",\"\",IF($C48=\"@\",0,IF(COUNTIF($C$21:$C$620,$C48)=1,0,1)))","v":""},{"$f":"IF($O48=\"\",\"\",IF(OR($O48=\"北海道\",$O48=\"東京都\",$O48=\"大阪府\",$O48=\"京都府\",RIGHT($O48,1)=\"県\"),0,1))","v":""}]
[null,null,null,null,null,null,null,null,null,null,null,null,null,null,null,null,null,null,null,null,null,null,null,null,null,null,null,null,{"$f":"IF($Q49=\"\",\"0\",VLOOKUP($Q49,登録データ!$Q$4:$R$19,2,FALSE))","v":"0"},"00","","000000","",0]
[null,null,null,null,null,null,null,null,null,null,null,null,null,null,null,null,null,null,null,null,null,null,null,null,null,null,null,null,{"$f":"IF($Q50=\"\",\"0\",VLOOKUP($Q50,登録データ!$Q$4:$R$19,2,FALSE))","v":"0"},"00","","000000","",0]
[null,11,null,null,null,null,null,null,null,null,null,null,null,null,null,"①",null,null,null,null,null,null,null,null,null,null,null,null,{"$f":"IF($Q51=\"\",\"0\",VLOOKUP($Q51,登録データ!$Q$4:$R$19,2,FALSE))","v":"0"},"00","","000000","",0,{"$f":"IF($C51=\"\",\"\",IF($C51=\"@\",0,IF(COUNTIF($C$21:$C$620,$C51)=1,0,1)))","v":""},{"$f":"IF($O51=\"\",\"\",IF(OR($O51=\"北海道\",$O51=\"東京都\",$O51=\"大阪府\",$O51=\"京都府\",RIGHT($O51,1)=\"県\"),0,1))","v":""}]
[null,null,null,null,null,null,null,null,null,null,null,null,null,null,null,null,null,null,null,null,null,null,null,null,null,null,null,null,{"$f":"IF($Q52=\"\",\"0\",VLOOKUP($Q52,登録データ!$Q$4:$R$19,2,FALSE))","v":"0"},"00","","000000","",0]
[null,null,null,null,null,null,null,null,null,null,null,null,null,null,null,null,null,null,null,null,null,null,null,null,null,null,null,null,{"$f":"IF($Q53=\"\",\"0\",VLOOKUP($Q53,登録データ!$Q$4:$R$19,2,FALSE))","v":"0"},"00","","000000","",0]
[null,12,null,null,null,null,null,null,null,null,null,null,null,null,null,"①",null,null,null,null,null,null,null,null,null,null,null,null,{"$f":"IF($Q54=\"\",\"0\",VLOOKUP($Q54,登録データ!$Q$4:$R$19,2,FALSE))","v":"0"},"00","","000000","",0,{"$f":"IF($C54=\"\",\"\",IF($C54=\"@\",0,IF(COUNTIF($C$21:$C$620,$C54)=1,0,1)))","v":""},{"$f":"IF($O54=\"\",\"\",IF(OR($O54=\"北海道\",$O54=\"東京都\",$O54=\"大阪府\",$O54=\"京都府\",RIGHT($O54,1)=\"県\"),0,1))","v":""}]
[null,null,null,null,null,null,null,null,null,null,null,null,null,null,null,null,null,null,null,null,null,null,null,null,null,null,null,null,{"$f":"IF($Q55=\"\",\"0\",VLOOKUP($Q55,登録データ!$Q$4:$R$19,2,FALSE))","v":"0"},"00","","000000","",0]
[null,null,null,null,null,null,null,null,null,null,null,null,null,null,null,null,null,null,null,null,null,null,null,null,null,null,null,null,{"$f":"IF($Q56=\"\",\"0\",VLOOKUP($Q56,登録データ!$Q$4:$R$19,2,FALSE))","v":"0"},"00","","000000","",0]
[null,13,null,null,null,null,null,null,null,null,null,null,null,null,null,"①",null,null,null,null,null,null,null,null,null,null,null,null,{"$f":"IF($Q57=\"\",\"0\",VLOOKUP($Q57,登録データ!$Q$4:$R$19,2,FALSE))","v":"0"},"00","","000000","",0,{"$f":"IF($C57=\"\",\"\",IF($C57=\"@\",0,IF(COUNTIF($C$21:$C$620,$C57)=1,0,1)))","v":""},{"$f":"IF($O57=\"\",\"\",IF(OR($O57=\"北海道\",$O57=\"東京都\",$O57=\"大阪府\",$O57=\"京都府\",RIGHT($O57,1)=\"県\"),0,1))","v":""}]
[null,null,null,null,null,null,null,null,null,null,null,null,null,null,null,null,null,null,null,null,null,null,null,null,null,null,null,null,{"$f":"IF($Q58=\"\",\"0\",VLOOKUP($Q58,登録データ!$Q$4:$R$19,2,FALSE))","v":"0"},"00","","000000","",0]
[null,null,null,null,null,null,null,null,null,null,null,null,null,null,null,null,null,null,null,null,null,null,null,null,null,null,null,null,{"$f":"IF($Q59=\"\",\"0\",VLOOKUP($Q59,登録データ!$Q$4:$R$19,2,FALSE))","v":"0"},"00","","000000","",0]
[null,14,null,null,null,null,null,null,null,null,null,null,null,null,null,"①",null,null,null,null,null,null,null,null,null,null,null,null,{"$f":"IF($Q60=\"\",\"0\",VLOOKUP($Q60,登録データ!$Q$4:$R$19,2,FALSE))","v":"0"},"00","","000000","",0,{"$f":"IF($C60=\"\",\"\",IF($C60=\"@\",0,IF(COUNTIF($C$21:$C$620,$C60)=1,0,1)))","v":""},{"$f":"IF($O60=\"\",\"\",IF(OR($O60=\"北海道\",$O60=\"東京都\",$O60=\"大阪府\",$O60=\"京都府\",RIGHT($O60,1)=\"県\"),0,1))","v":""}]
[null,null,null,null,null,null,null,null,null,null,null,null,null,null,null,null,null,null,null,null,null,null,null,null,null,null,null,null,{"$f":"IF($Q61=\"\",\"0\",VLOOKUP($Q61,登録データ!$Q$4:$R$19,2,FALSE))","v":"0"},"00","","000000","",0]
[null,null,null,null,null,null,null,null,null,null,null,null,null,null,null,null,null,null,null,null,null,null,null,null,null,null,null,null,{"$f":"IF($Q62=\"\",\"0\",VLOOKUP($Q62,登録データ!$Q$4:$R$19,2,FALSE))","v":"0"},"00","","000000","",0]
[null,15,null,null,null,null,null,null,null,null,null,null,null,null,null,"①",null,null,null,null,null,null,null,null,null,null,null,null,{"$f":"IF($Q63=\"\",\"0\",VLOOKUP($Q63,登録データ!$Q$4:$R$19,2,FALSE))","v":"0"},"00","","000000","",0,{"$f":"IF($C63=\"\",\"\",IF($C63=\"@\",0,IF(COUNTIF($C$21:$C$620,$C63)=1,0,1)))","v":""},{"$f":"IF($O63=\"\",\"\",IF(OR($O63=\"北海道\",$O63=\"東京都\",$O63=\"大阪府\",$O63=\"京都府\",RIGHT($O63,1)=\"県\"),0,1))","v":""}]
[null,null,null,null,null,null,null,null,null,null,null,null,null,null,null,null,null,null,null,null,null,null,null,null,null,null,null,null,{"$f":"IF($Q64=\"\",\"0\",VLOOKUP($Q64,登録データ!$Q$4:$R$19,2,FALSE))","v":"0"},"00","","000000","",0]
[null,null,null,null,null,null,null,null,null,null,null,null,null,null,null,null,null,null,null,null,null,null,null,null,null,null,null,null,{"$f":"IF($Q65=\"\",\"0\",VLOOKUP($Q65,登録データ!$Q$4:$R$19,2,FALSE))","v":"0"},"00","","000000","",0]
[null,16,null,null,null,null,null,null,null,null,null,null,null,null,null,"①",null,null,null,null,null,null,null,null,null,null,null,null,{"$f":"IF($Q66=\"\",\"0\",VLOOKUP($Q66,登録データ!$Q$4:$R$19,2,FALSE))","v":"0"},"00","","000000","",0,{"$f":"IF($C66=\"\",\"\",IF($C66=\"@\",0,IF(COUNTIF($C$21:$C$620,$C66)=1,0,1)))","v":""},{"$f":"IF($O66=\"\",\"\",IF(OR($O66=\"北海道\",$O66=\"東京都\",$O66=\"大阪府\",$O66=\"京都府\",RIGHT($O66,1)=\"県\"),0,1))","v":""}]
[null,null,null,null,null,null,null,null,null,null,null,null,null,null,null,null,null,null,null,null,null,null,null,null,null,null,null,null,{"$f":"IF($Q67=\"\",\"0\",VLOOKUP($Q67,登録データ!$Q$4:$R$19,2,FALSE))","v":"0"},"00","","000000","",0]
[null,null,null,null,null,null,null,null,null,null,null,null,null,null,null,null,null,null,null,null,null,null,null,null,null,null,null,null,{"$f":"IF($Q68=\"\",\"0\",VLOOKUP($Q68,登録データ!$Q$4:$R$19,2,FALSE))","v":"0"},"00","","000000","",0]
[null,17,null,null,null,null,null,null,null,null,null,null,null,null,null,"①",null,null,null,null,null,null,null,null,null,null,null,null,{"$f":"IF($Q69=\"\",\"0\",VLOOKUP($Q69,登録データ!$Q$4:$R$19,2,FALSE))","v":"0"},"00","","000000","",0,{"$f":"IF($C69=\"\",\"\",IF($C69=\"@\",0,IF(COUNTIF($C$21:$C$620,$C69)=1,0,1)))","v":""},{"$f":"IF($O69=\"\",\"\",IF(OR($O69=\"北海道\",$O69=\"東京都\",$O69=\"大阪府\",$O69=\"京都府\",RIGHT($O69,1)=\"県\"),0,1))","v":""}]
[null,null,null,null,null,null,null,null,null,null,null,null,null,null,null,null,null,null,null,null,null,null,null,null,null,null,null,null,{"$f":"IF($Q70=\"\",\"0\",VLOOKUP($Q70,登録データ!$Q$4:$R$19,2,FALSE))","v":"0"},"00","","000000","",0]
[null,null,null,null,null,null,null,null,null,null,null,null,null,null,null,null,null,null,null,null,null,null,null,null,null,null,null,null,{"$f":"IF($Q71=\"\",\"0\",VLOOKUP($Q71,登録データ!$Q$4:$R$19,2,FALSE))","v":"0"},"00","","000000","",0]
[null,18,null,null,null,null,null,null,null,null,null,null,null,null,null,"①",null,null,null,null,null,null,null,null,null,null,null,null,{"$f":"IF($Q72=\"\",\"0\",VLOOKUP($Q72,登録データ!$Q$4:$R$19,2,FALSE))","v":"0"},"00","","000000","",0,{"$f":"IF($C72=\"\",\"\",IF($C72=\"@\",0,IF(COUNTIF($C$21:$C$620,$C72)=1,0,1)))","v":""},{"$f":"IF($O72=\"\",\"\",IF(OR($O72=\"北海道\",$O72=\"東京都\",$O72=\"大阪府\",$O72=\"京都府\",RIGHT($O72,1)=\"県\"),0,1))","v":""}]
[null,null,null,null,null,null,null,null,null,null,null,null,null,null,null,null,null,null,null,null,null,null,null,null,null,null,null,null,{"$f":"IF($Q73=\"\",\"0\",VLOOKUP($Q73,登録データ!$Q$4:$R$19,2,FALSE))","v":"0"},"00","","000000","",0]
[null,null,null,null,null,null,null,null,null,null,null,null,null,null,null,null,null,null,null,null,null,null,null,null,null,null,null,null,{"$f":"IF($Q74=\"\",\"0\",VLOOKUP($Q74,登録データ!$Q$4:$R$19,2,FALSE))","v":"0"},"00","","000000","",0]
[null,19,null,null,null,null,null,null,null,null,null,null,null,null,null,"①",null,null,null,null,null,null,null,null,null,null,null,null,{"$f":"IF($Q75=\"\",\"0\",VLOOKUP($Q75,登録データ!$Q$4:$R$19,2,FALSE))","v":"0"},"00","","000000","",0,{"$f":"IF($C75=\"\",\"\",IF($C75=\"@\",0,IF(COUNTIF($C$21:$C$620,$C75)=1,0,1)))","v":""},{"$f":"IF($O75=\"\",\"\",IF(OR($O75=\"北海道\",$O75=\"東京都\",$O75=\"大阪府\",$O75=\"京都府\",RIGHT($O75,1)=\"県\"),0,1))","v":""}]
[null,null,null,null,null,null,null,null,null,null,null,null,null,null,null,null,null,null,null,null,null,null,null,null,null,null,null,null,{"$f":"IF($Q76=\"\",\"0\",VLOOKUP($Q76,登録データ!$Q$4:$R$19,2,FALSE))","v":"0"},"00","","000000","",0]
[null,null,null,null,null,null,null,null,null,null,null,null,null,null,null,null,null,null,null,null,null,null,null,null,null,null,null,null,{"$f":"IF($Q77=\"\",\"0\",VLOOKUP($Q77,登録データ!$Q$4:$R$19,2,FALSE))","v":"0"},"00","","000000","",0]
[null,20,null,null,null,null,null,null,null,null,null,null,null,null,null,"①",null,null,null,null,null,null,null,null,null,null,null,null,{"$f":"IF($Q78=\"\",\"0\",VLOOKUP($Q78,登録データ!$Q$4:$R$19,2,FALSE))","v":"0"},"00","","000000","",0,{"$f":"IF($C78=\"\",\"\",IF($C78=\"@\",0,IF(COUNTIF($C$21:$C$620,$C78)=1,0,1)))","v":""},{"$f":"IF($O78=\"\",\"\",IF(OR($O78=\"北海道\",$O78=\"東京都\",$O78=\"大阪府\",$O78=\"京都府\",RIGHT($O78,1)=\"県\"),0,1))","v":""}]
[null,null,null,null,null,null,null,null,null,null,null,null,null,null,null,null,null,null,null,null,null,null,null,null,null,null,null,null,{"$f":"IF($Q79=\"\",\"0\",VLOOKUP($Q79,登録データ!$Q$4:$R$19,2,FALSE))","v":"0"},"00","","000000","",0]
[null,null,null,null,null,null,null,null,null,null,null,null,null,null,null,null,null,null,null,null,null,null,null,null,null,null,null,null,{"$f":"IF($Q80=\"\",\"0\",VLOOKUP($Q80,登録データ!$Q$4:$R$19,2,FALSE))","v":"0"},"00","","000000","",0]
[null,21,null,null,null,null,null,null,null,null,null,null,null,null,null,"①",null,null,null,null,null,null,null,null,null,null,null,null,{"$f":"IF($Q81=\"\",\"0\",VLOOKUP($Q81,登録データ!$Q$4:$R$19,2,FALSE))","v":"0"},"00","","000000","",0,{"$f":"IF($C81=\"\",\"\",IF($C81=\"@\",0,IF(COUNTIF($C$21:$C$620,$C81)=1,0,1)))","v":""},{"$f":"IF($O81=\"\",\"\",IF(OR($O81=\"北海道\",$O81=\"東京都\",$O81=\"大阪府\",$O81=\"京都府\",RIGHT($O81,1)=\"県\"),0,1))","v":""}]
[null,null,null,null,null,null,null,null,null,null,null,null,null,null,null,null,null,null,null,null,null,null,null,null,null,null,null,null,{"$f":"IF($Q82=\"\",\"0\",VLOOKUP($Q82,登録データ!$Q$4:$R$19,2,FALSE))","v":"0"},"00","","000000","",0]
[null,null,null,null,null,null,null,null,null,null,null,null,null,null,null,null,null,null,null,null,null,null,null,null,null,null,null,null,{"$f":"IF($Q83=\"\",\"0\",VLOOKUP($Q83,登録データ!$Q$4:$R$19,2,FALSE))","v":"0"},"00","","000000","",0]
[null,22,null,null,null,null,null,null,null,null,null,null,null,null,null,"①",null,null,null,null,null,null,null,null,null,null,null,null,{"$f":"IF($Q84=\"\",\"0\",VLOOKUP($Q84,登録データ!$Q$4:$R$19,2,FALSE))","v":"0"},"00","","000000","",0,{"$f":"IF($C84=\"\",\"\",IF($C84=\"@\",0,IF(COUNTIF($C$21:$C$620,$C84)=1,0,1)))","v":""},{"$f":"IF($O84=\"\",\"\",IF(OR($O84=\"北海道\",$O84=\"東京都\",$O84=\"大阪府\",$O84=\"京都府\",RIGHT($O84,1)=\"県\"),0,1))","v":""}]
[null,null,null,null,null,null,null,null,null,null,null,null,null,null,null,null,null,null,null,null,null,null,null,null,null,null,null,null,{"$f":"IF($Q85=\"\",\"0\",VLOOKUP($Q85,登録データ!$Q$4:$R$19,2,FALSE))","v":"0"},"00","",{"$f":"IF($AE85=2,IF($T85=\"\",\"0000\",CONCATENATE(RIGHT($T85+100,2),$AD85)),IF($T85=\"\",\"000000\",CONCATENATE(RIGHT($R85+100,2),RIGHT($T85+100,2),$AD85)))","v":"000000"},{"$f":"IF($Q85=\"\",\"\",CONCATENATE($AC85,\" \",IF($AE85=1,RIGHT($AF85+10000000,7),RIGHT($AF85+100000,5))))","v":""},0]
[null,null,null,null,null,null,null,null,null,null,null,null,null,null,null,null,null,null,null,null,null,null,null,null,null,null,null,null,{"$f":"IF($Q86=\"\",\"0\",VLOOKUP($Q86,登録データ!$Q$4:$R$19,2,FALSE))","v":"0"},{"$f":"IF($V86=\"\",\"00\",IF(LEN($V86)=1,$V86*10,$V86))","v":"00"},{"$f":"IF($Q86=\"\",\"\",IF(OR(RIGHT($Q86,1)=\"m\",RIGHT($Q86,1)=\"H\"),1,2))","v":""},"000000","",{"$f":"IF(OR(RIGHT($H82,1)=\"m\",RIGHT($H82,1)=\"H\",RIGHT($H82,1)=\"W\",RIGHT($H82,1)=\"C\"),IF(VALUE($K82)>59,1,0),0)","v":0}]
[null,23,null,null,null,null,null,null,null,null,null,null,null,null,null,"①",null,null,null,null,null,null,null,null,null,null,null,null,{"$f":"IF($Q87=\"\",\"0\",VLOOKUP($Q87,登録データ!$Q$4:$R$19,2,FALSE))","v":"0"},"00","","000000","",0,{"$f":"IF($C87=\"\",\"\",IF($C87=\"@\",0,IF(COUNTIF($C$21:$C$620,$C87)=1,0,1)))","v":""},{"$f":"IF($O87=\"\",\"\",IF(OR($O87=\"北海道\",$O87=\"東京都\",$O87=\"大阪府\",$O87=\"京都府\",RIGHT($O87,1)=\"県\"),0,1))","v":""}]
[null,null,null,null,null,null,null,null,null,null,null,null,null,null,null,null,null,null,null,null,null,null,null,null,null,null,null,null,{"$f":"IF($Q88=\"\",\"0\",VLOOKUP($Q88,登録データ!$Q$4:$R$19,2,FALSE))","v":"0"},"00","","000000","",0]
[null,null,null,null,null,null,null,null,null,null,null,null,null,null,null,null,null,null,null,null,null,null,null,null,null,null,null,null,{"$f":"IF($Q89=\"\",\"0\",VLOOKUP($Q89,登録データ!$Q$4:$R$19,2,FALSE))","v":"0"},"00","","000000","",0]
[null,24,null,null,null,null,null,null,null,null,null,null,null,null,null,"①",null,null,null,null,null,null,null,null,null,null,null,null,{"$f":"IF($Q90=\"\",\"0\",VLOOKUP($Q90,登録データ!$Q$4:$R$19,2,FALSE))","v":"0"},"00","","000000","",0,{"$f":"IF($C90=\"\",\"\",IF($C90=\"@\",0,IF(COUNTIF($C$21:$C$620,$C90)=1,0,1)))","v":""},{"$f":"IF($O90=\"\",\"\",IF(OR($O90=\"北海道\",$O90=\"東京都\",$O90=\"大阪府\",$O90=\"京都府\",RIGHT($O90,1)=\"県\"),0,1))","v":""}]
[null,null,null,null,null,null,null,null,null,null,null,null,null,null,null,null,null,null,null,null,null,null,null,null,null,null,null,null,{"$f":"IF($Q91=\"\",\"0\",VLOOKUP($Q91,登録データ!$Q$4:$R$19,2,FALSE))","v":"0"},"00","","000000","",0]
[null,null,null,null,null,null,null,null,null,null,null,null,null,null,null,null,null,null,null,null,null,null,null,null,null,null,null,null,{"$f":"IF($Q92=\"\",\"0\",VLOOKUP($Q92,登録データ!$Q$4:$R$19,2,FALSE))","v":"0"},"00","","000000","",0]
[null,25,null,null,null,null,null,null,null,null,null,null,null,null,null,"①",null,null,null,null,null,null,null,null,null,null,null,null,{"$f":"IF($Q93=\"\",\"0\",VLOOKUP($Q93,登録データ!$Q$4:$R$19,2,FALSE))","v":"0"},"00","","000000","",0,{"$f":"IF($C93=\"\",\"\",IF($C93=\"@\",0,IF(COUNTIF($C$21:$C$620,$C93)=1,0,1)))","v":""},{"$f":"IF($O93=\"\",\"\",IF(OR($O93=\"北海道\",$O93=\"東京都\",$O93=\"大阪府\",$O93=\"京都府\",RIGHT($O93,1)=\"県\"),0,1))","v":""}]
[null,null,null,null,null,null,null,null,null,null,null,null,null,null,null,null,null,null,null,null,null,null,null,null,null,null,null,null,{"$f":"IF($Q94=\"\",\"0\",VLOOKUP($Q94,登録データ!$Q$4:$R$19,2,FALSE))","v":"0"},"00","","000000","",0]
[null,null,null,null,null,null,null,null,null,null,null,null,null,null,null,null,null,null,null,null,null,null,null,null,null,null,null,null,{"$f":"IF($Q95=\"\",\"0\",VLOOKUP($Q95,登録データ!$Q$4:$R$19,2,FALSE))","v":"0"},"00","","000000","",0]
[null,26,null,null,null,null,null,null,null,null,null,null,null,null,null,"①",null,null,null,null,null,null,null,null,null,null,null,null,{"$f":"IF($Q96=\"\",\"0\",VLOOKUP($Q96,登録データ!$Q$4:$R$19,2,FALSE))","v":"0"},"00","","000000","",0,{"$f":"IF($C96=\"\",\"\",IF($C96=\"@\",0,IF(COUNTIF($C$21:$C$620,$C96)=1,0,1)))","v":""},{"$f":"IF($O96=\"\",\"\",IF(OR($O96=\"北海道\",$O96=\"東京都\",$O96=\"大阪府\",$O96=\"京都府\",RIGHT($O96,1)=\"県\"),0,1))","v":""}]
[null,null,null,null,null,null,null,null,null,null,null,null,null,null,null,null,null,null,null,null,null,null,null,null,null,null,null,null,{"$f":"IF($Q97=\"\",\"0\",VLOOKUP($Q97,登録データ!$Q$4:$R$19,2,FALSE))","v":"0"},"00","","000000","",0]
[null,null,null,null,null,null,null,null,null,null,null,null,null,null,null,null,null,null,null,null,null,null,null,null,null,null,null,null,{"$f":"IF($Q98=\"\",\"0\",VLOOKUP($Q98,登録データ!$Q$4:$R$19,2,FALSE))","v":"0"},"00","","000000","",0]
[null,27,null,null,null,null,null,null,null,null,null,null,null,null,null,"①",null,null,null,null,null,null,null,null,null,null,null,null,{"$f":"IF($Q99=\"\",\"0\",VLOOKUP($Q99,登録データ!$Q$4:$R$19,2,FALSE))","v":"0"},"00","","000000","",0,{"$f":"IF($C99=\"\",\"\",IF($C99=\"@\",0,IF(COUNTIF($C$21:$C$620,$C99)=1,0,1)))","v":""},{"$f":"IF($O99=\"\",\"\",IF(OR($O99=\"北海道\",$O99=\"東京都\",$O99=\"大阪府\",$O99=\"京都府\",RIGHT($O99,1)=\"県\"),0,1))","v":""}]
[null,null,null,null,null,null,null,null,null,null,null,null,null,null,null,null,null,null,null,null,null,null,null,null,null,null,null,null,{"$f":"IF($Q100=\"\",\"0\",VLOOKUP($Q100,登録データ!$Q$4:$R$19,2,FALSE))","v":"0"},"00","","000000","",0]
[null,null,null,null,null,null,null,null,null,null,null,null,null,null,null,null,null,null,null,null,null,null,null,null,null,null,null,null,{"$f":"IF($Q101=\"\",\"0\",VLOOKUP($Q101,登録データ!$Q$4:$R$19,2,FALSE))","v":"0"},"00","","000000","",0]
[null,28,null,null,null,null,null,null,null,null,null,null,null,null,null,"①",null,null,null,null,null,null,null,null,null,null,null,null,{"$f":"IF($Q102=\"\",\"0\",VLOOKUP($Q102,登録データ!$Q$4:$R$19,2,FALSE))","v":"0"},"00","","000000","",0,{"$f":"IF($C102=\"\",\"\",IF($C102=\"@\",0,IF(COUNTIF($C$21:$C$620,$C102)=1,0,1)))","v":""},{"$f":"IF($O102=\"\",\"\",IF(OR($O102=\"北海道\",$O102=\"東京都\",$O102=\"大阪府\",$O102=\"京都府\",RIGHT($O102,1)=\"県\"),0,1))","v":""}]
[null,null,null,null,null,null,null,null,null,null,null,null,null,null,null,null,null,null,null,null,null,null,null,null,null,null,null,null,{"$f":"IF($Q103=\"\",\"0\",VLOOKUP($Q103,登録データ!$Q$4:$R$19,2,FALSE))","v":"0"},"00","","000000","",0]
[null,null,null,null,null,null,null,null,null,null,null,null,null,null,null,null,null,null,null,null,null,null,null,null,null,null,null,null,{"$f":"IF($Q104=\"\",\"0\",VLOOKUP($Q104,登録データ!$Q$4:$R$19,2,FALSE))","v":"0"},"00","","000000","",0]
[null,29,null,null,null,null,null,null,null,null,null,null,null,null,null,"①",null,null,null,null,null,null,null,null,null,null,null,null,{"$f":"IF($Q105=\"\",\"0\",VLOOKUP($Q105,登録データ!$Q$4:$R$19,2,FALSE))","v":"0"},"00","","000000","",0,{"$f":"IF($C105=\"\",\"\",IF($C105=\"@\",0,IF(COUNTIF($C$21:$C$620,$C105)=1,0,1)))","v":""},{"$f":"IF($O105=\"\",\"\",IF(OR($O105=\"北海道\",$O105=\"東京都\",$O105=\"大阪府\",$O105=\"京都府\",RIGHT($O105,1)=\"県\"),0,1))","v":""}]
[null,null,null,null,null,null,null,null,null,null,null,null,null,null,null,null,null,null,null,null,null,null,null,null,null,null,null,null,{"$f":"IF($Q106=\"\",\"0\",VLOOKUP($Q106,登録データ!$Q$4:$R$19,2,FALSE))","v":"0"},"00","","000000","",0]
[null,null,null,null,null,null,null,null,null,null,null,null,null,null,null,null,null,null,null,null,null,null,null,null,null,null,null,null,{"$f":"IF($Q107=\"\",\"0\",VLOOKUP($Q107,登録データ!$Q$4:$R$19,2,FALSE))","v":"0"},"00","","000000","",0]
[null,30,null,null,null,null,null,null,null,null,null,null,null,null,null,"①",null,null,null,null,null,null,null,null,null,null,null,null,{"$f":"IF($Q108=\"\",\"0\",VLOOKUP($Q108,登録データ!$Q$4:$R$19,2,FALSE))","v":"0"},"00","","000000","",0,{"$f":"IF($C108=\"\",\"\",IF($C108=\"@\",0,IF(COUNTIF($C$21:$C$620,$C108)=1,0,1)))","v":""},{"$f":"IF($O108=\"\",\"\",IF(OR($O108=\"北海道\",$O108=\"東京都\",$O108=\"大阪府\",$O108=\"京都府\",RIGHT($O108,1)=\"県\"),0,1))","v":""}]
[null,null,null,null,null,null,null,null,null,null,null,null,null,null,null,null,null,null,null,null,null,null,null,null,null,null,null,null,{"$f":"IF($Q109=\"\",\"0\",VLOOKUP($Q109,登録データ!$Q$4:$R$19,2,FALSE))","v":"0"},"00","","000000","",0]
[null,null,null,null,null,null,null,null,null,null,null,null,null,null,null,null,null,null,null,null,null,null,null,null,null,null,null,null,{"$f":"IF($Q110=\"\",\"0\",VLOOKUP($Q110,登録データ!$Q$4:$R$19,2,FALSE))","v":"0"},"00","","000000","",0]
[null,31,null,null,null,null,null,null,null,null,null,null,null,null,null,"①",null,null,null,null,null,null,null,null,null,null,null,null,{"$f":"IF($Q111=\"\",\"0\",VLOOKUP($Q111,登録データ!$Q$4:$R$19,2,FALSE))","v":"0"},"00","","000000","",0,{"$f":"IF($C111=\"\",\"\",IF($C111=\"@\",0,IF(COUNTIF($C$21:$C$620,$C111)=1,0,1)))","v":""},{"$f":"IF($O111=\"\",\"\",IF(OR($O111=\"北海道\",$O111=\"東京都\",$O111=\"大阪府\",$O111=\"京都府\",RIGHT($O111,1)=\"県\"),0,1))","v":""}]
[null,null,null,null,null,null,null,null,null,null,null,null,null,null,null,null,null,null,null,null,null,null,null,null,null,null,null,null,{"$f":"IF($Q112=\"\",\"0\",VLOOKUP($Q112,登録データ!$Q$4:$R$19,2,FALSE))","v":"0"},"00","","000000","",0]
[null,null,null,null,null,null,null,null,null,null,null,null,null,null,null,null,null,null,null,null,null,null,null,null,null,null,null,null,{"$f":"IF($Q113=\"\",\"0\",VLOOKUP($Q113,登録データ!$Q$4:$R$19,2,FALSE))","v":"0"},"00","","000000","",0]
[null,32,null,null,null,null,null,null,null,null,null,null,null,null,null,"①",null,null,null,null,null,null,null,null,null,null,null,null,{"$f":"IF($Q114=\"\",\"0\",VLOOKUP($Q114,登録データ!$Q$4:$R$19,2,FALSE))","v":"0"},"00","","000000","",0,{"$f":"IF($C114=\"\",\"\",IF($C114=\"@\",0,IF(COUNTIF($C$21:$C$620,$C114)=1,0,1)))","v":""},{"$f":"IF($O114=\"\",\"\",IF(OR($O114=\"北海道\",$O114=\"東京都\",$O114=\"大阪府\",$O114=\"京都府\",RIGHT($O114,1)=\"県\"),0,1))","v":""}]
[null,null,null,null,null,null,null,null,null,null,null,null,null,null,null,null,null,null,null,null,null,null,null,null,null,null,null,null,{"$f":"IF($Q115=\"\",\"0\",VLOOKUP($Q115,登録データ!$Q$4:$R$19,2,FALSE))","v":"0"},"00","","000000","",0]
[null,null,null,null,null,null,null,null,null,null,null,null,null,null,null,null,null,null,null,null,null,null,null,null,null,null,null,null,{"$f":"IF($Q116=\"\",\"0\",VLOOKUP($Q116,登録データ!$Q$4:$R$19,2,FALSE))","v":"0"},"00","","000000","",0]
[null,33,null,null,null,null,null,null,null,null,null,null,null,null,null,"①",null,null,null,null,null,null,null,null,null,null,null,null,{"$f":"IF($Q117=\"\",\"0\",VLOOKUP($Q117,登録データ!$Q$4:$R$19,2,FALSE))","v":"0"},"00","","000000","",0,{"$f":"IF($C117=\"\",\"\",IF($C117=\"@\",0,IF(COUNTIF($C$21:$C$620,$C117)=1,0,1)))","v":""},{"$f":"IF($O117=\"\",\"\",IF(OR($O117=\"北海道\",$O117=\"東京都\",$O117=\"大阪府\",$O117=\"京都府\",RIGHT($O117,1)=\"県\"),0,1))","v":""}]
[null,null,null,null,null,null,null,null,null,null,null,null,null,null,null,null,null,null,null,null,null,null,null,null,null,null,null,null,{"$f":"IF($Q118=\"\",\"0\",VLOOKUP($Q118,登録データ!$Q$4:$R$19,2,FALSE))","v":"0"},"00","","000000","",0]
[null,null,null,null,null,null,null,null,null,null,null,null,null,null,null,null,null,null,null,null,null,null,null,null,null,null,null,null,{"$f":"IF($Q119=\"\",\"0\",VLOOKUP($Q119,登録データ!$Q$4:$R$19,2,FALSE))","v":"0"},"00","","000000","",0]
[null,34,null,null,null,null,null,null,null,null,null,null,null,null,null,"①",null,null,null,null,null,null,null,null,null,null,null,null,{"$f":"IF($Q120=\"\",\"0\",VLOOKUP($Q120,登録データ!$Q$4:$R$19,2,FALSE))","v":"0"},"00","","000000","",0,{"$f":"IF($C120=\"\",\"\",IF($C120=\"@\",0,IF(COUNTIF($C$21:$C$620,$C120)=1,0,1)))","v":""},{"$f":"IF($O120=\"\",\"\",IF(OR($O120=\"北海道\",$O120=\"東京都\",$O120=\"大阪府\",$O120=\"京都府\",RIGHT($O120,1)=\"県\"),0,1))","v":""}]
[null,null,null,null,null,null,null,null,null,null,null,null,null,null,null,null,null,null,null,null,null,null,null,null,null,null,null,null,{"$f":"IF($Q121=\"\",\"0\",VLOOKUP($Q121,登録データ!$Q$4:$R$19,2,FALSE))","v":"0"},"00","","000000","",0]
[null,null,null,null,null,null,null,null,null,null,null,null,null,null,null,null,null,null,null,null,null,null,null,null,null,null,null,null,{"$f":"IF($Q122=\"\",\"0\",VLOOKUP($Q122,登録データ!$Q$4:$R$19,2,FALSE))","v":"0"},"00","","000000","",0]
[null,35,null,null,null,null,null,null,null,null,null,null,null,null,null,"①",null,null,null,null,null,null,null,null,null,null,null,null,{"$f":"IF($Q123=\"\",\"0\",VLOOKUP($Q123,登録データ!$Q$4:$R$19,2,FALSE))","v":"0"},"00","","000000","",0,{"$f":"IF($C123=\"\",\"\",IF($C123=\"@\",0,IF(COUNTIF($C$21:$C$620,$C123)=1,0,1)))","v":""},{"$f":"IF($O123=\"\",\"\",IF(OR($O123=\"北海道\",$O123=\"東京都\",$O123=\"大阪府\",$O123=\"京都府\",RIGHT($O123,1)=\"県\"),0,1))","v":""}]
[null,null,null,null,null,null,null,null,null,null,null,null,null,null,null,null,null,null,null,null,null,null,null,null,null,null,null,null,{"$f":"IF($Q124=\"\",\"0\",VLOOKUP($Q124,登録データ!$Q$4:$R$19,2,FALSE))","v":"0"},"00","","000000","",0]
[null,null,null,null,null,null,null,null,null,null,null,null,null,null,null,null,null,null,null,null,null,null,null,null,null,null,null,null,{"$f":"IF($Q125=\"\",\"0\",VLOOKUP($Q125,登録データ!$Q$4:$R$19,2,FALSE))","v":"0"},"00","","000000","",0]
[null,36,null,null,null,null,null,null,null,null,null,null,null,null,null,"①",null,null,null,null,null,null,null,null,null,null,null,null,{"$f":"IF($Q126=\"\",\"0\",VLOOKUP($Q126,登録データ!$Q$4:$R$19,2,FALSE))","v":"0"},"00","","000000","",0,{"$f":"IF($C126=\"\",\"\",IF($C126=\"@\",0,IF(COUNTIF($C$21:$C$620,$C126)=1,0,1)))","v":""},{"$f":"IF($O126=\"\",\"\",IF(OR($O126=\"北海道\",$O126=\"東京都\",$O126=\"大阪府\",$O126=\"京都府\",RIGHT($O126,1)=\"県\"),0,1))","v":""}]
[null,null,null,null,null,null,null,null,null,null,null,null,null,null,null,null,null,null,null,null,null,null,null,null,null,null,null,null,{"$f":"IF($Q127=\"\",\"0\",VLOOKUP($Q127,登録データ!$Q$4:$R$19,2,FALSE))","v":"0"},"00","","000000","",0]
[null,null,null,null,null,null,null,null,null,null,null,null,null,null,null,null,null,null,null,null,null,null,null,null,null,null,null,null,{"$f":"IF($Q128=\"\",\"0\",VLOOKUP($Q128,登録データ!$Q$4:$R$19,2,FALSE))","v":"0"},"00","","000000","",0]
[null,37,null,null,null,null,null,null,null,null,null,null,null,null,null,"①",null,null,null,null,null,null,null,null,null,null,null,null,{"$f":"IF($Q129=\"\",\"0\",VLOOKUP($Q129,登録データ!$Q$4:$R$19,2,FALSE))","v":"0"},"00","","000000","",0,{"$f":"IF($C129=\"\",\"\",IF($C129=\"@\",0,IF(COUNTIF($C$21:$C$620,$C129)=1,0,1)))","v":""},{"$f":"IF($O129=\"\",\"\",IF(OR($O129=\"北海道\",$O129=\"東京都\",$O129=\"大阪府\",$O129=\"京都府\",RIGHT($O129,1)=\"県\"),0,1))","v":""}]
[null,null,null,null,null,null,null,null,null,null,null,null,null,null,null,null,null,null,null,null,null,null,null,null,null,null,null,null,{"$f":"IF($Q130=\"\",\"0\",VLOOKUP($Q130,登録データ!$Q$4:$R$19,2,FALSE))","v":"0"},"00","","000000","",0]
[null,null,null,null,null,null,null,null,null,null,null,null,null,null,null,null,null,null,null,null,null,null,null,null,null,null,null,null,{"$f":"IF($Q131=\"\",\"0\",VLOOKUP($Q131,登録データ!$Q$4:$R$19,2,FALSE))","v":"0"},"00","","000000","",0]
[null,38,null,null,null,null,null,null,null,null,null,null,null,null,null,"①",null,null,null,null,null,null,null,null,null,null,null,null,{"$f":"IF($Q132=\"\",\"0\",VLOOKUP($Q132,登録データ!$Q$4:$R$19,2,FALSE))","v":"0"},"00","","000000","",0,{"$f":"IF($C132=\"\",\"\",IF($C132=\"@\",0,IF(COUNTIF($C$21:$C$620,$C132)=1,0,1)))","v":""},{"$f":"IF($O132=\"\",\"\",IF(OR($O132=\"北海道\",$O132=\"東京都\",$O132=\"大阪府\",$O132=\"京都府\",RIGHT($O132,1)=\"県\"),0,1))","v":""}]
[null,null,null,null,null,null,null,null,null,null,null,null,null,null,null,null,null,null,null,null,null,null,null,null,null,null,null,null,{"$f":"IF($Q133=\"\",\"0\",VLOOKUP($Q133,登録データ!$Q$4:$R$19,2,FALSE))","v":"0"},"00","","000000","",0]
[null,null,null,null,null,null,null,null,null,null,null,null,null,null,null,null,null,null,null,null,null,null,null,null,null,null,null,null,{"$f":"IF($Q134=\"\",\"0\",VLOOKUP($Q134,登録データ!$Q$4:$R$19,2,FALSE))","v":"0"},"00","","000000","",0]
[null,39,null,null,null,null,null,null,null,null,null,null,null,null,null,"①",null,null,null,null,null,null,null,null,null,null,null,null,{"$f":"IF($Q135=\"\",\"0\",VLOOKUP($Q135,登録データ!$Q$4:$R$19,2,FALSE))","v":"0"},"00","","000000","",0,{"$f":"IF($C135=\"\",\"\",IF($C135=\"@\",0,IF(COUNTIF($C$21:$C$620,$C135)=1,0,1)))","v":""},{"$f":"IF($O135=\"\",\"\",IF(OR($O135=\"北海道\",$O135=\"東京都\",$O135=\"大阪府\",$O135=\"京都府\",RIGHT($O135,1)=\"県\"),0,1))","v":""}]
[null,null,null,null,null,null,null,null,null,null,null,null,null,null,null,null,null,null,null,null,null,null,null,null,null,null,null,null,{"$f":"IF($Q136=\"\",\"0\",VLOOKUP($Q136,登録データ!$Q$4:$R$19,2,FALSE))","v":"0"},"00","","000000","",0]
[null,null,null,null,null,null,null,null,null,null,null,null,null,null,null,null,null,null,null,null,null,null,null,null,null,null,null,null,{"$f":"IF($Q137=\"\",\"0\",VLOOKUP($Q137,登録データ!$Q$4:$R$19,2,FALSE))","v":"0"},"00","","000000","",0]
[null,40,null,null,null,null,null,null,null,null,null,null,null,null,null,"①",null,null,null,null,null,null,null,null,null,null,null,null,{"$f":"IF($Q138=\"\",\"0\",VLOOKUP($Q138,登録データ!$Q$4:$R$19,2,FALSE))","v":"0"},"00","","000000","",0,{"$f":"IF($C138=\"\",\"\",IF($C138=\"@\",0,IF(COUNTIF($C$21:$C$620,$C138)=1,0,1)))","v":""},{"$f":"IF($O138=\"\",\"\",IF(OR($O138=\"北海道\",$O138=\"東京都\",$O138=\"大阪府\",$O138=\"京都府\",RIGHT($O138,1)=\"県\"),0,1))","v":""}]
[null,null,null,null,null,null,null,null,null,null,null,null,null,null,null,null,null,null,null,null,null,null,null,null,null,null,null,null,{"$f":"IF($Q139=\"\",\"0\",VLOOKUP($Q139,登録データ!$Q$4:$R$19,2,FALSE))","v":"0"},"00","","000000","",0]
[null,null,null,null,null,null,null,null,null,null,null,null,null,null,null,null,null,null,null,null,null,null,null,null,null,null,null,null,{"$f":"IF($Q140=\"\",\"0\",VLOOKUP($Q140,登録データ!$Q$4:$R$19,2,FALSE))","v":"0"},"00","","000000","",0]
[null,41,null,null,null,null,null,null,null,null,null,null,null,null,null,"①",null,null,null,null,null,null,null,null,null,null,null,null,{"$f":"IF($Q141=\"\",\"0\",VLOOKUP($Q141,登録データ!$Q$4:$R$19,2,FALSE))","v":"0"},"00","","000000","",0,{"$f":"IF($C141=\"\",\"\",IF($C141=\"@\",0,IF(COUNTIF($C$21:$C$620,$C141)=1,0,1)))","v":""},{"$f":"IF($O141=\"\",\"\",IF(OR($O141=\"北海道\",$O141=\"東京都\",$O141=\"大阪府\",$O141=\"京都府\",RIGHT($O141,1)=\"県\"),0,1))","v":""}]
[null,null,null,null,null,null,null,null,null,null,null,null,null,null,null,null,null,null,null,null,null,null,null,null,null,null,null,null,{"$f":"IF($Q142=\"\",\"0\",VLOOKUP($Q142,登録データ!$Q$4:$R$19,2,FALSE))","v":"0"},"00","","000000","",0]
[null,null,null,null,null,null,null,null,null,null,null,null,null,null,null,null,null,null,null,null,null,null,null,null,null,null,null,null,{"$f":"IF($Q143=\"\",\"0\",VLOOKUP($Q143,登録データ!$Q$4:$R$19,2,FALSE))","v":"0"},"00","","000000","",0]
[null,42,null,null,null,null,null,null,null,null,null,null,null,null,null,"①",null,null,null,null,null,null,null,null,null,null,null,null,{"$f":"IF($Q144=\"\",\"0\",VLOOKUP($Q144,登録データ!$Q$4:$R$19,2,FALSE))","v":"0"},"00","","000000","",0,{"$f":"IF($C144=\"\",\"\",IF($C144=\"@\",0,IF(COUNTIF($C$21:$C$620,$C144)=1,0,1)))","v":""},{"$f":"IF($O144=\"\",\"\",IF(OR($O144=\"北海道\",$O144=\"東京都\",$O144=\"大阪府\",$O144=\"京都府\",RIGHT($O144,1)=\"県\"),0,1))","v":""}]
[null,null,null,null,null,null,null,null,null,null,null,null,null,null,null,null,null,null,null,null,null,null,null,null,null,null,null,null,{"$f":"IF($Q145=\"\",\"0\",VLOOKUP($Q145,登録データ!$Q$4:$R$19,2,FALSE))","v":"0"},"00","","000000","",0]
[null,null,null,null,null,null,null,null,null,null,null,null,null,null,null,null,null,null,null,null,null,null,null,null,null,null,null,null,{"$f":"IF($Q146=\"\",\"0\",VLOOKUP($Q146,登録データ!$Q$4:$R$19,2,FALSE))","v":"0"},"00","","000000","",0]
[null,43,null,null,null,null,null,null,null,null,null,null,null,null,null,"①",null,null,null,null,null,null,null,null,null,null,null,null,{"$f":"IF($Q147=\"\",\"0\",VLOOKUP($Q147,登録データ!$Q$4:$R$19,2,FALSE))","v":"0"},"00","","000000","",0,{"$f":"IF($C147=\"\",\"\",IF($C147=\"@\",0,IF(COUNTIF($C$21:$C$620,$C147)=1,0,1)))","v":""},{"$f":"IF($O147=\"\",\"\",IF(OR($O147=\"北海道\",$O147=\"東京都\",$O147=\"大阪府\",$O147=\"京都府\",RIGHT($O147,1)=\"県\"),0,1))","v":""}]
[null,null,null,null,null,null,null,null,null,null,null,null,null,null,null,null,null,null,null,null,null,null,null,null,null,null,null,null,{"$f":"IF($Q148=\"\",\"0\",VLOOKUP($Q148,登録データ!$Q$4:$R$19,2,FALSE))","v":"0"},"00","","000000","",0]
[null,null,null,null,null,null,null,null,null,null,null,null,null,null,null,null,null,null,null,null,null,null,null,null,null,null,null,null,{"$f":"IF($Q149=\"\",\"0\",VLOOKUP($Q149,登録データ!$Q$4:$R$19,2,FALSE))","v":"0"},"00","",{"$f":"IF($AE149=2,IF($T149=\"\",\"0000\",CONCATENATE(RIGHT($T149+100,2),$AD149)),IF($T149=\"\",\"000000\",CONCATENATE(RIGHT($R149+100,2),RIGHT($T149+100,2),$AD149)))","v":"000000"},{"$f":"IF($Q149=\"\",\"\",CONCATENATE($AC149,\" \",IF($AE149=1,RIGHT($AF149+10000000,7),RIGHT($AF149+100000,5))))","v":""},0]
[null,44,null,null,null,null,null,null,null,null,null,null,null,null,null,"①",null,null,null,null,null,null,null,null,null,null,null,null,{"$f":"IF($Q150=\"\",\"0\",VLOOKUP($Q150,登録データ!$Q$4:$R$19,2,FALSE))","v":"0"},{"$f":"IF($V150=\"\",\"00\",IF(LEN($V150)=1,$V150*10,$V150))","v":"00"},{"$f":"IF($Q150=\"\",\"\",IF(OR(RIGHT($Q150,1)=\"m\",RIGHT($Q150,1)=\"H\"),1,2))","v":""},"000000","",{"$f":"IF(OR(RIGHT($H146,1)=\"m\",RIGHT($H146,1)=\"H\",RIGHT($H146,1)=\"W\",RIGHT($H146,1)=\"C\"),IF(VALUE($K146)>59,1,0),0)","v":0},{"$f":"IF($C150=\"\",\"\",IF($C150=\"@\",0,IF(COUNTIF($C$21:$C$620,$C150)=1,0,1)))","v":""},{"$f":"IF($O150=\"\",\"\",IF(OR($O150=\"北海道\",$O150=\"東京都\",$O150=\"大阪府\",$O150=\"京都府\",RIGHT($O150,1)=\"県\"),0,1))","v":""}]
[null,null,null,null,null,null,null,null,null,null,null,null,null,null,null,null,null,null,null,null,null,null,null,null,null,null,null,null,{"$f":"IF($Q151=\"\",\"0\",VLOOKUP($Q151,登録データ!$Q$4:$R$19,2,FALSE))","v":"0"},"00","","000000","",0]
[null,null,null,null,null,null,null,null,null,null,null,null,null,null,null,null,null,null,null,null,null,null,null,null,null,null,null,null,{"$f":"IF($Q152=\"\",\"0\",VLOOKUP($Q152,登録データ!$Q$4:$R$19,2,FALSE))","v":"0"},"00","","000000","",0]
[null,45,null,null,null,null,null,null,null,null,null,null,null,null,null,"①",null,null,null,null,null,null,null,null,null,null,null,null,{"$f":"IF($Q153=\"\",\"0\",VLOOKUP($Q153,登録データ!$Q$4:$R$19,2,FALSE))","v":"0"},"00","","000000","",0,{"$f":"IF($C153=\"\",\"\",IF($C153=\"@\",0,IF(COUNTIF($C$21:$C$620,$C153)=1,0,1)))","v":""},{"$f":"IF($O153=\"\",\"\",IF(OR($O153=\"北海道\",$O153=\"東京都\",$O153=\"大阪府\",$O153=\"京都府\",RIGHT($O153,1)=\"県\"),0,1))","v":""}]
[null,null,null,null,null,null,null,null,null,null,null,null,null,null,null,null,null,null,null,null,null,null,null,null,null,null,null,null,{"$f":"IF($Q154=\"\",\"0\",VLOOKUP($Q154,登録データ!$Q$4:$R$19,2,FALSE))","v":"0"},"00","","000000","",0]
[null,null,null,null,null,null,null,null,null,null,null,null,null,null,null,null,null,null,null,null,null,null,null,null,null,null,null,null,{"$f":"IF($Q155=\"\",\"0\",VLOOKUP($Q155,登録データ!$Q$4:$R$19,2,FALSE))","v":"0"},"00","","000000","",0]
[null,46,null,null,null,null,null,null,null,null,null,null,null,null,null,"①",null,null,null,null,null,null,null,null,null,null,null,null,{"$f":"IF($Q156=\"\",\"0\",VLOOKUP($Q156,登録データ!$Q$4:$R$19,2,FALSE))","v":"0"},"00","","000000","",0,{"$f":"IF($C156=\"\",\"\",IF($C156=\"@\",0,IF(COUNTIF($C$21:$C$620,$C156)=1,0,1)))","v":""},{"$f":"IF($O156=\"\",\"\",IF(OR($O156=\"北海道\",$O156=\"東京都\",$O156=\"大阪府\",$O156=\"京都府\",RIGHT($O156,1)=\"県\"),0,1))","v":""}]
[null,null,null,null,null,null,null,null,null,null,null,null,null,null,null,null,null,null,null,null,null,null,null,null,null,null,null,null,{"$f":"IF($Q157=\"\",\"0\",VLOOKUP($Q157,登録データ!$Q$4:$R$19,2,FALSE))","v":"0"},"00","","000000","",0]
[null,null,null,null,null,null,null,null,null,null,null,null,null,null,null,null,null,null,null,null,null,null,null,null,null,null,null,null,{"$f":"IF($Q158=\"\",\"0\",VLOOKUP($Q158,登録データ!$Q$4:$R$19,2,FALSE))","v":"0"},"00","","000000","",0]
[null,47,null,null,null,null,null,null,null,null,null,null,null,null,null,"①",null,null,null,null,null,null,null,null,null,null,null,null,{"$f":"IF($Q159=\"\",\"0\",VLOOKUP($Q159,登録データ!$Q$4:$R$19,2,FALSE))","v":"0"},"00","","000000","",0,{"$f":"IF($C159=\"\",\"\",IF($C159=\"@\",0,IF(COUNTIF($C$21:$C$620,$C159)=1,0,1)))","v":""},{"$f":"IF($O159=\"\",\"\",IF(OR($O159=\"北海道\",$O159=\"東京都\",$O159=\"大阪府\",$O159=\"京都府\",RIGHT($O159,1)=\"県\"),0,1))","v":""}]
[null,null,null,null,null,null,null,null,null,null,null,null,null,null,null,null,null,null,null,null,null,null,null,null,null,null,null,null,{"$f":"IF($Q160=\"\",\"0\",VLOOKUP($Q160,登録データ!$Q$4:$R$19,2,FALSE))","v":"0"},"00","","000000","",0]
[null,null,null,null,null,null,null,null,null,null,null,null,null,null,null,null,null,null,null,null,null,null,null,null,null,null,null,null,{"$f":"IF($Q161=\"\",\"0\",VLOOKUP($Q161,登録データ!$Q$4:$R$19,2,FALSE))","v":"0"},"00","","000000","",0]
[null,48,null,null,null,null,null,null,null,null,null,null,null,null,null,"①",null,null,null,null,null,null,null,null,null,null,null,null,{"$f":"IF($Q162=\"\",\"0\",VLOOKUP($Q162,登録データ!$Q$4:$R$19,2,FALSE))","v":"0"},"00","","000000","",0,{"$f":"IF($C162=\"\",\"\",IF($C162=\"@\",0,IF(COUNTIF($C$21:$C$620,$C162)=1,0,1)))","v":""},{"$f":"IF($O162=\"\",\"\",IF(OR($O162=\"北海道\",$O162=\"東京都\",$O162=\"大阪府\",$O162=\"京都府\",RIGHT($O162,1)=\"県\"),0,1))","v":""}]
[null,null,null,null,null,null,null,null,null,null,null,null,null,null,null,null,null,null,null,null,null,null,null,null,null,null,null,null,{"$f":"IF($Q163=\"\",\"0\",VLOOKUP($Q163,登録データ!$Q$4:$R$19,2,FALSE))","v":"0"},"00","","000000","",0]
[null,null,null,null,null,null,null,null,null,null,null,null,null,null,null,null,null,null,null,null,null,null,null,null,null,null,null,null,{"$f":"IF($Q164=\"\",\"0\",VLOOKUP($Q164,登録データ!$Q$4:$R$19,2,FALSE))","v":"0"},"00","","000000","",0]
[null,49,null,null,null,null,null,null,null,null,null,null,null,null,null,"①",null,null,null,null,null,null,null,null,null,null,null,null,{"$f":"IF($Q165=\"\",\"0\",VLOOKUP($Q165,登録データ!$Q$4:$R$19,2,FALSE))","v":"0"},"00","","000000","",0,{"$f":"IF($C165=\"\",\"\",IF($C165=\"@\",0,IF(COUNTIF($C$21:$C$620,$C165)=1,0,1)))","v":""},{"$f":"IF($O165=\"\",\"\",IF(OR($O165=\"北海道\",$O165=\"東京都\",$O165=\"大阪府\",$O165=\"京都府\",RIGHT($O165,1)=\"県\"),0,1))","v":""}]
[null,null,null,null,null,null,null,null,null,null,null,null,null,null,null,null,null,null,null,null,null,null,null,null,null,null,null,null,{"$f":"IF($Q166=\"\",\"0\",VLOOKUP($Q166,登録データ!$Q$4:$R$19,2,FALSE))","v":"0"},"00","","000000","",0]
[null,null,null,null,null,null,null,null,null,null,null,null,null,null,null,null,null,null,null,null,null,null,null,null,null,null,null,null,{"$f":"IF($Q167=\"\",\"0\",VLOOKUP($Q167,登録データ!$Q$4:$R$19,2,FALSE))","v":"0"},"00","","000000","",0]
[null,50,null,null,null,null,null,null,null,null,null,null,null,null,null,"①",null,null,null,null,null,null,null,null,null,null,null,null,{"$f":"IF($Q168=\"\",\"0\",VLOOKUP($Q168,登録データ!$Q$4:$R$19,2,FALSE))","v":"0"},"00","","000000","",0,{"$f":"IF($C168=\"\",\"\",IF($C168=\"@\",0,IF(COUNTIF($C$21:$C$620,$C168)=1,0,1)))","v":""},{"$f":"IF($O168=\"\",\"\",IF(OR($O168=\"北海道\",$O168=\"東京都\",$O168=\"大阪府\",$O168=\"京都府\",RIGHT($O168,1)=\"県\"),0,1))","v":""}]
[null,null,null,null,null,null,null,null,null,null,null,null,null,null,null,null,null,null,null,null,null,null,null,null,null,null,null,null,{"$f":"IF($Q169=\"\",\"0\",VLOOKUP($Q169,登録データ!$Q$4:$R$19,2,FALSE))","v":"0"},"00","","000000","",0]
[null,null,null,null,null,null,null,null,null,null,null,null,null,null,null,null,null,null,null,null,null,null,null,null,null,null,null,null,{"$f":"IF($Q170=\"\",\"0\",VLOOKUP($Q170,登録データ!$Q$4:$R$19,2,FALSE))","v":"0"},"00","","000000","",0]
[null,51,null,null,null,null,null,null,null,null,null,null,null,null,null,"①",null,null,null,null,null,null,null,null,null,null,null,null,{"$f":"IF($Q171=\"\",\"0\",VLOOKUP($Q171,登録データ!$Q$4:$R$19,2,FALSE))","v":"0"},"00","","000000","",0,{"$f":"IF($C171=\"\",\"\",IF($C171=\"@\",0,IF(COUNTIF($C$21:$C$620,$C171)=1,0,1)))","v":""},{"$f":"IF($O171=\"\",\"\",IF(OR($O171=\"北海道\",$O171=\"東京都\",$O171=\"大阪府\",$O171=\"京都府\",RIGHT($O171,1)=\"県\"),0,1))","v":""}]
[null,null,null,null,null,null,null,null,null,null,null,null,null,null,null,null,null,null,null,null,null,null,null,null,null,null,null,null,{"$f":"IF($Q172=\"\",\"0\",VLOOKUP($Q172,登録データ!$Q$4:$R$19,2,FALSE))","v":"0"},"00","","000000","",0]
[null,null,null,null,null,null,null,null,null,null,null,null,null,null,null,null,null,null,null,null,null,null,null,null,null,null,null,null,{"$f":"IF($Q173=\"\",\"0\",VLOOKUP($Q173,登録データ!$Q$4:$R$19,2,FALSE))","v":"0"},"00","","000000","",0]
[null,52,null,null,null,null,null,null,null,null,null,null,null,null,null,"①",null,null,null,null,null,null,null,null,null,null,null,null,{"$f":"IF($Q174=\"\",\"0\",VLOOKUP($Q174,登録データ!$Q$4:$R$19,2,FALSE))","v":"0"},"00","","000000","",0,{"$f":"IF($C174=\"\",\"\",IF($C174=\"@\",0,IF(COUNTIF($C$21:$C$620,$C174)=1,0,1)))","v":""},{"$f":"IF($O174=\"\",\"\",IF(OR($O174=\"北海道\",$O174=\"東京都\",$O174=\"大阪府\",$O174=\"京都府\",RIGHT($O174,1)=\"県\"),0,1))","v":""}]
[null,null,null,null,null,null,null,null,null,null,null,null,null,null,null,null,null,null,null,null,null,null,null,null,null,null,null,null,{"$f":"IF($Q175=\"\",\"0\",VLOOKUP($Q175,登録データ!$Q$4:$R$19,2,FALSE))","v":"0"},"00","","000000","",0]
[null,null,null,null,null,null,null,null,null,null,null,null,null,null,null,null,null,null,null,null,null,null,null,null,null,null,null,null,{"$f":"IF($Q176=\"\",\"0\",VLOOKUP($Q176,登録データ!$Q$4:$R$19,2,FALSE))","v":"0"},"00","","000000","",0]
[null,53,null,null,null,null,null,null,null,null,null,null,null,null,null,"①",null,null,null,null,null,null,null,null,null,null,null,null,{"$f":"IF($Q177=\"\",\"0\",VLOOKUP($Q177,登録データ!$Q$4:$R$19,2,FALSE))","v":"0"},"00","","000000","",0,{"$f":"IF($C177=\"\",\"\",IF($C177=\"@\",0,IF(COUNTIF($C$21:$C$620,$C177)=1,0,1)))","v":""},{"$f":"IF($O177=\"\",\"\",IF(OR($O177=\"北海道\",$O177=\"東京都\",$O177=\"大阪府\",$O177=\"京都府\",RIGHT($O177,1)=\"県\"),0,1))","v":""}]
[null,null,null,null,null,null,null,null,null,null,null,null,null,null,null,null,null,null,null,null,null,null,null,null,null,null,null,null,{"$f":"IF($Q178=\"\",\"0\",VLOOKUP($Q178,登録データ!$Q$4:$R$19,2,FALSE))","v":"0"},"00","","000000","",0]
[null,null,null,null,null,null,null,null,null,null,null,null,null,null,null,null,null,null,null,null,null,null,null,null,null,null,null,null,{"$f":"IF($Q179=\"\",\"0\",VLOOKUP($Q179,登録データ!$Q$4:$R$19,2,FALSE))","v":"0"},"00","","000000","",0]
[null,54,null,null,null,null,null,null,null,null,null,null,null,null,null,"①",null,null,null,null,null,null,null,null,null,null,null,null,{"$f":"IF($Q180=\"\",\"0\",VLOOKUP($Q180,登録データ!$Q$4:$R$19,2,FALSE))","v":"0"},"00","","000000","",0,{"$f":"IF($C180=\"\",\"\",IF($C180=\"@\",0,IF(COUNTIF($C$21:$C$620,$C180)=1,0,1)))","v":""},{"$f":"IF($O180=\"\",\"\",IF(OR($O180=\"北海道\",$O180=\"東京都\",$O180=\"大阪府\",$O180=\"京都府\",RIGHT($O180,1)=\"県\"),0,1))","v":""}]
[null,null,null,null,null,null,null,null,null,null,null,null,null,null,null,null,null,null,null,null,null,null,null,null,null,null,null,null,{"$f":"IF($Q181=\"\",\"0\",VLOOKUP($Q181,登録データ!$Q$4:$R$19,2,FALSE))","v":"0"},"00","","000000","",0]
[null,null,null,null,null,null,null,null,null,null,null,null,null,null,null,null,null,null,null,null,null,null,null,null,null,null,null,null,{"$f":"IF($Q182=\"\",\"0\",VLOOKUP($Q182,登録データ!$Q$4:$R$19,2,FALSE))","v":"0"},"00","","000000","",0]
[null,55,null,null,null,null,null,null,null,null,null,null,null,null,null,"①",null,null,null,null,null,null,null,null,null,null,null,null,{"$f":"IF($Q183=\"\",\"0\",VLOOKUP($Q183,登録データ!$Q$4:$R$19,2,FALSE))","v":"0"},"00","","000000","",0,{"$f":"IF($C183=\"\",\"\",IF($C183=\"@\",0,IF(COUNTIF($C$21:$C$620,$C183)=1,0,1)))","v":""},{"$f":"IF($O183=\"\",\"\",IF(OR($O183=\"北海道\",$O183=\"東京都\",$O183=\"大阪府\",$O183=\"京都府\",RIGHT($O183,1)=\"県\"),0,1))","v":""}]
[null,null,null,null,null,null,null,null,null,null,null,null,null,null,null,null,null,null,null,null,null,null,null,null,null,null,null,null,{"$f":"IF($Q184=\"\",\"0\",VLOOKUP($Q184,登録データ!$Q$4:$R$19,2,FALSE))","v":"0"},"00","","000000","",0]
[null,null,null,null,null,null,null,null,null,null,null,null,null,null,null,null,null,null,null,null,null,null,null,null,null,null,null,null,{"$f":"IF($Q185=\"\",\"0\",VLOOKUP($Q185,登録データ!$Q$4:$R$19,2,FALSE))","v":"0"},"00","","000000","",0]
[null,56,null,null,null,null,null,null,null,null,null,null,null,null,null,"①",null,null,null,null,null,null,null,null,null,null,null,null,{"$f":"IF($Q186=\"\",\"0\",VLOOKUP($Q186,登録データ!$Q$4:$R$19,2,FALSE))","v":"0"},"00","","000000","",0,{"$f":"IF($C186=\"\",\"\",IF($C186=\"@\",0,IF(COUNTIF($C$21:$C$620,$C186)=1,0,1)))","v":""},{"$f":"IF($O186=\"\",\"\",IF(OR($O186=\"北海道\",$O186=\"東京都\",$O186=\"大阪府\",$O186=\"京都府\",RIGHT($O186,1)=\"県\"),0,1))","v":""}]
[null,null,null,null,null,null,null,null,null,null,null,null,null,null,null,null,null,null,null,null,null,null,null,null,null,null,null,null,{"$f":"IF($Q187=\"\",\"0\",VLOOKUP($Q187,登録データ!$Q$4:$R$19,2,FALSE))","v":"0"},"00","","000000","",0]
[null,null,null,null,null,null,null,null,null,null,null,null,null,null,null,null,null,null,null,null,null,null,null,null,null,null,null,null,{"$f":"IF($Q188=\"\",\"0\",VLOOKUP($Q188,登録データ!$Q$4:$R$19,2,FALSE))","v":"0"},"00","","000000","",0]
[null,57,null,null,null,null,null,null,null,null,null,null,null,null,null,"①",null,null,null,null,null,null,null,null,null,null,null,null,{"$f":"IF($Q189=\"\",\"0\",VLOOKUP($Q189,登録データ!$Q$4:$R$19,2,FALSE))","v":"0"},"00","","000000","",0,{"$f":"IF($C189=\"\",\"\",IF($C189=\"@\",0,IF(COUNTIF($C$21:$C$620,$C189)=1,0,1)))","v":""},{"$f":"IF($O189=\"\",\"\",IF(OR($O189=\"北海道\",$O189=\"東京都\",$O189=\"大阪府\",$O189=\"京都府\",RIGHT($O189,1)=\"県\"),0,1))","v":""}]
[null,null,null,null,null,null,null,null,null,null,null,null,null,null,null,null,null,null,null,null,null,null,null,null,null,null,null,null,{"$f":"IF($Q190=\"\",\"0\",VLOOKUP($Q190,登録データ!$Q$4:$R$19,2,FALSE))","v":"0"},"00","","000000","",0]
[null,null,null,null,null,null,null,null,null,null,null,null,null,null,null,null,null,null,null,null,null,null,null,null,null,null,null,null,{"$f":"IF($Q191=\"\",\"0\",VLOOKUP($Q191,登録データ!$Q$4:$R$19,2,FALSE))","v":"0"},"00","","000000","",0]
[null,58,null,null,null,null,null,null,null,null,null,null,null,null,null,"①",null,null,null,null,null,null,null,null,null,null,null,null,{"$f":"IF($Q192=\"\",\"0\",VLOOKUP($Q192,登録データ!$Q$4:$R$19,2,FALSE))","v":"0"},"00","","000000","",0,{"$f":"IF($C192=\"\",\"\",IF($C192=\"@\",0,IF(COUNTIF($C$21:$C$620,$C192)=1,0,1)))","v":""},{"$f":"IF($O192=\"\",\"\",IF(OR($O192=\"北海道\",$O192=\"東京都\",$O192=\"大阪府\",$O192=\"京都府\",RIGHT($O192,1)=\"県\"),0,1))","v":""}]
[null,null,null,null,null,null,null,null,null,null,null,null,null,null,null,null,null,null,null,null,null,null,null,null,null,null,null,null,{"$f":"IF($Q193=\"\",\"0\",VLOOKUP($Q193,登録データ!$Q$4:$R$19,2,FALSE))","v":"0"},"00","","000000","",0]
[null,null,null,null,null,null,null,null,null,null,null,null,null,null,null,null,null,null,null,null,null,null,null,null,null,null,null,null,{"$f":"IF($Q194=\"\",\"0\",VLOOKUP($Q194,登録データ!$Q$4:$R$19,2,FALSE))","v":"0"},"00","","000000","",0]
[null,59,null,null,null,null,null,null,null,null,null,null,null,null,null,"①",null,null,null,null,null,null,null,null,null,null,null,null,{"$f":"IF($Q195=\"\",\"0\",VLOOKUP($Q195,登録データ!$Q$4:$R$19,2,FALSE))","v":"0"},"00","","000000","",0,{"$f":"IF($C195=\"\",\"\",IF($C195=\"@\",0,IF(COUNTIF($C$21:$C$620,$C195)=1,0,1)))","v":""},{"$f":"IF($O195=\"\",\"\",IF(OR($O195=\"北海道\",$O195=\"東京都\",$O195=\"大阪府\",$O195=\"京都府\",RIGHT($O195,1)=\"県\"),0,1))","v":""}]
[null,null,null,null,null,null,null,null,null,null,null,null,null,null,null,null,null,null,null,null,null,null,null,null,null,null,null,null,{"$f":"IF($Q196=\"\",\"0\",VLOOKUP($Q196,登録データ!$Q$4:$R$19,2,FALSE))","v":"0"},"00","","000000","",0]
[null,null,null,null,null,null,null,null,null,null,null,null,null,null,null,null,null,null,null,null,null,null,null,null,null,null,null,null,{"$f":"IF($Q197=\"\",\"0\",VLOOKUP($Q197,登録データ!$Q$4:$R$19,2,FALSE))","v":"0"},"00","","000000","",0]
[null,60,null,null,null,null,null,null,null,null,null,null,null,null,null,"①",null,null,null,null,null,null,null,null,null,null,null,null,{"$f":"IF($Q198=\"\",\"0\",VLOOKUP($Q198,登録データ!$Q$4:$R$19,2,FALSE))","v":"0"},"00","","000000","",0,{"$f":"IF($C198=\"\",\"\",IF($C198=\"@\",0,IF(COUNTIF($C$21:$C$620,$C198)=1,0,1)))","v":""},{"$f":"IF($O198=\"\",\"\",IF(OR($O198=\"北海道\",$O198=\"東京都\",$O198=\"大阪府\",$O198=\"京都府\",RIGHT($O198,1)=\"県\"),0,1))","v":""}]
[null,null,null,null,null,null,null,null,null,null,null,null,null,null,null,null,null,null,null,null,null,null,null,null,null,null,null,null,{"$f":"IF($Q199=\"\",\"0\",VLOOKUP($Q199,登録データ!$Q$4:$R$19,2,FALSE))","v":"0"},"00","","000000","",0]
[null,null,null,null,null,null,null,null,null,null,null,null,null,null,null,null,null,null,null,null,null,null,null,null,null,null,null,null,{"$f":"IF($Q200=\"\",\"0\",VLOOKUP($Q200,登録データ!$Q$4:$R$19,2,FALSE))","v":"0"},"00","","000000","",0]
[null,61,null,null,null,null,null,null,null,null,null,null,null,null,null,"①",null,null,null,null,null,null,null,null,null,null,null,null,{"$f":"IF($Q201=\"\",\"0\",VLOOKUP($Q201,登録データ!$Q$4:$R$19,2,FALSE))","v":"0"},"00","","000000","",0,{"$f":"IF($C201=\"\",\"\",IF($C201=\"@\",0,IF(COUNTIF($C$21:$C$620,$C201)=1,0,1)))","v":""},{"$f":"IF($O201=\"\",\"\",IF(OR($O201=\"北海道\",$O201=\"東京都\",$O201=\"大阪府\",$O201=\"京都府\",RIGHT($O201,1)=\"県\"),0,1))","v":""}]
[null,null,null,null,null,null,null,null,null,null,null,null,null,null,null,null,null,null,null,null,null,null,null,null,null,null,null,null,{"$f":"IF($Q202=\"\",\"0\",VLOOKUP($Q202,登録データ!$Q$4:$R$19,2,FALSE))","v":"0"},"00","","000000","",0]
[null,null,null,null,null,null,null,null,null,null,null,null,null,null,null,null,null,null,null,null,null,null,null,null,null,null,null,null,{"$f":"IF($Q203=\"\",\"0\",VLOOKUP($Q203,登録データ!$Q$4:$R$19,2,FALSE))","v":"0"},"00","","000000","",0]
[null,62,null,null,null,null,null,null,null,null,null,null,null,null,null,"①",null,null,null,null,null,null,null,null,null,null,null,null,{"$f":"IF($Q204=\"\",\"0\",VLOOKUP($Q204,登録データ!$Q$4:$R$19,2,FALSE))","v":"0"},"00","","000000","",0,{"$f":"IF($C204=\"\",\"\",IF($C204=\"@\",0,IF(COUNTIF($C$21:$C$620,$C204)=1,0,1)))","v":""},{"$f":"IF($O204=\"\",\"\",IF(OR($O204=\"北海道\",$O204=\"東京都\",$O204=\"大阪府\",$O204=\"京都府\",RIGHT($O204,1)=\"県\"),0,1))","v":""}]
[null,null,null,null,null,null,null,null,null,null,null,null,null,null,null,null,null,null,null,null,null,null,null,null,null,null,null,null,{"$f":"IF($Q205=\"\",\"0\",VLOOKUP($Q205,登録データ!$Q$4:$R$19,2,FALSE))","v":"0"},"00","","000000","",0]
[null,null,null,null,null,null,null,null,null,null,null,null,null,null,null,null,null,null,null,null,null,null,null,null,null,null,null,null,{"$f":"IF($Q206=\"\",\"0\",VLOOKUP($Q206,登録データ!$Q$4:$R$19,2,FALSE))","v":"0"},"00","","000000","",0]
[null,63,null,null,null,null,null,null,null,null,null,null,null,null,null,"①",null,null,null,null,null,null,null,null,null,null,null,null,{"$f":"IF($Q207=\"\",\"0\",VLOOKUP($Q207,登録データ!$Q$4:$R$19,2,FALSE))","v":"0"},"00","","000000","",0,{"$f":"IF($C207=\"\",\"\",IF($C207=\"@\",0,IF(COUNTIF($C$21:$C$620,$C207)=1,0,1)))","v":""},{"$f":"IF($O207=\"\",\"\",IF(OR($O207=\"北海道\",$O207=\"東京都\",$O207=\"大阪府\",$O207=\"京都府\",RIGHT($O207,1)=\"県\"),0,1))","v":""}]
[null,null,null,null,null,null,null,null,null,null,null,null,null,null,null,null,null,null,null,null,null,null,null,null,null,null,null,null,{"$f":"IF($Q208=\"\",\"0\",VLOOKUP($Q208,登録データ!$Q$4:$R$19,2,FALSE))","v":"0"},"00","","000000","",0]
[null,null,null,null,null,null,null,null,null,null,null,null,null,null,null,null,null,null,null,null,null,null,null,null,null,null,null,null,{"$f":"IF($Q209=\"\",\"0\",VLOOKUP($Q209,登録データ!$Q$4:$R$19,2,FALSE))","v":"0"},"00","","000000","",0]
[null,64,null,null,null,null,null,null,null,null,null,null,null,null,null,"①",null,null,null,null,null,null,null,null,null,null,null,null,{"$f":"IF($Q210=\"\",\"0\",VLOOKUP($Q210,登録データ!$Q$4:$R$19,2,FALSE))","v":"0"},"00","","000000","",0,{"$f":"IF($C210=\"\",\"\",IF($C210=\"@\",0,IF(COUNTIF($C$21:$C$620,$C210)=1,0,1)))","v":""},{"$f":"IF($O210=\"\",\"\",IF(OR($O210=\"北海道\",$O210=\"東京都\",$O210=\"大阪府\",$O210=\"京都府\",RIGHT($O210,1)=\"県\"),0,1))","v":""}]
[null,null,null,null,null,null,null,null,null,null,null,null,null,null,null,null,null,null,null,null,null,null,null,null,null,null,null,null,{"$f":"IF($Q211=\"\",\"0\",VLOOKUP($Q211,登録データ!$Q$4:$R$19,2,FALSE))","v":"0"},"00","","000000","",0]
[null,null,null,null,null,null,null,null,null,null,null,null,null,null,null,null,null,null,null,null,null,null,null,null,null,null,null,null,{"$f":"IF($Q212=\"\",\"0\",VLOOKUP($Q212,登録データ!$Q$4:$R$19,2,FALSE))","v":"0"},"00","","000000","",0]
[null,65,null,null,null,null,null,null,null,null,null,null,null,null,null,"①",null,null,null,null,null,null,null,null,null,null,null,null,{"$f":"IF($Q213=\"\",\"0\",VLOOKUP($Q213,登録データ!$Q$4:$R$19,2,FALSE))","v":"0"},"00","",{"$f":"IF($AE213=2,IF($T213=\"\",\"0000\",CONCATENATE(RIGHT($T213+100,2),$AD213)),IF($T213=\"\",\"000000\",CONCATENATE(RIGHT($R213+100,2),RIGHT($T213+100,2),$AD213)))","v":"000000"},{"$f":"IF($Q213=\"\",\"\",CONCATENATE($AC213,\" \",IF($AE213=1,RIGHT($AF213+10000000,7),RIGHT($AF213+100000,5))))","v":""},0,{"$f":"IF($C213=\"\",\"\",IF($C213=\"@\",0,IF(COUNTIF($C$21:$C$620,$C213)=1,0,1)))","v":""},{"$f":"IF($O213=\"\",\"\",IF(OR($O213=\"北海道\",$O213=\"東京都\",$O213=\"大阪府\",$O213=\"京都府\",RIGHT($O213,1)=\"県\"),0,1))","v":""}]
[null,null,null,null,null,null,null,null,null,null,null,null,null,null,null,null,null,null,null,null,null,null,null,null,null,null,null,null,{"$f":"IF($Q214=\"\",\"0\",VLOOKUP($Q214,登録データ!$Q$4:$R$19,2,FALSE))","v":"0"},{"$f":"IF($V214=\"\",\"00\",IF(LEN($V214)=1,$V214*10,$V214))","v":"00"},{"$f":"IF($Q214=\"\",\"\",IF(OR(RIGHT($Q214,1)=\"m\",RIGHT($Q214,1)=\"H\"),1,2))","v":""},"000000","",{"$f":"IF(OR(RIGHT($H210,1)=\"m\",RIGHT($H210,1)=\"H\",RIGHT($H210,1)=\"W\",RIGHT($H210,1)=\"C\"),IF(VALUE($K210)>59,1,0),0)","v":0}]
[null,null,null,null,null,null,null,null,null,null,null,null,null,null,null,null,null,null,null,null,null,null,null,null,null,null,null,null,{"$f":"IF($Q215=\"\",\"0\",VLOOKUP($Q215,登録データ!$Q$4:$R$19,2,FALSE))","v":"0"},"00","","000000","",0]
[null,66,null,null,null,null,null,null,null,null,null,null,null,null,null,"①",null,null,null,null,null,null,null,null,null,null,null,null,{"$f":"IF($Q216=\"\",\"0\",VLOOKUP($Q216,登録データ!$Q$4:$R$19,2,FALSE))","v":"0"},"00","","000000","",0,{"$f":"IF($C216=\"\",\"\",IF($C216=\"@\",0,IF(COUNTIF($C$21:$C$620,$C216)=1,0,1)))","v":""},{"$f":"IF($O216=\"\",\"\",IF(OR($O216=\"北海道\",$O216=\"東京都\",$O216=\"大阪府\",$O216=\"京都府\",RIGHT($O216,1)=\"県\"),0,1))","v":""}]
[null,null,null,null,null,null,null,null,null,null,null,null,null,null,null,null,null,null,null,null,null,null,null,null,null,null,null,null,{"$f":"IF($Q217=\"\",\"0\",VLOOKUP($Q217,登録データ!$Q$4:$R$19,2,FALSE))","v":"0"},"00","","000000","",0]
[null,null,null,null,null,null,null,null,null,null,null,null,null,null,null,null,null,null,null,null,null,null,null,null,null,null,null,null,{"$f":"IF($Q218=\"\",\"0\",VLOOKUP($Q218,登録データ!$Q$4:$R$19,2,FALSE))","v":"0"},"00","","000000","",0]
[null,67,null,null,null,null,null,null,null,null,null,null,null,null,null,"①",null,null,null,null,null,null,null,null,null,null,null,null,{"$f":"IF($Q219=\"\",\"0\",VLOOKUP($Q219,登録データ!$Q$4:$R$19,2,FALSE))","v":"0"},"00","","000000","",0,{"$f":"IF($C219=\"\",\"\",IF($C219=\"@\",0,IF(COUNTIF($C$21:$C$620,$C219)=1,0,1)))","v":""},{"$f":"IF($O219=\"\",\"\",IF(OR($O219=\"北海道\",$O219=\"東京都\",$O219=\"大阪府\",$O219=\"京都府\",RIGHT($O219,1)=\"県\"),0,1))","v":""}]
[null,null,null,null,null,null,null,null,null,null,null,null,null,null,null,null,null,null,null,null,null,null,null,null,null,null,null,null,{"$f":"IF($Q220=\"\",\"0\",VLOOKUP($Q220,登録データ!$Q$4:$R$19,2,FALSE))","v":"0"},"00","","000000","",0]
[null,null,null,null,null,null,null,null,null,null,null,null,null,null,null,null,null,null,null,null,null,null,null,null,null,null,null,null,{"$f":"IF($Q221=\"\",\"0\",VLOOKUP($Q221,登録データ!$Q$4:$R$19,2,FALSE))","v":"0"},"00","","000000","",0]
[null,68,null,null,null,null,null,null,null,null,null,null,null,null,null,"①",null,null,null,null,null,null,null,null,null,null,null,null,{"$f":"IF($Q222=\"\",\"0\",VLOOKUP($Q222,登録データ!$Q$4:$R$19,2,FALSE))","v":"0"},"00","","000000","",0,{"$f":"IF($C222=\"\",\"\",IF($C222=\"@\",0,IF(COUNTIF($C$21:$C$620,$C222)=1,0,1)))","v":""},{"$f":"IF($O222=\"\",\"\",IF(OR($O222=\"北海道\",$O222=\"東京都\",$O222=\"大阪府\",$O222=\"京都府\",RIGHT($O222,1)=\"県\"),0,1))","v":""}]
[null,null,null,null,null,null,null,null,null,null,null,null,null,null,null,null,null,null,null,null,null,null,null,null,null,null,null,null,{"$f":"IF($Q223=\"\",\"0\",VLOOKUP($Q223,登録データ!$Q$4:$R$19,2,FALSE))","v":"0"},"00","","000000","",0]
[null,null,null,null,null,null,null,null,null,null,null,null,null,null,null,null,null,null,null,null,null,null,null,null,null,null,null,null,{"$f":"IF($Q224=\"\",\"0\",VLOOKUP($Q224,登録データ!$Q$4:$R$19,2,FALSE))","v":"0"},"00","","000000","",0]
[null,69,null,null,null,null,null,null,null,null,null,null,null,null,null,"①",null,null,null,null,null,null,null,null,null,null,null,null,{"$f":"IF($Q225=\"\",\"0\",VLOOKUP($Q225,登録データ!$Q$4:$R$19,2,FALSE))","v":"0"},"00","","000000","",0,{"$f":"IF($C225=\"\",\"\",IF($C225=\"@\",0,IF(COUNTIF($C$21:$C$620,$C225)=1,0,1)))","v":""},{"$f":"IF($O225=\"\",\"\",IF(OR($O225=\"北海道\",$O225=\"東京都\",$O225=\"大阪府\",$O225=\"京都府\",RIGHT($O225,1)=\"県\"),0,1))","v":""}]
[null,null,null,null,null,null,null,null,null,null,null,null,null,null,null,null,null,null,null,null,null,null,null,null,null,null,null,null,{"$f":"IF($Q226=\"\",\"0\",VLOOKUP($Q226,登録データ!$Q$4:$R$19,2,FALSE))","v":"0"},"00","","000000","",0]
[null,null,null,null,null,null,null,null,null,null,null,null,null,null,null,null,null,null,null,null,null,null,null,null,null,null,null,null,{"$f":"IF($Q227=\"\",\"0\",VLOOKUP($Q227,登録データ!$Q$4:$R$19,2,FALSE))","v":"0"},"00","","000000","",0]
[null,70,null,null,null,null,null,null,null,null,null,null,null,null,null,"①",null,null,null,null,null,null,null,null,null,null,null,null,{"$f":"IF($Q228=\"\",\"0\",VLOOKUP($Q228,登録データ!$Q$4:$R$19,2,FALSE))","v":"0"},"00","","000000","",0,{"$f":"IF($C228=\"\",\"\",IF($C228=\"@\",0,IF(COUNTIF($C$21:$C$620,$C228)=1,0,1)))","v":""},{"$f":"IF($O228=\"\",\"\",IF(OR($O228=\"北海道\",$O228=\"東京都\",$O228=\"大阪府\",$O228=\"京都府\",RIGHT($O228,1)=\"県\"),0,1))","v":""}]
[null,null,null,null,null,null,null,null,null,null,null,null,null,null,null,null,null,null,null,null,null,null,null,null,null,null,null,null,{"$f":"IF($Q229=\"\",\"0\",VLOOKUP($Q229,登録データ!$Q$4:$R$19,2,FALSE))","v":"0"},"00","","000000","",0]
[null,null,null,null,null,null,null,null,null,null,null,null,null,null,null,null,null,null,null,null,null,null,null,null,null,null,null,null,{"$f":"IF($Q230=\"\",\"0\",VLOOKUP($Q230,登録データ!$Q$4:$R$19,2,FALSE))","v":"0"},"00","","000000","",0]
[null,71,null,null,null,null,null,null,null,null,null,null,null,null,null,"①",null,null,null,null,null,null,null,null,null,null,null,null,{"$f":"IF($Q231=\"\",\"0\",VLOOKUP($Q231,登録データ!$Q$4:$R$19,2,FALSE))","v":"0"},"00","","000000","",0,{"$f":"IF($C231=\"\",\"\",IF($C231=\"@\",0,IF(COUNTIF($C$21:$C$620,$C231)=1,0,1)))","v":""},{"$f":"IF($O231=\"\",\"\",IF(OR($O231=\"北海道\",$O231=\"東京都\",$O231=\"大阪府\",$O231=\"京都府\",RIGHT($O231,1)=\"県\"),0,1))","v":""}]
[null,null,null,null,null,null,null,null,null,null,null,null,null,null,null,null,null,null,null,null,null,null,null,null,null,null,null,null,{"$f":"IF($Q232=\"\",\"0\",VLOOKUP($Q232,登録データ!$Q$4:$R$19,2,FALSE))","v":"0"},"00","","000000","",0]
[null,null,null,null,null,null,null,null,null,null,null,null,null,null,null,null,null,null,null,null,null,null,null,null,null,null,null,null,{"$f":"IF($Q233=\"\",\"0\",VLOOKUP($Q233,登録データ!$Q$4:$R$19,2,FALSE))","v":"0"},"00","","000000","",0]
[null,72,null,null,null,null,null,null,null,null,null,null,null,null,null,"①",null,null,null,null,null,null,null,null,null,null,null,null,{"$f":"IF($Q234=\"\",\"0\",VLOOKUP($Q234,登録データ!$Q$4:$R$19,2,FALSE))","v":"0"},"00","","000000","",0,{"$f":"IF($C234=\"\",\"\",IF($C234=\"@\",0,IF(COUNTIF($C$21:$C$620,$C234)=1,0,1)))","v":""},{"$f":"IF($O234=\"\",\"\",IF(OR($O234=\"北海道\",$O234=\"東京都\",$O234=\"大阪府\",$O234=\"京都府\",RIGHT($O234,1)=\"県\"),0,1))","v":""}]
[null,null,null,null,null,null,null,null,null,null,null,null,null,null,null,null,null,null,null,null,null,null,null,null,null,null,null,null,{"$f":"IF($Q235=\"\",\"0\",VLOOKUP($Q235,登録データ!$Q$4:$R$19,2,FALSE))","v":"0"},"00","","000000","",0]
[null,null,null,null,null,null,null,null,null,null,null,null,null,null,null,null,null,null,null,null,null,null,null,null,null,null,null,null,{"$f":"IF($Q236=\"\",\"0\",VLOOKUP($Q236,登録データ!$Q$4:$R$19,2,FALSE))","v":"0"},"00","","000000","",0]
[null,73,null,null,null,null,null,null,null,null,null,null,null,null,null,"①",null,null,null,null,null,null,null,null,null,null,null,null,{"$f":"IF($Q237=\"\",\"0\",VLOOKUP($Q237,登録データ!$Q$4:$R$19,2,FALSE))","v":"0"},"00","","000000","",0,{"$f":"IF($C237=\"\",\"\",IF($C237=\"@\",0,IF(COUNTIF($C$21:$C$620,$C237)=1,0,1)))","v":""},{"$f":"IF($O237=\"\",\"\",IF(OR($O237=\"北海道\",$O237=\"東京都\",$O237=\"大阪府\",$O237=\"京都府\",RIGHT($O237,1)=\"県\"),0,1))","v":""}]
[null,null,null,null,null,null,null,null,null,null,null,null,null,null,null,null,null,null,null,null,null,null,null,null,null,null,null,null,{"$f":"IF($Q238=\"\",\"0\",VLOOKUP($Q238,登録データ!$Q$4:$R$19,2,FALSE))","v":"0"},"00","","000000","",0]
[null,null,null,null,null,null,null,null,null,null,null,null,null,null,null,null,null,null,null,null,null,null,null,null,null,null,null,null,{"$f":"IF($Q239=\"\",\"0\",VLOOKUP($Q239,登録データ!$Q$4:$R$19,2,FALSE))","v":"0"},"00","","000000","",0]
[null,74,null,null,null,null,null,null,null,null,null,null,null,null,null,"①",null,null,null,null,null,null,null,null,null,null,null,null,{"$f":"IF($Q240=\"\",\"0\",VLOOKUP($Q240,登録データ!$Q$4:$R$19,2,FALSE))","v":"0"},"00","","000000","",0,{"$f":"IF($C240=\"\",\"\",IF($C240=\"@\",0,IF(COUNTIF($C$21:$C$620,$C240)=1,0,1)))","v":""},{"$f":"IF($O240=\"\",\"\",IF(OR($O240=\"北海道\",$O240=\"東京都\",$O240=\"大阪府\",$O240=\"京都府\",RIGHT($O240,1)=\"県\"),0,1))","v":""}]
[null,null,null,null,null,null,null,null,null,null,null,null,null,null,null,null,null,null,null,null,null,null,null,null,null,null,null,null,{"$f":"IF($Q241=\"\",\"0\",VLOOKUP($Q241,登録データ!$Q$4:$R$19,2,FALSE))","v":"0"},"00","","000000","",0]
[null,null,null,null,null,null,null,null,null,null,null,null,null,null,null,null,null,null,null,null,null,null,null,null,null,null,null,null,{"$f":"IF($Q242=\"\",\"0\",VLOOKUP($Q242,登録データ!$Q$4:$R$19,2,FALSE))","v":"0"},"00","","000000","",0]
[null,75,null,null,null,null,null,null,null,null,null,null,null,null,null,"①",null,null,null,null,null,null,null,null,null,null,null,null,{"$f":"IF($Q243=\"\",\"0\",VLOOKUP($Q243,登録データ!$Q$4:$R$19,2,FALSE))","v":"0"},"00","","000000","",0,{"$f":"IF($C243=\"\",\"\",IF($C243=\"@\",0,IF(COUNTIF($C$21:$C$620,$C243)=1,0,1)))","v":""},{"$f":"IF($O243=\"\",\"\",IF(OR($O243=\"北海道\",$O243=\"東京都\",$O243=\"大阪府\",$O243=\"京都府\",RIGHT($O243,1)=\"県\"),0,1))","v":""}]
[null,null,null,null,null,null,null,null,null,null,null,null,null,null,null,null,null,null,null,null,null,null,null,null,null,null,null,null,{"$f":"IF($Q244=\"\",\"0\",VLOOKUP($Q244,登録データ!$Q$4:$R$19,2,FALSE))","v":"0"},"00","","000000","",0]
[null,null,null,null,null,null,null,null,null,null,null,null,null,null,null,null,null,null,null,null,null,null,null,null,null,null,null,null,{"$f":"IF($Q245=\"\",\"0\",VLOOKUP($Q245,登録データ!$Q$4:$R$19,2,FALSE))","v":"0"},"00","","000000","",0]
[null,76,null,null,null,null,null,null,null,null,null,null,null,null,null,"①",null,null,null,null,null,null,null,null,null,null,null,null,{"$f":"IF($Q246=\"\",\"0\",VLOOKUP($Q246,登録データ!$Q$4:$R$19,2,FALSE))","v":"0"},"00","","000000","",0,{"$f":"IF($C246=\"\",\"\",IF($C246=\"@\",0,IF(COUNTIF($C$21:$C$620,$C246)=1,0,1)))","v":""},{"$f":"IF($O246=\"\",\"\",IF(OR($O246=\"北海道\",$O246=\"東京都\",$O246=\"大阪府\",$O246=\"京都府\",RIGHT($O246,1)=\"県\"),0,1))","v":""}]
[null,null,null,null,null,null,null,null,null,null,null,null,null,null,null,null,null,null,null,null,null,null,null,null,null,null,null,null,{"$f":"IF($Q247=\"\",\"0\",VLOOKUP($Q247,登録データ!$Q$4:$R$19,2,FALSE))","v":"0"},"00","","000000","",0]
[null,null,null,null,null,null,null,null,null,null,null,null,null,null,null,null,null,null,null,null,null,null,null,null,null,null,null,null,{"$f":"IF($Q248=\"\",\"0\",VLOOKUP($Q248,登録データ!$Q$4:$R$19,2,FALSE))","v":"0"},"00","","000000","",0]
[null,77,null,null,null,null,null,null,null,null,null,null,null,null,null,"①",null,null,null,null,null,null,null,null,null,null,null,null,{"$f":"IF($Q249=\"\",\"0\",VLOOKUP($Q249,登録データ!$Q$4:$R$19,2,FALSE))","v":"0"},"00","","000000","",0,{"$f":"IF($C249=\"\",\"\",IF($C249=\"@\",0,IF(COUNTIF($C$21:$C$620,$C249)=1,0,1)))","v":""},{"$f":"IF($O249=\"\",\"\",IF(OR($O249=\"北海道\",$O249=\"東京都\",$O249=\"大阪府\",$O249=\"京都府\",RIGHT($O249,1)=\"県\"),0,1))","v":""}]
[null,null,null,null,null,null,null,null,null,null,null,null,null,null,null,null,null,null,null,null,null,null,null,null,null,null,null,null,{"$f":"IF($Q250=\"\",\"0\",VLOOKUP($Q250,登録データ!$Q$4:$R$19,2,FALSE))","v":"0"},"00","","000000","",0]
[null,null,null,null,null,null,null,null,null,null,null,null,null,null,null,null,null,null,null,null,null,null,null,null,null,null,null,null,{"$f":"IF($Q251=\"\",\"0\",VLOOKUP($Q251,登録データ!$Q$4:$R$19,2,FALSE))","v":"0"},"00","","000000","",0]
[null,78,null,null,null,null,null,null,null,null,null,null,null,null,null,"①",null,null,null,null,null,null,null,null,null,null,null,null,{"$f":"IF($Q252=\"\",\"0\",VLOOKUP($Q252,登録データ!$Q$4:$R$19,2,FALSE))","v":"0"},"00","","000000","",0,{"$f":"IF($C252=\"\",\"\",IF($C252=\"@\",0,IF(COUNTIF($C$21:$C$620,$C252)=1,0,1)))","v":""},{"$f":"IF($O252=\"\",\"\",IF(OR($O252=\"北海道\",$O252=\"東京都\",$O252=\"大阪府\",$O252=\"京都府\",RIGHT($O252,1)=\"県\"),0,1))","v":""}]
[null,null,null,null,null,null,null,null,null,null,null,null,null,null,null,null,null,null,null,null,null,null,null,null,null,null,null,null,{"$f":"IF($Q253=\"\",\"0\",VLOOKUP($Q253,登録データ!$Q$4:$R$19,2,FALSE))","v":"0"},"00","","000000","",0]
[null,null,null,null,null,null,null,null,null,null,null,null,null,null,null,null,null,null,null,null,null,null,null,null,null,null,null,null,{"$f":"IF($Q254=\"\",\"0\",VLOOKUP($Q254,登録データ!$Q$4:$R$19,2,FALSE))","v":"0"},"00","","000000","",0]
[null,79,null,null,null,null,null,null,null,null,null,null,null,null,null,"①",null,null,null,null,null,null,null,null,null,null,null,null,{"$f":"IF($Q255=\"\",\"0\",VLOOKUP($Q255,登録データ!$Q$4:$R$19,2,FALSE))","v":"0"},"00","","000000","",0,{"$f":"IF($C255=\"\",\"\",IF($C255=\"@\",0,IF(COUNTIF($C$21:$C$620,$C255)=1,0,1)))","v":""},{"$f":"IF($O255=\"\",\"\",IF(OR($O255=\"北海道\",$O255=\"東京都\",$O255=\"大阪府\",$O255=\"京都府\",RIGHT($O255,1)=\"県\"),0,1))","v":""}]
[null,null,null,null,null,null,null,null,null,null,null,null,null,null,null,null,null,null,null,null,null,null,null,null,null,null,null,null,{"$f":"IF($Q256=\"\",\"0\",VLOOKUP($Q256,登録データ!$Q$4:$R$19,2,FALSE))","v":"0"},"00","","000000","",0]
[null,null,null,null,null,null,null,null,null,null,null,null,null,null,null,null,null,null,null,null,null,null,null,null,null,null,null,null,{"$f":"IF($Q257=\"\",\"0\",VLOOKUP($Q257,登録データ!$Q$4:$R$19,2,FALSE))","v":"0"},"00","","000000","",0]
[null,80,null,null,null,null,null,null,null,null,null,null,null,null,null,"①",null,null,null,null,null,null,null,null,null,null,null,null,{"$f":"IF($Q258=\"\",\"0\",VLOOKUP($Q258,登録データ!$Q$4:$R$19,2,FALSE))","v":"0"},"00","","000000","",0,{"$f":"IF($C258=\"\",\"\",IF($C258=\"@\",0,IF(COUNTIF($C$21:$C$620,$C258)=1,0,1)))","v":""},{"$f":"IF($O258=\"\",\"\",IF(OR($O258=\"北海道\",$O258=\"東京都\",$O258=\"大阪府\",$O258=\"京都府\",RIGHT($O258,1)=\"県\"),0,1))","v":""}]
[null,null,null,null,null,null,null,null,null,null,null,null,null,null,null,null,null,null,null,null,null,null,null,null,null,null,null,null,{"$f":"IF($Q259=\"\",\"0\",VLOOKUP($Q259,登録データ!$Q$4:$R$19,2,FALSE))","v":"0"},"00","","000000","",0]
[null,null,null,null,null,null,null,null,null,null,null,null,null,null,null,null,null,null,null,null,null,null,null,null,null,null,null,null,{"$f":"IF($Q260=\"\",\"0\",VLOOKUP($Q260,登録データ!$Q$4:$R$19,2,FALSE))","v":"0"},"00","","000000","",0]
[null,81,null,null,null,null,null,null,null,null,null,null,null,null,null,"①",null,null,null,null,null,null,null,null,null,null,null,null,{"$f":"IF($Q261=\"\",\"0\",VLOOKUP($Q261,登録データ!$Q$4:$R$19,2,FALSE))","v":"0"},"00","","000000","",0,{"$f":"IF($C261=\"\",\"\",IF($C261=\"@\",0,IF(COUNTIF($C$21:$C$620,$C261)=1,0,1)))","v":""},{"$f":"IF($O261=\"\",\"\",IF(OR($O261=\"北海道\",$O261=\"東京都\",$O261=\"大阪府\",$O261=\"京都府\",RIGHT($O261,1)=\"県\"),0,1))","v":""}]
[null,null,null,null,null,null,null,null,null,null,null,null,null,null,null,null,null,null,null,null,null,null,null,null,null,null,null,null,{"$f":"IF($Q262=\"\",\"0\",VLOOKUP($Q262,登録データ!$Q$4:$R$19,2,FALSE))","v":"0"},"00","","000000","",0]
[null,null,null,null,null,null,null,null,null,null,null,null,null,null,null,null,null,null,null,null,null,null,null,null,null,null,null,null,{"$f":"IF($Q263=\"\",\"0\",VLOOKUP($Q263,登録データ!$Q$4:$R$19,2,FALSE))","v":"0"},"00","","000000","",0]
[null,82,null,null,null,null,null,null,null,null,null,null,null,null,null,"①",null,null,null,null,null,null,null,null,null,null,null,null,{"$f":"IF($Q264=\"\",\"0\",VLOOKUP($Q264,登録データ!$Q$4:$R$19,2,FALSE))","v":"0"},"00","","000000","",0,{"$f":"IF($C264=\"\",\"\",IF($C264=\"@\",0,IF(COUNTIF($C$21:$C$620,$C264)=1,0,1)))","v":""},{"$f":"IF($O264=\"\",\"\",IF(OR($O264=\"北海道\",$O264=\"東京都\",$O264=\"大阪府\",$O264=\"京都府\",RIGHT($O264,1)=\"県\"),0,1))","v":""}]
[null,null,null,null,null,null,null,null,null,null,null,null,null,null,null,null,null,null,null,null,null,null,null,null,null,null,null,null,{"$f":"IF($Q265=\"\",\"0\",VLOOKUP($Q265,登録データ!$Q$4:$R$19,2,FALSE))","v":"0"},"00","","000000","",0]
[null,null,null,null,null,null,null,null,null,null,null,null,null,null,null,null,null,null,null,null,null,null,null,null,null,null,null,null,{"$f":"IF($Q266=\"\",\"0\",VLOOKUP($Q266,登録データ!$Q$4:$R$19,2,FALSE))","v":"0"},"00","","000000","",0]
[null,83,null,null,null,null,null,null,null,null,null,null,null,null,null,"①",null,null,null,null,null,null,null,null,null,null,null,null,{"$f":"IF($Q267=\"\",\"0\",VLOOKUP($Q267,登録データ!$Q$4:$R$19,2,FALSE))","v":"0"},"00","","000000","",0,{"$f":"IF($C267=\"\",\"\",IF($C267=\"@\",0,IF(COUNTIF($C$21:$C$620,$C267)=1,0,1)))","v":""},{"$f":"IF($O267=\"\",\"\",IF(OR($O267=\"北海道\",$O267=\"東京都\",$O267=\"大阪府\",$O267=\"京都府\",RIGHT($O267,1)=\"県\"),0,1))","v":""}]
[null,null,null,null,null,null,null,null,null,null,null,null,null,null,null,null,null,null,null,null,null,null,null,null,null,null,null,null,{"$f":"IF($Q268=\"\",\"0\",VLOOKUP($Q268,登録データ!$Q$4:$R$19,2,FALSE))","v":"0"},"00","","000000","",0]
[null,null,null,null,null,null,null,null,null,null,null,null,null,null,null,null,null,null,null,null,null,null,null,null,null,null,null,null,{"$f":"IF($Q269=\"\",\"0\",VLOOKUP($Q269,登録データ!$Q$4:$R$19,2,FALSE))","v":"0"},"00","","000000","",0]
[null,84,null,null,null,null,null,null,null,null,null,null,null,null,null,"①",null,null,null,null,null,null,null,null,null,null,null,null,{"$f":"IF($Q270=\"\",\"0\",VLOOKUP($Q270,登録データ!$Q$4:$R$19,2,FALSE))","v":"0"},"00","","000000","",0,{"$f":"IF($C270=\"\",\"\",IF($C270=\"@\",0,IF(COUNTIF($C$21:$C$620,$C270)=1,0,1)))","v":""},{"$f":"IF($O270=\"\",\"\",IF(OR($O270=\"北海道\",$O270=\"東京都\",$O270=\"大阪府\",$O270=\"京都府\",RIGHT($O270,1)=\"県\"),0,1))","v":""}]
[null,null,null,null,null,null,null,null,null,null,null,null,null,null,null,null,null,null,null,null,null,null,null,null,null,null,null,null,{"$f":"IF($Q271=\"\",\"0\",VLOOKUP($Q271,登録データ!$Q$4:$R$19,2,FALSE))","v":"0"},"00","","000000","",0]
[null,null,null,null,null,null,null,null,null,null,null,null,null,null,null,null,null,null,null,null,null,null,null,null,null,null,null,null,{"$f":"IF($Q272=\"\",\"0\",VLOOKUP($Q272,登録データ!$Q$4:$R$19,2,FALSE))","v":"0"},"00","","000000","",0]
[null,85,null,null,null,null,null,null,null,null,null,null,null,null,null,"①",null,null,null,null,null,null,null,null,null,null,null,null,{"$f":"IF($Q273=\"\",\"0\",VLOOKUP($Q273,登録データ!$Q$4:$R$19,2,FALSE))","v":"0"},"00","","000000","",0,{"$f":"IF($C273=\"\",\"\",IF($C273=\"@\",0,IF(COUNTIF($C$21:$C$620,$C273)=1,0,1)))","v":""},{"$f":"IF($O273=\"\",\"\",IF(OR($O273=\"北海道\",$O273=\"東京都\",$O273=\"大阪府\",$O273=\"京都府\",RIGHT($O273,1)=\"県\"),0,1))","v":""}]
[null,null,null,null,null,null,null,null,null,null,null,null,null,null,null,null,null,null,null,null,null,null,null,null,null,null,null,null,{"$f":"IF($Q274=\"\",\"0\",VLOOKUP($Q274,登録データ!$Q$4:$R$19,2,FALSE))","v":"0"},"00","","000000","",0]
[null,null,null,null,null,null,null,null,null,null,null,null,null,null,null,null,null,null,null,null,null,null,null,null,null,null,null,null,{"$f":"IF($Q275=\"\",\"0\",VLOOKUP($Q275,登録データ!$Q$4:$R$19,2,FALSE))","v":"0"},"00","","000000","",0]
[null,86,null,null,null,null,null,null,null,null,null,null,null,null,null,"①",null,null,null,null,null,null,null,null,null,null,null,null,{"$f":"IF($Q276=\"\",\"0\",VLOOKUP($Q276,登録データ!$Q$4:$R$19,2,FALSE))","v":"0"},"00","","000000","",0,{"$f":"IF($C276=\"\",\"\",IF($C276=\"@\",0,IF(COUNTIF($C$21:$C$620,$C276)=1,0,1)))","v":""},{"$f":"IF($O276=\"\",\"\",IF(OR($O276=\"北海道\",$O276=\"東京都\",$O276=\"大阪府\",$O276=\"京都府\",RIGHT($O276,1)=\"県\"),0,1))","v":""}]
[null,null,null,null,null,null,null,null,null,null,null,null,null,null,null,null,null,null,null,null,null,null,null,null,null,null,null,null,{"$f":"IF($Q277=\"\",\"0\",VLOOKUP($Q277,登録データ!$Q$4:$R$19,2,FALSE))","v":"0"},"00","",{"$f":"IF($AE277=2,IF($T277=\"\",\"0000\",CONCATENATE(RIGHT($T277+100,2),$AD277)),IF($T277=\"\",\"000000\",CONCATENATE(RIGHT($R277+100,2),RIGHT($T277+100,2),$AD277)))","v":"000000"},{"$f":"IF($Q277=\"\",\"\",CONCATENATE($AC277,\" \",IF($AE277=1,RIGHT($AF277+10000000,7),RIGHT($AF277+100000,5))))","v":""},0]
[null,null,null,null,null,null,null,null,null,null,null,null,null,null,null,null,null,null,null,null,null,null,null,null,null,null,null,null,{"$f":"IF($Q278=\"\",\"0\",VLOOKUP($Q278,登録データ!$Q$4:$R$19,2,FALSE))","v":"0"},{"$f":"IF($V278=\"\",\"00\",IF(LEN($V278)=1,$V278*10,$V278))","v":"00"},{"$f":"IF($Q278=\"\",\"\",IF(OR(RIGHT($Q278,1)=\"m\",RIGHT($Q278,1)=\"H\"),1,2))","v":""},"000000","",{"$f":"IF(OR(RIGHT($H274,1)=\"m\",RIGHT($H274,1)=\"H\",RIGHT($H274,1)=\"W\",RIGHT($H274,1)=\"C\"),IF(VALUE($K274)>59,1,0),0)","v":0}]
[null,87,null,null,null,null,null,null,null,null,null,null,null,null,null,"①",null,null,null,null,null,null,null,null,null,null,null,null,{"$f":"IF($Q279=\"\",\"0\",VLOOKUP($Q279,登録データ!$Q$4:$R$19,2,FALSE))","v":"0"},"00","","000000","",0,{"$f":"IF($C279=\"\",\"\",IF($C279=\"@\",0,IF(COUNTIF($C$21:$C$620,$C279)=1,0,1)))","v":""},{"$f":"IF($O279=\"\",\"\",IF(OR($O279=\"北海道\",$O279=\"東京都\",$O279=\"大阪府\",$O279=\"京都府\",RIGHT($O279,1)=\"県\"),0,1))","v":""}]
[null,null,null,null,null,null,null,null,null,null,null,null,null,null,null,null,null,null,null,null,null,null,null,null,null,null,null,null,{"$f":"IF($Q280=\"\",\"0\",VLOOKUP($Q280,登録データ!$Q$4:$R$19,2,FALSE))","v":"0"},"00","","000000","",0]
[null,null,null,null,null,null,null,null,null,null,null,null,null,null,null,null,null,null,null,null,null,null,null,null,null,null,null,null,{"$f":"IF($Q281=\"\",\"0\",VLOOKUP($Q281,登録データ!$Q$4:$R$19,2,FALSE))","v":"0"},"00","","000000","",0]
[null,88,null,null,null,null,null,null,null,null,null,null,null,null,null,"①",null,null,null,null,null,null,null,null,null,null,null,null,{"$f":"IF($Q282=\"\",\"0\",VLOOKUP($Q282,登録データ!$Q$4:$R$19,2,FALSE))","v":"0"},"00","","000000","",0,{"$f":"IF($C282=\"\",\"\",IF($C282=\"@\",0,IF(COUNTIF($C$21:$C$620,$C282)=1,0,1)))","v":""},{"$f":"IF($O282=\"\",\"\",IF(OR($O282=\"北海道\",$O282=\"東京都\",$O282=\"大阪府\",$O282=\"京都府\",RIGHT($O282,1)=\"県\"),0,1))","v":""}]
[null,null,null,null,null,null,null,null,null,null,null,null,null,null,null,null,null,null,null,null,null,null,null,null,null,null,null,null,{"$f":"IF($Q283=\"\",\"0\",VLOOKUP($Q283,登録データ!$Q$4:$R$19,2,FALSE))","v":"0"},"00","","000000","",0]
[null,null,null,null,null,null,null,null,null,null,null,null,null,null,null,null,null,null,null,null,null,null,null,null,null,null,null,null,{"$f":"IF($Q284=\"\",\"0\",VLOOKUP($Q284,登録データ!$Q$4:$R$19,2,FALSE))","v":"0"},"00","","000000","",0]
[null,89,null,null,null,null,null,null,null,null,null,null,null,null,null,"①",null,null,null,null,null,null,null,null,null,null,null,null,{"$f":"IF($Q285=\"\",\"0\",VLOOKUP($Q285,登録データ!$Q$4:$R$19,2,FALSE))","v":"0"},"00","","000000","",0,{"$f":"IF($C285=\"\",\"\",IF($C285=\"@\",0,IF(COUNTIF($C$21:$C$620,$C285)=1,0,1)))","v":""},{"$f":"IF($O285=\"\",\"\",IF(OR($O285=\"北海道\",$O285=\"東京都\",$O285=\"大阪府\",$O285=\"京都府\",RIGHT($O285,1)=\"県\"),0,1))","v":""}]
[null,null,null,null,null,null,null,null,null,null,null,null,null,null,null,null,null,null,null,null,null,null,null,null,null,null,null,null,{"$f":"IF($Q286=\"\",\"0\",VLOOKUP($Q286,登録データ!$Q$4:$R$19,2,FALSE))","v":"0"},"00","","000000","",0]
[null,null,null,null,null,null,null,null,null,null,null,null,null,null,null,null,null,null,null,null,null,null,null,null,null,null,null,null,{"$f":"IF($Q287=\"\",\"0\",VLOOKUP($Q287,登録データ!$Q$4:$R$19,2,FALSE))","v":"0"},"00","","000000","",0]
[null,90,null,null,null,null,null,null,null,null,null,null,null,null,null,"①",null,null,null,null,null,null,null,null,null,null,null,null,{"$f":"IF($Q288=\"\",\"0\",VLOOKUP($Q288,登録データ!$Q$4:$R$19,2,FALSE))","v":"0"},"00","","000000","",0,{"$f":"IF($C288=\"\",\"\",IF($C288=\"@\",0,IF(COUNTIF($C$21:$C$620,$C288)=1,0,1)))","v":""},{"$f":"IF($O288=\"\",\"\",IF(OR($O288=\"北海道\",$O288=\"東京都\",$O288=\"大阪府\",$O288=\"京都府\",RIGHT($O288,1)=\"県\"),0,1))","v":""}]
[null,null,null,null,null,null,null,null,null,null,null,null,null,null,null,null,null,null,null,null,null,null,null,null,null,null,null,null,{"$f":"IF($Q289=\"\",\"0\",VLOOKUP($Q289,登録データ!$Q$4:$R$19,2,FALSE))","v":"0"},"00","","000000","",0]
[null,null,null,null,null,null,null,null,null,null,null,null,null,null,null,null,null,null,null,null,null,null,null,null,null,null,null,null,{"$f":"IF($Q290=\"\",\"0\",VLOOKUP($Q290,登録データ!$Q$4:$R$19,2,FALSE))","v":"0"},"00","","000000","",0]
[null,91,null,null,null,null,null,null,null,null,null,null,null,null,null,"①",null,null,null,null,null,null,null,null,null,null,null,null,{"$f":"IF($Q291=\"\",\"0\",VLOOKUP($Q291,登録データ!$Q$4:$R$19,2,FALSE))","v":"0"},"00","","000000","",0,{"$f":"IF($C291=\"\",\"\",IF($C291=\"@\",0,IF(COUNTIF($C$21:$C$620,$C291)=1,0,1)))","v":""},{"$f":"IF($O291=\"\",\"\",IF(OR($O291=\"北海道\",$O291=\"東京都\",$O291=\"大阪府\",$O291=\"京都府\",RIGHT($O291,1)=\"県\"),0,1))","v":""}]
[null,null,null,null,null,null,null,null,null,null,null,null,null,null,null,null,null,null,null,null,null,null,null,null,null,null,null,null,{"$f":"IF($Q292=\"\",\"0\",VLOOKUP($Q292,登録データ!$Q$4:$R$19,2,FALSE))","v":"0"},"00","","000000","",0]
[null,null,null,null,null,null,null,null,null,null,null,null,null,null,null,null,null,null,null,null,null,null,null,null,null,null,null,null,{"$f":"IF($Q293=\"\",\"0\",VLOOKUP($Q293,登録データ!$Q$4:$R$19,2,FALSE))","v":"0"},"00","","000000","",0]
[null,92,null,null,null,null,null,null,null,null,null,null,null,null,null,"①",null,null,null,null,null,null,null,null,null,null,null,null,{"$f":"IF($Q294=\"\",\"0\",VLOOKUP($Q294,登録データ!$Q$4:$R$19,2,FALSE))","v":"0"},"00","","000000","",0,{"$f":"IF($C294=\"\",\"\",IF($C294=\"@\",0,IF(COUNTIF($C$21:$C$620,$C294)=1,0,1)))","v":""},{"$f":"IF($O294=\"\",\"\",IF(OR($O294=\"北海道\",$O294=\"東京都\",$O294=\"大阪府\",$O294=\"京都府\",RIGHT($O294,1)=\"県\"),0,1))","v":""}]
[null,null,null,null,null,null,null,null,null,null,null,null,null,null,null,null,null,null,null,null,null,null,null,null,null,null,null,null,{"$f":"IF($Q295=\"\",\"0\",VLOOKUP($Q295,登録データ!$Q$4:$R$19,2,FALSE))","v":"0"},"00","","000000","",0]
[null,null,null,null,null,null,null,null,null,null,null,null,null,null,null,null,null,null,null,null,null,null,null,null,null,null,null,null,{"$f":"IF($Q296=\"\",\"0\",VLOOKUP($Q296,登録データ!$Q$4:$R$19,2,FALSE))","v":"0"},"00","","000000","",0]
[null,93,null,null,null,null,null,null,null,null,null,null,null,null,null,"①",null,null,null,null,null,null,null,null,null,null,null,null,{"$f":"IF($Q297=\"\",\"0\",VLOOKUP($Q297,登録データ!$Q$4:$R$19,2,FALSE))","v":"0"},"00","","000000","",0,{"$f":"IF($C297=\"\",\"\",IF($C297=\"@\",0,IF(COUNTIF($C$21:$C$620,$C297)=1,0,1)))","v":""},{"$f":"IF($O297=\"\",\"\",IF(OR($O297=\"北海道\",$O297=\"東京都\",$O297=\"大阪府\",$O297=\"京都府\",RIGHT($O297,1)=\"県\"),0,1))","v":""}]
[null,null,null,null,null,null,null,null,null,null,null,null,null,null,null,null,null,null,null,null,null,null,null,null,null,null,null,null,{"$f":"IF($Q298=\"\",\"0\",VLOOKUP($Q298,登録データ!$Q$4:$R$19,2,FALSE))","v":"0"},"00","","000000","",0]
[null,null,null,null,null,null,null,null,null,null,null,null,null,null,null,null,null,null,null,null,null,null,null,null,null,null,null,null,{"$f":"IF($Q299=\"\",\"0\",VLOOKUP($Q299,登録データ!$Q$4:$R$19,2,FALSE))","v":"0"},"00","","000000","",0]
[null,94,null,null,null,null,null,null,null,null,null,null,null,null,null,"①",null,null,null,null,null,null,null,null,null,null,null,null,{"$f":"IF($Q300=\"\",\"0\",VLOOKUP($Q300,登録データ!$Q$4:$R$19,2,FALSE))","v":"0"},"00","","000000","",0,{"$f":"IF($C300=\"\",\"\",IF($C300=\"@\",0,IF(COUNTIF($C$21:$C$620,$C300)=1,0,1)))","v":""},{"$f":"IF($O300=\"\",\"\",IF(OR($O300=\"北海道\",$O300=\"東京都\",$O300=\"大阪府\",$O300=\"京都府\",RIGHT($O300,1)=\"県\"),0,1))","v":""}]
[null,null,null,null,null,null,null,null,null,null,null,null,null,null,null,null,null,null,null,null,null,null,null,null,null,null,null,null,{"$f":"IF($Q301=\"\",\"0\",VLOOKUP($Q301,登録データ!$Q$4:$R$19,2,FALSE))","v":"0"},"00","","000000","",0]
[null,null,null,null,null,null,null,null,null,null,null,null,null,null,null,null,null,null,null,null,null,null,null,null,null,null,null,null,{"$f":"IF($Q302=\"\",\"0\",VLOOKUP($Q302,登録データ!$Q$4:$R$19,2,FALSE))","v":"0"},"00","","000000","",0]
[null,95,null,null,null,null,null,null,null,null,null,null,null,null,null,"①",null,null,null,null,null,null,null,null,null,null,null,null,{"$f":"IF($Q303=\"\",\"0\",VLOOKUP($Q303,登録データ!$Q$4:$R$19,2,FALSE))","v":"0"},"00","","000000","",0,{"$f":"IF($C303=\"\",\"\",IF($C303=\"@\",0,IF(COUNTIF($C$21:$C$620,$C303)=1,0,1)))","v":""},{"$f":"IF($O303=\"\",\"\",IF(OR($O303=\"北海道\",$O303=\"東京都\",$O303=\"大阪府\",$O303=\"京都府\",RIGHT($O303,1)=\"県\"),0,1))","v":""}]
[null,null,null,null,null,null,null,null,null,null,null,null,null,null,null,null,null,null,null,null,null,null,null,null,null,null,null,null,{"$f":"IF($Q304=\"\",\"0\",VLOOKUP($Q304,登録データ!$Q$4:$R$19,2,FALSE))","v":"0"},"00","","000000","",0]
[null,null,null,null,null,null,null,null,null,null,null,null,null,null,null,null,null,null,null,null,null,null,null,null,null,null,null,null,{"$f":"IF($Q305=\"\",\"0\",VLOOKUP($Q305,登録データ!$Q$4:$R$19,2,FALSE))","v":"0"},"00","","000000","",0]
[null,96,null,null,null,null,null,null,null,null,null,null,null,null,null,"①",null,null,null,null,null,null,null,null,null,null,null,null,{"$f":"IF($Q306=\"\",\"0\",VLOOKUP($Q306,登録データ!$Q$4:$R$19,2,FALSE))","v":"0"},"00","","000000","",0,{"$f":"IF($C306=\"\",\"\",IF($C306=\"@\",0,IF(COUNTIF($C$21:$C$620,$C306)=1,0,1)))","v":""},{"$f":"IF($O306=\"\",\"\",IF(OR($O306=\"北海道\",$O306=\"東京都\",$O306=\"大阪府\",$O306=\"京都府\",RIGHT($O306,1)=\"県\"),0,1))","v":""}]
[null,null,null,null,null,null,null,null,null,null,null,null,null,null,null,null,null,null,null,null,null,null,null,null,null,null,null,null,{"$f":"IF($Q307=\"\",\"0\",VLOOKUP($Q307,登録データ!$Q$4:$R$19,2,FALSE))","v":"0"},"00","","000000","",0]
[null,null,null,null,null,null,null,null,null,null,null,null,null,null,null,null,null,null,null,null,null,null,null,null,null,null,null,null,{"$f":"IF($Q308=\"\",\"0\",VLOOKUP($Q308,登録データ!$Q$4:$R$19,2,FALSE))","v":"0"},"00","","000000","",0]
[null,97,null,null,null,null,null,null,null,null,null,null,null,null,null,"①",null,null,null,null,null,null,null,null,null,null,null,null,{"$f":"IF($Q309=\"\",\"0\",VLOOKUP($Q309,登録データ!$Q$4:$R$19,2,FALSE))","v":"0"},"00","","000000","",0,{"$f":"IF($C309=\"\",\"\",IF($C309=\"@\",0,IF(COUNTIF($C$21:$C$620,$C309)=1,0,1)))","v":""},{"$f":"IF($O309=\"\",\"\",IF(OR($O309=\"北海道\",$O309=\"東京都\",$O309=\"大阪府\",$O309=\"京都府\",RIGHT($O309,1)=\"県\"),0,1))","v":""}]
[null,null,null,null,null,null,null,null,null,null,null,null,null,null,null,null,null,null,null,null,null,null,null,null,null,null,null,null,{"$f":"IF($Q310=\"\",\"0\",VLOOKUP($Q310,登録データ!$Q$4:$R$19,2,FALSE))","v":"0"},"00","","000000","",0]
[null,null,null,null,null,null,null,null,null,null,null,null,null,null,null,null,null,null,null,null,null,null,null,null,null,null,null,null,{"$f":"IF($Q311=\"\",\"0\",VLOOKUP($Q311,登録データ!$Q$4:$R$19,2,FALSE))","v":"0"},"00","","000000","",0]
[null,98,null,null,null,null,null,null,null,null,null,null,null,null,null,"①",null,null,null,null,null,null,null,null,null,null,null,null,{"$f":"IF($Q312=\"\",\"0\",VLOOKUP($Q312,登録データ!$Q$4:$R$19,2,FALSE))","v":"0"},"00","","000000","",0,{"$f":"IF($C312=\"\",\"\",IF($C312=\"@\",0,IF(COUNTIF($C$21:$C$620,$C312)=1,0,1)))","v":""},{"$f":"IF($O312=\"\",\"\",IF(OR($O312=\"北海道\",$O312=\"東京都\",$O312=\"大阪府\",$O312=\"京都府\",RIGHT($O312,1)=\"県\"),0,1))","v":""}]
[null,null,null,null,null,null,null,null,null,null,null,null,null,null,null,null,null,null,null,null,null,null,null,null,null,null,null,null,{"$f":"IF($Q313=\"\",\"0\",VLOOKUP($Q313,登録データ!$Q$4:$R$19,2,FALSE))","v":"0"},"00","","000000","",0]
[null,null,null,null,null,null,null,null,null,null,null,null,null,null,null,null,null,null,null,null,null,null,null,null,null,null,null,null,{"$f":"IF($Q314=\"\",\"0\",VLOOKUP($Q314,登録データ!$Q$4:$R$19,2,FALSE))","v":"0"},"00","","000000","",0]
[null,99,null,null,null,null,null,null,null,null,null,null,null,null,null,"①",null,null,null,null,null,null,null,null,null,null,null,null,{"$f":"IF($Q315=\"\",\"0\",VLOOKUP($Q315,登録データ!$Q$4:$R$19,2,FALSE))","v":"0"},"00","","000000","",0,{"$f":"IF($C315=\"\",\"\",IF($C315=\"@\",0,IF(COUNTIF($C$21:$C$620,$C315)=1,0,1)))","v":""},{"$f":"IF($O315=\"\",\"\",IF(OR($O315=\"北海道\",$O315=\"東京都\",$O315=\"大阪府\",$O315=\"京都府\",RIGHT($O315,1)=\"県\"),0,1))","v":""}]
[null,null,null,null,null,null,null,null,null,null,null,null,null,null,null,null,null,null,null,null,null,null,null,null,null,null,null,null,{"$f":"IF($Q316=\"\",\"0\",VLOOKUP($Q316,登録データ!$Q$4:$R$19,2,FALSE))","v":"0"},"00","","000000","",0]
[null,null,null,null,null,null,null,null,null,null,null,null,null,null,null,null,null,null,null,null,null,null,null,null,null,null,null,null,{"$f":"IF($Q317=\"\",\"0\",VLOOKUP($Q317,登録データ!$Q$4:$R$19,2,FALSE))","v":"0"},"00","","000000","",0]
[null,100,null,null,null,null,null,null,null,null,null,null,null,null,null,"①",null,null,null,null,null,null,null,null,null,null,null,null,{"$f":"IF($Q318=\"\",\"0\",VLOOKUP($Q318,登録データ!$Q$4:$R$19,2,FALSE))","v":"0"},"00","","000000","",0,{"$f":"IF($C318=\"\",\"\",IF($C318=\"@\",0,IF(COUNTIF($C$21:$C$620,$C318)=1,0,1)))","v":""},{"$f":"IF($O318=\"\",\"\",IF(OR($O318=\"北海道\",$O318=\"東京都\",$O318=\"大阪府\",$O318=\"京都府\",RIGHT($O318,1)=\"県\"),0,1))","v":""}]
[null,null,null,null,null,null,null,null,null,null,null,null,null,null,null,null,null,null,null,null,null,null,null,null,null,null,null,null,{"$f":"IF($Q319=\"\",\"0\",VLOOKUP($Q319,登録データ!$Q$4:$R$19,2,FALSE))","v":"0"},"00","","000000","",0]
[null,null,null,null,null,null,null,null,null,null,null,null,null,null,null,null,null,null,null,null,null,null,null,null,null,null,null,null,{"$f":"IF($Q320=\"\",\"0\",VLOOKUP($Q320,登録データ!$Q$4:$R$19,2,FALSE))","v":"0"},"00","","000000","",0]
[null,101,null,null,null,null,null,null,null,null,null,null,null,null,null,"①",null,null,null,null,null,null,null,null,null,null,null,null,{"$f":"IF($Q321=\"\",\"0\",VLOOKUP($Q321,登録データ!$Q$4:$R$19,2,FALSE))","v":"0"},"00","","000000","",0,{"$f":"IF($C321=\"\",\"\",IF($C321=\"@\",0,IF(COUNTIF($C$21:$C$620,$C321)=1,0,1)))","v":""},{"$f":"IF($O321=\"\",\"\",IF(OR($O321=\"北海道\",$O321=\"東京都\",$O321=\"大阪府\",$O321=\"京都府\",RIGHT($O321,1)=\"県\"),0,1))","v":""}]
[null,null,null,null,null,null,null,null,null,null,null,null,null,null,null,null,null,null,null,null,null,null,null,null,null,null,null,null,{"$f":"IF($Q322=\"\",\"0\",VLOOKUP($Q322,登録データ!$Q$4:$R$19,2,FALSE))","v":"0"},"00","","000000","",0]
[null,null,null,null,null,null,null,null,null,null,null,null,null,null,null,null,null,null,null,null,null,null,null,null,null,null,null,null,{"$f":"IF($Q323=\"\",\"0\",VLOOKUP($Q323,登録データ!$Q$4:$R$19,2,FALSE))","v":"0"},"00","","000000","",0]
[null,102,null,null,null,null,null,null,null,null,null,null,null,null,null,"①",null,null,null,null,null,null,null,null,null,null,null,null,{"$f":"IF($Q324=\"\",\"0\",VLOOKUP($Q324,登録データ!$Q$4:$R$19,2,FALSE))","v":"0"},"00","","000000","",0,{"$f":"IF($C324=\"\",\"\",IF($C324=\"@\",0,IF(COUNTIF($C$21:$C$620,$C324)=1,0,1)))","v":""},{"$f":"IF($O324=\"\",\"\",IF(OR($O324=\"北海道\",$O324=\"東京都\",$O324=\"大阪府\",$O324=\"京都府\",RIGHT($O324,1)=\"県\"),0,1))","v":""}]
[null,null,null,null,null,null,null,null,null,null,null,null,null,null,null,null,null,null,null,null,null,null,null,null,null,null,null,null,{"$f":"IF($Q325=\"\",\"0\",VLOOKUP($Q325,登録データ!$Q$4:$R$19,2,FALSE))","v":"0"},"00","","000000","",0]
[null,null,null,null,null,null,null,null,null,null,null,null,null,null,null,null,null,null,null,null,null,null,null,null,null,null,null,null,{"$f":"IF($Q326=\"\",\"0\",VLOOKUP($Q326,登録データ!$Q$4:$R$19,2,FALSE))","v":"0"},"00","","000000","",0]
[null,103,null,null,null,null,null,null,null,null,null,null,null,null,null,"①",null,null,null,null,null,null,null,null,null,null,null,null,{"$f":"IF($Q327=\"\",\"0\",VLOOKUP($Q327,登録データ!$Q$4:$R$19,2,FALSE))","v":"0"},"00","","000000","",0,{"$f":"IF($C327=\"\",\"\",IF($C327=\"@\",0,IF(COUNTIF($C$21:$C$620,$C327)=1,0,1)))","v":""},{"$f":"IF($O327=\"\",\"\",IF(OR($O327=\"北海道\",$O327=\"東京都\",$O327=\"大阪府\",$O327=\"京都府\",RIGHT($O327,1)=\"県\"),0,1))","v":""}]
[null,null,null,null,null,null,null,null,null,null,null,null,null,null,null,null,null,null,null,null,null,null,null,null,null,null,null,null,{"$f":"IF($Q328=\"\",\"0\",VLOOKUP($Q328,登録データ!$Q$4:$R$19,2,FALSE))","v":"0"},"00","","000000","",0]
[null,null,null,null,null,null,null,null,null,null,null,null,null,null,null,null,null,null,null,null,null,null,null,null,null,null,null,null,{"$f":"IF($Q329=\"\",\"0\",VLOOKUP($Q329,登録データ!$Q$4:$R$19,2,FALSE))","v":"0"},"00","","000000","",0]
[null,104,null,null,null,null,null,null,null,null,null,null,null,null,null,"①",null,null,null,null,null,null,null,null,null,null,null,null,{"$f":"IF($Q330=\"\",\"0\",VLOOKUP($Q330,登録データ!$Q$4:$R$19,2,FALSE))","v":"0"},"00","","000000","",0,{"$f":"IF($C330=\"\",\"\",IF($C330=\"@\",0,IF(COUNTIF($C$21:$C$620,$C330)=1,0,1)))","v":""},{"$f":"IF($O330=\"\",\"\",IF(OR($O330=\"北海道\",$O330=\"東京都\",$O330=\"大阪府\",$O330=\"京都府\",RIGHT($O330,1)=\"県\"),0,1))","v":""}]
[null,null,null,null,null,null,null,null,null,null,null,null,null,null,null,null,null,null,null,null,null,null,null,null,null,null,null,null,{"$f":"IF($Q331=\"\",\"0\",VLOOKUP($Q331,登録データ!$Q$4:$R$19,2,FALSE))","v":"0"},"00","","000000","",0]
[null,null,null,null,null,null,null,null,null,null,null,null,null,null,null,null,null,null,null,null,null,null,null,null,null,null,null,null,{"$f":"IF($Q332=\"\",\"0\",VLOOKUP($Q332,登録データ!$Q$4:$R$19,2,FALSE))","v":"0"},"00","","000000","",0]
[null,105,null,null,null,null,null,null,null,null,null,null,null,null,null,"①",null,null,null,null,null,null,null,null,null,null,null,null,{"$f":"IF($Q333=\"\",\"0\",VLOOKUP($Q333,登録データ!$Q$4:$R$19,2,FALSE))","v":"0"},"00","","000000","",0,{"$f":"IF($C333=\"\",\"\",IF($C333=\"@\",0,IF(COUNTIF($C$21:$C$620,$C333)=1,0,1)))","v":""},{"$f":"IF($O333=\"\",\"\",IF(OR($O333=\"北海道\",$O333=\"東京都\",$O333=\"大阪府\",$O333=\"京都府\",RIGHT($O333,1)=\"県\"),0,1))","v":""}]
[null,null,null,null,null,null,null,null,null,null,null,null,null,null,null,null,null,null,null,null,null,null,null,null,null,null,null,null,{"$f":"IF($Q334=\"\",\"0\",VLOOKUP($Q334,登録データ!$Q$4:$R$19,2,FALSE))","v":"0"},"00","","000000","",0]
[null,null,null,null,null,null,null,null,null,null,null,null,null,null,null,null,null,null,null,null,null,null,null,null,null,null,null,null,{"$f":"IF($Q335=\"\",\"0\",VLOOKUP($Q335,登録データ!$Q$4:$R$19,2,FALSE))","v":"0"},"00","","000000","",0]
[null,106,null,null,null,null,null,null,null,null,null,null,null,null,null,"①",null,null,null,null,null,null,null,null,null,null,null,null,{"$f":"IF($Q336=\"\",\"0\",VLOOKUP($Q336,登録データ!$Q$4:$R$19,2,FALSE))","v":"0"},"00","","000000","",0,{"$f":"IF($C336=\"\",\"\",IF($C336=\"@\",0,IF(COUNTIF($C$21:$C$620,$C336)=1,0,1)))","v":""},{"$f":"IF($O336=\"\",\"\",IF(OR($O336=\"北海道\",$O336=\"東京都\",$O336=\"大阪府\",$O336=\"京都府\",RIGHT($O336,1)=\"県\"),0,1))","v":""}]
[null,null,null,null,null,null,null,null,null,null,null,null,null,null,null,null,null,null,null,null,null,null,null,null,null,null,null,null,{"$f":"IF($Q337=\"\",\"0\",VLOOKUP($Q337,登録データ!$Q$4:$R$19,2,FALSE))","v":"0"},"00","","000000","",0]
[null,null,null,null,null,null,null,null,null,null,null,null,null,null,null,null,null,null,null,null,null,null,null,null,null,null,null,null,{"$f":"IF($Q338=\"\",\"0\",VLOOKUP($Q338,登録データ!$Q$4:$R$19,2,FALSE))","v":"0"},"00","","000000","",0]
[null,107,null,null,null,null,null,null,null,null,null,null,null,null,null,"①",null,null,null,null,null,null,null,null,null,null,null,null,{"$f":"IF($Q339=\"\",\"0\",VLOOKUP($Q339,登録データ!$Q$4:$R$19,2,FALSE))","v":"0"},"00","","000000","",0,{"$f":"IF($C339=\"\",\"\",IF($C339=\"@\",0,IF(COUNTIF($C$21:$C$620,$C339)=1,0,1)))","v":""},{"$f":"IF($O339=\"\",\"\",IF(OR($O339=\"北海道\",$O339=\"東京都\",$O339=\"大阪府\",$O339=\"京都府\",RIGHT($O339,1)=\"県\"),0,1))","v":""}]
[null,null,null,null,null,null,null,null,null,null,null,null,null,null,null,null,null,null,null,null,null,null,null,null,null,null,null,null,{"$f":"IF($Q340=\"\",\"0\",VLOOKUP($Q340,登録データ!$Q$4:$R$19,2,FALSE))","v":"0"},"00","","000000","",0]
[null,null,null,null,null,null,null,null,null,null,null,null,null,null,null,null,null,null,null,null,null,null,null,null,null,null,null,null,{"$f":"IF($Q341=\"\",\"0\",VLOOKUP($Q341,登録データ!$Q$4:$R$19,2,FALSE))","v":"0"},"00","",{"$f":"IF($AE341=2,IF($T341=\"\",\"0000\",CONCATENATE(RIGHT($T341+100,2),$AD341)),IF($T341=\"\",\"000000\",CONCATENATE(RIGHT($R341+100,2),RIGHT($T341+100,2),$AD341)))","v":"000000"},{"$f":"IF($Q341=\"\",\"\",CONCATENATE($AC341,\" \",IF($AE341=1,RIGHT($AF341+10000000,7),RIGHT($AF341+100000,5))))","v":""},0]
[null,108,null,null,null,null,null,null,null,null,null,null,null,null,null,"①",null,null,null,null,null,null,null,null,null,null,null,null,{"$f":"IF($Q342=\"\",\"0\",VLOOKUP($Q342,登録データ!$Q$4:$R$19,2,FALSE))","v":"0"},{"$f":"IF($V342=\"\",\"00\",IF(LEN($V342)=1,$V342*10,$V342))","v":"00"},{"$f":"IF($Q342=\"\",\"\",IF(OR(RIGHT($Q342,1)=\"m\",RIGHT($Q342,1)=\"H\"),1,2))","v":""},"000000","",{"$f":"IF(OR(RIGHT($H338,1)=\"m\",RIGHT($H338,1)=\"H\",RIGHT($H338,1)=\"W\",RIGHT($H338,1)=\"C\"),IF(VALUE($K338)>59,1,0),0)","v":0},{"$f":"IF($C342=\"\",\"\",IF($C342=\"@\",0,IF(COUNTIF($C$21:$C$620,$C342)=1,0,1)))","v":""},{"$f":"IF($O342=\"\",\"\",IF(OR($O342=\"北海道\",$O342=\"東京都\",$O342=\"大阪府\",$O342=\"京都府\",RIGHT($O342,1)=\"県\"),0,1))","v":""}]
[null,null,null,null,null,null,null,null,null,null,null,null,null,null,null,null,null,null,null,null,null,null,null,null,null,null,null,null,{"$f":"IF($Q343=\"\",\"0\",VLOOKUP($Q343,登録データ!$Q$4:$R$19,2,FALSE))","v":"0"},"00","","000000","",0]
[null,null,null,null,null,null,null,null,null,null,null,null,null,null,null,null,null,null,null,null,null,null,null,null,null,null,null,null,{"$f":"IF($Q344=\"\",\"0\",VLOOKUP($Q344,登録データ!$Q$4:$R$19,2,FALSE))","v":"0"},"00","","000000","",0]
[null,109,null,null,null,null,null,null,null,null,null,null,null,null,null,"①",null,null,null,null,null,null,null,null,null,null,null,null,{"$f":"IF($Q345=\"\",\"0\",VLOOKUP($Q345,登録データ!$Q$4:$R$19,2,FALSE))","v":"0"},"00","","000000","",0,{"$f":"IF($C345=\"\",\"\",IF($C345=\"@\",0,IF(COUNTIF($C$21:$C$620,$C345)=1,0,1)))","v":""},{"$f":"IF($O345=\"\",\"\",IF(OR($O345=\"北海道\",$O345=\"東京都\",$O345=\"大阪府\",$O345=\"京都府\",RIGHT($O345,1)=\"県\"),0,1))","v":""}]
[null,null,null,null,null,null,null,null,null,null,null,null,null,null,null,null,null,null,null,null,null,null,null,null,null,null,null,null,{"$f":"IF($Q346=\"\",\"0\",VLOOKUP($Q346,登録データ!$Q$4:$R$19,2,FALSE))","v":"0"},"00","","000000","",0]
[null,null,null,null,null,null,null,null,null,null,null,null,null,null,null,null,null,null,null,null,null,null,null,null,null,null,null,null,{"$f":"IF($Q347=\"\",\"0\",VLOOKUP($Q347,登録データ!$Q$4:$R$19,2,FALSE))","v":"0"},"00","","000000","",0]
[null,110,null,null,null,null,null,null,null,null,null,null,null,null,null,"①",null,null,null,null,null,null,null,null,null,null,null,null,{"$f":"IF($Q348=\"\",\"0\",VLOOKUP($Q348,登録データ!$Q$4:$R$19,2,FALSE))","v":"0"},"00","","000000","",0,{"$f":"IF($C348=\"\",\"\",IF($C348=\"@\",0,IF(COUNTIF($C$21:$C$620,$C348)=1,0,1)))","v":""},{"$f":"IF($O348=\"\",\"\",IF(OR($O348=\"北海道\",$O348=\"東京都\",$O348=\"大阪府\",$O348=\"京都府\",RIGHT($O348,1)=\"県\"),0,1))","v":""}]
[null,null,null,null,null,null,null,null,null,null,null,null,null,null,null,null,null,null,null,null,null,null,null,null,null,null,null,null,{"$f":"IF($Q349=\"\",\"0\",VLOOKUP($Q349,登録データ!$Q$4:$R$19,2,FALSE))","v":"0"},"00","","000000","",0]
[null,null,null,null,null,null,null,null,null,null,null,null,null,null,null,null,null,null,null,null,null,null,null,null,null,null,null,null,{"$f":"IF($Q350=\"\",\"0\",VLOOKUP($Q350,登録データ!$Q$4:$R$19,2,FALSE))","v":"0"},"00","","000000","",0]
[null,111,null,null,null,null,null,null,null,null,null,null,null,null,null,"①",null,null,null,null,null,null,null,null,null,null,null,null,{"$f":"IF($Q351=\"\",\"0\",VLOOKUP($Q351,登録データ!$Q$4:$R$19,2,FALSE))","v":"0"},"00","","000000","",0,{"$f":"IF($C351=\"\",\"\",IF($C351=\"@\",0,IF(COUNTIF($C$21:$C$620,$C351)=1,0,1)))","v":""},{"$f":"IF($O351=\"\",\"\",IF(OR($O351=\"北海道\",$O351=\"東京都\",$O351=\"大阪府\",$O351=\"京都府\",RIGHT($O351,1)=\"県\"),0,1))","v":""}]
[null,null,null,null,null,null,null,null,null,null,null,null,null,null,null,null,null,null,null,null,null,null,null,null,null,null,null,null,{"$f":"IF($Q352=\"\",\"0\",VLOOKUP($Q352,登録データ!$Q$4:$R$19,2,FALSE))","v":"0"},"00","","000000","",0]
[null,null,null,null,null,null,null,null,null,null,null,null,null,null,null,null,null,null,null,null,null,null,null,null,null,null,null,null,{"$f":"IF($Q353=\"\",\"0\",VLOOKUP($Q353,登録データ!$Q$4:$R$19,2,FALSE))","v":"0"},"00","","000000","",0]
[null,112,null,null,null,null,null,null,null,null,null,null,null,null,null,"①",null,null,null,null,null,null,null,null,null,null,null,null,{"$f":"IF($Q354=\"\",\"0\",VLOOKUP($Q354,登録データ!$Q$4:$R$19,2,FALSE))","v":"0"},"00","","000000","",0,{"$f":"IF($C354=\"\",\"\",IF($C354=\"@\",0,IF(COUNTIF($C$21:$C$620,$C354)=1,0,1)))","v":""},{"$f":"IF($O354=\"\",\"\",IF(OR($O354=\"北海道\",$O354=\"東京都\",$O354=\"大阪府\",$O354=\"京都府\",RIGHT($O354,1)=\"県\"),0,1))","v":""}]
[null,null,null,null,null,null,null,null,null,null,null,null,null,null,null,null,null,null,null,null,null,null,null,null,null,null,null,null,{"$f":"IF($Q355=\"\",\"0\",VLOOKUP($Q355,登録データ!$Q$4:$R$19,2,FALSE))","v":"0"},"00","","000000","",0]
[null,null,null,null,null,null,null,null,null,null,null,null,null,null,null,null,null,null,null,null,null,null,null,null,null,null,null,null,{"$f":"IF($Q356=\"\",\"0\",VLOOKUP($Q356,登録データ!$Q$4:$R$19,2,FALSE))","v":"0"},"00","","000000","",0]
[null,113,null,null,null,null,null,null,null,null,null,null,null,null,null,"①",null,null,null,null,null,null,null,null,null,null,null,null,{"$f":"IF($Q357=\"\",\"0\",VLOOKUP($Q357,登録データ!$Q$4:$R$19,2,FALSE))","v":"0"},"00","","000000","",0,{"$f":"IF($C357=\"\",\"\",IF($C357=\"@\",0,IF(COUNTIF($C$21:$C$620,$C357)=1,0,1)))","v":""},{"$f":"IF($O357=\"\",\"\",IF(OR($O357=\"北海道\",$O357=\"東京都\",$O357=\"大阪府\",$O357=\"京都府\",RIGHT($O357,1)=\"県\"),0,1))","v":""}]
[null,null,null,null,null,null,null,null,null,null,null,null,null,null,null,null,null,null,null,null,null,null,null,null,null,null,null,null,{"$f":"IF($Q358=\"\",\"0\",VLOOKUP($Q358,登録データ!$Q$4:$R$19,2,FALSE))","v":"0"},"00","","000000","",0]
[null,null,null,null,null,null,null,null,null,null,null,null,null,null,null,null,null,null,null,null,null,null,null,null,null,null,null,null,{"$f":"IF($Q359=\"\",\"0\",VLOOKUP($Q359,登録データ!$Q$4:$R$19,2,FALSE))","v":"0"},"00","","000000","",0]
[null,114,null,null,null,null,null,null,null,null,null,null,null,null,null,"①",null,null,null,null,null,null,null,null,null,null,null,null,{"$f":"IF($Q360=\"\",\"0\",VLOOKUP($Q360,登録データ!$Q$4:$R$19,2,FALSE))","v":"0"},"00","","000000","",0,{"$f":"IF($C360=\"\",\"\",IF($C360=\"@\",0,IF(COUNTIF($C$21:$C$620,$C360)=1,0,1)))","v":""},{"$f":"IF($O360=\"\",\"\",IF(OR($O360=\"北海道\",$O360=\"東京都\",$O360=\"大阪府\",$O360=\"京都府\",RIGHT($O360,1)=\"県\"),0,1))","v":""}]
[null,null,null,null,null,null,null,null,null,null,null,null,null,null,null,null,null,null,null,null,null,null,null,null,null,null,null,null,{"$f":"IF($Q361=\"\",\"0\",VLOOKUP($Q361,登録データ!$Q$4:$R$19,2,FALSE))","v":"0"},"00","","000000","",0]
[null,null,null,null,null,null,null,null,null,null,null,null,null,null,null,null,null,null,null,null,null,null,null,null,null,null,null,null,{"$f":"IF($Q362=\"\",\"0\",VLOOKUP($Q362,登録データ!$Q$4:$R$19,2,FALSE))","v":"0"},"00","","000000","",0]
[null,115,null,null,null,null,null,null,null,null,null,null,null,null,null,"①",null,null,null,null,null,null,null,null,null,null,null,null,{"$f":"IF($Q363=\"\",\"0\",VLOOKUP($Q363,登録データ!$Q$4:$R$19,2,FALSE))","v":"0"},"00","","000000","",0,{"$f":"IF($C363=\"\",\"\",IF($C363=\"@\",0,IF(COUNTIF($C$21:$C$620,$C363)=1,0,1)))","v":""},{"$f":"IF($O363=\"\",\"\",IF(OR($O363=\"北海道\",$O363=\"東京都\",$O363=\"大阪府\",$O363=\"京都府\",RIGHT($O363,1)=\"県\"),0,1))","v":""}]
[null,null,null,null,null,null,null,null,null,null,null,null,null,null,null,null,null,null,null,null,null,null,null,null,null,null,null,null,{"$f":"IF($Q364=\"\",\"0\",VLOOKUP($Q364,登録データ!$Q$4:$R$19,2,FALSE))","v":"0"},"00","","000000","",0]
[null,null,null,null,null,null,null,null,null,null,null,null,null,null,null,null,null,null,null,null,null,null,null,null,null,null,null,null,{"$f":"IF($Q365=\"\",\"0\",VLOOKUP($Q365,登録データ!$Q$4:$R$19,2,FALSE))","v":"0"},"00","","000000","",0]
[null,116,null,null,null,null,null,null,null,null,null,null,null,null,null,"①",null,null,null,null,null,null,null,null,null,null,null,null,{"$f":"IF($Q366=\"\",\"0\",VLOOKUP($Q366,登録データ!$Q$4:$R$19,2,FALSE))","v":"0"},"00","","000000","",0,{"$f":"IF($C366=\"\",\"\",IF($C366=\"@\",0,IF(COUNTIF($C$21:$C$620,$C366)=1,0,1)))","v":""},{"$f":"IF($O366=\"\",\"\",IF(OR($O366=\"北海道\",$O366=\"東京都\",$O366=\"大阪府\",$O366=\"京都府\",RIGHT($O366,1)=\"県\"),0,1))","v":""}]
[null,null,null,null,null,null,null,null,null,null,null,null,null,null,null,null,null,null,null,null,null,null,null,null,null,null,null,null,{"$f":"IF($Q367=\"\",\"0\",VLOOKUP($Q367,登録データ!$Q$4:$R$19,2,FALSE))","v":"0"},"00","","000000","",0]
[null,null,null,null,null,null,null,null,null,null,null,null,null,null,null,null,null,null,null,null,null,null,null,null,null,null,null,null,{"$f":"IF($Q368=\"\",\"0\",VLOOKUP($Q368,登録データ!$Q$4:$R$19,2,FALSE))","v":"0"},"00","","000000","",0]
[null,117,null,null,null,null,null,null,null,null,null,null,null,null,null,"①",null,null,null,null,null,null,null,null,null,null,null,null,{"$f":"IF($Q369=\"\",\"0\",VLOOKUP($Q369,登録データ!$Q$4:$R$19,2,FALSE))","v":"0"},"00","","000000","",0,{"$f":"IF($C369=\"\",\"\",IF($C369=\"@\",0,IF(COUNTIF($C$21:$C$620,$C369)=1,0,1)))","v":""},{"$f":"IF($O369=\"\",\"\",IF(OR($O369=\"北海道\",$O369=\"東京都\",$O369=\"大阪府\",$O369=\"京都府\",RIGHT($O369,1)=\"県\"),0,1))","v":""}]
[null,null,null,null,null,null,null,null,null,null,null,null,null,null,null,null,null,null,null,null,null,null,null,null,null,null,null,null,{"$f":"IF($Q370=\"\",\"0\",VLOOKUP($Q370,登録データ!$Q$4:$R$19,2,FALSE))","v":"0"},"00","","000000","",0]
[null,null,null,null,null,null,null,null,null,null,null,null,null,null,null,null,null,null,null,null,null,null,null,null,null,null,null,null,{"$f":"IF($Q371=\"\",\"0\",VLOOKUP($Q371,登録データ!$Q$4:$R$19,2,FALSE))","v":"0"},"00","","000000","",0]
[null,118,null,null,null,null,null,null,null,null,null,null,null,null,null,"①",null,null,null,null,null,null,null,null,null,null,null,null,{"$f":"IF($Q372=\"\",\"0\",VLOOKUP($Q372,登録データ!$Q$4:$R$19,2,FALSE))","v":"0"},"00","","000000","",0,{"$f":"IF($C372=\"\",\"\",IF($C372=\"@\",0,IF(COUNTIF($C$21:$C$620,$C372)=1,0,1)))","v":""},{"$f":"IF($O372=\"\",\"\",IF(OR($O372=\"北海道\",$O372=\"東京都\",$O372=\"大阪府\",$O372=\"京都府\",RIGHT($O372,1)=\"県\"),0,1))","v":""}]
[null,null,null,null,null,null,null,null,null,null,null,null,null,null,null,null,null,null,null,null,null,null,null,null,null,null,null,null,{"$f":"IF($Q373=\"\",\"0\",VLOOKUP($Q373,登録データ!$Q$4:$R$19,2,FALSE))","v":"0"},"00","","000000","",0]
[null,null,null,null,null,null,null,null,null,null,null,null,null,null,null,null,null,null,null,null,null,null,null,null,null,null,null,null,{"$f":"IF($Q374=\"\",\"0\",VLOOKUP($Q374,登録データ!$Q$4:$R$19,2,FALSE))","v":"0"},"00","","000000","",0]
[null,119,null,null,null,null,null,null,null,null,null,null,null,null,null,"①",null,null,null,null,null,null,null,null,null,null,null,null,{"$f":"IF($Q375=\"\",\"0\",VLOOKUP($Q375,登録データ!$Q$4:$R$19,2,FALSE))","v":"0"},"00","","000000","",0,{"$f":"IF($C375=\"\",\"\",IF($C375=\"@\",0,IF(COUNTIF($C$21:$C$620,$C375)=1,0,1)))","v":""},{"$f":"IF($O375=\"\",\"\",IF(OR($O375=\"北海道\",$O375=\"東京都\",$O375=\"大阪府\",$O375=\"京都府\",RIGHT($O375,1)=\"県\"),0,1))","v":""}]
[null,null,null,null,null,null,null,null,null,null,null,null,null,null,null,null,null,null,null,null,null,null,null,null,null,null,null,null,{"$f":"IF($Q376=\"\",\"0\",VLOOKUP($Q376,登録データ!$Q$4:$R$19,2,FALSE))","v":"0"},"00","","000000","",0]
[null,null,null,null,null,null,null,null,null,null,null,null,null,null,null,null,null,null,null,null,null,null,null,null,null,null,null,null,{"$f":"IF($Q377=\"\",\"0\",VLOOKUP($Q377,登録データ!$Q$4:$R$19,2,FALSE))","v":"0"},"00","","000000","",0]
[null,120,null,null,null,null,null,null,null,null,null,null,null,null,null,"①",null,null,null,null,null,null,null,null,null,null,null,null,{"$f":"IF($Q378=\"\",\"0\",VLOOKUP($Q378,登録データ!$Q$4:$R$19,2,FALSE))","v":"0"},"00","","000000","",0,{"$f":"IF($C378=\"\",\"\",IF($C378=\"@\",0,IF(COUNTIF($C$21:$C$620,$C378)=1,0,1)))","v":""},{"$f":"IF($O378=\"\",\"\",IF(OR($O378=\"北海道\",$O378=\"東京都\",$O378=\"大阪府\",$O378=\"京都府\",RIGHT($O378,1)=\"県\"),0,1))","v":""}]
[null,null,null,null,null,null,null,null,null,null,null,null,null,null,null,null,null,null,null,null,null,null,null,null,null,null,null,null,{"$f":"IF($Q379=\"\",\"0\",VLOOKUP($Q379,登録データ!$Q$4:$R$19,2,FALSE))","v":"0"},"00","","000000","",0]
[null,null,null,null,null,null,null,null,null,null,null,null,null,null,null,null,null,null,null,null,null,null,null,null,null,null,null,null,{"$f":"IF($Q380=\"\",\"0\",VLOOKUP($Q380,登録データ!$Q$4:$R$19,2,FALSE))","v":"0"},"00","","000000","",0]
[null,121,null,null,null,null,null,null,null,null,null,null,null,null,null,"①",null,null,null,null,null,null,null,null,null,null,null,null,{"$f":"IF($Q381=\"\",\"0\",VLOOKUP($Q381,登録データ!$Q$4:$R$19,2,FALSE))","v":"0"},"00","","000000","",0,{"$f":"IF($C381=\"\",\"\",IF($C381=\"@\",0,IF(COUNTIF($C$21:$C$620,$C381)=1,0,1)))","v":""},{"$f":"IF($O381=\"\",\"\",IF(OR($O381=\"北海道\",$O381=\"東京都\",$O381=\"大阪府\",$O381=\"京都府\",RIGHT($O381,1)=\"県\"),0,1))","v":""}]
[null,null,null,null,null,null,null,null,null,null,null,null,null,null,null,null,null,null,null,null,null,null,null,null,null,null,null,null,{"$f":"IF($Q382=\"\",\"0\",VLOOKUP($Q382,登録データ!$Q$4:$R$19,2,FALSE))","v":"0"},"00","","000000","",0]
[null,null,null,null,null,null,null,null,null,null,null,null,null,null,null,null,null,null,null,null,null,null,null,null,null,null,null,null,{"$f":"IF($Q383=\"\",\"0\",VLOOKUP($Q383,登録データ!$Q$4:$R$19,2,FALSE))","v":"0"},"00","","000000","",0]
[null,122,null,null,null,null,null,null,null,null,null,null,null,null,null,"①",null,null,null,null,null,null,null,null,null,null,null,null,{"$f":"IF($Q384=\"\",\"0\",VLOOKUP($Q384,登録データ!$Q$4:$R$19,2,FALSE))","v":"0"},"00","","000000","",0,{"$f":"IF($C384=\"\",\"\",IF($C384=\"@\",0,IF(COUNTIF($C$21:$C$620,$C384)=1,0,1)))","v":""},{"$f":"IF($O384=\"\",\"\",IF(OR($O384=\"北海道\",$O384=\"東京都\",$O384=\"大阪府\",$O384=\"京都府\",RIGHT($O384,1)=\"県\"),0,1))","v":""}]
[null,null,null,null,null,null,null,null,null,null,null,null,null,null,null,null,null,null,null,null,null,null,null,null,null,null,null,null,{"$f":"IF($Q385=\"\",\"0\",VLOOKUP($Q385,登録データ!$Q$4:$R$19,2,FALSE))","v":"0"},"00","","000000","",0]
[null,null,null,null,null,null,null,null,null,null,null,null,null,null,null,null,null,null,null,null,null,null,null,null,null,null,null,null,{"$f":"IF($Q386=\"\",\"0\",VLOOKUP($Q386,登録データ!$Q$4:$R$19,2,FALSE))","v":"0"},"00","","000000","",0]
[null,123,null,null,null,null,null,null,null,null,null,null,null,null,null,"①",null,null,null,null,null,null,null,null,null,null,null,null,{"$f":"IF($Q387=\"\",\"0\",VLOOKUP($Q387,登録データ!$Q$4:$R$19,2,FALSE))","v":"0"},"00","","000000","",0,{"$f":"IF($C387=\"\",\"\",IF($C387=\"@\",0,IF(COUNTIF($C$21:$C$620,$C387)=1,0,1)))","v":""},{"$f":"IF($O387=\"\",\"\",IF(OR($O387=\"北海道\",$O387=\"東京都\",$O387=\"大阪府\",$O387=\"京都府\",RIGHT($O387,1)=\"県\"),0,1))","v":""}]
[null,null,null,null,null,null,null,null,null,null,null,null,null,null,null,null,null,null,null,null,null,null,null,null,null,null,null,null,{"$f":"IF($Q388=\"\",\"0\",VLOOKUP($Q388,登録データ!$Q$4:$R$19,2,FALSE))","v":"0"},"00","","000000","",0]
[null,null,null,null,null,null,null,null,null,null,null,null,null,null,null,null,null,null,null,null,null,null,null,null,null,null,null,null,{"$f":"IF($Q389=\"\",\"0\",VLOOKUP($Q389,登録データ!$Q$4:$R$19,2,FALSE))","v":"0"},"00","","000000","",0]
[null,124,null,null,null,null,null,null,null,null,null,null,null,null,null,"①",null,null,null,null,null,null,null,null,null,null,null,null,{"$f":"IF($Q390=\"\",\"0\",VLOOKUP($Q390,登録データ!$Q$4:$R$19,2,FALSE))","v":"0"},"00","","000000","",0,{"$f":"IF($C390=\"\",\"\",IF($C390=\"@\",0,IF(COUNTIF($C$21:$C$620,$C390)=1,0,1)))","v":""},{"$f":"IF($O390=\"\",\"\",IF(OR($O390=\"北海道\",$O390=\"東京都\",$O390=\"大阪府\",$O390=\"京都府\",RIGHT($O390,1)=\"県\"),0,1))","v":""}]
[null,null,null,null,null,null,null,null,null,null,null,null,null,null,null,null,null,null,null,null,null,null,null,null,null,null,null,null,{"$f":"IF($Q391=\"\",\"0\",VLOOKUP($Q391,登録データ!$Q$4:$R$19,2,FALSE))","v":"0"},"00","","000000","",0]
[null,null,null,null,null,null,null,null,null,null,null,null,null,null,null,null,null,null,null,null,null,null,null,null,null,null,null,null,{"$f":"IF($Q392=\"\",\"0\",VLOOKUP($Q392,登録データ!$Q$4:$R$19,2,FALSE))","v":"0"},"00","","000000","",0]
[null,125,null,null,null,null,null,null,null,null,null,null,null,null,null,"①",null,null,null,null,null,null,null,null,null,null,null,null,{"$f":"IF($Q393=\"\",\"0\",VLOOKUP($Q393,登録データ!$Q$4:$R$19,2,FALSE))","v":"0"},"00","","000000","",0,{"$f":"IF($C393=\"\",\"\",IF($C393=\"@\",0,IF(COUNTIF($C$21:$C$620,$C393)=1,0,1)))","v":""},{"$f":"IF($O393=\"\",\"\",IF(OR($O393=\"北海道\",$O393=\"東京都\",$O393=\"大阪府\",$O393=\"京都府\",RIGHT($O393,1)=\"県\"),0,1))","v":""}]
[null,null,null,null,null,null,null,null,null,null,null,null,null,null,null,null,null,null,null,null,null,null,null,null,null,null,null,null,{"$f":"IF($Q394=\"\",\"0\",VLOOKUP($Q394,登録データ!$Q$4:$R$19,2,FALSE))","v":"0"},"00","","000000","",0]
[null,null,null,null,null,null,null,null,null,null,null,null,null,null,null,null,null,null,null,null,null,null,null,null,null,null,null,null,{"$f":"IF($Q395=\"\",\"0\",VLOOKUP($Q395,登録データ!$Q$4:$R$19,2,FALSE))","v":"0"},"00","","000000","",0]
[null,126,null,null,null,null,null,null,null,null,null,null,null,null,null,"①",null,null,null,null,null,null,null,null,null,null,null,null,{"$f":"IF($Q396=\"\",\"0\",VLOOKUP($Q396,登録データ!$Q$4:$R$19,2,FALSE))","v":"0"},"00","","000000","",0,{"$f":"IF($C396=\"\",\"\",IF($C396=\"@\",0,IF(COUNTIF($C$21:$C$620,$C396)=1,0,1)))","v":""},{"$f":"IF($O396=\"\",\"\",IF(OR($O396=\"北海道\",$O396=\"東京都\",$O396=\"大阪府\",$O396=\"京都府\",RIGHT($O396,1)=\"県\"),0,1))","v":""}]
[null,null,null,null,null,null,null,null,null,null,null,null,null,null,null,null,null,null,null,null,null,null,null,null,null,null,null,null,{"$f":"IF($Q397=\"\",\"0\",VLOOKUP($Q397,登録データ!$Q$4:$R$19,2,FALSE))","v":"0"},"00","","000000","",0]
[null,null,null,null,null,null,null,null,null,null,null,null,null,null,null,null,null,null,null,null,null,null,null,null,null,null,null,null,{"$f":"IF($Q398=\"\",\"0\",VLOOKUP($Q398,登録データ!$Q$4:$R$19,2,FALSE))","v":"0"},"00","","000000","",0]
[null,127,null,null,null,null,null,null,null,null,null,null,null,null,null,"①",null,null,null,null,null,null,null,null,null,null,null,null,{"$f":"IF($Q399=\"\",\"0\",VLOOKUP($Q399,登録データ!$Q$4:$R$19,2,FALSE))","v":"0"},"00","","000000","",0,{"$f":"IF($C399=\"\",\"\",IF($C399=\"@\",0,IF(COUNTIF($C$21:$C$620,$C399)=1,0,1)))","v":""},{"$f":"IF($O399=\"\",\"\",IF(OR($O399=\"北海道\",$O399=\"東京都\",$O399=\"大阪府\",$O399=\"京都府\",RIGHT($O399,1)=\"県\"),0,1))","v":""}]
[null,null,null,null,null,null,null,null,null,null,null,null,null,null,null,null,null,null,null,null,null,null,null,null,null,null,null,null,{"$f":"IF($Q400=\"\",\"0\",VLOOKUP($Q400,登録データ!$Q$4:$R$19,2,FALSE))","v":"0"},"00","","000000","",0]
[null,null,null,null,null,null,null,null,null,null,null,null,null,null,null,null,null,null,null,null,null,null,null,null,null,null,null,null,{"$f":"IF($Q401=\"\",\"0\",VLOOKUP($Q401,登録データ!$Q$4:$R$19,2,FALSE))","v":"0"},"00","","000000","",0]
[null,128,null,null,null,null,null,null,null,null,null,null,null,null,null,"①",null,null,null,null,null,null,null,null,null,null,null,null,{"$f":"IF($Q402=\"\",\"0\",VLOOKUP($Q402,登録データ!$Q$4:$R$19,2,FALSE))","v":"0"},"00","","000000","",0,{"$f":"IF($C402=\"\",\"\",IF($C402=\"@\",0,IF(COUNTIF($C$21:$C$620,$C402)=1,0,1)))","v":""},{"$f":"IF($O402=\"\",\"\",IF(OR($O402=\"北海道\",$O402=\"東京都\",$O402=\"大阪府\",$O402=\"京都府\",RIGHT($O402,1)=\"県\"),0,1))","v":""}]
[null,null,null,null,null,null,null,null,null,null,null,null,null,null,null,null,null,null,null,null,null,null,null,null,null,null,null,null,{"$f":"IF($Q403=\"\",\"0\",VLOOKUP($Q403,登録データ!$Q$4:$R$19,2,FALSE))","v":"0"},"00","","000000","",0]
[null,null,null,null,null,null,null,null,null,null,null,null,null,null,null,null,null,null,null,null,null,null,null,null,null,null,null,null,{"$f":"IF($Q404=\"\",\"0\",VLOOKUP($Q404,登録データ!$Q$4:$R$19,2,FALSE))","v":"0"},"00","","000000","",0]
[null,129,null,null,null,null,null,null,null,null,null,null,null,null,null,"①",null,null,null,null,null,null,null,null,null,null,null,null,{"$f":"IF($Q405=\"\",\"0\",VLOOKUP($Q405,登録データ!$Q$4:$R$19,2,FALSE))","v":"0"},"00","",{"$f":"IF($AE405=2,IF($T405=\"\",\"0000\",CONCATENATE(RIGHT($T405+100,2),$AD405)),IF($T405=\"\",\"000000\",CONCATENATE(RIGHT($R405+100,2),RIGHT($T405+100,2),$AD405)))","v":"000000"},{"$f":"IF($Q405=\"\",\"\",CONCATENATE($AC405,\" \",IF($AE405=1,RIGHT($AF405+10000000,7),RIGHT($AF405+100000,5))))","v":""},0,{"$f":"IF($C405=\"\",\"\",IF($C405=\"@\",0,IF(COUNTIF($C$21:$C$620,$C405)=1,0,1)))","v":""},{"$f":"IF($O405=\"\",\"\",IF(OR($O405=\"北海道\",$O405=\"東京都\",$O405=\"大阪府\",$O405=\"京都府\",RIGHT($O405,1)=\"県\"),0,1))","v":""}]
[null,null,null,null,null,null,null,null,null,null,null,null,null,null,null,null,null,null,null,null,null,null,null,null,null,null,null,null,{"$f":"IF($Q406=\"\",\"0\",VLOOKUP($Q406,登録データ!$Q$4:$R$19,2,FALSE))","v":"0"},{"$f":"IF($V406=\"\",\"00\",IF(LEN($V406)=1,$V406*10,$V406))","v":"00"},{"$f":"IF($Q406=\"\",\"\",IF(OR(RIGHT($Q406,1)=\"m\",RIGHT($Q406,1)=\"H\"),1,2))","v":""},"000000","",{"$f":"IF(OR(RIGHT($H402,1)=\"m\",RIGHT($H402,1)=\"H\",RIGHT($H402,1)=\"W\",RIGHT($H402,1)=\"C\"),IF(VALUE($K402)>59,1,0),0)","v":0}]
[null,null,null,null,null,null,null,null,null,null,null,null,null,null,null,null,null,null,null,null,null,null,null,null,null,null,null,null,{"$f":"IF($Q407=\"\",\"0\",VLOOKUP($Q407,登録データ!$Q$4:$R$19,2,FALSE))","v":"0"},"00","","000000","",0]
[null,130,null,null,null,null,null,null,null,null,null,null,null,null,null,"①",null,null,null,null,null,null,null,null,null,null,null,null,{"$f":"IF($Q408=\"\",\"0\",VLOOKUP($Q408,登録データ!$Q$4:$R$19,2,FALSE))","v":"0"},"00","","000000","",0,{"$f":"IF($C408=\"\",\"\",IF($C408=\"@\",0,IF(COUNTIF($C$21:$C$620,$C408)=1,0,1)))","v":""},{"$f":"IF($O408=\"\",\"\",IF(OR($O408=\"北海道\",$O408=\"東京都\",$O408=\"大阪府\",$O408=\"京都府\",RIGHT($O408,1)=\"県\"),0,1))","v":""}]
[null,null,null,null,null,null,null,null,null,null,null,null,null,null,null,null,null,null,null,null,null,null,null,null,null,null,null,null,{"$f":"IF($Q409=\"\",\"0\",VLOOKUP($Q409,登録データ!$Q$4:$R$19,2,FALSE))","v":"0"},"00","","000000","",0]
[null,null,null,null,null,null,null,null,null,null,null,null,null,null,null,null,null,null,null,null,null,null,null,null,null,null,null,null,{"$f":"IF($Q410=\"\",\"0\",VLOOKUP($Q410,登録データ!$Q$4:$R$19,2,FALSE))","v":"0"},"00","","000000","",0]
[null,131,null,null,null,null,null,null,null,null,null,null,null,null,null,"①",null,null,null,null,null,null,null,null,null,null,null,null,{"$f":"IF($Q411=\"\",\"0\",VLOOKUP($Q411,登録データ!$Q$4:$R$19,2,FALSE))","v":"0"},"00","","000000","",0,{"$f":"IF($C411=\"\",\"\",IF($C411=\"@\",0,IF(COUNTIF($C$21:$C$620,$C411)=1,0,1)))","v":""},{"$f":"IF($O411=\"\",\"\",IF(OR($O411=\"北海道\",$O411=\"東京都\",$O411=\"大阪府\",$O411=\"京都府\",RIGHT($O411,1)=\"県\"),0,1))","v":""}]
[null,null,null,null,null,null,null,null,null,null,null,null,null,null,null,null,null,null,null,null,null,null,null,null,null,null,null,null,{"$f":"IF($Q412=\"\",\"0\",VLOOKUP($Q412,登録データ!$Q$4:$R$19,2,FALSE))","v":"0"},"00","","000000","",0]
[null,null,null,null,null,null,null,null,null,null,null,null,null,null,null,null,null,null,null,null,null,null,null,null,null,null,null,null,{"$f":"IF($Q413=\"\",\"0\",VLOOKUP($Q413,登録データ!$Q$4:$R$19,2,FALSE))","v":"0"},"00","","000000","",0]
[null,132,null,null,null,null,null,null,null,null,null,null,null,null,null,"①",null,null,null,null,null,null,null,null,null,null,null,null,{"$f":"IF($Q414=\"\",\"0\",VLOOKUP($Q414,登録データ!$Q$4:$R$19,2,FALSE))","v":"0"},"00","","000000","",0,{"$f":"IF($C414=\"\",\"\",IF($C414=\"@\",0,IF(COUNTIF($C$21:$C$620,$C414)=1,0,1)))","v":""},{"$f":"IF($O414=\"\",\"\",IF(OR($O414=\"北海道\",$O414=\"東京都\",$O414=\"大阪府\",$O414=\"京都府\",RIGHT($O414,1)=\"県\"),0,1))","v":""}]
[null,null,null,null,null,null,null,null,null,null,null,null,null,null,null,null,null,null,null,null,null,null,null,null,null,null,null,null,{"$f":"IF($Q415=\"\",\"0\",VLOOKUP($Q415,登録データ!$Q$4:$R$19,2,FALSE))","v":"0"},"00","","000000","",0]
[null,null,null,null,null,null,null,null,null,null,null,null,null,null,null,null,null,null,null,null,null,null,null,null,null,null,null,null,{"$f":"IF($Q416=\"\",\"0\",VLOOKUP($Q416,登録データ!$Q$4:$R$19,2,FALSE))","v":"0"},"00","","000000","",0]
[null,133,null,null,null,null,null,null,null,null,null,null,null,null,null,"①",null,null,null,null,null,null,null,null,null,null,null,null,{"$f":"IF($Q417=\"\",\"0\",VLOOKUP($Q417,登録データ!$Q$4:$R$19,2,FALSE))","v":"0"},"00","","000000","",0,{"$f":"IF($C417=\"\",\"\",IF($C417=\"@\",0,IF(COUNTIF($C$21:$C$620,$C417)=1,0,1)))","v":""},{"$f":"IF($O417=\"\",\"\",IF(OR($O417=\"北海道\",$O417=\"東京都\",$O417=\"大阪府\",$O417=\"京都府\",RIGHT($O417,1)=\"県\"),0,1))","v":""}]
[null,null,null,null,null,null,null,null,null,null,null,null,null,null,null,null,null,null,null,null,null,null,null,null,null,null,null,null,{"$f":"IF($Q418=\"\",\"0\",VLOOKUP($Q418,登録データ!$Q$4:$R$19,2,FALSE))","v":"0"},"00","","000000","",0]
[null,null,null,null,null,null,null,null,null,null,null,null,null,null,null,null,null,null,null,null,null,null,null,null,null,null,null,null,{"$f":"IF($Q419=\"\",\"0\",VLOOKUP($Q419,登録データ!$Q$4:$R$19,2,FALSE))","v":"0"},"00","","000000","",0]
[null,134,null,null,null,null,null,null,null,null,null,null,null,null,null,"①",null,null,null,null,null,null,null,null,null,null,null,null,{"$f":"IF($Q420=\"\",\"0\",VLOOKUP($Q420,登録データ!$Q$4:$R$19,2,FALSE))","v":"0"},"00","","000000","",0,{"$f":"IF($C420=\"\",\"\",IF($C420=\"@\",0,IF(COUNTIF($C$21:$C$620,$C420)=1,0,1)))","v":""},{"$f":"IF($O420=\"\",\"\",IF(OR($O420=\"北海道\",$O420=\"東京都\",$O420=\"大阪府\",$O420=\"京都府\",RIGHT($O420,1)=\"県\"),0,1))","v":""}]
[null,null,null,null,null,null,null,null,null,null,null,null,null,null,null,null,null,null,null,null,null,null,null,null,null,null,null,null,{"$f":"IF($Q421=\"\",\"0\",VLOOKUP($Q421,登録データ!$Q$4:$R$19,2,FALSE))","v":"0"},"00","","000000","",0]
[null,null,null,null,null,null,null,null,null,null,null,null,null,null,null,null,null,null,null,null,null,null,null,null,null,null,null,null,{"$f":"IF($Q422=\"\",\"0\",VLOOKUP($Q422,登録データ!$Q$4:$R$19,2,FALSE))","v":"0"},"00","","000000","",0]
[null,135,null,null,null,null,null,null,null,null,null,null,null,null,null,"①",null,null,null,null,null,null,null,null,null,null,null,null,{"$f":"IF($Q423=\"\",\"0\",VLOOKUP($Q423,登録データ!$Q$4:$R$19,2,FALSE))","v":"0"},"00","","000000","",0,{"$f":"IF($C423=\"\",\"\",IF($C423=\"@\",0,IF(COUNTIF($C$21:$C$620,$C423)=1,0,1)))","v":""},{"$f":"IF($O423=\"\",\"\",IF(OR($O423=\"北海道\",$O423=\"東京都\",$O423=\"大阪府\",$O423=\"京都府\",RIGHT($O423,1)=\"県\"),0,1))","v":""}]
[null,null,null,null,null,null,null,null,null,null,null,null,null,null,null,null,null,null,null,null,null,null,null,null,null,null,null,null,{"$f":"IF($Q424=\"\",\"0\",VLOOKUP($Q424,登録データ!$Q$4:$R$19,2,FALSE))","v":"0"},"00","","000000","",0]
[null,null,null,null,null,null,null,null,null,null,null,null,null,null,null,null,null,null,null,null,null,null,null,null,null,null,null,null,{"$f":"IF($Q425=\"\",\"0\",VLOOKUP($Q425,登録データ!$Q$4:$R$19,2,FALSE))","v":"0"},"00","","000000","",0]
[null,136,null,null,null,null,null,null,null,null,null,null,null,null,null,"①",null,null,null,null,null,null,null,null,null,null,null,null,{"$f":"IF($Q426=\"\",\"0\",VLOOKUP($Q426,登録データ!$Q$4:$R$19,2,FALSE))","v":"0"},"00","","000000","",0,{"$f":"IF($C426=\"\",\"\",IF($C426=\"@\",0,IF(COUNTIF($C$21:$C$620,$C426)=1,0,1)))","v":""},{"$f":"IF($O426=\"\",\"\",IF(OR($O426=\"北海道\",$O426=\"東京都\",$O426=\"大阪府\",$O426=\"京都府\",RIGHT($O426,1)=\"県\"),0,1))","v":""}]
[null,null,null,null,null,null,null,null,null,null,null,null,null,null,null,null,null,null,null,null,null,null,null,null,null,null,null,null,{"$f":"IF($Q427=\"\",\"0\",VLOOKUP($Q427,登録データ!$Q$4:$R$19,2,FALSE))","v":"0"},"00","","000000","",0]
[null,null,null,null,null,null,null,null,null,null,null,null,null,null,null,null,null,null,null,null,null,null,null,null,null,null,null,null,{"$f":"IF($Q428=\"\",\"0\",VLOOKUP($Q428,登録データ!$Q$4:$R$19,2,FALSE))","v":"0"},"00","","000000","",0]
[null,137,null,null,null,null,null,null,null,null,null,null,null,null,null,"①",null,null,null,null,null,null,null,null,null,null,null,null,{"$f":"IF($Q429=\"\",\"0\",VLOOKUP($Q429,登録データ!$Q$4:$R$19,2,FALSE))","v":"0"},"00","","000000","",0,{"$f":"IF($C429=\"\",\"\",IF($C429=\"@\",0,IF(COUNTIF($C$21:$C$620,$C429)=1,0,1)))","v":""},{"$f":"IF($O429=\"\",\"\",IF(OR($O429=\"北海道\",$O429=\"東京都\",$O429=\"大阪府\",$O429=\"京都府\",RIGHT($O429,1)=\"県\"),0,1))","v":""}]
[null,null,null,null,null,null,null,null,null,null,null,null,null,null,null,null,null,null,null,null,null,null,null,null,null,null,null,null,{"$f":"IF($Q430=\"\",\"0\",VLOOKUP($Q430,登録データ!$Q$4:$R$19,2,FALSE))","v":"0"},"00","","000000","",0]
[null,null,null,null,null,null,null,null,null,null,null,null,null,null,null,null,null,null,null,null,null,null,null,null,null,null,null,null,{"$f":"IF($Q431=\"\",\"0\",VLOOKUP($Q431,登録データ!$Q$4:$R$19,2,FALSE))","v":"0"},"00","","000000","",0]
[null,138,null,null,null,null,null,null,null,null,null,null,null,null,null,"①",null,null,null,null,null,null,null,null,null,null,null,null,{"$f":"IF($Q432=\"\",\"0\",VLOOKUP($Q432,登録データ!$Q$4:$R$19,2,FALSE))","v":"0"},"00","","000000","",0,{"$f":"IF($C432=\"\",\"\",IF($C432=\"@\",0,IF(COUNTIF($C$21:$C$620,$C432)=1,0,1)))","v":""},{"$f":"IF($O432=\"\",\"\",IF(OR($O432=\"北海道\",$O432=\"東京都\",$O432=\"大阪府\",$O432=\"京都府\",RIGHT($O432,1)=\"県\"),0,1))","v":""}]
[null,null,null,null,null,null,null,null,null,null,null,null,null,null,null,null,null,null,null,null,null,null,null,null,null,null,null,null,{"$f":"IF($Q433=\"\",\"0\",VLOOKUP($Q433,登録データ!$Q$4:$R$19,2,FALSE))","v":"0"},"00","","000000","",0]
[null,null,null,null,null,null,null,null,null,null,null,null,null,null,null,null,null,null,null,null,null,null,null,null,null,null,null,null,{"$f":"IF($Q434=\"\",\"0\",VLOOKUP($Q434,登録データ!$Q$4:$R$19,2,FALSE))","v":"0"},"00","","000000","",0]
[null,139,null,null,null,null,null,null,null,null,null,null,null,null,null,"①",null,null,null,null,null,null,null,null,null,null,null,null,{"$f":"IF($Q435=\"\",\"0\",VLOOKUP($Q435,登録データ!$Q$4:$R$19,2,FALSE))","v":"0"},"00","","000000","",0,{"$f":"IF($C435=\"\",\"\",IF($C435=\"@\",0,IF(COUNTIF($C$21:$C$620,$C435)=1,0,1)))","v":""},{"$f":"IF($O435=\"\",\"\",IF(OR($O435=\"北海道\",$O435=\"東京都\",$O435=\"大阪府\",$O435=\"京都府\",RIGHT($O435,1)=\"県\"),0,1))","v":""}]
[null,null,null,null,null,null,null,null,null,null,null,null,null,null,null,null,null,null,null,null,null,null,null,null,null,null,null,null,{"$f":"IF($Q436=\"\",\"0\",VLOOKUP($Q436,登録データ!$Q$4:$R$19,2,FALSE))","v":"0"},"00","","000000","",0]
[null,null,null,null,null,null,null,null,null,null,null,null,null,null,null,null,null,null,null,null,null,null,null,null,null,null,null,null,{"$f":"IF($Q437=\"\",\"0\",VLOOKUP($Q437,登録データ!$Q$4:$R$19,2,FALSE))","v":"0"},"00","","000000","",0]
[null,140,null,null,null,null,null,null,null,null,null,null,null,null,null,"①",null,null,null,null,null,null,null,null,null,null,null,null,{"$f":"IF($Q438=\"\",\"0\",VLOOKUP($Q438,登録データ!$Q$4:$R$19,2,FALSE))","v":"0"},"00","","000000","",0,{"$f":"IF($C438=\"\",\"\",IF($C438=\"@\",0,IF(COUNTIF($C$21:$C$620,$C438)=1,0,1)))","v":""},{"$f":"IF($O438=\"\",\"\",IF(OR($O438=\"北海道\",$O438=\"東京都\",$O438=\"大阪府\",$O438=\"京都府\",RIGHT($O438,1)=\"県\"),0,1))","v":""}]
[null,null,null,null,null,null,null,null,null,null,null,null,null,null,null,null,null,null,null,null,null,null,null,null,null,null,null,null,{"$f":"IF($Q439=\"\",\"0\",VLOOKUP($Q439,登録データ!$Q$4:$R$19,2,FALSE))","v":"0"},"00","","000000","",0]
[null,null,null,null,null,null,null,null,null,null,null,null,null,null,null,null,null,null,null,null,null,null,null,null,null,null,null,null,{"$f":"IF($Q440=\"\",\"0\",VLOOKUP($Q440,登録データ!$Q$4:$R$19,2,FALSE))","v":"0"},"00","","000000","",0]
[null,141,null,null,null,null,null,null,null,null,null,null,null,null,null,"①",null,null,null,null,null,null,null,null,null,null,null,null,{"$f":"IF($Q441=\"\",\"0\",VLOOKUP($Q441,登録データ!$Q$4:$R$19,2,FALSE))","v":"0"},"00","","000000","",0,{"$f":"IF($C441=\"\",\"\",IF($C441=\"@\",0,IF(COUNTIF($C$21:$C$620,$C441)=1,0,1)))","v":""},{"$f":"IF($O441=\"\",\"\",IF(OR($O441=\"北海道\",$O441=\"東京都\",$O441=\"大阪府\",$O441=\"京都府\",RIGHT($O441,1)=\"県\"),0,1))","v":""}]
[null,null,null,null,null,null,null,null,null,null,null,null,null,null,null,null,null,null,null,null,null,null,null,null,null,null,null,null,{"$f":"IF($Q442=\"\",\"0\",VLOOKUP($Q442,登録データ!$Q$4:$R$19,2,FALSE))","v":"0"},"00","","000000","",0]
[null,null,null,null,null,null,null,null,null,null,null,null,null,null,null,null,null,null,null,null,null,null,null,null,null,null,null,null,{"$f":"IF($Q443=\"\",\"0\",VLOOKUP($Q443,登録データ!$Q$4:$R$19,2,FALSE))","v":"0"},"00","","000000","",0]
[null,142,null,null,null,null,null,null,null,null,null,null,null,null,null,"①",null,null,null,null,null,null,null,null,null,null,null,null,{"$f":"IF($Q444=\"\",\"0\",VLOOKUP($Q444,登録データ!$Q$4:$R$19,2,FALSE))","v":"0"},"00","","000000","",0,{"$f":"IF($C444=\"\",\"\",IF($C444=\"@\",0,IF(COUNTIF($C$21:$C$620,$C444)=1,0,1)))","v":""},{"$f":"IF($O444=\"\",\"\",IF(OR($O444=\"北海道\",$O444=\"東京都\",$O444=\"大阪府\",$O444=\"京都府\",RIGHT($O444,1)=\"県\"),0,1))","v":""}]
[null,null,null,null,null,null,null,null,null,null,null,null,null,null,null,null,null,null,null,null,null,null,null,null,null,null,null,null,{"$f":"IF($Q445=\"\",\"0\",VLOOKUP($Q445,登録データ!$Q$4:$R$19,2,FALSE))","v":"0"},"00","","000000","",0]
[null,null,null,null,null,null,null,null,null,null,null,null,null,null,null,null,null,null,null,null,null,null,null,null,null,null,null,null,{"$f":"IF($Q446=\"\",\"0\",VLOOKUP($Q446,登録データ!$Q$4:$R$19,2,FALSE))","v":"0"},"00","","000000","",0]
[null,143,null,null,null,null,null,null,null,null,null,null,null,null,null,"①",null,null,null,null,null,null,null,null,null,null,null,null,{"$f":"IF($Q447=\"\",\"0\",VLOOKUP($Q447,登録データ!$Q$4:$R$19,2,FALSE))","v":"0"},"00","","000000","",0,{"$f":"IF($C447=\"\",\"\",IF($C447=\"@\",0,IF(COUNTIF($C$21:$C$620,$C447)=1,0,1)))","v":""},{"$f":"IF($O447=\"\",\"\",IF(OR($O447=\"北海道\",$O447=\"東京都\",$O447=\"大阪府\",$O447=\"京都府\",RIGHT($O447,1)=\"県\"),0,1))","v":""}]
[null,null,null,null,null,null,null,null,null,null,null,null,null,null,null,null,null,null,null,null,null,null,null,null,null,null,null,null,{"$f":"IF($Q448=\"\",\"0\",VLOOKUP($Q448,登録データ!$Q$4:$R$19,2,FALSE))","v":"0"},"00","","000000","",0]
[null,null,null,null,null,null,null,null,null,null,null,null,null,null,null,null,null,null,null,null,null,null,null,null,null,null,null,null,{"$f":"IF($Q449=\"\",\"0\",VLOOKUP($Q449,登録データ!$Q$4:$R$19,2,FALSE))","v":"0"},"00","","000000","",0]
[null,144,null,null,null,null,null,null,null,null,null,null,null,null,null,"①",null,null,null,null,null,null,null,null,null,null,null,null,{"$f":"IF($Q450=\"\",\"0\",VLOOKUP($Q450,登録データ!$Q$4:$R$19,2,FALSE))","v":"0"},"00","","000000","",0,{"$f":"IF($C450=\"\",\"\",IF($C450=\"@\",0,IF(COUNTIF($C$21:$C$620,$C450)=1,0,1)))","v":""},{"$f":"IF($O450=\"\",\"\",IF(OR($O450=\"北海道\",$O450=\"東京都\",$O450=\"大阪府\",$O450=\"京都府\",RIGHT($O450,1)=\"県\"),0,1))","v":""}]
[null,null,null,null,null,null,null,null,null,null,null,null,null,null,null,null,null,null,null,null,null,null,null,null,null,null,null,null,{"$f":"IF($Q451=\"\",\"0\",VLOOKUP($Q451,登録データ!$Q$4:$R$19,2,FALSE))","v":"0"},"00","","000000","",0]
[null,null,null,null,null,null,null,null,null,null,null,null,null,null,null,null,null,null,null,null,null,null,null,null,null,null,null,null,{"$f":"IF($Q452=\"\",\"0\",VLOOKUP($Q452,登録データ!$Q$4:$R$19,2,FALSE))","v":"0"},"00","","000000","",0]
[null,145,null,null,null,null,null,null,null,null,null,null,null,null,null,"①",null,null,null,null,null,null,null,null,null,null,null,null,{"$f":"IF($Q453=\"\",\"0\",VLOOKUP($Q453,登録データ!$Q$4:$R$19,2,FALSE))","v":"0"},"00","","000000","",0,{"$f":"IF($C453=\"\",\"\",IF($C453=\"@\",0,IF(COUNTIF($C$21:$C$620,$C453)=1,0,1)))","v":""},{"$f":"IF($O453=\"\",\"\",IF(OR($O453=\"北海道\",$O453=\"東京都\",$O453=\"大阪府\",$O453=\"京都府\",RIGHT($O453,1)=\"県\"),0,1))","v":""}]
[null,null,null,null,null,null,null,null,null,null,null,null,null,null,null,null,null,null,null,null,null,null,null,null,null,null,null,null,{"$f":"IF($Q454=\"\",\"0\",VLOOKUP($Q454,登録データ!$Q$4:$R$19,2,FALSE))","v":"0"},"00","","000000","",0]
[null,null,null,null,null,null,null,null,null,null,null,null,null,null,null,null,null,null,null,null,null,null,null,null,null,null,null,null,{"$f":"IF($Q455=\"\",\"0\",VLOOKUP($Q455,登録データ!$Q$4:$R$19,2,FALSE))","v":"0"},"00","","000000","",0]
[null,146,null,null,null,null,null,null,null,null,null,null,null,null,null,"①",null,null,null,null,null,null,null,null,null,null,null,null,{"$f":"IF($Q456=\"\",\"0\",VLOOKUP($Q456,登録データ!$Q$4:$R$19,2,FALSE))","v":"0"},"00","","000000","",0,{"$f":"IF($C456=\"\",\"\",IF($C456=\"@\",0,IF(COUNTIF($C$21:$C$620,$C456)=1,0,1)))","v":""},{"$f":"IF($O456=\"\",\"\",IF(OR($O456=\"北海道\",$O456=\"東京都\",$O456=\"大阪府\",$O456=\"京都府\",RIGHT($O456,1)=\"県\"),0,1))","v":""}]
[null,null,null,null,null,null,null,null,null,null,null,null,null,null,null,null,null,null,null,null,null,null,null,null,null,null,null,null,{"$f":"IF($Q457=\"\",\"0\",VLOOKUP($Q457,登録データ!$Q$4:$R$19,2,FALSE))","v":"0"},"00","","000000","",0]
[null,null,null,null,null,null,null,null,null,null,null,null,null,null,null,null,null,null,null,null,null,null,null,null,null,null,null,null,{"$f":"IF($Q458=\"\",\"0\",VLOOKUP($Q458,登録データ!$Q$4:$R$19,2,FALSE))","v":"0"},"00","","000000","",0]
[null,147,null,null,null,null,null,null,null,null,null,null,null,null,null,"①",null,null,null,null,null,null,null,null,null,null,null,null,{"$f":"IF($Q459=\"\",\"0\",VLOOKUP($Q459,登録データ!$Q$4:$R$19,2,FALSE))","v":"0"},"00","","000000","",0,{"$f":"IF($C459=\"\",\"\",IF($C459=\"@\",0,IF(COUNTIF($C$21:$C$620,$C459)=1,0,1)))","v":""},{"$f":"IF($O459=\"\",\"\",IF(OR($O459=\"北海道\",$O459=\"東京都\",$O459=\"大阪府\",$O459=\"京都府\",RIGHT($O459,1)=\"県\"),0,1))","v":""}]
[null,null,null,null,null,null,null,null,null,null,null,null,null,null,null,null,null,null,null,null,null,null,null,null,null,null,null,null,{"$f":"IF($Q460=\"\",\"0\",VLOOKUP($Q460,登録データ!$Q$4:$R$19,2,FALSE))","v":"0"},"00","","000000","",0]
[null,null,null,null,null,null,null,null,null,null,null,null,null,null,null,null,null,null,null,null,null,null,null,null,null,null,null,null,{"$f":"IF($Q461=\"\",\"0\",VLOOKUP($Q461,登録データ!$Q$4:$R$19,2,FALSE))","v":"0"},"00","","000000","",0]
[null,148,null,null,null,null,null,null,null,null,null,null,null,null,null,"①",null,null,null,null,null,null,null,null,null,null,null,null,{"$f":"IF($Q462=\"\",\"0\",VLOOKUP($Q462,登録データ!$Q$4:$R$19,2,FALSE))","v":"0"},"00","","000000","",0,{"$f":"IF($C462=\"\",\"\",IF($C462=\"@\",0,IF(COUNTIF($C$21:$C$620,$C462)=1,0,1)))","v":""},{"$f":"IF($O462=\"\",\"\",IF(OR($O462=\"北海道\",$O462=\"東京都\",$O462=\"大阪府\",$O462=\"京都府\",RIGHT($O462,1)=\"県\"),0,1))","v":""}]
[null,null,null,null,null,null,null,null,null,null,null,null,null,null,null,null,null,null,null,null,null,null,null,null,null,null,null,null,{"$f":"IF($Q463=\"\",\"0\",VLOOKUP($Q463,登録データ!$Q$4:$R$19,2,FALSE))","v":"0"},"00","","000000","",0]
[null,null,null,null,null,null,null,null,null,null,null,null,null,null,null,null,null,null,null,null,null,null,null,null,null,null,null,null,{"$f":"IF($Q464=\"\",\"0\",VLOOKUP($Q464,登録データ!$Q$4:$R$19,2,FALSE))","v":"0"},"00","","000000","",0]
[null,149,null,null,null,null,null,null,null,null,null,null,null,null,null,"①",null,null,null,null,null,null,null,null,null,null,null,null,{"$f":"IF($Q465=\"\",\"0\",VLOOKUP($Q465,登録データ!$Q$4:$R$19,2,FALSE))","v":"0"},"00","","000000","",0,{"$f":"IF($C465=\"\",\"\",IF($C465=\"@\",0,IF(COUNTIF($C$21:$C$620,$C465)=1,0,1)))","v":""},{"$f":"IF($O465=\"\",\"\",IF(OR($O465=\"北海道\",$O465=\"東京都\",$O465=\"大阪府\",$O465=\"京都府\",RIGHT($O465,1)=\"県\"),0,1))","v":""}]
[null,null,null,null,null,null,null,null,null,null,null,null,null,null,null,null,null,null,null,null,null,null,null,null,null,null,null,null,{"$f":"IF($Q466=\"\",\"0\",VLOOKUP($Q466,登録データ!$Q$4:$R$19,2,FALSE))","v":"0"},"00","","000000","",0]
[null,null,null,null,null,null,null,null,null,null,null,null,null,null,null,null,null,null,null,null,null,null,null,null,null,null,null,null,{"$f":"IF($Q467=\"\",\"0\",VLOOKUP($Q467,登録データ!$Q$4:$R$19,2,FALSE))","v":"0"},"00","","000000","",0]
[null,150,null,null,null,null,null,null,null,null,null,null,null,null,null,"①",null,null,null,null,null,null,null,null,null,null,null,null,{"$f":"IF($Q468=\"\",\"0\",VLOOKUP($Q468,登録データ!$Q$4:$R$19,2,FALSE))","v":"0"},"00","","000000","",0,{"$f":"IF($C468=\"\",\"\",IF($C468=\"@\",0,IF(COUNTIF($C$21:$C$620,$C468)=1,0,1)))","v":""},{"$f":"IF($O468=\"\",\"\",IF(OR($O468=\"北海道\",$O468=\"東京都\",$O468=\"大阪府\",$O468=\"京都府\",RIGHT($O468,1)=\"県\"),0,1))","v":""}]
[null,null,null,null,null,null,null,null,null,null,null,null,null,null,null,null,null,null,null,null,null,null,null,null,null,null,null,null,{"$f":"IF($Q469=\"\",\"0\",VLOOKUP($Q469,登録データ!$Q$4:$R$19,2,FALSE))","v":"0"},"00","",{"$f":"IF($AE469=2,IF($T469=\"\",\"0000\",CONCATENATE(RIGHT($T469+100,2),$AD469)),IF($T469=\"\",\"000000\",CONCATENATE(RIGHT($R469+100,2),RIGHT($T469+100,2),$AD469)))","v":"000000"},{"$f":"IF($Q469=\"\",\"\",CONCATENATE($AC469,\" \",IF($AE469=1,RIGHT($AF469+10000000,7),RIGHT($AF469+100000,5))))","v":""},0]
[null,null,null,null,null,null,null,null,null,null,null,null,null,null,null,null,null,null,null,null,null,null,null,null,null,null,null,null,{"$f":"IF($Q470=\"\",\"0\",VLOOKUP($Q470,登録データ!$Q$4:$R$19,2,FALSE))","v":"0"},{"$f":"IF($V470=\"\",\"00\",IF(LEN($V470)=1,$V470*10,$V470))","v":"00"},{"$f":"IF($Q470=\"\",\"\",IF(OR(RIGHT($Q470,1)=\"m\",RIGHT($Q470,1)=\"H\"),1,2))","v":""},"000000","",{"$f":"IF(OR(RIGHT($H466,1)=\"m\",RIGHT($H466,1)=\"H\",RIGHT($H466,1)=\"W\",RIGHT($H466,1)=\"C\"),IF(VALUE($K466)>59,1,0),0)","v":0}]
[null,151,null,null,null,null,null,null,null,null,null,null,null,null,null,"①",null,null,null,null,null,null,null,null,null,null,null,null,{"$f":"IF($Q471=\"\",\"0\",VLOOKUP($Q471,登録データ!$Q$4:$R$19,2,FALSE))","v":"0"},"00","","000000","",0,{"$f":"IF($C471=\"\",\"\",IF($C471=\"@\",0,IF(COUNTIF($C$21:$C$620,$C471)=1,0,1)))","v":""},{"$f":"IF($O471=\"\",\"\",IF(OR($O471=\"北海道\",$O471=\"東京都\",$O471=\"大阪府\",$O471=\"京都府\",RIGHT($O471,1)=\"県\"),0,1))","v":""}]
[null,null,null,null,null,null,null,null,null,null,null,null,null,null,null,null,null,null,null,null,null,null,null,null,null,null,null,null,{"$f":"IF($Q472=\"\",\"0\",VLOOKUP($Q472,登録データ!$Q$4:$R$19,2,FALSE))","v":"0"},"00","","000000","",0]
[null,null,null,null,null,null,null,null,null,null,null,null,null,null,null,null,null,null,null,null,null,null,null,null,null,null,null,null,{"$f":"IF($Q473=\"\",\"0\",VLOOKUP($Q473,登録データ!$Q$4:$R$19,2,FALSE))","v":"0"},"00","","000000","",0]
[null,152,null,null,null,null,null,null,null,null,null,null,null,null,null,"①",null,null,null,null,null,null,null,null,null,null,null,null,{"$f":"IF($Q474=\"\",\"0\",VLOOKUP($Q474,登録データ!$Q$4:$R$19,2,FALSE))","v":"0"},"00","","000000","",0,{"$f":"IF($C474=\"\",\"\",IF($C474=\"@\",0,IF(COUNTIF($C$21:$C$620,$C474)=1,0,1)))","v":""},{"$f":"IF($O474=\"\",\"\",IF(OR($O474=\"北海道\",$O474=\"東京都\",$O474=\"大阪府\",$O474=\"京都府\",RIGHT($O474,1)=\"県\"),0,1))","v":""}]
[null,null,null,null,null,null,null,null,null,null,null,null,null,null,null,null,null,null,null,null,null,null,null,null,null,null,null,null,{"$f":"IF($Q475=\"\",\"0\",VLOOKUP($Q475,登録データ!$Q$4:$R$19,2,FALSE))","v":"0"},"00","","000000","",0]
[null,null,null,null,null,null,null,null,null,null,null,null,null,null,null,null,null,null,null,null,null,null,null,null,null,null,null,null,{"$f":"IF($Q476=\"\",\"0\",VLOOKUP($Q476,登録データ!$Q$4:$R$19,2,FALSE))","v":"0"},"00","","000000","",0]
[null,153,null,null,null,null,null,null,null,null,null,null,null,null,null,"①",null,null,null,null,null,null,null,null,null,null,null,null,{"$f":"IF($Q477=\"\",\"0\",VLOOKUP($Q477,登録データ!$Q$4:$R$19,2,FALSE))","v":"0"},"00","","000000","",0,{"$f":"IF($C477=\"\",\"\",IF($C477=\"@\",0,IF(COUNTIF($C$21:$C$620,$C477)=1,0,1)))","v":""},{"$f":"IF($O477=\"\",\"\",IF(OR($O477=\"北海道\",$O477=\"東京都\",$O477=\"大阪府\",$O477=\"京都府\",RIGHT($O477,1)=\"県\"),0,1))","v":""}]
[null,null,null,null,null,null,null,null,null,null,null,null,null,null,null,null,null,null,null,null,null,null,null,null,null,null,null,null,{"$f":"IF($Q478=\"\",\"0\",VLOOKUP($Q478,登録データ!$Q$4:$R$19,2,FALSE))","v":"0"},"00","","000000","",0]
[null,null,null,null,null,null,null,null,null,null,null,null,null,null,null,null,null,null,null,null,null,null,null,null,null,null,null,null,{"$f":"IF($Q479=\"\",\"0\",VLOOKUP($Q479,登録データ!$Q$4:$R$19,2,FALSE))","v":"0"},"00","","000000","",0]
[null,154,null,null,null,null,null,null,null,null,null,null,null,null,null,"①",null,null,null,null,null,null,null,null,null,null,null,null,{"$f":"IF($Q480=\"\",\"0\",VLOOKUP($Q480,登録データ!$Q$4:$R$19,2,FALSE))","v":"0"},"00","","000000","",0,{"$f":"IF($C480=\"\",\"\",IF($C480=\"@\",0,IF(COUNTIF($C$21:$C$620,$C480)=1,0,1)))","v":""},{"$f":"IF($O480=\"\",\"\",IF(OR($O480=\"北海道\",$O480=\"東京都\",$O480=\"大阪府\",$O480=\"京都府\",RIGHT($O480,1)=\"県\"),0,1))","v":""}]
[null,null,null,null,null,null,null,null,null,null,null,null,null,null,null,null,null,null,null,null,null,null,null,null,null,null,null,null,{"$f":"IF($Q481=\"\",\"0\",VLOOKUP($Q481,登録データ!$Q$4:$R$19,2,FALSE))","v":"0"},"00","","000000","",0]
[null,null,null,null,null,null,null,null,null,null,null,null,null,null,null,null,null,null,null,null,null,null,null,null,null,null,null,null,{"$f":"IF($Q482=\"\",\"0\",VLOOKUP($Q482,登録データ!$Q$4:$R$19,2,FALSE))","v":"0"},"00","","000000","",0]
[null,155,null,null,null,null,null,null,null,null,null,null,null,null,null,"①",null,null,null,null,null,null,null,null,null,null,null,null,{"$f":"IF($Q483=\"\",\"0\",VLOOKUP($Q483,登録データ!$Q$4:$R$19,2,FALSE))","v":"0"},"00","","000000","",0,{"$f":"IF($C483=\"\",\"\",IF($C483=\"@\",0,IF(COUNTIF($C$21:$C$620,$C483)=1,0,1)))","v":""},{"$f":"IF($O483=\"\",\"\",IF(OR($O483=\"北海道\",$O483=\"東京都\",$O483=\"大阪府\",$O483=\"京都府\",RIGHT($O483,1)=\"県\"),0,1))","v":""}]
[null,null,null,null,null,null,null,null,null,null,null,null,null,null,null,null,null,null,null,null,null,null,null,null,null,null,null,null,{"$f":"IF($Q484=\"\",\"0\",VLOOKUP($Q484,登録データ!$Q$4:$R$19,2,FALSE))","v":"0"},"00","","000000","",0]
[null,null,null,null,null,null,null,null,null,null,null,null,null,null,null,null,null,null,null,null,null,null,null,null,null,null,null,null,{"$f":"IF($Q485=\"\",\"0\",VLOOKUP($Q485,登録データ!$Q$4:$R$19,2,FALSE))","v":"0"},"00","","000000","",0]
[null,156,null,null,null,null,null,null,null,null,null,null,null,null,null,"①",null,null,null,null,null,null,null,null,null,null,null,null,{"$f":"IF($Q486=\"\",\"0\",VLOOKUP($Q486,登録データ!$Q$4:$R$19,2,FALSE))","v":"0"},"00","","000000","",0,{"$f":"IF($C486=\"\",\"\",IF($C486=\"@\",0,IF(COUNTIF($C$21:$C$620,$C486)=1,0,1)))","v":""},{"$f":"IF($O486=\"\",\"\",IF(OR($O486=\"北海道\",$O486=\"東京都\",$O486=\"大阪府\",$O486=\"京都府\",RIGHT($O486,1)=\"県\"),0,1))","v":""}]
[null,null,null,null,null,null,null,null,null,null,null,null,null,null,null,null,null,null,null,null,null,null,null,null,null,null,null,null,{"$f":"IF($Q487=\"\",\"0\",VLOOKUP($Q487,登録データ!$Q$4:$R$19,2,FALSE))","v":"0"},"00","","000000","",0]
[null,null,null,null,null,null,null,null,null,null,null,null,null,null,null,null,null,null,null,null,null,null,null,null,null,null,null,null,{"$f":"IF($Q488=\"\",\"0\",VLOOKUP($Q488,登録データ!$Q$4:$R$19,2,FALSE))","v":"0"},"00","","000000","",0]
[null,157,null,null,null,null,null,null,null,null,null,null,null,null,null,"①",null,null,null,null,null,null,null,null,null,null,null,null,{"$f":"IF($Q489=\"\",\"0\",VLOOKUP($Q489,登録データ!$Q$4:$R$19,2,FALSE))","v":"0"},"00","","000000","",0,{"$f":"IF($C489=\"\",\"\",IF($C489=\"@\",0,IF(COUNTIF($C$21:$C$620,$C489)=1,0,1)))","v":""},{"$f":"IF($O489=\"\",\"\",IF(OR($O489=\"北海道\",$O489=\"東京都\",$O489=\"大阪府\",$O489=\"京都府\",RIGHT($O489,1)=\"県\"),0,1))","v":""}]
[null,null,null,null,null,null,null,null,null,null,null,null,null,null,null,null,null,null,null,null,null,null,null,null,null,null,null,null,{"$f":"IF($Q490=\"\",\"0\",VLOOKUP($Q490,登録データ!$Q$4:$R$19,2,FALSE))","v":"0"},"00","","000000","",0]
[null,null,null,null,null,null,null,null,null,null,null,null,null,null,null,null,null,null,null,null,null,null,null,null,null,null,null,null,{"$f":"IF($Q491=\"\",\"0\",VLOOKUP($Q491,登録データ!$Q$4:$R$19,2,FALSE))","v":"0"},"00","","000000","",0]
[null,158,null,null,null,null,null,null,null,null,null,null,null,null,null,"①",null,null,null,null,null,null,null,null,null,null,null,null,{"$f":"IF($Q492=\"\",\"0\",VLOOKUP($Q492,登録データ!$Q$4:$R$19,2,FALSE))","v":"0"},"00","","000000","",0,{"$f":"IF($C492=\"\",\"\",IF($C492=\"@\",0,IF(COUNTIF($C$21:$C$620,$C492)=1,0,1)))","v":""},{"$f":"IF($O492=\"\",\"\",IF(OR($O492=\"北海道\",$O492=\"東京都\",$O492=\"大阪府\",$O492=\"京都府\",RIGHT($O492,1)=\"県\"),0,1))","v":""}]
[null,null,null,null,null,null,null,null,null,null,null,null,null,null,null,null,null,null,null,null,null,null,null,null,null,null,null,null,{"$f":"IF($Q493=\"\",\"0\",VLOOKUP($Q493,登録データ!$Q$4:$R$19,2,FALSE))","v":"0"},"00","","000000","",0]
[null,null,null,null,null,null,null,null,null,null,null,null,null,null,null,null,null,null,null,null,null,null,null,null,null,null,null,null,{"$f":"IF($Q494=\"\",\"0\",VLOOKUP($Q494,登録データ!$Q$4:$R$19,2,FALSE))","v":"0"},"00","","000000","",0]
[null,159,null,null,null,null,null,null,null,null,null,null,null,null,null,"①",null,null,null,null,null,null,null,null,null,null,null,null,{"$f":"IF($Q495=\"\",\"0\",VLOOKUP($Q495,登録データ!$Q$4:$R$19,2,FALSE))","v":"0"},"00","","000000","",0,{"$f":"IF($C495=\"\",\"\",IF($C495=\"@\",0,IF(COUNTIF($C$21:$C$620,$C495)=1,0,1)))","v":""},{"$f":"IF($O495=\"\",\"\",IF(OR($O495=\"北海道\",$O495=\"東京都\",$O495=\"大阪府\",$O495=\"京都府\",RIGHT($O495,1)=\"県\"),0,1))","v":""}]
[null,null,null,null,null,null,null,null,null,null,null,null,null,null,null,null,null,null,null,null,null,null,null,null,null,null,null,null,{"$f":"IF($Q496=\"\",\"0\",VLOOKUP($Q496,登録データ!$Q$4:$R$19,2,FALSE))","v":"0"},"00","","000000","",0]
[null,null,null,null,null,null,null,null,null,null,null,null,null,null,null,null,null,null,null,null,null,null,null,null,null,null,null,null,{"$f":"IF($Q497=\"\",\"0\",VLOOKUP($Q497,登録データ!$Q$4:$R$19,2,FALSE))","v":"0"},"00","","000000","",0]
[null,160,null,null,null,null,null,null,null,null,null,null,null,null,null,"①",null,null,null,null,null,null,null,null,null,null,null,null,{"$f":"IF($Q498=\"\",\"0\",VLOOKUP($Q498,登録データ!$Q$4:$R$19,2,FALSE))","v":"0"},"00","","000000","",0,{"$f":"IF($C498=\"\",\"\",IF($C498=\"@\",0,IF(COUNTIF($C$21:$C$620,$C498)=1,0,1)))","v":""},{"$f":"IF($O498=\"\",\"\",IF(OR($O498=\"北海道\",$O498=\"東京都\",$O498=\"大阪府\",$O498=\"京都府\",RIGHT($O498,1)=\"県\"),0,1))","v":""}]
[null,null,null,null,null,null,null,null,null,null,null,null,null,null,null,null,null,null,null,null,null,null,null,null,null,null,null,null,{"$f":"IF($Q499=\"\",\"0\",VLOOKUP($Q499,登録データ!$Q$4:$R$19,2,FALSE))","v":"0"},"00","","000000","",0]
[null,null,null,null,null,null,null,null,null,null,null,null,null,null,null,null,null,null,null,null,null,null,null,null,null,null,null,null,{"$f":"IF($Q500=\"\",\"0\",VLOOKUP($Q500,登録データ!$Q$4:$R$19,2,FALSE))","v":"0"},"00","","000000","",0]
[null,161,null,null,null,null,null,null,null,null,null,null,null,null,null,"①",null,null,null,null,null,null,null,null,null,null,null,null,{"$f":"IF($Q501=\"\",\"0\",VLOOKUP($Q501,登録データ!$Q$4:$R$19,2,FALSE))","v":"0"},"00","","000000","",0,{"$f":"IF($C501=\"\",\"\",IF($C501=\"@\",0,IF(COUNTIF($C$21:$C$620,$C501)=1,0,1)))","v":""},{"$f":"IF($O501=\"\",\"\",IF(OR($O501=\"北海道\",$O501=\"東京都\",$O501=\"大阪府\",$O501=\"京都府\",RIGHT($O501,1)=\"県\"),0,1))","v":""}]
[null,null,null,null,null,null,null,null,null,null,null,null,null,null,null,null,null,null,null,null,null,null,null,null,null,null,null,null,{"$f":"IF($Q502=\"\",\"0\",VLOOKUP($Q502,登録データ!$Q$4:$R$19,2,FALSE))","v":"0"},"00","","000000","",0]
[null,null,null,null,null,null,null,null,null,null,null,null,null,null,null,null,null,null,null,null,null,null,null,null,null,null,null,null,{"$f":"IF($Q503=\"\",\"0\",VLOOKUP($Q503,登録データ!$Q$4:$R$19,2,FALSE))","v":"0"},"00","","000000","",0]
[null,162,null,null,null,null,null,null,null,null,null,null,null,null,null,"①",null,null,null,null,null,null,null,null,null,null,null,null,{"$f":"IF($Q504=\"\",\"0\",VLOOKUP($Q504,登録データ!$Q$4:$R$19,2,FALSE))","v":"0"},"00","","000000","",0,{"$f":"IF($C504=\"\",\"\",IF($C504=\"@\",0,IF(COUNTIF($C$21:$C$620,$C504)=1,0,1)))","v":""},{"$f":"IF($O504=\"\",\"\",IF(OR($O504=\"北海道\",$O504=\"東京都\",$O504=\"大阪府\",$O504=\"京都府\",RIGHT($O504,1)=\"県\"),0,1))","v":""}]
[null,null,null,null,null,null,null,null,null,null,null,null,null,null,null,null,null,null,null,null,null,null,null,null,null,null,null,null,{"$f":"IF($Q505=\"\",\"0\",VLOOKUP($Q505,登録データ!$Q$4:$R$19,2,FALSE))","v":"0"},"00","","000000","",0]
[null,null,null,null,null,null,null,null,null,null,null,null,null,null,null,null,null,null,null,null,null,null,null,null,null,null,null,null,{"$f":"IF($Q506=\"\",\"0\",VLOOKUP($Q506,登録データ!$Q$4:$R$19,2,FALSE))","v":"0"},"00","","000000","",0]
[null,163,null,null,null,null,null,null,null,null,null,null,null,null,null,"①",null,null,null,null,null,null,null,null,null,null,null,null,{"$f":"IF($Q507=\"\",\"0\",VLOOKUP($Q507,登録データ!$Q$4:$R$19,2,FALSE))","v":"0"},"00","","000000","",0,{"$f":"IF($C507=\"\",\"\",IF($C507=\"@\",0,IF(COUNTIF($C$21:$C$620,$C507)=1,0,1)))","v":""},{"$f":"IF($O507=\"\",\"\",IF(OR($O507=\"北海道\",$O507=\"東京都\",$O507=\"大阪府\",$O507=\"京都府\",RIGHT($O507,1)=\"県\"),0,1))","v":""}]
[null,null,null,null,null,null,null,null,null,null,null,null,null,null,null,null,null,null,null,null,null,null,null,null,null,null,null,null,{"$f":"IF($Q508=\"\",\"0\",VLOOKUP($Q508,登録データ!$Q$4:$R$19,2,FALSE))","v":"0"},"00","","000000","",0]
[null,null,null,null,null,null,null,null,null,null,null,null,null,null,null,null,null,null,null,null,null,null,null,null,null,null,null,null,{"$f":"IF($Q509=\"\",\"0\",VLOOKUP($Q509,登録データ!$Q$4:$R$19,2,FALSE))","v":"0"},"00","","000000","",0]
[null,164,null,null,null,null,null,null,null,null,null,null,null,null,null,"①",null,null,null,null,null,null,null,null,null,null,null,null,{"$f":"IF($Q510=\"\",\"0\",VLOOKUP($Q510,登録データ!$Q$4:$R$19,2,FALSE))","v":"0"},"00","","000000","",0,{"$f":"IF($C510=\"\",\"\",IF($C510=\"@\",0,IF(COUNTIF($C$21:$C$620,$C510)=1,0,1)))","v":""},{"$f":"IF($O510=\"\",\"\",IF(OR($O510=\"北海道\",$O510=\"東京都\",$O510=\"大阪府\",$O510=\"京都府\",RIGHT($O510,1)=\"県\"),0,1))","v":""}]
[null,null,null,null,null,null,null,null,null,null,null,null,null,null,null,null,null,null,null,null,null,null,null,null,null,null,null,null,{"$f":"IF($Q511=\"\",\"0\",VLOOKUP($Q511,登録データ!$Q$4:$R$19,2,FALSE))","v":"0"},"00","","000000","",0]
[null,null,null,null,null,null,null,null,null,null,null,null,null,null,null,null,null,null,null,null,null,null,null,null,null,null,null,null,{"$f":"IF($Q512=\"\",\"0\",VLOOKUP($Q512,登録データ!$Q$4:$R$19,2,FALSE))","v":"0"},"00","","000000","",0]
[null,165,null,null,null,null,null,null,null,null,null,null,null,null,null,"①",null,null,null,null,null,null,null,null,null,null,null,null,{"$f":"IF($Q513=\"\",\"0\",VLOOKUP($Q513,登録データ!$Q$4:$R$19,2,FALSE))","v":"0"},"00","","000000","",0,{"$f":"IF($C513=\"\",\"\",IF($C513=\"@\",0,IF(COUNTIF($C$21:$C$620,$C513)=1,0,1)))","v":""},{"$f":"IF($O513=\"\",\"\",IF(OR($O513=\"北海道\",$O513=\"東京都\",$O513=\"大阪府\",$O513=\"京都府\",RIGHT($O513,1)=\"県\"),0,1))","v":""}]
[null,null,null,null,null,null,null,null,null,null,null,null,null,null,null,null,null,null,null,null,null,null,null,null,null,null,null,null,{"$f":"IF($Q514=\"\",\"0\",VLOOKUP($Q514,登録データ!$Q$4:$R$19,2,FALSE))","v":"0"},"00","","000000","",0]
[null,null,null,null,null,null,null,null,null,null,null,null,null,null,null,null,null,null,null,null,null,null,null,null,null,null,null,null,{"$f":"IF($Q515=\"\",\"0\",VLOOKUP($Q515,登録データ!$Q$4:$R$19,2,FALSE))","v":"0"},"00","","000000","",0]
[null,166,null,null,null,null,null,null,null,null,null,null,null,null,null,"①",null,null,null,null,null,null,null,null,null,null,null,null,{"$f":"IF($Q516=\"\",\"0\",VLOOKUP($Q516,登録データ!$Q$4:$R$19,2,FALSE))","v":"0"},"00","","000000","",0,{"$f":"IF($C516=\"\",\"\",IF($C516=\"@\",0,IF(COUNTIF($C$21:$C$620,$C516)=1,0,1)))","v":""},{"$f":"IF($O516=\"\",\"\",IF(OR($O516=\"北海道\",$O516=\"東京都\",$O516=\"大阪府\",$O516=\"京都府\",RIGHT($O516,1)=\"県\"),0,1))","v":""}]
[null,null,null,null,null,null,null,null,null,null,null,null,null,null,null,null,null,null,null,null,null,null,null,null,null,null,null,null,{"$f":"IF($Q517=\"\",\"0\",VLOOKUP($Q517,登録データ!$Q$4:$R$19,2,FALSE))","v":"0"},"00","","000000","",0]
[null,null,null,null,null,null,null,null,null,null,null,null,null,null,null,null,null,null,null,null,null,null,null,null,null,null,null,null,{"$f":"IF($Q518=\"\",\"0\",VLOOKUP($Q518,登録データ!$Q$4:$R$19,2,FALSE))","v":"0"},"00","","000000","",0]
[null,167,null,null,null,null,null,null,null,null,null,null,null,null,null,"①",null,null,null,null,null,null,null,null,null,null,null,null,{"$f":"IF($Q519=\"\",\"0\",VLOOKUP($Q519,登録データ!$Q$4:$R$19,2,FALSE))","v":"0"},"00","","000000","",0,{"$f":"IF($C519=\"\",\"\",IF($C519=\"@\",0,IF(COUNTIF($C$21:$C$620,$C519)=1,0,1)))","v":""},{"$f":"IF($O519=\"\",\"\",IF(OR($O519=\"北海道\",$O519=\"東京都\",$O519=\"大阪府\",$O519=\"京都府\",RIGHT($O519,1)=\"県\"),0,1))","v":""}]
[null,null,null,null,null,null,null,null,null,null,null,null,null,null,null,null,null,null,null,null,null,null,null,null,null,null,null,null,{"$f":"IF($Q520=\"\",\"0\",VLOOKUP($Q520,登録データ!$Q$4:$R$19,2,FALSE))","v":"0"},"00","","000000","",0]
[null,null,null,null,null,null,null,null,null,null,null,null,null,null,null,null,null,null,null,null,null,null,null,null,null,null,null,null,{"$f":"IF($Q521=\"\",\"0\",VLOOKUP($Q521,登録データ!$Q$4:$R$19,2,FALSE))","v":"0"},"00","","000000","",0]
[null,168,null,null,null,null,null,null,null,null,null,null,null,null,null,"①",null,null,null,null,null,null,null,null,null,null,null,null,{"$f":"IF($Q522=\"\",\"0\",VLOOKUP($Q522,登録データ!$Q$4:$R$19,2,FALSE))","v":"0"},"00","","000000","",0,{"$f":"IF($C522=\"\",\"\",IF($C522=\"@\",0,IF(COUNTIF($C$21:$C$620,$C522)=1,0,1)))","v":""},{"$f":"IF($O522=\"\",\"\",IF(OR($O522=\"北海道\",$O522=\"東京都\",$O522=\"大阪府\",$O522=\"京都府\",RIGHT($O522,1)=\"県\"),0,1))","v":""}]
[null,null,null,null,null,null,null,null,null,null,null,null,null,null,null,null,null,null,null,null,null,null,null,null,null,null,null,null,{"$f":"IF($Q523=\"\",\"0\",VLOOKUP($Q523,登録データ!$Q$4:$R$19,2,FALSE))","v":"0"},"00","","000000","",0]
[null,null,null,null,null,null,null,null,null,null,null,null,null,null,null,null,null,null,null,null,null,null,null,null,null,null,null,null,{"$f":"IF($Q524=\"\",\"0\",VLOOKUP($Q524,登録データ!$Q$4:$R$19,2,FALSE))","v":"0"},"00","","000000","",0]
[null,169,null,null,null,null,null,null,null,null,null,null,null,null,null,"①",null,null,null,null,null,null,null,null,null,null,null,null,{"$f":"IF($Q525=\"\",\"0\",VLOOKUP($Q525,登録データ!$Q$4:$R$19,2,FALSE))","v":"0"},"00","","000000","",0,{"$f":"IF($C525=\"\",\"\",IF($C525=\"@\",0,IF(COUNTIF($C$21:$C$620,$C525)=1,0,1)))","v":""},{"$f":"IF($O525=\"\",\"\",IF(OR($O525=\"北海道\",$O525=\"東京都\",$O525=\"大阪府\",$O525=\"京都府\",RIGHT($O525,1)=\"県\"),0,1))","v":""}]
[null,null,null,null,null,null,null,null,null,null,null,null,null,null,null,null,null,null,null,null,null,null,null,null,null,null,null,null,{"$f":"IF($Q526=\"\",\"0\",VLOOKUP($Q526,登録データ!$Q$4:$R$19,2,FALSE))","v":"0"},"00","","000000","",0]
[null,null,null,null,null,null,null,null,null,null,null,null,null,null,null,null,null,null,null,null,null,null,null,null,null,null,null,null,{"$f":"IF($Q527=\"\",\"0\",VLOOKUP($Q527,登録データ!$Q$4:$R$19,2,FALSE))","v":"0"},"00","","000000","",0]
[null,170,null,null,null,null,null,null,null,null,null,null,null,null,null,"①",null,null,null,null,null,null,null,null,null,null,null,null,{"$f":"IF($Q528=\"\",\"0\",VLOOKUP($Q528,登録データ!$Q$4:$R$19,2,FALSE))","v":"0"},"00","","000000","",0,{"$f":"IF($C528=\"\",\"\",IF($C528=\"@\",0,IF(COUNTIF($C$21:$C$620,$C528)=1,0,1)))","v":""},{"$f":"IF($O528=\"\",\"\",IF(OR($O528=\"北海道\",$O528=\"東京都\",$O528=\"大阪府\",$O528=\"京都府\",RIGHT($O528,1)=\"県\"),0,1))","v":""}]
[null,null,null,null,null,null,null,null,null,null,null,null,null,null,null,null,null,null,null,null,null,null,null,null,null,null,null,null,{"$f":"IF($Q529=\"\",\"0\",VLOOKUP($Q529,登録データ!$Q$4:$R$19,2,FALSE))","v":"0"},"00","","000000","",0]
[null,null,null,null,null,null,null,null,null,null,null,null,null,null,null,null,null,null,null,null,null,null,null,null,null,null,null,null,{"$f":"IF($Q530=\"\",\"0\",VLOOKUP($Q530,登録データ!$Q$4:$R$19,2,FALSE))","v":"0"},"00","","000000","",0]
[null,171,null,null,null,null,null,null,null,null,null,null,null,null,null,"①",null,null,null,null,null,null,null,null,null,null,null,null,{"$f":"IF($Q531=\"\",\"0\",VLOOKUP($Q531,登録データ!$Q$4:$R$19,2,FALSE))","v":"0"},"00","","000000","",0,{"$f":"IF($C531=\"\",\"\",IF($C531=\"@\",0,IF(COUNTIF($C$21:$C$620,$C531)=1,0,1)))","v":""},{"$f":"IF($O531=\"\",\"\",IF(OR($O531=\"北海道\",$O531=\"東京都\",$O531=\"大阪府\",$O531=\"京都府\",RIGHT($O531,1)=\"県\"),0,1))","v":""}]
[null,null,null,null,null,null,null,null,null,null,null,null,null,null,null,null,null,null,null,null,null,null,null,null,null,null,null,null,{"$f":"IF($Q532=\"\",\"0\",VLOOKUP($Q532,登録データ!$Q$4:$R$19,2,FALSE))","v":"0"},"00","","000000","",0]
[null,null,null,null,null,null,null,null,null,null,null,null,null,null,null,null,null,null,null,null,null,null,null,null,null,null,null,null,{"$f":"IF($Q533=\"\",\"0\",VLOOKUP($Q533,登録データ!$Q$4:$R$19,2,FALSE))","v":"0"},"00","",{"$f":"IF($AE533=2,IF($T533=\"\",\"0000\",CONCATENATE(RIGHT($T533+100,2),$AD533)),IF($T533=\"\",\"000000\",CONCATENATE(RIGHT($R533+100,2),RIGHT($T533+100,2),$AD533)))","v":"000000"},{"$f":"IF($Q533=\"\",\"\",CONCATENATE($AC533,\" \",IF($AE533=1,RIGHT($AF533+10000000,7),RIGHT($AF533+100000,5))))","v":""},0]
[null,172,null,null,null,null,null,null,null,null,null,null,null,null,null,"①",null,null,null,null,null,null,null,null,null,null,null,null,{"$f":"IF($Q534=\"\",\"0\",VLOOKUP($Q534,登録データ!$Q$4:$R$19,2,FALSE))","v":"0"},{"$f":"IF($V534=\"\",\"00\",IF(LEN($V534)=1,$V534*10,$V534))","v":"00"},{"$f":"IF($Q534=\"\",\"\",IF(OR(RIGHT($Q534,1)=\"m\",RIGHT($Q534,1)=\"H\"),1,2))","v":""},"000000","",{"$f":"IF(OR(RIGHT($H530,1)=\"m\",RIGHT($H530,1)=\"H\",RIGHT($H530,1)=\"W\",RIGHT($H530,1)=\"C\"),IF(VALUE($K530)>59,1,0),0)","v":0},{"$f":"IF($C534=\"\",\"\",IF($C534=\"@\",0,IF(COUNTIF($C$21:$C$620,$C534)=1,0,1)))","v":""},{"$f":"IF($O534=\"\",\"\",IF(OR($O534=\"北海道\",$O534=\"東京都\",$O534=\"大阪府\",$O534=\"京都府\",RIGHT($O534,1)=\"県\"),0,1))","v":""}]
[null,null,null,null,null,null,null,null,null,null,null,null,null,null,null,null,null,null,null,null,null,null,null,null,null,null,null,null,{"$f":"IF($Q535=\"\",\"0\",VLOOKUP($Q535,登録データ!$Q$4:$R$19,2,FALSE))","v":"0"},"00","","000000","",0]
[null,null,null,null,null,null,null,null,null,null,null,null,null,null,null,null,null,null,null,null,null,null,null,null,null,null,null,null,{"$f":"IF($Q536=\"\",\"0\",VLOOKUP($Q536,登録データ!$Q$4:$R$19,2,FALSE))","v":"0"},"00","","000000","",0]
[null,173,null,null,null,null,null,null,null,null,null,null,null,null,null,"①",null,null,null,null,null,null,null,null,null,null,null,null,{"$f":"IF($Q537=\"\",\"0\",VLOOKUP($Q537,登録データ!$Q$4:$R$19,2,FALSE))","v":"0"},"00","","000000","",0,{"$f":"IF($C537=\"\",\"\",IF($C537=\"@\",0,IF(COUNTIF($C$21:$C$620,$C537)=1,0,1)))","v":""},{"$f":"IF($O537=\"\",\"\",IF(OR($O537=\"北海道\",$O537=\"東京都\",$O537=\"大阪府\",$O537=\"京都府\",RIGHT($O537,1)=\"県\"),0,1))","v":""}]
[null,null,null,null,null,null,null,null,null,null,null,null,null,null,null,null,null,null,null,null,null,null,null,null,null,null,null,null,{"$f":"IF($Q538=\"\",\"0\",VLOOKUP($Q538,登録データ!$Q$4:$R$19,2,FALSE))","v":"0"},"00","","000000","",0]
[null,null,null,null,null,null,null,null,null,null,null,null,null,null,null,null,null,null,null,null,null,null,null,null,null,null,null,null,{"$f":"IF($Q539=\"\",\"0\",VLOOKUP($Q539,登録データ!$Q$4:$R$19,2,FALSE))","v":"0"},"00","","000000","",0]
[null,174,null,null,null,null,null,null,null,null,null,null,null,null,null,"①",null,null,null,null,null,null,null,null,null,null,null,null,{"$f":"IF($Q540=\"\",\"0\",VLOOKUP($Q540,登録データ!$Q$4:$R$19,2,FALSE))","v":"0"},"00","","000000","",0,{"$f":"IF($C540=\"\",\"\",IF($C540=\"@\",0,IF(COUNTIF($C$21:$C$620,$C540)=1,0,1)))","v":""},{"$f":"IF($O540=\"\",\"\",IF(OR($O540=\"北海道\",$O540=\"東京都\",$O540=\"大阪府\",$O540=\"京都府\",RIGHT($O540,1)=\"県\"),0,1))","v":""}]
[null,null,null,null,null,null,null,null,null,null,null,null,null,null,null,null,null,null,null,null,null,null,null,null,null,null,null,null,{"$f":"IF($Q541=\"\",\"0\",VLOOKUP($Q541,登録データ!$Q$4:$R$19,2,FALSE))","v":"0"},"00","","000000","",0]
[null,null,null,null,null,null,null,null,null,null,null,null,null,null,null,null,null,null,null,null,null,null,null,null,null,null,null,null,{"$f":"IF($Q542=\"\",\"0\",VLOOKUP($Q542,登録データ!$Q$4:$R$19,2,FALSE))","v":"0"},"00","","000000","",0]
[null,175,null,null,null,null,null,null,null,null,null,null,null,null,null,"①",null,null,null,null,null,null,null,null,null,null,null,null,{"$f":"IF($Q543=\"\",\"0\",VLOOKUP($Q543,登録データ!$Q$4:$R$19,2,FALSE))","v":"0"},"00","","000000","",0,{"$f":"IF($C543=\"\",\"\",IF($C543=\"@\",0,IF(COUNTIF($C$21:$C$620,$C543)=1,0,1)))","v":""},{"$f":"IF($O543=\"\",\"\",IF(OR($O543=\"北海道\",$O543=\"東京都\",$O543=\"大阪府\",$O543=\"京都府\",RIGHT($O543,1)=\"県\"),0,1))","v":""}]
[null,null,null,null,null,null,null,null,null,null,null,null,null,null,null,null,null,null,null,null,null,null,null,null,null,null,null,null,{"$f":"IF($Q544=\"\",\"0\",VLOOKUP($Q544,登録データ!$Q$4:$R$19,2,FALSE))","v":"0"},"00","","000000","",0]
[null,null,null,null,null,null,null,null,null,null,null,null,null,null,null,null,null,null,null,null,null,null,null,null,null,null,null,null,{"$f":"IF($Q545=\"\",\"0\",VLOOKUP($Q545,登録データ!$Q$4:$R$19,2,FALSE))","v":"0"},"00","","000000","",0]
[null,176,null,null,null,null,null,null,null,null,null,null,null,null,null,"①",null,null,null,null,null,null,null,null,null,null,null,null,{"$f":"IF($Q546=\"\",\"0\",VLOOKUP($Q546,登録データ!$Q$4:$R$19,2,FALSE))","v":"0"},"00","","000000","",0,{"$f":"IF($C546=\"\",\"\",IF($C546=\"@\",0,IF(COUNTIF($C$21:$C$620,$C546)=1,0,1)))","v":""},{"$f":"IF($O546=\"\",\"\",IF(OR($O546=\"北海道\",$O546=\"東京都\",$O546=\"大阪府\",$O546=\"京都府\",RIGHT($O546,1)=\"県\"),0,1))","v":""}]
[null,null,null,null,null,null,null,null,null,null,null,null,null,null,null,null,null,null,null,null,null,null,null,null,null,null,null,null,{"$f":"IF($Q547=\"\",\"0\",VLOOKUP($Q547,登録データ!$Q$4:$R$19,2,FALSE))","v":"0"},"00","","000000","",0]
[null,null,null,null,null,null,null,null,null,null,null,null,null,null,null,null,null,null,null,null,null,null,null,null,null,null,null,null,{"$f":"IF($Q548=\"\",\"0\",VLOOKUP($Q548,登録データ!$Q$4:$R$19,2,FALSE))","v":"0"},"00","","000000","",0]
[null,177,null,null,null,null,null,null,null,null,null,null,null,null,null,"①",null,null,null,null,null,null,null,null,null,null,null,null,{"$f":"IF($Q549=\"\",\"0\",VLOOKUP($Q549,登録データ!$Q$4:$R$19,2,FALSE))","v":"0"},"00","","000000","",0,{"$f":"IF($C549=\"\",\"\",IF($C549=\"@\",0,IF(COUNTIF($C$21:$C$620,$C549)=1,0,1)))","v":""},{"$f":"IF($O549=\"\",\"\",IF(OR($O549=\"北海道\",$O549=\"東京都\",$O549=\"大阪府\",$O549=\"京都府\",RIGHT($O549,1)=\"県\"),0,1))","v":""}]
[null,null,null,null,null,null,null,null,null,null,null,null,null,null,null,null,null,null,null,null,null,null,null,null,null,null,null,null,{"$f":"IF($Q550=\"\",\"0\",VLOOKUP($Q550,登録データ!$Q$4:$R$19,2,FALSE))","v":"0"},"00","","000000","",0]
[null,null,null,null,null,null,null,null,null,null,null,null,null,null,null,null,null,null,null,null,null,null,null,null,null,null,null,null,{"$f":"IF($Q551=\"\",\"0\",VLOOKUP($Q551,登録データ!$Q$4:$R$19,2,FALSE))","v":"0"},"00","","000000","",0]
[null,178,null,null,null,null,null,null,null,null,null,null,null,null,null,"①",null,null,null,null,null,null,null,null,null,null,null,null,{"$f":"IF($Q552=\"\",\"0\",VLOOKUP($Q552,登録データ!$Q$4:$R$19,2,FALSE))","v":"0"},"00","","000000","",0,{"$f":"IF($C552=\"\",\"\",IF($C552=\"@\",0,IF(COUNTIF($C$21:$C$620,$C552)=1,0,1)))","v":""},{"$f":"IF($O552=\"\",\"\",IF(OR($O552=\"北海道\",$O552=\"東京都\",$O552=\"大阪府\",$O552=\"京都府\",RIGHT($O552,1)=\"県\"),0,1))","v":""}]
[null,null,null,null,null,null,null,null,null,null,null,null,null,null,null,null,null,null,null,null,null,null,null,null,null,null,null,null,{"$f":"IF($Q553=\"\",\"0\",VLOOKUP($Q553,登録データ!$Q$4:$R$19,2,FALSE))","v":"0"},"00","","000000","",0]
[null,null,null,null,null,null,null,null,null,null,null,null,null,null,null,null,null,null,null,null,null,null,null,null,null,null,null,null,{"$f":"IF($Q554=\"\",\"0\",VLOOKUP($Q554,登録データ!$Q$4:$R$19,2,FALSE))","v":"0"},"00","","000000","",0]
[null,179,null,null,null,null,null,null,null,null,null,null,null,null,null,"①",null,null,null,null,null,null,null,null,null,null,null,null,{"$f":"IF($Q555=\"\",\"0\",VLOOKUP($Q555,登録データ!$Q$4:$R$19,2,FALSE))","v":"0"},"00","","000000","",0,{"$f":"IF($C555=\"\",\"\",IF($C555=\"@\",0,IF(COUNTIF($C$21:$C$620,$C555)=1,0,1)))","v":""},{"$f":"IF($O555=\"\",\"\",IF(OR($O555=\"北海道\",$O555=\"東京都\",$O555=\"大阪府\",$O555=\"京都府\",RIGHT($O555,1)=\"県\"),0,1))","v":""}]
[null,null,null,null,null,null,null,null,null,null,null,null,null,null,null,null,null,null,null,null,null,null,null,null,null,null,null,null,{"$f":"IF($Q556=\"\",\"0\",VLOOKUP($Q556,登録データ!$Q$4:$R$19,2,FALSE))","v":"0"},"00","","000000","",0]
[null,null,null,null,null,null,null,null,null,null,null,null,null,null,null,null,null,null,null,null,null,null,null,null,null,null,null,null,{"$f":"IF($Q557=\"\",\"0\",VLOOKUP($Q557,登録データ!$Q$4:$R$19,2,FALSE))","v":"0"},"00","","000000","",0]
[null,180,null,null,null,null,null,null,null,null,null,null,null,null,null,"①",null,null,null,null,null,null,null,null,null,null,null,null,{"$f":"IF($Q558=\"\",\"0\",VLOOKUP($Q558,登録データ!$Q$4:$R$19,2,FALSE))","v":"0"},"00","","000000","",0,{"$f":"IF($C558=\"\",\"\",IF($C558=\"@\",0,IF(COUNTIF($C$21:$C$620,$C558)=1,0,1)))","v":""},{"$f":"IF($O558=\"\",\"\",IF(OR($O558=\"北海道\",$O558=\"東京都\",$O558=\"大阪府\",$O558=\"京都府\",RIGHT($O558,1)=\"県\"),0,1))","v":""}]
[null,null,null,null,null,null,null,null,null,null,null,null,null,null,null,null,null,null,null,null,null,null,null,null,null,null,null,null,{"$f":"IF($Q559=\"\",\"0\",VLOOKUP($Q559,登録データ!$Q$4:$R$19,2,FALSE))","v":"0"},"00","","000000","",0]
[null,null,null,null,null,null,null,null,null,null,null,null,null,null,null,null,null,null,null,null,null,null,null,null,null,null,null,null,{"$f":"IF($Q560=\"\",\"0\",VLOOKUP($Q560,登録データ!$Q$4:$R$19,2,FALSE))","v":"0"},"00","","000000","",0]
[null,181,null,null,null,null,null,null,null,null,null,null,null,null,null,"①",null,null,null,null,null,null,null,null,null,null,null,null,{"$f":"IF($Q561=\"\",\"0\",VLOOKUP($Q561,登録データ!$Q$4:$R$19,2,FALSE))","v":"0"},"00","","000000","",0,{"$f":"IF($C561=\"\",\"\",IF($C561=\"@\",0,IF(COUNTIF($C$21:$C$620,$C561)=1,0,1)))","v":""},{"$f":"IF($O561=\"\",\"\",IF(OR($O561=\"北海道\",$O561=\"東京都\",$O561=\"大阪府\",$O561=\"京都府\",RIGHT($O561,1)=\"県\"),0,1))","v":""}]
[null,null,null,null,null,null,null,null,null,null,null,null,null,null,null,null,null,null,null,null,null,null,null,null,null,null,null,null,{"$f":"IF($Q562=\"\",\"0\",VLOOKUP($Q562,登録データ!$Q$4:$R$19,2,FALSE))","v":"0"},"00","","000000","",0]
[null,null,null,null,null,null,null,null,null,null,null,null,null,null,null,null,null,null,null,null,null,null,null,null,null,null,null,null,{"$f":"IF($Q563=\"\",\"0\",VLOOKUP($Q563,登録データ!$Q$4:$R$19,2,FALSE))","v":"0"},"00","","000000","",0]
[null,182,null,null,null,null,null,null,null,null,null,null,null,null,null,"①",null,null,null,null,null,null,null,null,null,null,null,null,{"$f":"IF($Q564=\"\",\"0\",VLOOKUP($Q564,登録データ!$Q$4:$R$19,2,FALSE))","v":"0"},"00","","000000","",0,{"$f":"IF($C564=\"\",\"\",IF($C564=\"@\",0,IF(COUNTIF($C$21:$C$620,$C564)=1,0,1)))","v":""},{"$f":"IF($O564=\"\",\"\",IF(OR($O564=\"北海道\",$O564=\"東京都\",$O564=\"大阪府\",$O564=\"京都府\",RIGHT($O564,1)=\"県\"),0,1))","v":""}]
[null,null,null,null,null,null,null,null,null,null,null,null,null,null,null,null,null,null,null,null,null,null,null,null,null,null,null,null,{"$f":"IF($Q565=\"\",\"0\",VLOOKUP($Q565,登録データ!$Q$4:$R$19,2,FALSE))","v":"0"},"00","","000000","",0]
[null,null,null,null,null,null,null,null,null,null,null,null,null,null,null,null,null,null,null,null,null,null,null,null,null,null,null,null,{"$f":"IF($Q566=\"\",\"0\",VLOOKUP($Q566,登録データ!$Q$4:$R$19,2,FALSE))","v":"0"},"00","","000000","",0]
[null,183,null,null,null,null,null,null,null,null,null,null,null,null,null,"①",null,null,null,null,null,null,null,null,null,null,null,null,{"$f":"IF($Q567=\"\",\"0\",VLOOKUP($Q567,登録データ!$Q$4:$R$19,2,FALSE))","v":"0"},"00","","000000","",0,{"$f":"IF($C567=\"\",\"\",IF($C567=\"@\",0,IF(COUNTIF($C$21:$C$620,$C567)=1,0,1)))","v":""},{"$f":"IF($O567=\"\",\"\",IF(OR($O567=\"北海道\",$O567=\"東京都\",$O567=\"大阪府\",$O567=\"京都府\",RIGHT($O567,1)=\"県\"),0,1))","v":""}]
[null,null,null,null,null,null,null,null,null,null,null,null,null,null,null,null,null,null,null,null,null,null,null,null,null,null,null,null,{"$f":"IF($Q568=\"\",\"0\",VLOOKUP($Q568,登録データ!$Q$4:$R$19,2,FALSE))","v":"0"},"00","","000000","",0]
[null,null,null,null,null,null,null,null,null,null,null,null,null,null,null,null,null,null,null,null,null,null,null,null,null,null,null,null,{"$f":"IF($Q569=\"\",\"0\",VLOOKUP($Q569,登録データ!$Q$4:$R$19,2,FALSE))","v":"0"},"00","","000000","",0]
[null,184,null,null,null,null,null,null,null,null,null,null,null,null,null,"①",null,null,null,null,null,null,null,null,null,null,null,null,{"$f":"IF($Q570=\"\",\"0\",VLOOKUP($Q570,登録データ!$Q$4:$R$19,2,FALSE))","v":"0"},"00","","000000","",0,{"$f":"IF($C570=\"\",\"\",IF($C570=\"@\",0,IF(COUNTIF($C$21:$C$620,$C570)=1,0,1)))","v":""},{"$f":"IF($O570=\"\",\"\",IF(OR($O570=\"北海道\",$O570=\"東京都\",$O570=\"大阪府\",$O570=\"京都府\",RIGHT($O570,1)=\"県\"),0,1))","v":""}]
[null,null,null,null,null,null,null,null,null,null,null,null,null,null,null,null,null,null,null,null,null,null,null,null,null,null,null,null,{"$f":"IF($Q571=\"\",\"0\",VLOOKUP($Q571,登録データ!$Q$4:$R$19,2,FALSE))","v":"0"},"00","","000000","",0]
[null,null,null,null,null,null,null,null,null,null,null,null,null,null,null,null,null,null,null,null,null,null,null,null,null,null,null,null,{"$f":"IF($Q572=\"\",\"0\",VLOOKUP($Q572,登録データ!$Q$4:$R$19,2,FALSE))","v":"0"},"00","","000000","",0]
[null,185,null,null,null,null,null,null,null,null,null,null,null,null,null,"①",null,null,null,null,null,null,null,null,null,null,null,null,{"$f":"IF($Q573=\"\",\"0\",VLOOKUP($Q573,登録データ!$Q$4:$R$19,2,FALSE))","v":"0"},"00","","000000","",0,{"$f":"IF($C573=\"\",\"\",IF($C573=\"@\",0,IF(COUNTIF($C$21:$C$620,$C573)=1,0,1)))","v":""},{"$f":"IF($O573=\"\",\"\",IF(OR($O573=\"北海道\",$O573=\"東京都\",$O573=\"大阪府\",$O573=\"京都府\",RIGHT($O573,1)=\"県\"),0,1))","v":""}]
[null,null,null,null,null,null,null,null,null,null,null,null,null,null,null,null,null,null,null,null,null,null,null,null,null,null,null,null,{"$f":"IF($Q574=\"\",\"0\",VLOOKUP($Q574,登録データ!$Q$4:$R$19,2,FALSE))","v":"0"},"00","","000000","",0]
[null,null,null,null,null,null,null,null,null,null,null,null,null,null,null,null,null,null,null,null,null,null,null,null,null,null,null,null,{"$f":"IF($Q575=\"\",\"0\",VLOOKUP($Q575,登録データ!$Q$4:$R$19,2,FALSE))","v":"0"},"00","","000000","",0]
[null,186,null,null,null,null,null,null,null,null,null,null,null,null,null,"①",null,null,null,null,null,null,null,null,null,null,null,null,{"$f":"IF($Q576=\"\",\"0\",VLOOKUP($Q576,登録データ!$Q$4:$R$19,2,FALSE))","v":"0"},"00","","000000","",0,{"$f":"IF($C576=\"\",\"\",IF($C576=\"@\",0,IF(COUNTIF($C$21:$C$620,$C576)=1,0,1)))","v":""},{"$f":"IF($O576=\"\",\"\",IF(OR($O576=\"北海道\",$O576=\"東京都\",$O576=\"大阪府\",$O576=\"京都府\",RIGHT($O576,1)=\"県\"),0,1))","v":""}]
[null,null,null,null,null,null,null,null,null,null,null,null,null,null,null,null,null,null,null,null,null,null,null,null,null,null,null,null,{"$f":"IF($Q577=\"\",\"0\",VLOOKUP($Q577,登録データ!$Q$4:$R$19,2,FALSE))","v":"0"},"00","","000000","",0]
[null,null,null,null,null,null,null,null,null,null,null,null,null,null,null,null,null,null,null,null,null,null,null,null,null,null,null,null,{"$f":"IF($Q578=\"\",\"0\",VLOOKUP($Q578,登録データ!$Q$4:$R$19,2,FALSE))","v":"0"},"00","","000000","",0]
[null,187,null,null,null,null,null,null,null,null,null,null,null,null,null,"①",null,null,null,null,null,null,null,null,null,null,null,null,{"$f":"IF($Q579=\"\",\"0\",VLOOKUP($Q579,登録データ!$Q$4:$R$19,2,FALSE))","v":"0"},"00","","000000","",0,{"$f":"IF($C579=\"\",\"\",IF($C579=\"@\",0,IF(COUNTIF($C$21:$C$620,$C579)=1,0,1)))","v":""},{"$f":"IF($O579=\"\",\"\",IF(OR($O579=\"北海道\",$O579=\"東京都\",$O579=\"大阪府\",$O579=\"京都府\",RIGHT($O579,1)=\"県\"),0,1))","v":""}]
[null,null,null,null,null,null,null,null,null,null,null,null,null,null,null,null,null,null,null,null,null,null,null,null,null,null,null,null,{"$f":"IF($Q580=\"\",\"0\",VLOOKUP($Q580,登録データ!$Q$4:$R$19,2,FALSE))","v":"0"},"00","","000000","",0]
[null,null,null,null,null,null,null,null,null,null,null,null,null,null,null,null,null,null,null,null,null,null,null,null,null,null,null,null,{"$f":"IF($Q581=\"\",\"0\",VLOOKUP($Q581,登録データ!$Q$4:$R$19,2,FALSE))","v":"0"},"00","","000000","",0]
[null,188,null,null,null,null,null,null,null,null,null,null,null,null,null,"①",null,null,null,null,null,null,null,null,null,null,null,null,{"$f":"IF($Q582=\"\",\"0\",VLOOKUP($Q582,登録データ!$Q$4:$R$19,2,FALSE))","v":"0"},"00","","000000","",0,{"$f":"IF($C582=\"\",\"\",IF($C582=\"@\",0,IF(COUNTIF($C$21:$C$620,$C582)=1,0,1)))","v":""},{"$f":"IF($O582=\"\",\"\",IF(OR($O582=\"北海道\",$O582=\"東京都\",$O582=\"大阪府\",$O582=\"京都府\",RIGHT($O582,1)=\"県\"),0,1))","v":""}]
[null,null,null,null,null,null,null,null,null,null,null,null,null,null,null,null,null,null,null,null,null,null,null,null,null,null,null,null,{"$f":"IF($Q583=\"\",\"0\",VLOOKUP($Q583,登録データ!$Q$4:$R$19,2,FALSE))","v":"0"},"00","","000000","",0]
[null,null,null,null,null,null,null,null,null,null,null,null,null,null,null,null,null,null,null,null,null,null,null,null,null,null,null,null,{"$f":"IF($Q584=\"\",\"0\",VLOOKUP($Q584,登録データ!$Q$4:$R$19,2,FALSE))","v":"0"},"00","","000000","",0]
[null,189,null,null,null,null,null,null,null,null,null,null,null,null,null,"①",null,null,null,null,null,null,null,null,null,null,null,null,{"$f":"IF($Q585=\"\",\"0\",VLOOKUP($Q585,登録データ!$Q$4:$R$19,2,FALSE))","v":"0"},"00","","000000","",0,{"$f":"IF($C585=\"\",\"\",IF($C585=\"@\",0,IF(COUNTIF($C$21:$C$620,$C585)=1,0,1)))","v":""},{"$f":"IF($O585=\"\",\"\",IF(OR($O585=\"北海道\",$O585=\"東京都\",$O585=\"大阪府\",$O585=\"京都府\",RIGHT($O585,1)=\"県\"),0,1))","v":""}]
[null,null,null,null,null,null,null,null,null,null,null,null,null,null,null,null,null,null,null,null,null,null,null,null,null,null,null,null,{"$f":"IF($Q586=\"\",\"0\",VLOOKUP($Q586,登録データ!$Q$4:$R$19,2,FALSE))","v":"0"},"00","","000000","",0]
[null,null,null,null,null,null,null,null,null,null,null,null,null,null,null,null,null,null,null,null,null,null,null,null,null,null,null,null,{"$f":"IF($Q587=\"\",\"0\",VLOOKUP($Q587,登録データ!$Q$4:$R$19,2,FALSE))","v":"0"},"00","","000000","",0]
[null,190,null,null,null,null,null,null,null,null,null,null,null,null,null,"①",null,null,null,null,null,null,null,null,null,null,null,null,{"$f":"IF($Q588=\"\",\"0\",VLOOKUP($Q588,登録データ!$Q$4:$R$19,2,FALSE))","v":"0"},"00","","000000","",0,{"$f":"IF($C588=\"\",\"\",IF($C588=\"@\",0,IF(COUNTIF($C$21:$C$620,$C588)=1,0,1)))","v":""},{"$f":"IF($O588=\"\",\"\",IF(OR($O588=\"北海道\",$O588=\"東京都\",$O588=\"大阪府\",$O588=\"京都府\",RIGHT($O588,1)=\"県\"),0,1))","v":""}]
[null,null,null,null,null,null,null,null,null,null,null,null,null,null,null,null,null,null,null,null,null,null,null,null,null,null,null,null,{"$f":"IF($Q589=\"\",\"0\",VLOOKUP($Q589,登録データ!$Q$4:$R$19,2,FALSE))","v":"0"},"00","","000000","",0]
[null,null,null,null,null,null,null,null,null,null,null,null,null,null,null,null,null,null,null,null,null,null,null,null,null,null,null,null,{"$f":"IF($Q590=\"\",\"0\",VLOOKUP($Q590,登録データ!$Q$4:$R$19,2,FALSE))","v":"0"},"00","","000000","",0]
[null,191,null,null,null,null,null,null,null,null,null,null,null,null,null,"①",null,null,null,null,null,null,null,null,null,null,null,null,{"$f":"IF($Q591=\"\",\"0\",VLOOKUP($Q591,登録データ!$Q$4:$R$19,2,FALSE))","v":"0"},"00","","000000","",0,{"$f":"IF($C591=\"\",\"\",IF($C591=\"@\",0,IF(COUNTIF($C$21:$C$620,$C591)=1,0,1)))","v":""},{"$f":"IF($O591=\"\",\"\",IF(OR($O591=\"北海道\",$O591=\"東京都\",$O591=\"大阪府\",$O591=\"京都府\",RIGHT($O591,1)=\"県\"),0,1))","v":""}]
[null,null,null,null,null,null,null,null,null,null,null,null,null,null,null,null,null,null,null,null,null,null,null,null,null,null,null,null,{"$f":"IF($Q592=\"\",\"0\",VLOOKUP($Q592,登録データ!$Q$4:$R$19,2,FALSE))","v":"0"},"00","","000000","",0]
[null,null,null,null,null,null,null,null,null,null,null,null,null,null,null,null,null,null,null,null,null,null,null,null,null,null,null,null,{"$f":"IF($Q593=\"\",\"0\",VLOOKUP($Q593,登録データ!$Q$4:$R$19,2,FALSE))","v":"0"},"00","","000000","",0]
[null,192,null,null,null,null,null,null,null,null,null,null,null,null,null,"①",null,null,null,null,null,null,null,null,null,null,null,null,{"$f":"IF($Q594=\"\",\"0\",VLOOKUP($Q594,登録データ!$Q$4:$R$19,2,FALSE))","v":"0"},"00","","000000","",0,{"$f":"IF($C594=\"\",\"\",IF($C594=\"@\",0,IF(COUNTIF($C$21:$C$620,$C594)=1,0,1)))","v":""},{"$f":"IF($O594=\"\",\"\",IF(OR($O594=\"北海道\",$O594=\"東京都\",$O594=\"大阪府\",$O594=\"京都府\",RIGHT($O594,1)=\"県\"),0,1))","v":""}]
[null,null,null,null,null,null,null,null,null,null,null,null,null,null,null,null,null,null,null,null,null,null,null,null,null,null,null,null,{"$f":"IF($Q595=\"\",\"0\",VLOOKUP($Q595,登録データ!$Q$4:$R$19,2,FALSE))","v":"0"},"00","","000000","",0]
[null,null,null,null,null,null,null,null,null,null,null,null,null,null,null,null,null,null,null,null,null,null,null,null,null,null,null,null,{"$f":"IF($Q596=\"\",\"0\",VLOOKUP($Q596,登録データ!$Q$4:$R$19,2,FALSE))","v":"0"},"00","","000000","",0]
[null,193,null,null,null,null,null,null,null,null,null,null,null,null,null,"①",null,null,null,null,null,null,null,null,null,null,null,null,{"$f":"IF($Q597=\"\",\"0\",VLOOKUP($Q597,登録データ!$Q$4:$R$19,2,FALSE))","v":"0"},"00","",{"$f":"IF($AE597=2,IF($T597=\"\",\"0000\",CONCATENATE(RIGHT($T597+100,2),$AD597)),IF($T597=\"\",\"000000\",CONCATENATE(RIGHT($R597+100,2),RIGHT($T597+100,2),$AD597)))","v":"000000"},{"$f":"IF($Q597=\"\",\"\",CONCATENATE($AC597,\" \",IF($AE597=1,RIGHT($AF597+10000000,7),RIGHT($AF597+100000,5))))","v":""},0,{"$f":"IF($C597=\"\",\"\",IF($C597=\"@\",0,IF(COUNTIF($C$21:$C$620,$C597)=1,0,1)))","v":""},{"$f":"IF($O597=\"\",\"\",IF(OR($O597=\"北海道\",$O597=\"東京都\",$O597=\"大阪府\",$O597=\"京都府\",RIGHT($O597,1)=\"県\"),0,1))","v":""}]
[null,null,null,null,null,null,null,null,null,null,null,null,null,null,null,null,null,null,null,null,null,null,null,null,null,null,null,null,{"$f":"IF($Q598=\"\",\"0\",VLOOKUP($Q598,登録データ!$Q$4:$R$19,2,FALSE))","v":"0"},{"$f":"IF($V598=\"\",\"00\",IF(LEN($V598)=1,$V598*10,$V598))","v":"00"},{"$f":"IF($Q598=\"\",\"\",IF(OR(RIGHT($Q598,1)=\"m\",RIGHT($Q598,1)=\"H\"),1,2))","v":""},"000000","",{"$f":"IF(OR(RIGHT($H594,1)=\"m\",RIGHT($H594,1)=\"H\",RIGHT($H594,1)=\"W\",RIGHT($H594,1)=\"C\"),IF(VALUE($K594)>59,1,0),0)","v":0}]
[null,null,null,null,null,null,null,null,null,null,null,null,null,null,null,null,null,null,null,null,null,null,null,null,null,null,null,null,{"$f":"IF($Q599=\"\",\"0\",VLOOKUP($Q599,登録データ!$Q$4:$R$19,2,FALSE))","v":"0"},"00","","000000","",0]
[null,194,null,null,null,null,null,null,null,null,null,null,null,null,null,"①",null,null,null,null,null,null,null,null,null,null,null,null,{"$f":"IF($Q600=\"\",\"0\",VLOOKUP($Q600,登録データ!$Q$4:$R$19,2,FALSE))","v":"0"},"00","","000000","",0,{"$f":"IF($C600=\"\",\"\",IF($C600=\"@\",0,IF(COUNTIF($C$21:$C$620,$C600)=1,0,1)))","v":""},{"$f":"IF($O600=\"\",\"\",IF(OR($O600=\"北海道\",$O600=\"東京都\",$O600=\"大阪府\",$O600=\"京都府\",RIGHT($O600,1)=\"県\"),0,1))","v":""}]
[null,null,null,null,null,null,null,null,null,null,null,null,null,null,null,null,null,null,null,null,null,null,null,null,null,null,null,null,{"$f":"IF($Q601=\"\",\"0\",VLOOKUP($Q601,登録データ!$Q$4:$R$19,2,FALSE))","v":"0"},"00","","000000","",0]
[null,null,null,null,null,null,null,null,null,null,null,null,null,null,null,null,null,null,null,null,null,null,null,null,null,null,null,null,{"$f":"IF($Q602=\"\",\"0\",VLOOKUP($Q602,登録データ!$Q$4:$R$19,2,FALSE))","v":"0"},"00","","000000","",0]
[null,195,null,null,null,null,null,null,null,null,null,null,null,null,null,"①",null,null,null,null,null,null,null,null,null,null,null,null,{"$f":"IF($Q603=\"\",\"0\",VLOOKUP($Q603,登録データ!$Q$4:$R$19,2,FALSE))","v":"0"},"00","","000000","",0,{"$f":"IF($C603=\"\",\"\",IF($C603=\"@\",0,IF(COUNTIF($C$21:$C$620,$C603)=1,0,1)))","v":""},{"$f":"IF($O603=\"\",\"\",IF(OR($O603=\"北海道\",$O603=\"東京都\",$O603=\"大阪府\",$O603=\"京都府\",RIGHT($O603,1)=\"県\"),0,1))","v":""}]
[null,null,null,null,null,null,null,null,null,null,null,null,null,null,null,null,null,null,null,null,null,null,null,null,null,null,null,null,{"$f":"IF($Q604=\"\",\"0\",VLOOKUP($Q604,登録データ!$Q$4:$R$19,2,FALSE))","v":"0"},"00","","000000","",0]
[null,null,null,null,null,null,null,null,null,null,null,null,null,null,null,null,null,null,null,null,null,null,null,null,null,null,null,null,{"$f":"IF($Q605=\"\",\"0\",VLOOKUP($Q605,登録データ!$Q$4:$R$19,2,FALSE))","v":"0"},"00","","000000","",0]
[null,196,null,null,null,null,null,null,null,null,null,null,null,null,null,"①",null,null,null,null,null,null,null,null,null,null,null,null,{"$f":"IF($Q606=\"\",\"0\",VLOOKUP($Q606,登録データ!$Q$4:$R$19,2,FALSE))","v":"0"},"00","","000000","",0,{"$f":"IF($C606=\"\",\"\",IF($C606=\"@\",0,IF(COUNTIF($C$21:$C$620,$C606)=1,0,1)))","v":""},{"$f":"IF($O606=\"\",\"\",IF(OR($O606=\"北海道\",$O606=\"東京都\",$O606=\"大阪府\",$O606=\"京都府\",RIGHT($O606,1)=\"県\"),0,1))","v":""}]
[null,null,null,null,null,null,null,null,null,null,null,null,null,null,null,null,null,null,null,null,null,null,null,null,null,null,null,null,{"$f":"IF($Q607=\"\",\"0\",VLOOKUP($Q607,登録データ!$Q$4:$R$19,2,FALSE))","v":"0"},"00","","000000","",0]
[null,null,null,null,null,null,null,null,null,null,null,null,null,null,null,null,null,null,null,null,null,null,null,null,null,null,null,null,{"$f":"IF($Q608=\"\",\"0\",VLOOKUP($Q608,登録データ!$Q$4:$R$19,2,FALSE))","v":"0"},"00","","000000","",0]
[null,197,null,null,null,null,null,null,null,null,null,null,null,null,null,"①",null,null,null,null,null,null,null,null,null,null,null,null,{"$f":"IF($Q609=\"\",\"0\",VLOOKUP($Q609,登録データ!$Q$4:$R$19,2,FALSE))","v":"0"},"00","","000000","",0,{"$f":"IF($C609=\"\",\"\",IF($C609=\"@\",0,IF(COUNTIF($C$21:$C$620,$C609)=1,0,1)))","v":""},{"$f":"IF($O609=\"\",\"\",IF(OR($O609=\"北海道\",$O609=\"東京都\",$O609=\"大阪府\",$O609=\"京都府\",RIGHT($O609,1)=\"県\"),0,1))","v":""}]
[null,null,null,null,null,null,null,null,null,null,null,null,null,null,null,null,null,null,null,null,null,null,null,null,null,null,null,null,{"$f":"IF($Q610=\"\",\"0\",VLOOKUP($Q610,登録データ!$Q$4:$R$19,2,FALSE))","v":"0"},"00","","000000","",0]
[null,null,null,null,null,null,null,null,null,null,null,null,null,null,null,null,null,null,null,null,null,null,null,null,null,null,null,null,{"$f":"IF($Q611=\"\",\"0\",VLOOKUP($Q611,登録データ!$Q$4:$R$19,2,FALSE))","v":"0"},"00","","000000","",0]
[null,198,null,null,null,null,null,null,null,null,null,null,null,null,null,"①",null,null,null,null,null,null,null,null,null,null,null,null,{"$f":"IF($Q612=\"\",\"0\",VLOOKUP($Q612,登録データ!$Q$4:$R$19,2,FALSE))","v":"0"},"00","","000000","",0,{"$f":"IF($C612=\"\",\"\",IF($C612=\"@\",0,IF(COUNTIF($C$21:$C$620,$C612)=1,0,1)))","v":""},{"$f":"IF($O612=\"\",\"\",IF(OR($O612=\"北海道\",$O612=\"東京都\",$O612=\"大阪府\",$O612=\"京都府\",RIGHT($O612,1)=\"県\"),0,1))","v":""}]
[null,null,null,null,null,null,null,null,null,null,null,null,null,null,null,null,null,null,null,null,null,null,null,null,null,null,null,null,{"$f":"IF($Q613=\"\",\"0\",VLOOKUP($Q613,登録データ!$Q$4:$R$19,2,FALSE))","v":"0"},"00","","000000","",0]
[null,null,null,null,null,null,null,null,null,null,null,null,null,null,null,null,null,null,null,null,null,null,null,null,null,null,null,null,{"$f":"IF($Q614=\"\",\"0\",VLOOKUP($Q614,登録データ!$Q$4:$R$19,2,FALSE))","v":"0"},"00","","000000","",0]
[null,199,null,null,null,null,null,null,null,null,null,null,null,null,null,"①",null,null,null,null,null,null,null,null,null,null,null,null,{"$f":"IF($Q615=\"\",\"0\",VLOOKUP($Q615,登録データ!$Q$4:$R$19,2,FALSE))","v":"0"},"00","","000000","",0,{"$f":"IF($C615=\"\",\"\",IF($C615=\"@\",0,IF(COUNTIF($C$21:$C$620,$C615)=1,0,1)))","v":""},{"$f":"IF($O615=\"\",\"\",IF(OR($O615=\"北海道\",$O615=\"東京都\",$O615=\"大阪府\",$O615=\"京都府\",RIGHT($O615,1)=\"県\"),0,1))","v":""}]
[null,null,null,null,null,null,null,null,null,null,null,null,null,null,null,null,null,null,null,null,null,null,null,null,null,null,null,null,{"$f":"IF($Q616=\"\",\"0\",VLOOKUP($Q616,登録データ!$Q$4:$R$19,2,FALSE))","v":"0"},"00","","000000","",0]
[null,null,null,null,null,null,null,null,null,null,null,null,null,null,null,null,null,null,null,null,null,null,null,null,null,null,null,null,{"$f":"IF($Q617=\"\",\"0\",VLOOKUP($Q617,登録データ!$Q$4:$R$19,2,FALSE))","v":"0"},"00","","000000","",0]
[null,200,null,null,null,null,null,null,null,null,null,null,null,null,null,"①",null,null,null,null,null,null,null,null,null,null,null,null,{"$f":"IF($Q618=\"\",\"0\",VLOOKUP($Q618,登録データ!$Q$4:$R$19,2,FALSE))","v":"0"},"00","","000000","",0,{"$f":"IF($C618=\"\",\"\",IF($C618=\"@\",0,IF(COUNTIF($C$21:$C$620,$C618)=1,0,1)))","v":""},{"$f":"IF($O618=\"\",\"\",IF(OR($O618=\"北海道\",$O618=\"東京都\",$O618=\"大阪府\",$O618=\"京都府\",RIGHT($O618,1)=\"県\"),0,1))","v":""}]
[null,null,null,null,null,null,null,null,null,null,null,null,null,null,null,null,null,null,null,null,null,null,null,null,null,null,null,null,{"$f":"IF($Q619=\"\",\"0\",VLOOKUP($Q619,登録データ!$Q$4:$R$19,2,FALSE))","v":"0"},"00","","000000","",0]
[null,null,null,null,null,null,null,null,null,null,null,null,null,null,null,null,null,null,null,null,null,null,null,null,null,null,null,null,{"$f":"IF($Q620=\"\",\"0\",VLOOKUP($Q620,登録データ!$Q$4:$R$19,2,FALSE))","v":"0"},"00","","000000","",0]

{"sheet":"女子様式","index":2,"n_rows":620,"n_cols":36,"rows_kept":620,"cut":false,"hidden":false,"merged":[[17,9,18,9],[20,9,22,9],[23,9,25,9],[26,9,28,9],[29,9,31,9],[32,9,34,9],[35,9,37,9],[44,9,46,9],[41,9,43,9],[38,9,40,9],[50,9,52,9],[47,9,49,9],[581,35,583,35],[584,35,586,35],[479,35,481,35],[482,35,484,35],[485,35,487,35],[488,35,490,35],[491,35,493,35],[494,35,496,35],[497,35,499,35],[500,35,502,35],[503,35,505,35],[506,35,508,35],[509,35,511,35],[512,35,514,35],[515,35,517,35],[518,35,520,35],[521,35,523,35],[524,35,526,35],[527,35,529,35],[428,35,430,35],[587,35,589,35],[590,35,592,35],[593,35,595,35],[596,35,598,35],[599,35,601,35],[602,35,604,35],[605,35,607,35],[608,35,610,35],[611,35,613,35],[614,35,616,35],[617,35,619,35],[530,35,532,35],[533,35,535,35],[536,35,538,35],[539,35,541,35],[542,35,544,35],[545,35,547,35],[548,35,550,35],[551,35,553,35],[554,35,556,35],[557,35,559,35],[560,35,562,35],[563,35,565,35],[566,35,568,35],[569,35,571,35],[572,35,574,35],[575,35,577,35],[578,35,580,35],[431,35,433,35],[434,35,436,35],[437,35,439,35],[440,35,442,35],[443,35,445,35],[446,35,448,35],[449,35,451,35],[452,35,454,35],[455,35,457,35],[458,35,460,35],[461,35,463,35],[464,35,466,35],[467,35,469,35],[470,35,472,35],[473,35,475,35],[476,35,478,35],[377,35,379,35],[380,35,382,35],[383,35,385,35],[386,35,388,35],[389,35,391,35],[392,35,394,35],[395,35,397,35],[398,35,400,35],[401,35,403,35],[404,35,406,35],[407,35,409,35],[410,35,412,35],[413,35,415,35],[416,35,418,35],[419,35,421,35],[422,35,424,35],[425,35,427,35],[326,35,328,35],[329,35,331,35],[332,35,334,35],[335,35,337,35],[338,35,340,35],[341,35,343,35],[344,35,346,35],[347,35,349,35],[350,35,352,35],[353,35,355,35],[356,35,358,35],[359,35,361,35],[362,35,364,35],[365,35,367,35],[368,35,370,35],[371,35,373,35],[374,35,376,35],[275,35,277,35],[278,35,280,35],[281,35,283,35],[284,35,286,35],[287,35,289,35],[290,35,292,35],[293,35,295,35],[296,35,298,35],[299,35,301,35],[302,35,304,35],[305,35,307,35],[308,35,310,35],[311,35,313,35],[314,35,316,35],[317,35,319,35],[320,35,322,35],[323,35,325,35],[224,35,226,35],[227,35,229,35],[230,35,232,35],[233,35,235,35],[236,35,238,35],[239,35,241,35],[242,35,244,35],[245,35,247,35],[248,35,250,35],[251,35,253,35],[254,35,256,35],[257,35,259,35],[260,35,262,35],[263,35,265,35],[266,35,268,35],[269,35,271,35],[272,35,274,35],[173,35,175,35],[176,35,178,35],[179,35,181,35],[182,35,184,35],[185,35,187,35],[188,35,190,35],[191,35,193,35],[194,35,196,35],[197,35,199,35],[200,35,202,35],[203,35,205,35],[206,35,208,35],[209,35,211,35],[212,35,214,35],[215,35,217,35],[218,35,220,35],[221,35,223,35],[122,35,124,35],[125,35,127,35],[128,35,130,35],[131,35,133,35],[134,35,136,35],[137,35,139,35],[140,35,142,35],[143,35,145,35],[146,35,148,35],[149,35,151,35],[152,35,154,35],[155,35,157,35],[158,35,160,35],[161,35,163,35],[164,35,166,35],[167,35,169,35],[170,35,172,35],[71,35,73,35],[74,35,76,35],[77,35,79,35],[80,35,82,35],[83,35,85,35],[86,35,88,35],[89,35,91,35],[92,35,94,35],[95,35,97,35],[98,35,100,35],[101,35,103,35],[104,35,106,35],[107,35,109,35],[110,35,112,35],[113,35,115,35],[116,35,118,35],[119,35,121,35],[20,35,22,35],[23,35,25,35],[26,35,28,35],[29,35,31,35],[32,35,34,35],[35,35,37,35],[38,35,40,35],[41,35,43,35],[44,35,46,35],[47,35,49,35],[50,35,52,35],[53,35,55,35],[56,35,58,35],[59,35,61,35],[62,35,64,35],[65,35,67,35],[68,35,70,35],[14,1,16,1],[14,2,15,2],[14,3,15,5],[14,6,15,8],[14,10,15,11],[14,12,15,14],[16,3,16,5],[16,6,16,8],[16,10,16,11],[16,12,16,14],[0,1,1,21],[13,3,13,5],[13,6,13,8],[13,10,13,11],[13,12,13,14],[13,15,13,16],[13,17,13,21],[4,16,5,17],[6,16,7,17],[4,18,5,21],[6,18,7,21],[9,1,10,1],[9,2,10,21],[3,2,3,4],[5,2,5,4],[7,2,7,4],[14,9,15,9],[3,9,3,10],[5,9,5,10],[7,9,7,10],[32,1,34,1],[29,1,31,1],[32,10,34,11],[32,12,34,14],[26,1,28,1],[23,1,25,1],[20,1,22,1],[17,1,19,1],[17,2,18,2],[17,3,18,5],[17,6,18,8],[17,10,18,11],[19,3,19,5],[19,6,19,8],[19,10,19,11],[19,12,19,14],[20,2,22,2],[20,3,22,5],[20,6,22,8],[20,10,22,11],[20,12,22,14],[23,2,25,2],[23,3,25,5],[23,6,25,8],[23,10,25,11],[23,12,25,14],[26,2,28,2],[26,3,28,5],[26,6,28,8],[26,10,28,11],[26,12,28,14],[29,2,31,2],[44,1,46,1],[41,1,43,1],[41,2,43,2],[41,3,43,5],[41,6,43,8],[41,10,43,11],[41,12,43,14],[44,2,46,2],[44,3,46,5],[44,6,46,8],[44,10,46,11],[44,12,46,14],[38,1,40,1],[35,1,37,1],[35,2,37,2],[35,3,37,5],[35,6,37,8],[35,10,37,11],[35,12,37,14],[38,2,40,2],[38,3,40,5],[38,6,40,8],[38,10,40,11],[38,12,40,14],[56,1,58,1],[53,1,55,1],[53,2,55,2],[53,3,55,5],[53,6,55,8],[53,10,55,11],[53,12,55,14],[56,2,58,2],[56,3,58,5],[56,6,58,8],[56,10,58,11],[56,12,58,14],[50,1,52,1],[47,1,49,1],[47,2,49,2],[47,3,49,5],[47,6,49,8],[47,10,49,11],[47,12,49,14],[50,2,52,2],[50,3,52,5],[50,6,52,8],[50,10,52,11],[50,12,52,14],[56,9,58,9],[53,9,55,9],[68,1,70,1],[65,1,67,1],[65,2,67,2],[65,3,67,5],[65,6,67,8],[65,10,67,11],[65,12,67,14],[68,2,70,2],[68,3,70,5],[68,6,70,8],[68,10,70,11],[68,12,70,14],[62,1,64,1],[59,1,61,1],[59,2,61,2],[59,3,61,5],[59,6,61,8],[59,10,61,11],[59,12,61,14],[62,2,64,2],[62,3,64,5],[62,6,64,8],[62,10,64,11],[62,12,64,14],[68,9,70,9],[65,9,67,9],[62,9,64,9],[59,9,61,9],[77,1,79,1],[77,2,79,2],[77,3,79,5],[77,6,79,8],[77,10,79,11],[77,12,79,14],[74,1,76,1],[71,1,73,1],[74,3,76,5],[74,2,76,2],[74,6,76,8],[74,10,76,11],[74,12,76,14],[71,2,73,2],[71,3,73,5],[71,6,73,8],[71,10,73,11],[71,12,73,14],[77,9,79,9],[74,9,76,9],[71,9,73,9],[92,1,94,1],[89,1,91,1],[92,2,94,2],[92,3,94,5],[92,6,94,8],[92,10,94,11],[92,12,94,14],[86,1,88,1],[83,1,85,1],[80,2,82,2],[80,3,82,5],[80,6,82,8],[80,10,82,11],[80,12,82,14],[83,2,85,2],[83,3,85,5],[83,6,85,8],[83,10,85,11],[83,12,85,14],[86,2,88,2],[80,1,82,1],[86,3,88,5],[86,6,88,8],[86,10,88,11],[86,12,88,14],[89,2,91,2],[89,3,91,5],[89,6,91,8],[89,10,91,11],[89,12,91,14],[92,9,94,9],[89,9,91,9],[104,1,106,1],[101,1,103,1],[101,2,103,2],[101,3,103,5],[101,6,103,8],[101,10,103,11],[101,12,103,14],[104,2,106,2],[104,3,106,5],[104,6,106,8],[104,10,106,11],[104,12,106,14],[98,1,100,1],[95,1,97,1],[95,2,97,2],[95,3,97,5],[95,6,97,8],[95,10,97,11],[95,12,97,14],[98,2,100,2],[98,3,100,5],[98,6,100,8],[98,10,100,11],[98,12,100,14],[104,9,106,9],[101,9,103,9],[98,9,100,9],[95,9,97,9],[116,1,118,1],[113,1,115,1],[113,2,115,2],[113,3,115,5],[113,6,115,8],[113,10,115,11],[113,12,115,14],[116,2,118,2],[116,3,118,5],[116,6,118,8],[116,10,118,11],[116,12,118,14],[110,1,112,1],[107,1,109,1],[107,2,109,2],[107,3,109,5],[107,6,109,8],[107,10,109,11],[107,12,109,14],[110,2,112,2],[110,3,112,5],[110,6,112,8],[110,10,112,11],[110,12,112,14],[107,9,109,9],[128,1,130,1],[125,1,127,1],[125,2,127,2],[125,3,127,5],[125,6,127,8],[125,10,127,11],[125,12,127,14],[128,2,130,2],[128,3,130,5],[128,6,130,8],[128,10,130,11],[128,12,130,14],[122,1,124,1],[119,1,121,1],[119,2,121,2],[119,3,121,5],[119,6,121,8],[119,10,121,11],[119,12,121,14],[122,2,124,2],[122,3,124,5],[122,6,124,8],[122,10,124,11],[122,12,124,14],[140,1,142,1],[137,1,139,1],[137,2,139,2],[137,3,139,5],[137,6,139,8],[137,10,139,11],[137,12,139,14],[140,2,142,2],[140,3,142,5],[140,6,142,8],[140,10,142,11],[140,12,142,14],[134,1,136,1],[131,1,133,1],[131,2,133,2],[131,3,133,5],[131,6,133,8],[131,10,133,11],[131,12,133,14],[134,2,136,2],[134,3,136,5],[134,6,136,8],[134,10,136,11],[134,12,136,14],[152,1,154,1],[149,1,151,1],[149,2,151,2],[149,3,151,5],[149,6,151,8],[149,10,151,11],[149,12,151,14],[152,2,154,2],[152,3,154,5],[152,6,154,8],[152,10,154,11],[152,12,154,14],[146,1,148,1],[143,1,145,1],[143,2,145,2],[143,3,145,5],[143,6,145,8],[143,10,145,11],[143,12,145,14],[146,2,148,2],[146,3,148,5],[146,6,148,8],[146,10,148,11],[146,12,148,14],[164,1,166,1],[161,1,163,1],[161,2,163,2],[161,3,163,5],[161,6,163,8],[161,10,163,11],[161,12,163,14],[164,2,166,2],[164,3,166,5],[164,6,166,8],[164,10,166,11],[164,12,166,14],[158,1,160,1],[155,1,157,1],[155,2,157,2],[155,3,157,5],[155,6,157,8],[155,10,157,11],[155,12,157,14],[158,2,160,2],[158,3,160,5],[158,6,160,8],[158,10,160,11],[158,12,160,14],[176,1,178,1],[173,1,175,1],[173,2,175,2],[173,3,175,5],[173,6,175,8],[173,10,175,11],[173,12,175,14],[176,2,178,2],[176,3,178,5],[176,6,178,8],[176,10,178,11],[176,12,178,14],[170,1,172,1],[167,1,169,1],[167,2,169,2],[167,3,169,5],[167,6,169,8],[167,10,169,11],[167,12,169,14],[170,2,172,2],[170,3,172,5],[170,6,172,8],[170,10,172,11],[170,12,172,14],[188,1,190,1],[185,1,187,1],[185,2,187,2],[185,3,187,5],[185,6,187,8],[185,10,187,11],[185,12,187,14],[188,2,190,2],[188,3,190,5],[188,6,190,8],[188,10,190,11],[188,12,190,14],[182,1,184,1],[179,1,181,1],[179,2,181,2],[179,3,181,5],[179,6,181,8],[179,10,181,11],[179,12,181,14],[182,2,184,2],[182,3,184,5],[182,6,184,8],[182,10,184,11],[182,12,184,14],[200,1,202,1],[197,1,199,1],[197,2,199,2],[197,3,199,5],[197,6,199,8],[197,10,199,11],[197,12,199,14],[200,2,202,2],[200,3,202,5],[200,6,202,8],[200,10,202,11],[200,12,202,14],[194,1,196,1],[191,1,193,1],[191,2,193,2],[191,3,193,5],[191,6,193,8],[191,10,193,11],[191,12,193,14],[194,2,196,2],[194,3,196,5],[194,6,196,8],[194,10,196,11],[194,12,196,14],[212,1,214,1],[209,1,211,1],[209,2,211,2],[209,3,211,5],[209,6,211,8],[209,10,211,11],[209,12,211,14],[212,2,214,2],[212,3,214,5],[212,6,214,8],[212,10,214,11],[212,12,214,14],[206,1,208,1],[203,1,205,1],[203,2,205,2],[203,3,205,5],[203,6,205,8],[203,10,205,11],[203,12,205,14],[206,2,208,2],[206,3,208,5],[206,6,208,8],[206,10,208,11],[206,12,208,14],[224,1,226,1],[221,1,223,1],[221,2,223,2],[221,3,223,5],[221,6,223,8],[221,10,223,11],[221,12,223,14],[224,2,226,2],[224,3,226,5],[224,6,226,8],[224,10,226,11],[224,12,226,14],[218,1,220,1],[215,1,217,1],[215,2,217,2],[215,3,217,5],[215,6,217,8],[215,10,217,11],[215,12,217,14],[218,2,220,2],[218,3,220,5],[218,6,220,8],[218,10,220,11],[218,12,220,14],[236,1,238,1],[233,1,235,1],[233,2,235,2],[233,3,235,5],[233,6,235,8],[233,10,235,11],[233,12,235,14],[236,2,238,2],[236,3,238,5],[236,6,238,8],[236,10,238,11],[236,12,238,14],[230,1,232,1],[227,1,229,1],[227,2,229,2],[227,3,229,5],[227,6,229,8],[227,10,229,11],[227,12,229,14],[230,2,232,2],[230,3,232,5],[230,6,232,8],[230,10,232,11],[230,12,232,14],[248,1,250,1],[245,1,247,1],[245,2,247,2],[245,3,247,5],[245,6,247,8],[245,10,247,11],[245,12,247,14],[248,2,250,2],[248,3,250,5],[248,6,250,8],[248,10,250,11],[248,12,250,14],[242,1,244,1],[239,1,241,1],[239,2,241,2],[239,3,241,5],[239,6,241,8],[239,10,241,11],[239,12,241,14],[242,2,244,2],[242,3,244,5],[242,6,244,8],[242,10,244,11],[242,12,244,14],[260,1,262,1],[257,1,259,1],[257,2,259,2],[257,3,259,5],[257,6,259,8],[257,10,259,11],[257,12,259,14],[260,2,262,2],[260,3,262,5],[260,6,262,8],[260,10,262,11],[260,12,262,14],[254,1,256,1],[251,1,253,1],[251,2,253,2],[251,3,253,5],[251,6,253,8],[251,10,253,11],[251,12,253,14],[254,2,256,2],[254,3,256,5],[254,6,256,8],[254,10,256,11],[254,12,256,14],[272,1,274,1],[269,1,271,1],[269,2,271,2],[269,3,271,5],[269,6,271,8],[269,10,271,11],[269,12,271,14],[272,2,274,2],[272,3,274,5],[272,6,274,8],[272,10,274,11],[272,12,274,14],[266,1,268,1],[263,1,265,1],[263,2,265,2],[263,3,265,5],[263,6,265,8],[263,10,265,11],[263,12,265,14],[266,2,268,2],[266,3,268,5],[266,6,268,8],[266,10,268,11],[266,12,268,14],[284,1,286,1],[281,1,283,1],[281,2,283,2],[281,3,283,5],[281,6,283,8],[281,10,283,11],[281,12,283,14],[284,2,286,2],[284,3,286,5],[284,6,286,8],[284,10,286,11],[284,12,286,14],[278,1,280,1],[275,1,277,1],[275,2,277,2],[275,3,277,5],[275,6,277,8],[275,10,277,11],[275,12,277,14],[278,2,280,2],[278,3,280,5],[278,6,280,8],[278,10,280,11],[278,12,280,14],[296,1,298,1],[293,1,295,1],[293,2,295,2],[293,3,295,5],[293,6,295,8],[293,10,295,11],[293,12,295,14],[296,2,298,2],[296,3,298,5],[296,6,298,8],[296,10,298,11],[296,12,298,14],[290,1,292,1],[287,1,289,1],[287,2,289,2],[287,3,289,5],[287,6,289,8],[287,10,289,11],[287,12,289,14],[290,2,292,2],[290,3,292,5],[290,6,292,8],[290,10,292,11],[290,12,292,14],[308,1,310,1],[305,1,307,1],[305,2,307,2],[305,3,307,5],[305,6,307,8],[305,10,307,11],[305,12,307,14],[308,2,310,2],[308,3,310,5],[308,6,310,8],[308,10,310,11],[308,12,310,14],[302,1,304,1],[299,1,301,1],[299,2,301,2],[299,3,301,5],[299,6,301,8],[299,10,301,11],[299,12,301,14],[302,2,304,2],[302,3,304,5],[302,6,304,8],[302,10,304,11],[302,12,304,14],[320,1,322,1],[317,1,319,1],[317,2,319,2],[317,3,319,5],[317,6,319,8],[317,10,319,11],[317,12,319,14],[320,2,322,2],[320,3,322,5],[320,6,322,8],[320,10,322,11],[320,12,322,14],[314,1,316,1],[311,1,313,1],[311,2,313,2],[311,3,313,5],[311,6,313,8],[311,10,313,11],[311,12,313,14],[314,2,316,2],[314,3,316,5],[314,6,316,8],[314,10,316,11],[314,12,316,14],[332,1,334,1],[329,1,331,1],[329,2,331,2],[329,3,331,5],[329,6,331,8],[329,10,331,11],[329,12,331,14],[332,2,334,2],[332,3,334,5],[332,6,334,8],[332,10,334,11],[332,12,334,14],[326,1,328,1],[323,1,325,1],[323,2,325,2],[323,3,325,5],[323,6,325,8],[323,10,325,11],[323,12,325,14],[326,2,328,2],[326,3,328,5],[326,6,328,8],[326,10,328,11],[326,12,328,14],[344,1,346,1],[341,1,343,1],[341,2,343,2],[341,3,343,5],[341,6,343,8],[341,10,343,11],[341,12,343,14],[344,2,346,2],[344,3,346,5],[344,6,346,8],[344,10,346,11],[344,12,346,14],[338,1,340,1],[335,1,337,1],[335,2,337,2],[335,3,337,5],[335,6,337,8],[335,10,337,11],[335,12,337,14],[338,2,340,2],[338,3,340,5],[338,6,340,8],[338,10,340,11],[338,12,340,14],[356,1,358,1],[353,1,355,1],[353,2,355,2],[353,3,355,5],[353,6,355,8],[353,10,355,11],[353,12,355,14],[356,2,358,2],[356,3,358,5],[356,6,358,8],[356,10,358,11],[356,12,358,14],[350,1,352,1],[347,1,349,1],[347,2,349,2],[347,3,349,5],[347,6,349,8],[347,10,349,11],[347,12,349,14],[350,2,352,2],[350,3,352,5],[350,6,352,8],[350,10,352,11],[350,12,352,14],[368,1,370,1],[365,1,367,1],[365,2,367,2],[365,3,367,5],[365,6,367,8],[365,10,367,11],[365,12,367,14],[368,2,370,2],[368,3,370,5],[368,6,370,8],[368,10,370,11],[368,12,370,14],[362,1,364,1],[359,1,361,1],[359,2,361,2],[359,3,361,5],[359,6,361,8],[359,10,361,11],[359,12,361,14],[362,2,364,2],[362,3,364,5],[362,6,364,8],[362,10,364,11],[362,12,364,14],[380,1,382,1],[377,1,379,1],[377,2,379,2],[377,3,379,5],[377,6,379,8],[377,10,379,11],[377,12,379,14],[380,2,382,2],[380,3,382,5],[380,6,382,8],[380,10,382,11],[380,12,382,14],[374,1,376,1],[371,1,373,1],[371,2,373,2],[371,3,373,5],[371,6,373,8],[371,10,373,11],[371,12,373,14],[374,2,376,2],[374,3,376,5],[374,6,376,8],[374,10,376,11],[374,12,376,14],[392,1,394,1],[389,1,391,1],[389,2,391,2],[389,3,391,5],[389,6,391,8],[389,10,391,11],[389,12,391,14],[392,2,394,2],[392,3,394,5],[392,6,394,8],[392,10,394,11],[392,12,394,14],[386,1,388,1],[383,1,385,1]],"merged_total":2070,"flags":["merged_cut"]}
[null,"学連競技会　女子申込"]
[]
[]
[null,"団体名",{"$f":"IF(基本登録情報!$C7=\"\",\"\",基本登録情報!$C7)","v":""},null,null,null,null,null,"申込責任者",{"$f":"IF(基本登録情報!$C15=\"\",\"\",基本登録情報!$C15)","v":""},null,"印"]
[null,null,null,null,null,null,null,null,null,null,null,null,null,null,null,null,"延べ人数",null,"合計金額"]
[null,"部長名",{"$f":"IF(基本登録情報!$C10=\"\",\"\",基本登録情報!$C10)","v":""},null,null,"印",null,null,"電話番号",{"$f":"IF(基本登録情報!$C16=\"\",\"\",基本登録情報!$C16)","v":""}]
[null,null,null,null,null,null,null,null,null,null,null,null,null,null,null,null,{"$f":"COUNTA(Q21:Q620)","v":0},null,{"$f":"Q7*1000","v":0}]
[null,"監督名",{"$f":"IF(基本登録情報!$C12=\"\",\"\",基本登録情報!$C12)","v":""},null,null,"印",null,null,"緊急連絡先",{"$f":"IF(基本登録情報!$C17=\"\",\"\",基本登録情報!$C17)","v":""}]
[]
[null,"エラー\nチェック",{"$f":"IFERROR(HLOOKUP(1,AC10:AJ11,2,FALSE),\"\")","v":""},null,null,null,null,null,null,null,null,null,null,null,null,null,null,null,null,null,null,null,null,null,null,null,null,"エラーチェック",null,null,null,null,null,{"$f":"IF(SUM(AH21:AH620)=0,0,1)","v":0},{"$f":"IF(SUM(AI21:AI620)=0,0,1)","v":0},{"$f":"IF(SUM(AJ21:AJ620)=0,0,1)","v":0}]
[null,null,null,null,null,null,null,null,null,null,null,null,null,null,null,null,null,null,null,null,null,null,null,null,null,null,null,null,null,null,null,null,null,"入力方法が記入例と異なります。","登録番号にかぶりがあります。","登録陸協が入力方法と異なります。"]
[]
[]
[null,"No.","登録番号","氏名",null,null,"ﾌﾘｶﾞﾅ",null,null,"アルファベット","生年月日",null,"登録陸協",null,null,"出場種目",null,"最高記録"]
[null,null,0,"学連　花子",null,null,"ｶﾞｸﾚﾝ ﾊﾅｺ",null,null,"GAKUREN Hanako",950101,null,"福岡県",null,null,"①","100m",null,"分","13","秒","08"]
[null,null,null,null,null,null,null,null,null,null,null,null,null,null,null,"②","走幅跳",null,null,"5","m","09"]
[null,null,"備考欄",null,null,null,null,null,null,null,null,null,null,null,null,"③","円盤投",null,null,"27","m","00"]
[null,null,"@",null,null,null,null,null,null,null,null,null,null,null,null,"①","1500m","5","分","04","秒","12"]
[null,null,null,null,null,null,null,null,null,null,null,null,null,null,null,"②","走高跳",null,null,"1","m","55"]
[null,null,"備考欄","学連　貞子",null,null,"ｶﾞｸﾚﾝ ｻﾀﾞｺ",null,null,"GAKUREN Sadako","001225",null,"福岡県",null,null,"③",null,null,null,null,null,null,null,null,null,null,null,"チェック内容","種目コード","小数以下変換","トラック・フィールド判定","最高記録結合","結合","60秒判定","登録番号かぶり","登録陸協"]
[null,1,null,null,null,null,null,null,null,null,null,null,null,null,null,"①",null,null,{"$f":"IF($Q21=\"\",\"\",IF(OR(RIGHT($Q21,1)=\"m\",RIGHT($Q21,1)=\"H\"),\"分\",\"\"))","v":""},null,{"$f":"IF($Q21=\"\",\"\",IF(OR(RIGHT($Q21,1)=\"m\",RIGHT($Q21,1)=\"H\"),\"秒\",\"m\"))","v":""},null,null,null,null,null,null,null,{"$f":"IF($Q21=\"\",\"0\",VLOOKUP($Q21,登録データ!$U$4:$V$19,2,FALSE))","v":"0"},{"$f":"IF($V21=\"\",\"00\",IF(LEN($V21)=1,$V21*10,$V21))","v":"00"},{"$f":"IF($Q21=\"\",\"\",IF(OR(RIGHT($Q21,1)=\"m\",RIGHT($Q21,1)=\"H\"),1,2))","v":""},{"$f":"IF($AE21=2,IF($T21=\"\",\"0000\",CONCATENATE(RIGHT($T21+100,2),$AD21)),IF($T21=\"\",\"000000\",CONCATENATE(RIGHT($R21+100,2),RIGHT($T21+100,2),$AD21)))","v":"000000"},{"$f":"IF($Q21=\"\",\"\",CONCATENATE($AC21,\" \",IF($AE21=1,RIGHT($AF21+10000000,7),RIGHT($AF21+100000,5))))","v":""},{"$f":"IF(OR(RIGHT($H17,1)=\"m\",RIGHT($H17,1)=\"H\",RIGHT($H17,1)=\"W\",RIGHT($H17,1)=\"C\"),IF(VALUE($K17)>59,1,0),0)","v":0},{"$f":"IF($C21=\"\",\"\",IF($C21=\"@\",0,IF(COUNTIF($C$21:$C$620,$C21)=1,0,1)))","v":""},{"$f":"IF($M21=\"\",\"\",IF(OR($M21=\"東京都\",$M21=\"北海道\",$M21=\"大阪府\",$M21=\"京都府\",RIGHT($M21,1)=\"県\"),0,1))","v":""}]
[null,null,null,null,null,null,null,null,null,null,null,null,null,null,null,null,null,null,{"$f":"IF($Q22=\"\",\"\",IF(OR(RIGHT($Q22,1)=\"m\",RIGHT($Q22,1)=\"H\"),\"分\",\"\"))","v":""},null,{"$f":"IF($Q22=\"\",\"\",IF(OR(RIGHT($Q22,1)=\"m\",RIGHT($Q22,1)=\"H\"),\"秒\",\"m\"))","v":""},null,null,null,null,null,null,null,{"$f":"IF($Q22=\"\",\"0\",VLOOKUP($Q22,登録データ!$U$4:$V$19,2,FALSE))","v":"0"},{"$f":"IF($V22=\"\",\"00\",IF(LEN($V22)=1,$V22*10,$V22))","v":"00"},{"$f":"IF($Q22=\"\",\"\",IF(OR(RIGHT($Q22,1)=\"m\",RIGHT($Q22,1)=\"H\"),1,2))","v":""},"000000","",{"$f":"IF(OR(RIGHT($H18,1)=\"m\",RIGHT($H18,1)=\"H\",RIGHT($H18,1)=\"W\",RIGHT($H18,1)=\"C\"),IF(VALUE($K18)>59,1,0),0)","v":0}]
[null,null,null,null,null,null,null,null,null,null,null,null,null,null,null,null,null,null,"",null,"",null,null,null,null,null,null,null,{"$f":"IF($Q23=\"\",\"0\",VLOOKUP($Q23,登録データ!$U$4:$V$19,2,FALSE))","v":"0"},"00","","000000","",0]
[null,2,null,null,null,null,null,null,null,null,null,null,null,null,null,"①",null,null,"",null,"",null,null,null,null,null,null,null,{"$f":"IF($Q24=\"\",\"0\",VLOOKUP($Q24,登録データ!$U$4:$V$19,2,FALSE))","v":"0"},"00","","000000","",0,{"$f":"IF($C24=\"\",\"\",IF($C24=\"@\",0,IF(COUNTIF($C$21:$C$620,$C24)=1,0,1)))","v":""},{"$f":"IF($M24=\"\",\"\",IF(OR($M24=\"東京都\",$M24=\"北海道\",$M24=\"大阪府\",$M24=\"京都府\",RIGHT($M24,1)=\"県\"),0,1))","v":""}]
[null,null,null,null,null,null,null,null,null,null,null,null,null,null,null,null,null,null,"",null,"",null,null,null,null,null,null,null,{"$f":"IF($Q25=\"\",\"0\",VLOOKUP($Q25,登録データ!$U$4:$V$19,2,FALSE))","v":"0"},"00","","000000","",0]
[null,null,null,null,null,null,null,null,null,null,null,null,null,null,null,null,null,null,"",null,"",null,null,null,null,null,null,null,{"$f":"IF($Q26=\"\",\"0\",VLOOKUP($Q26,登録データ!$U$4:$V$19,2,FALSE))","v":"0"},"00","","000000","",0]
[null,3,null,null,null,null,null,null,null,null,null,null,null,null,null,"①",null,null,"",null,"",null,null,null,null,null,null,null,{"$f":"IF($Q27=\"\",\"0\",VLOOKUP($Q27,登録データ!$U$4:$V$19,2,FALSE))","v":"0"},"00","","000000","",0,{"$f":"IF($C27=\"\",\"\",IF($C27=\"@\",0,IF(COUNTIF($C$21:$C$620,$C27)=1,0,1)))","v":""},{"$f":"IF($M27=\"\",\"\",IF(OR($M27=\"東京都\",$M27=\"北海道\",$M27=\"大阪府\",$M27=\"京都府\",RIGHT($M27,1)=\"県\"),0,1))","v":""}]
[null,null,null,null,null,null,null,null,null,null,null,null,null,null,null,null,null,null,"",null,"",null,null,null,null,null,null,null,{"$f":"IF($Q28=\"\",\"0\",VLOOKUP($Q28,登録データ!$U$4:$V$19,2,FALSE))","v":"0"},"00","","000000","",0]
[null,null,null,null,null,null,null,null,null,null,null,null,null,null,null,null,null,null,"",null,"",null,null,null,null,null,null,null,{"$f":"IF($Q29=\"\",\"0\",VLOOKUP($Q29,登録データ!$U$4:$V$19,2,FALSE))","v":"0"},"00","","000000","",0]
[null,4,null,null,null,null,null,null,null,null,null,null,null,null,null,"①",null,null,"",null,"",null,null,null,null,null,null,null,{"$f":"IF($Q30=\"\",\"0\",VLOOKUP($Q30,登録データ!$U$4:$V$19,2,FALSE))","v":"0"},"00","","000000","",0,{"$f":"IF($C30=\"\",\"\",IF($C30=\"@\",0,IF(COUNTIF($C$21:$C$620,$C30)=1,0,1)))","v":""},{"$f":"IF($M30=\"\",\"\",IF(OR($M30=\"東京都\",$M30=\"北海道\",$M30=\"大阪府\",$M30=\"京都府\",RIGHT($M30,1)=\"県\"),0,1))","v":""}]
[null,null,null,null,null,null,null,null,null,null,null,null,null,null,null,null,null,null,"",null,"",null,null,null,null,null,null,null,{"$f":"IF($Q31=\"\",\"0\",VLOOKUP($Q31,登録データ!$U$4:$V$19,2,FALSE))","v":"0"},"00","","000000","",0]
[null,null,null,null,null,null,null,null,null,null,null,null,null,null,null,null,null,null,"",null,"",null,null,null,null,null,null,null,{"$f":"IF($Q32=\"\",\"0\",VLOOKUP($Q32,登録データ!$U$4:$V$19,2,FALSE))","v":"0"},"00","","000000","",0]
[null,5,null,null,null,null,null,null,null,null,null,null,null,null,null,"①",null,null,"",null,"",null,null,null,null,null,null,null,{"$f":"IF($Q33=\"\",\"0\",VLOOKUP($Q33,登録データ!$U$4:$V$19,2,FALSE))","v":"0"},"00","","000000","",0,{"$f":"IF($C33=\"\",\"\",IF($C33=\"@\",0,IF(COUNTIF($C$21:$C$620,$C33)=1,0,1)))","v":""},{"$f":"IF($M33=\"\",\"\",IF(OR($M33=\"東京都\",$M33=\"北海道\",$M33=\"大阪府\",$M33=\"京都府\",RIGHT($M33,1)=\"県\"),0,1))","v":""}]
[null,null,null,null,null,null,null,null,null,null,null,null,null,null,null,null,null,null,"",null,"",null,null,null,null,null,null,null,{"$f":"IF($Q34=\"\",\"0\",VLOOKUP($Q34,登録データ!$U$4:$V$19,2,FALSE))","v":"0"},"00","","000000","",0]
[null,null,null,null,null,null,null,null,null,null,null,null,null,null,null,null,null,null,"",null,"",null,null,null,null,null,null,null,{"$f":"IF($Q35=\"\",\"0\",VLOOKUP($Q35,登録データ!$U$4:$V$19,2,FALSE))","v":"0"},"00","","000000","",0]
[null,6,null,null,null,null,null,null,null,null,null,null,null,null,null,"①",null,null,"",null,"",null,null,null,null,null,null,null,{"$f":"IF($Q36=\"\",\"0\",VLOOKUP($Q36,登録データ!$U$4:$V$19,2,FALSE))","v":"0"},"00","","000000","",0,{"$f":"IF($C36=\"\",\"\",IF($C36=\"@\",0,IF(COUNTIF($C$21:$C$620,$C36)=1,0,1)))","v":""},{"$f":"IF($M36=\"\",\"\",IF(OR($M36=\"東京都\",$M36=\"北海道\",$M36=\"大阪府\",$M36=\"京都府\",RIGHT($M36,1)=\"県\"),0,1))","v":""}]
[null,null,null,null,null,null,null,null,null,null,null,null,null,null,null,null,null,null,"",null,"",null,null,null,null,null,null,null,{"$f":"IF($Q37=\"\",\"0\",VLOOKUP($Q37,登録データ!$U$4:$V$19,2,FALSE))","v":"0"},"00","","000000","",0]
[null,null,null,null,null,null,null,null,null,null,null,null,null,null,null,null,null,null,"",null,"",null,null,null,null,null,null,null,{"$f":"IF($Q38=\"\",\"0\",VLOOKUP($Q38,登録データ!$U$4:$V$19,2,FALSE))","v":"0"},"00","","000000","",0]
[null,7,null,null,null,null,null,null,null,null,null,null,null,null,null,"①",null,null,"",null,"",null,null,null,null,null,null,null,{"$f":"IF($Q39=\"\",\"0\",VLOOKUP($Q39,登録データ!$U$4:$V$19,2,FALSE))","v":"0"},"00","","000000","",0,{"$f":"IF($C39=\"\",\"\",IF($C39=\"@\",0,IF(COUNTIF($C$21:$C$620,$C39)=1,0,1)))","v":""},{"$f":"IF($M39=\"\",\"\",IF(OR($M39=\"東京都\",$M39=\"北海道\",$M39=\"大阪府\",$M39=\"京都府\",RIGHT($M39,1)=\"県\"),0,1))","v":""}]
[null,null,null,null,null,null,null,null,null,null,null,null,null,null,null,null,null,null,"",null,"",null,null,null,null,null,null,null,{"$f":"IF($Q40=\"\",\"0\",VLOOKUP($Q40,登録データ!$U$4:$V$19,2,FALSE))","v":"0"},"00","","000000","",0]
[null,null,null,null,null,null,null,null,null,null,null,null,null,null,null,null,null,null,"",null,"",null,null,null,null,null,null,null,{"$f":"IF($Q41=\"\",\"0\",VLOOKUP($Q41,登録データ!$U$4:$V$19,2,FALSE))","v":"0"},"00","","000000","",0]
[null,8,null,null,null,null,null,null,null,null,null,null,null,null,null,"①",null,null,"",null,"",null,null,null,null,null,null,null,{"$f":"IF($Q42=\"\",\"0\",VLOOKUP($Q42,登録データ!$U$4:$V$19,2,FALSE))","v":"0"},"00","","000000","",0,{"$f":"IF($C42=\"\",\"\",IF($C42=\"@\",0,IF(COUNTIF($C$21:$C$620,$C42)=1,0,1)))","v":""},{"$f":"IF($M42=\"\",\"\",IF(OR($M42=\"東京都\",$M42=\"北海道\",$M42=\"大阪府\",$M42=\"京都府\",RIGHT($M42,1)=\"県\"),0,1))","v":""}]
[null,null,null,null,null,null,null,null,null,null,null,null,null,null,null,null,null,null,"",null,"",null,null,null,null,null,null,null,{"$f":"IF($Q43=\"\",\"0\",VLOOKUP($Q43,登録データ!$U$4:$V$19,2,FALSE))","v":"0"},"00","","000000","",0]
[null,null,null,null,null,null,null,null,null,null,null,null,null,null,null,null,null,null,"",null,"",null,null,null,null,null,null,null,{"$f":"IF($Q44=\"\",\"0\",VLOOKUP($Q44,登録データ!$U$4:$V$19,2,FALSE))","v":"0"},"00","","000000","",0]
[null,9,null,null,null,null,null,null,null,null,null,null,null,null,null,"①",null,null,"",null,"",null,null,null,null,null,null,null,{"$f":"IF($Q45=\"\",\"0\",VLOOKUP($Q45,登録データ!$U$4:$V$19,2,FALSE))","v":"0"},"00","","000000","",0,{"$f":"IF($C45=\"\",\"\",IF($C45=\"@\",0,IF(COUNTIF($C$21:$C$620,$C45)=1,0,1)))","v":""},{"$f":"IF($M45=\"\",\"\",IF(OR($M45=\"東京都\",$M45=\"北海道\",$M45=\"大阪府\",$M45=\"京都府\",RIGHT($M45,1)=\"県\"),0,1))","v":""}]
[null,null,null,null,null,null,null,null,null,null,null,null,null,null,null,null,null,null,"",null,"",null,null,null,null,null,null,null,{"$f":"IF($Q46=\"\",\"0\",VLOOKUP($Q46,登録データ!$U$4:$V$19,2,FALSE))","v":"0"},"00","","000000","",0]
[null,null,null,null,null,null,null,null,null,null,null,null,null,null,null,null,null,null,"",null,"",null,null,null,null,null,null,null,{"$f":"IF($Q47=\"\",\"0\",VLOOKUP($Q47,登録データ!$U$4:$V$19,2,FALSE))","v":"0"},"00","","000000","",0]
[null,10,null,null,null,null,null,null,null,null,null,null,null,null,null,"①",null,null,"",null,"",null,null,null,null,null,null,null,{"$f":"IF($Q48=\"\",\"0\",VLOOKUP($Q48,登録データ!$U$4:$V$19,2,FALSE))","v":"0"},"00","","000000","",0,{"$f":"IF($C48=\"\",\"\",IF($C48=\"@\",0,IF(COUNTIF($C$21:$C$620,$C48)=1,0,1)))","v":""},{"$f":"IF($M48=\"\",\"\",IF(OR($M48=\"東京都\",$M48=\"北海道\",$M48=\"大阪府\",$M48=\"京都府\",RIGHT($M48,1)=\"県\"),0,1))","v":""}]
[null,null,null,null,null,null,null,null,null,null,null,null,null,null,null,null,null,null,"",null,"",null,null,null,null,null,null,null,{"$f":"IF($Q49=\"\",\"0\",VLOOKUP($Q49,登録データ!$U$4:$V$19,2,FALSE))","v":"0"},"00","","000000","",0]
[null,null,null,null,null,null,null,null,null,null,null,null,null,null,null,null,null,null,"",null,"",null,null,null,null,null,null,null,{"$f":"IF($Q50=\"\",\"0\",VLOOKUP($Q50,登録データ!$U$4:$V$19,2,FALSE))","v":"0"},"00","","000000","",0]
[null,11,null,null,null,null,null,null,null,null,null,null,null,null,null,"①",null,null,"",null,"",null,null,null,null,null,null,null,{"$f":"IF($Q51=\"\",\"0\",VLOOKUP($Q51,登録データ!$U$4:$V$19,2,FALSE))","v":"0"},"00","","000000","",0,{"$f":"IF($C51=\"\",\"\",IF($C51=\"@\",0,IF(COUNTIF($C$21:$C$620,$C51)=1,0,1)))","v":""},{"$f":"IF($M51=\"\",\"\",IF(OR($M51=\"東京都\",$M51=\"北海道\",$M51=\"大阪府\",$M51=\"京都府\",RIGHT($M51,1)=\"県\"),0,1))","v":""}]
[null,null,null,null,null,null,null,null,null,null,null,null,null,null,null,null,null,null,"",null,"",null,null,null,null,null,null,null,{"$f":"IF($Q52=\"\",\"0\",VLOOKUP($Q52,登録データ!$U$4:$V$19,2,FALSE))","v":"0"},"00","","000000","",0]
[null,null,null,null,null,null,null,null,null,null,null,null,null,null,null,null,null,null,"",null,"",null,null,null,null,null,null,null,{"$f":"IF($Q53=\"\",\"0\",VLOOKUP($Q53,登録データ!$U$4:$V$19,2,FALSE))","v":"0"},"00","","000000","",0]
[null,12,null,null,null,null,null,null,null,null,null,null,null,null,null,"①",null,null,"",null,"",null,null,null,null,null,null,null,{"$f":"IF($Q54=\"\",\"0\",VLOOKUP($Q54,登録データ!$U$4:$V$19,2,FALSE))","v":"0"},"00","","000000","",0,{"$f":"IF($C54=\"\",\"\",IF($C54=\"@\",0,IF(COUNTIF($C$21:$C$620,$C54)=1,0,1)))","v":""},{"$f":"IF($M54=\"\",\"\",IF(OR($M54=\"東京都\",$M54=\"北海道\",$M54=\"大阪府\",$M54=\"京都府\",RIGHT($M54,1)=\"県\"),0,1))","v":""}]
[null,null,null,null,null,null,null,null,null,null,null,null,null,null,null,null,null,null,"",null,"",null,null,null,null,null,null,null,{"$f":"IF($Q55=\"\",\"0\",VLOOKUP($Q55,登録データ!$U$4:$V$19,2,FALSE))","v":"0"},"00","","000000","",0]
[null,null,null,null,null,null,null,null,null,null,null,null,null,null,null,null,null,null,"",null,"",null,null,null,null,null,null,null,{"$f":"IF($Q56=\"\",\"0\",VLOOKUP($Q56,登録データ!$U$4:$V$19,2,FALSE))","v":"0"},"00","","000000","",0]
[null,13,null,null,null,null,null,null,null,null,null,null,null,null,null,"①",null,null,"",null,"",null,null,null,null,null,null,null,{"$f":"IF($Q57=\"\",\"0\",VLOOKUP($Q57,登録データ!$U$4:$V$19,2,FALSE))","v":"0"},"00","","000000","",0,{"$f":"IF($C57=\"\",\"\",IF($C57=\"@\",0,IF(COUNTIF($C$21:$C$620,$C57)=1,0,1)))","v":""},{"$f":"IF($M57=\"\",\"\",IF(OR($M57=\"東京都\",$M57=\"北海道\",$M57=\"大阪府\",$M57=\"京都府\",RIGHT($M57,1)=\"県\"),0,1))","v":""}]
[null,null,null,null,null,null,null,null,null,null,null,null,null,null,null,null,null,null,"",null,"",null,null,null,null,null,null,null,{"$f":"IF($Q58=\"\",\"0\",VLOOKUP($Q58,登録データ!$U$4:$V$19,2,FALSE))","v":"0"},"00","","000000","",0]
[null,null,null,null,null,null,null,null,null,null,null,null,null,null,null,null,null,null,"",null,"",null,null,null,null,null,null,null,{"$f":"IF($Q59=\"\",\"0\",VLOOKUP($Q59,登録データ!$U$4:$V$19,2,FALSE))","v":"0"},"00","","000000","",0]
[null,14,null,null,null,null,null,null,null,null,null,null,null,null,null,"①",null,null,"",null,"",null,null,null,null,null,null,null,{"$f":"IF($Q60=\"\",\"0\",VLOOKUP($Q60,登録データ!$U$4:$V$19,2,FALSE))","v":"0"},"00","","000000","",0,{"$f":"IF($C60=\"\",\"\",IF($C60=\"@\",0,IF(COUNTIF($C$21:$C$620,$C60)=1,0,1)))","v":""},{"$f":"IF($M60=\"\",\"\",IF(OR($M60=\"東京都\",$M60=\"北海道\",$M60=\"大阪府\",$M60=\"京都府\",RIGHT($M60,1)=\"県\"),0,1))","v":""}]
[null,null,null,null,null,null,null,null,null,null,null,null,null,null,null,null,null,null,"",null,"",null,null,null,null,null,null,null,{"$f":"IF($Q61=\"\",\"0\",VLOOKUP($Q61,登録データ!$U$4:$V$19,2,FALSE))","v":"0"},"00","","000000","",0]
[null,null,null,null,null,null,null,null,null,null,null,null,null,null,null,null,null,null,"",null,"",null,null,null,null,null,null,null,{"$f":"IF($Q62=\"\",\"0\",VLOOKUP($Q62,登録データ!$U$4:$V$19,2,FALSE))","v":"0"},"00","","000000","",0]
[null,15,null,null,null,null,null,null,null,null,null,null,null,null,null,"①",null,null,"",null,"",null,null,null,null,null,null,null,{"$f":"IF($Q63=\"\",\"0\",VLOOKUP($Q63,登録データ!$U$4:$V$19,2,FALSE))","v":"0"},"00","","000000","",0,{"$f":"IF($C63=\"\",\"\",IF($C63=\"@\",0,IF(COUNTIF($C$21:$C$620,$C63)=1,0,1)))","v":""},{"$f":"IF($M63=\"\",\"\",IF(OR($M63=\"東京都\",$M63=\"北海道\",$M63=\"大阪府\",$M63=\"京都府\",RIGHT($M63,1)=\"県\"),0,1))","v":""}]
[null,null,null,null,null,null,null,null,null,null,null,null,null,null,null,null,null,null,"",null,"",null,null,null,null,null,null,null,{"$f":"IF($Q64=\"\",\"0\",VLOOKUP($Q64,登録データ!$U$4:$V$19,2,FALSE))","v":"0"},"00","","000000","",0]
[null,null,null,null,null,null,null,null,null,null,null,null,null,null,null,null,null,null,"",null,"",null,null,null,null,null,null,null,{"$f":"IF($Q65=\"\",\"0\",VLOOKUP($Q65,登録データ!$U$4:$V$19,2,FALSE))","v":"0"},"00","","000000","",0]
[null,16,null,null,null,null,null,null,null,null,null,null,null,null,null,"①",null,null,"",null,"",null,null,null,null,null,null,null,{"$f":"IF($Q66=\"\",\"0\",VLOOKUP($Q66,登録データ!$U$4:$V$19,2,FALSE))","v":"0"},"00","","000000","",0,{"$f":"IF($C66=\"\",\"\",IF($C66=\"@\",0,IF(COUNTIF($C$21:$C$620,$C66)=1,0,1)))","v":""},{"$f":"IF($M66=\"\",\"\",IF(OR($M66=\"東京都\",$M66=\"北海道\",$M66=\"大阪府\",$M66=\"京都府\",RIGHT($M66,1)=\"県\"),0,1))","v":""}]
[null,null,null,null,null,null,null,null,null,null,null,null,null,null,null,null,null,null,"",null,"",null,null,null,null,null,null,null,{"$f":"IF($Q67=\"\",\"0\",VLOOKUP($Q67,登録データ!$U$4:$V$19,2,FALSE))","v":"0"},"00","","000000","",0]
[null,null,null,null,null,null,null,null,null,null,null,null,null,null,null,null,null,null,"",null,"",null,null,null,null,null,null,null,{"$f":"IF($Q68=\"\",\"0\",VLOOKUP($Q68,登録データ!$U$4:$V$19,2,FALSE))","v":"0"},"00","","000000","",0]
[null,17,null,null,null,null,null,null,null,null,null,null,null,null,null,"①",null,null,"",null,"",null,null,null,null,null,null,null,{"$f":"IF($Q69=\"\",\"0\",VLOOKUP($Q69,登録データ!$U$4:$V$19,2,FALSE))","v":"0"},"00","","000000","",0,{"$f":"IF($C69=\"\",\"\",IF($C69=\"@\",0,IF(COUNTIF($C$21:$C$620,$C69)=1,0,1)))","v":""},{"$f":"IF($M69=\"\",\"\",IF(OR($M69=\"東京都\",$M69=\"北海道\",$M69=\"大阪府\",$M69=\"京都府\",RIGHT($M69,1)=\"県\"),0,1))","v":""}]
[null,null,null,null,null,null,null,null,null,null,null,null,null,null,null,null,null,null,"",null,"",null,null,null,null,null,null,null,{"$f":"IF($Q70=\"\",\"0\",VLOOKUP($Q70,登録データ!$U$4:$V$19,2,FALSE))","v":"0"},"00","","000000","",0]
[null,null,null,null,null,null,null,null,null,null,null,null,null,null,null,null,null,null,"",null,"",null,null,null,null,null,null,null,{"$f":"IF($Q71=\"\",\"0\",VLOOKUP($Q71,登録データ!$U$4:$V$19,2,FALSE))","v":"0"},"00","","000000","",0]
[null,18,null,null,null,null,null,null,null,null,null,null,null,null,null,"①",null,null,"",null,"",null,null,null,null,null,null,null,{"$f":"IF($Q72=\"\",\"0\",VLOOKUP($Q72,登録データ!$U$4:$V$19,2,FALSE))","v":"0"},"00","","000000","",0,{"$f":"IF($C72=\"\",\"\",IF($C72=\"@\",0,IF(COUNTIF($C$21:$C$620,$C72)=1,0,1)))","v":""},{"$f":"IF($M72=\"\",\"\",IF(OR($M72=\"東京都\",$M72=\"北海道\",$M72=\"大阪府\",$M72=\"京都府\",RIGHT($M72,1)=\"県\"),0,1))","v":""}]
[null,null,null,null,null,null,null,null,null,null,null,null,null,null,null,null,null,null,"",null,"",null,null,null,null,null,null,null,{"$f":"IF($Q73=\"\",\"0\",VLOOKUP($Q73,登録データ!$U$4:$V$19,2,FALSE))","v":"0"},"00","","000000","",0]
[null,null,null,null,null,null,null,null,null,null,null,null,null,null,null,null,null,null,"",null,"",null,null,null,null,null,null,null,{"$f":"IF($Q74=\"\",\"0\",VLOOKUP($Q74,登録データ!$U$4:$V$19,2,FALSE))","v":"0"},"00","","000000","",0]
[null,19,null,null,null,null,null,null,null,null,null,null,null,null,null,"①",null,null,"",null,"",null,null,null,null,null,null,null,{"$f":"IF($Q75=\"\",\"0\",VLOOKUP($Q75,登録データ!$U$4:$V$19,2,FALSE))","v":"0"},"00","","000000","",0,{"$f":"IF($C75=\"\",\"\",IF($C75=\"@\",0,IF(COUNTIF($C$21:$C$620,$C75)=1,0,1)))","v":""},{"$f":"IF($M75=\"\",\"\",IF(OR($M75=\"東京都\",$M75=\"北海道\",$M75=\"大阪府\",$M75=\"京都府\",RIGHT($M75,1)=\"県\"),0,1))","v":""}]
[null,null,null,null,null,null,null,null,null,null,null,null,null,null,null,null,null,null,"",null,"",null,null,null,null,null,null,null,{"$f":"IF($Q76=\"\",\"0\",VLOOKUP($Q76,登録データ!$U$4:$V$19,2,FALSE))","v":"0"},"00","","000000","",0]
[null,null,null,null,null,null,null,null,null,null,null,null,null,null,null,null,null,null,"",null,"",null,null,null,null,null,null,null,{"$f":"IF($Q77=\"\",\"0\",VLOOKUP($Q77,登録データ!$U$4:$V$19,2,FALSE))","v":"0"},"00","","000000","",0]
[null,20,null,null,null,null,null,null,null,null,null,null,null,null,null,"①",null,null,"",null,"",null,null,null,null,null,null,null,{"$f":"IF($Q78=\"\",\"0\",VLOOKUP($Q78,登録データ!$U$4:$V$19,2,FALSE))","v":"0"},"00","","000000","",0,{"$f":"IF($C78=\"\",\"\",IF($C78=\"@\",0,IF(COUNTIF($C$21:$C$620,$C78)=1,0,1)))","v":""},{"$f":"IF($M78=\"\",\"\",IF(OR($M78=\"東京都\",$M78=\"北海道\",$M78=\"大阪府\",$M78=\"京都府\",RIGHT($M78,1)=\"県\"),0,1))","v":""}]
[null,null,null,null,null,null,null,null,null,null,null,null,null,null,null,null,null,null,"",null,"",null,null,null,null,null,null,null,{"$f":"IF($Q79=\"\",\"0\",VLOOKUP($Q79,登録データ!$U$4:$V$19,2,FALSE))","v":"0"},"00","","000000","",0]
[null,null,null,null,null,null,null,null,null,null,null,null,null,null,null,null,null,null,"",null,"",null,null,null,null,null,null,null,{"$f":"IF($Q80=\"\",\"0\",VLOOKUP($Q80,登録データ!$U$4:$V$19,2,FALSE))","v":"0"},"00","","000000","",0]
[null,21,null,null,null,null,null,null,null,null,null,null,null,null,null,"①",null,null,"",null,"",null,null,null,null,null,null,null,{"$f":"IF($Q81=\"\",\"0\",VLOOKUP($Q81,登録データ!$U$4:$V$19,2,FALSE))","v":"0"},"00","","000000","",0,{"$f":"IF($C81=\"\",\"\",IF($C81=\"@\",0,IF(COUNTIF($C$21:$C$620,$C81)=1,0,1)))","v":""},{"$f":"IF($M81=\"\",\"\",IF(OR($M81=\"東京都\",$M81=\"北海道\",$M81=\"大阪府\",$M81=\"京都府\",RIGHT($M81,1)=\"県\"),0,1))","v":""}]
[null,null,null,null,null,null,null,null,null,null,null,null,null,null,null,null,null,null,"",null,"",null,null,null,null,null,null,null,{"$f":"IF($Q82=\"\",\"0\",VLOOKUP($Q82,登録データ!$U$4:$V$19,2,FALSE))","v":"0"},"00","","000000","",0]
[null,null,null,null,null,null,null,null,null,null,null,null,null,null,null,null,null,null,"",null,"",null,null,null,null,null,null,null,{"$f":"IF($Q83=\"\",\"0\",VLOOKUP($Q83,登録データ!$U$4:$V$19,2,FALSE))","v":"0"},"00","","000000","",0]
[null,22,null,null,null,null,null,null,null,null,null,null,null,null,null,"①",null,null,"",null,"",null,null,null,null,null,null,null,{"$f":"IF($Q84=\"\",\"0\",VLOOKUP($Q84,登録データ!$U$4:$V$19,2,FALSE))","v":"0"},"00","","000000","",0,{"$f":"IF($C84=\"\",\"\",IF($C84=\"@\",0,IF(COUNTIF($C$21:$C$620,$C84)=1,0,1)))","v":""},{"$f":"IF($M84=\"\",\"\",IF(OR($M84=\"東京都\",$M84=\"北海道\",$M84=\"大阪府\",$M84=\"京都府\",RIGHT($M84,1)=\"県\"),0,1))","v":""}]
[null,null,null,null,null,null,null,null,null,null,null,null,null,null,null,null,null,null,"",null,"",null,null,null,null,null,null,null,{"$f":"IF($Q85=\"\",\"0\",VLOOKUP($Q85,登録データ!$U$4:$V$19,2,FALSE))","v":"0"},"00","",{"$f":"IF($AE85=2,IF($T85=\"\",\"0000\",CONCATENATE(RIGHT($T85+100,2),$AD85)),IF($T85=\"\",\"000000\",CONCATENATE(RIGHT($R85+100,2),RIGHT($T85+100,2),$AD85)))","v":"000000"},{"$f":"IF($Q85=\"\",\"\",CONCATENATE($AC85,\" \",IF($AE85=1,RIGHT($AF85+10000000,7),RIGHT($AF85+100000,5))))","v":""},0]
[null,null,null,null,null,null,null,null,null,null,null,null,null,null,null,null,null,null,{"$f":"IF($Q86=\"\",\"\",IF(OR(RIGHT($Q86,1)=\"m\",RIGHT($Q86,1)=\"H\"),\"分\",\"\"))","v":""},null,{"$f":"IF($Q86=\"\",\"\",IF(OR(RIGHT($Q86,1)=\"m\",RIGHT($Q86,1)=\"H\"),\"秒\",\"m\"))","v":""},null,null,null,null,null,null,null,{"$f":"IF($Q86=\"\",\"0\",VLOOKUP($Q86,登録データ!$U$4:$V$19,2,FALSE))","v":"0"},{"$f":"IF($V86=\"\",\"00\",IF(LEN($V86)=1,$V86*10,$V86))","v":"00"},{"$f":"IF($Q86=\"\",\"\",IF(OR(RIGHT($Q86,1)=\"m\",RIGHT($Q86,1)=\"H\"),1,2))","v":""},"000000","",{"$f":"IF(OR(RIGHT($H82,1)=\"m\",RIGHT($H82,1)=\"H\",RIGHT($H82,1)=\"W\",RIGHT($H82,1)=\"C\"),IF(VALUE($K82)>59,1,0),0)","v":0}]
[null,23,null,null,null,null,null,null,null,null,null,null,null,null,null,"①",null,null,"",null,"",null,null,null,null,null,null,null,{"$f":"IF($Q87=\"\",\"0\",VLOOKUP($Q87,登録データ!$U$4:$V$19,2,FALSE))","v":"0"},"00","","000000","",0,{"$f":"IF($C87=\"\",\"\",IF($C87=\"@\",0,IF(COUNTIF($C$21:$C$620,$C87)=1,0,1)))","v":""},{"$f":"IF($M87=\"\",\"\",IF(OR($M87=\"東京都\",$M87=\"北海道\",$M87=\"大阪府\",$M87=\"京都府\",RIGHT($M87,1)=\"県\"),0,1))","v":""}]
[null,null,null,null,null,null,null,null,null,null,null,null,null,null,null,null,null,null,"",null,"",null,null,null,null,null,null,null,{"$f":"IF($Q88=\"\",\"0\",VLOOKUP($Q88,登録データ!$U$4:$V$19,2,FALSE))","v":"0"},"00","","000000","",0]
[null,null,null,null,null,null,null,null,null,null,null,null,null,null,null,null,null,null,"",null,"",null,null,null,null,null,null,null,{"$f":"IF($Q89=\"\",\"0\",VLOOKUP($Q89,登録データ!$U$4:$V$19,2,FALSE))","v":"0"},"00","","000000","",0]
[null,24,null,null,null,null,null,null,null,null,null,null,null,null,null,"①",null,null,"",null,"",null,null,null,null,null,null,null,{"$f":"IF($Q90=\"\",\"0\",VLOOKUP($Q90,登録データ!$U$4:$V$19,2,FALSE))","v":"0"},"00","","000000","",0,{"$f":"IF($C90=\"\",\"\",IF($C90=\"@\",0,IF(COUNTIF($C$21:$C$620,$C90)=1,0,1)))","v":""},{"$f":"IF($M90=\"\",\"\",IF(OR($M90=\"東京都\",$M90=\"北海道\",$M90=\"大阪府\",$M90=\"京都府\",RIGHT($M90,1)=\"県\"),0,1))","v":""}]
[null,null,null,null,null,null,null,null,null,null,null,null,null,null,null,null,null,null,"",null,"",null,null,null,null,null,null,null,{"$f":"IF($Q91=\"\",\"0\",VLOOKUP($Q91,登録データ!$U$4:$V$19,2,FALSE))","v":"0"},"00","","000000","",0]
[null,null,null,null,null,null,null,null,null,null,null,null,null,null,null,null,null,null,"",null,"",null,null,null,null,null,null,null,{"$f":"IF($Q92=\"\",\"0\",VLOOKUP($Q92,登録データ!$U$4:$V$19,2,FALSE))","v":"0"},"00","","000000","",0]
[null,25,null,null,null,null,null,null,null,null,null,null,null,null,null,"①",null,null,"",null,"",null,null,null,null,null,null,null,{"$f":"IF($Q93=\"\",\"0\",VLOOKUP($Q93,登録データ!$U$4:$V$19,2,FALSE))","v":"0"},"00","","000000","",0,{"$f":"IF($C93=\"\",\"\",IF($C93=\"@\",0,IF(COUNTIF($C$21:$C$620,$C93)=1,0,1)))","v":""},{"$f":"IF($M93=\"\",\"\",IF(OR($M93=\"東京都\",$M93=\"北海道\",$M93=\"大阪府\",$M93=\"京都府\",RIGHT($M93,1)=\"県\"),0,1))","v":""}]
[null,null,null,null,null,null,null,null,null,null,null,null,null,null,null,null,null,null,"",null,"",null,null,null,null,null,null,null,{"$f":"IF($Q94=\"\",\"0\",VLOOKUP($Q94,登録データ!$U$4:$V$19,2,FALSE))","v":"0"},"00","","000000","",0]
[null,null,null,null,null,null,null,null,null,null,null,null,null,null,null,null,null,null,"",null,"",null,null,null,null,null,null,null,{"$f":"IF($Q95=\"\",\"0\",VLOOKUP($Q95,登録データ!$U$4:$V$19,2,FALSE))","v":"0"},"00","","000000","",0]
[null,26,null,null,null,null,null,null,null,null,null,null,null,null,null,"①",null,null,"",null,"",null,null,null,null,null,null,null,{"$f":"IF($Q96=\"\",\"0\",VLOOKUP($Q96,登録データ!$U$4:$V$19,2,FALSE))","v":"0"},"00","","000000","",0,{"$f":"IF($C96=\"\",\"\",IF($C96=\"@\",0,IF(COUNTIF($C$21:$C$620,$C96)=1,0,1)))","v":""},{"$f":"IF($M96=\"\",\"\",IF(OR($M96=\"東京都\",$M96=\"北海道\",$M96=\"大阪府\",$M96=\"京都府\",RIGHT($M96,1)=\"県\"),0,1))","v":""}]
[null,null,null,null,null,null,null,null,null,null,null,null,null,null,null,null,null,null,"",null,"",null,null,null,null,null,null,null,{"$f":"IF($Q97=\"\",\"0\",VLOOKUP($Q97,登録データ!$U$4:$V$19,2,FALSE))","v":"0"},"00","","000000","",0]
[null,null,null,null,null,null,null,null,null,null,null,null,null,null,null,null,null,null,"",null,"",null,null,null,null,null,null,null,{"$f":"IF($Q98=\"\",\"0\",VLOOKUP($Q98,登録データ!$U$4:$V$19,2,FALSE))","v":"0"},"00","","000000","",0]
[null,27,null,null,null,null,null,null,null,null,null,null,null,null,null,"①",null,null,"",null,"",null,null,null,null,null,null,null,{"$f":"IF($Q99=\"\",\"0\",VLOOKUP($Q99,登録データ!$U$4:$V$19,2,FALSE))","v":"0"},"00","","000000","",0,{"$f":"IF($C99=\"\",\"\",IF($C99=\"@\",0,IF(COUNTIF($C$21:$C$620,$C99)=1,0,1)))","v":""},{"$f":"IF($M99=\"\",\"\",IF(OR($M99=\"東京都\",$M99=\"北海道\",$M99=\"大阪府\",$M99=\"京都府\",RIGHT($M99,1)=\"県\"),0,1))","v":""}]
[null,null,null,null,null,null,null,null,null,null,null,null,null,null,null,null,null,null,"",null,"",null,null,null,null,null,null,null,{"$f":"IF($Q100=\"\",\"0\",VLOOKUP($Q100,登録データ!$U$4:$V$19,2,FALSE))","v":"0"},"00","","000000","",0]
[null,null,null,null,null,null,null,null,null,null,null,null,null,null,null,null,null,null,"",null,"",null,null,null,null,null,null,null,{"$f":"IF($Q101=\"\",\"0\",VLOOKUP($Q101,登録データ!$U$4:$V$19,2,FALSE))","v":"0"},"00","","000000","",0]
[null,28,null,null,null,null,null,null,null,null,null,null,null,null,null,"①",null,null,"",null,"",null,null,null,null,null,null,null,{"$f":"IF($Q102=\"\",\"0\",VLOOKUP($Q102,登録データ!$U$4:$V$19,2,FALSE))","v":"0"},"00","","000000","",0,{"$f":"IF($C102=\"\",\"\",IF($C102=\"@\",0,IF(COUNTIF($C$21:$C$620,$C102)=1,0,1)))","v":""},{"$f":"IF($M102=\"\",\"\",IF(OR($M102=\"東京都\",$M102=\"北海道\",$M102=\"大阪府\",$M102=\"京都府\",RIGHT($M102,1)=\"県\"),0,1))","v":""}]
[null,null,null,null,null,null,null,null,null,null,null,null,null,null,null,null,null,null,"",null,"",null,null,null,null,null,null,null,{"$f":"IF($Q103=\"\",\"0\",VLOOKUP($Q103,登録データ!$U$4:$V$19,2,FALSE))","v":"0"},"00","","000000","",0]
[null,null,null,null,null,null,null,null,null,null,null,null,null,null,null,null,null,null,"",null,"",null,null,null,null,null,null,null,{"$f":"IF($Q104=\"\",\"0\",VLOOKUP($Q104,登録データ!$U$4:$V$19,2,FALSE))","v":"0"},"00","","000000","",0]
[null,29,null,null,null,null,null,null,null,null,null,null,null,null,null,"①",null,null,"",null,"",null,null,null,null,null,null,null,{"$f":"IF($Q105=\"\",\"0\",VLOOKUP($Q105,登録データ!$U$4:$V$19,2,FALSE))","v":"0"},"00","","000000","",0,{"$f":"IF($C105=\"\",\"\",IF($C105=\"@\",0,IF(COUNTIF($C$21:$C$620,$C105)=1,0,1)))","v":""},{"$f":"IF($M105=\"\",\"\",IF(OR($M105=\"東京都\",$M105=\"北海道\",$M105=\"大阪府\",$M105=\"京都府\",RIGHT($M105,1)=\"県\"),0,1))","v":""}]
[null,null,null,null,null,null,null,null,null,null,null,null,null,null,null,null,null,null,"",null,"",null,null,null,null,null,null,null,{"$f":"IF($Q106=\"\",\"0\",VLOOKUP($Q106,登録データ!$U$4:$V$19,2,FALSE))","v":"0"},"00","","000000","",0]
[null,null,null,null,null,null,null,null,null,null,null,null,null,null,null,null,null,null,"",null,"",null,null,null,null,null,null,null,{"$f":"IF($Q107=\"\",\"0\",VLOOKUP($Q107,登録データ!$U$4:$V$19,2,FALSE))","v":"0"},"00","","000000","",0]
[null,30,null,null,null,null,null,null,null,null,null,null,null,null,null,"①",null,null,"",null,"",null,null,null,null,null,null,null,{"$f":"IF($Q108=\"\",\"0\",VLOOKUP($Q108,登録データ!$U$4:$V$19,2,FALSE))","v":"0"},"00","","000000","",0,{"$f":"IF($C108=\"\",\"\",IF($C108=\"@\",0,IF(COUNTIF($C$21:$C$620,$C108)=1,0,1)))","v":""},{"$f":"IF($M108=\"\",\"\",IF(OR($M108=\"東京都\",$M108=\"北海道\",$M108=\"大阪府\",$M108=\"京都府\",RIGHT($M108,1)=\"県\"),0,1))","v":""}]
[null,null,null,null,null,null,null,null,null,null,null,null,null,null,null,null,null,null,"",null,"",null,null,null,null,null,null,null,{"$f":"IF($Q109=\"\",\"0\",VLOOKUP($Q109,登録データ!$U$4:$V$19,2,FALSE))","v":"0"},"00","","000000","",0]
[null,null,null,null,null,null,null,null,null,null,null,null,null,null,null,null,null,null,"",null,"",null,null,null,null,null,null,null,{"$f":"IF($Q110=\"\",\"0\",VLOOKUP($Q110,登録データ!$U$4:$V$19,2,FALSE))","v":"0"},"00","","000000","",0]
[null,31,null,null,null,null,null,null,null,null,null,null,null,null,null,"①",null,null,"",null,"",null,null,null,null,null,null,null,{"$f":"IF($Q111=\"\",\"0\",VLOOKUP($Q111,登録データ!$U$4:$V$19,2,FALSE))","v":"0"},"00","","000000","",0,{"$f":"IF($C111=\"\",\"\",IF($C111=\"@\",0,IF(COUNTIF($C$21:$C$620,$C111)=1,0,1)))","v":""},{"$f":"IF($M111=\"\",\"\",IF(OR($M111=\"東京都\",$M111=\"北海道\",$M111=\"大阪府\",$M111=\"京都府\",RIGHT($M111,1)=\"県\"),0,1))","v":""}]
[null,null,null,null,null,null,null,null,null,null,null,null,null,null,null,null,null,null,"",null,"",null,null,null,null,null,null,null,{"$f":"IF($Q112=\"\",\"0\",VLOOKUP($Q112,登録データ!$U$4:$V$19,2,FALSE))","v":"0"},"00","","000000","",0]
[null,null,null,null,null,null,null,null,null,null,null,null,null,null,null,null,null,null,"",null,"",null,null,null,null,null,null,null,{"$f":"IF($Q113=\"\",\"0\",VLOOKUP($Q113,登録データ!$U$4:$V$19,2,FALSE))","v":"0"},"00","","000000","",0]
[null,32,null,null,null,null,null,null,null,null,null,null,null,null,null,"①",null,null,"",null,"",null,null,null,null,null,null,null,{"$f":"IF($Q114=\"\",\"0\",VLOOKUP($Q114,登録データ!$U$4:$V$19,2,FALSE))","v":"0"},"00","","000000","",0,{"$f":"IF($C114=\"\",\"\",IF($C114=\"@\",0,IF(COUNTIF($C$21:$C$620,$C114)=1,0,1)))","v":""},{"$f":"IF($M114=\"\",\"\",IF(OR($M114=\"東京都\",$M114=\"北海道\",$M114=\"大阪府\",$M114=\"京都府\",RIGHT($M114,1)=\"県\"),0,1))","v":""}]
[null,null,null,null,null,null,null,null,null,null,null,null,null,null,null,null,null,null,"",null,"",null,null,null,null,null,null,null,{"$f":"IF($Q115=\"\",\"0\",VLOOKUP($Q115,登録データ!$U$4:$V$19,2,FALSE))","v":"0"},"00","","000000","",0]
[null,null,null,null,null,null,null,null,null,null,null,null,null,null,null,null,null,null,"",null,"",null,null,null,null,null,null,null,{"$f":"IF($Q116=\"\",\"0\",VLOOKUP($Q116,登録データ!$U$4:$V$19,2,FALSE))","v":"0"},"00","","000000","",0]
[null,33,null,null,null,null,null,null,null,null,null,null,null,null,null,"①",null,null,"",null,"",null,null,null,null,null,null,null,{"$f":"IF($Q117=\"\",\"0\",VLOOKUP($Q117,登録データ!$U$4:$V$19,2,FALSE))","v":"0"},"00","","000000","",0,{"$f":"IF($C117=\"\",\"\",IF($C117=\"@\",0,IF(COUNTIF($C$21:$C$620,$C117)=1,0,1)))","v":""},{"$f":"IF($M117=\"\",\"\",IF(OR($M117=\"東京都\",$M117=\"北海道\",$M117=\"大阪府\",$M117=\"京都府\",RIGHT($M117,1)=\"県\"),0,1))","v":""}]
[null,null,null,null,null,null,null,null,null,null,null,null,null,null,null,null,null,null,"",null,"",null,null,null,null,null,null,null,{"$f":"IF($Q118=\"\",\"0\",VLOOKUP($Q118,登録データ!$U$4:$V$19,2,FALSE))","v":"0"},"00","","000000","",0]
[null,null,null,null,null,null,null,null,null,null,null,null,null,null,null,null,null,null,"",null,"",null,null,null,null,null,null,null,{"$f":"IF($Q119=\"\",\"0\",VLOOKUP($Q119,登録データ!$U$4:$V$19,2,FALSE))","v":"0"},"00","","000000","",0]
[null,34,null,null,null,null,null,null,null,null,null,null,null,null,null,"①",null,null,"",null,"",null,null,null,null,null,null,null,{"$f":"IF($Q120=\"\",\"0\",VLOOKUP($Q120,登録データ!$U$4:$V$19,2,FALSE))","v":"0"},"00","","000000","",0,{"$f":"IF($C120=\"\",\"\",IF($C120=\"@\",0,IF(COUNTIF($C$21:$C$620,$C120)=1,0,1)))","v":""},{"$f":"IF($M120=\"\",\"\",IF(OR($M120=\"東京都\",$M120=\"北海道\",$M120=\"大阪府\",$M120=\"京都府\",RIGHT($M120,1)=\"県\"),0,1))","v":""}]
[null,null,null,null,null,null,null,null,null,null,null,null,null,null,null,null,null,null,"",null,"",null,null,null,null,null,null,null,{"$f":"IF($Q121=\"\",\"0\",VLOOKUP($Q121,登録データ!$U$4:$V$19,2,FALSE))","v":"0"},"00","","000000","",0]
[null,null,null,null,null,null,null,null,null,null,null,null,null,null,null,null,null,null,"",null,"",null,null,null,null,null,null,null,{"$f":"IF($Q122=\"\",\"0\",VLOOKUP($Q122,登録データ!$U$4:$V$19,2,FALSE))","v":"0"},"00","","000000","",0]
[null,35,null,null,null,null,null,null,null,null,null,null,null,null,null,"①",null,null,"",null,"",null,null,null,null,null,null,null,{"$f":"IF($Q123=\"\",\"0\",VLOOKUP($Q123,登録データ!$U$4:$V$19,2,FALSE))","v":"0"},"00","","000000","",0,{"$f":"IF($C123=\"\",\"\",IF($C123=\"@\",0,IF(COUNTIF($C$21:$C$620,$C123)=1,0,1)))","v":""},{"$f":"IF($M123=\"\",\"\",IF(OR($M123=\"東京都\",$M123=\"北海道\",$M123=\"大阪府\",$M123=\"京都府\",RIGHT($M123,1)=\"県\"),0,1))","v":""}]
[null,null,null,null,null,null,null,null,null,null,null,null,null,null,null,null,null,null,"",null,"",null,null,null,null,null,null,null,{"$f":"IF($Q124=\"\",\"0\",VLOOKUP($Q124,登録データ!$U$4:$V$19,2,FALSE))","v":"0"},"00","","000000","",0]
[null,null,null,null,null,null,null,null,null,null,null,null,null,null,null,null,null,null,"",null,"",null,null,null,null,null,null,null,{"$f":"IF($Q125=\"\",\"0\",VLOOKUP($Q125,登録データ!$U$4:$V$19,2,FALSE))","v":"0"},"00","","000000","",0]
[null,36,null,null,null,null,null,null,null,null,null,null,null,null,null,"①",null,null,"",null,"",null,null,null,null,null,null,null,{"$f":"IF($Q126=\"\",\"0\",VLOOKUP($Q126,登録データ!$U$4:$V$19,2,FALSE))","v":"0"},"00","","000000","",0,{"$f":"IF($C126=\"\",\"\",IF($C126=\"@\",0,IF(COUNTIF($C$21:$C$620,$C126)=1,0,1)))","v":""},{"$f":"IF($M126=\"\",\"\",IF(OR($M126=\"東京都\",$M126=\"北海道\",$M126=\"大阪府\",$M126=\"京都府\",RIGHT($M126,1)=\"県\"),0,1))","v":""}]
[null,null,null,null,null,null,null,null,null,null,null,null,null,null,null,null,null,null,"",null,"",null,null,null,null,null,null,null,{"$f":"IF($Q127=\"\",\"0\",VLOOKUP($Q127,登録データ!$U$4:$V$19,2,FALSE))","v":"0"},"00","","000000","",0]
[null,null,null,null,null,null,null,null,null,null,null,null,null,null,null,null,null,null,"",null,"",null,null,null,null,null,null,null,{"$f":"IF($Q128=\"\",\"0\",VLOOKUP($Q128,登録データ!$U$4:$V$19,2,FALSE))","v":"0"},"00","","000000","",0]
[null,37,null,null,null,null,null,null,null,null,null,null,null,null,null,"①",null,null,"",null,"",null,null,null,null,null,null,null,{"$f":"IF($Q129=\"\",\"0\",VLOOKUP($Q129,登録データ!$U$4:$V$19,2,FALSE))","v":"0"},"00","","000000","",0,{"$f":"IF($C129=\"\",\"\",IF($C129=\"@\",0,IF(COUNTIF($C$21:$C$620,$C129)=1,0,1)))","v":""},{"$f":"IF($M129=\"\",\"\",IF(OR($M129=\"東京都\",$M129=\"北海道\",$M129=\"大阪府\",$M129=\"京都府\",RIGHT($M129,1)=\"県\"),0,1))","v":""}]
[null,null,null,null,null,null,null,null,null,null,null,null,null,null,null,null,null,null,"",null,"",null,null,null,null,null,null,null,{"$f":"IF($Q130=\"\",\"0\",VLOOKUP($Q130,登録データ!$U$4:$V$19,2,FALSE))","v":"0"},"00","","000000","",0]
[null,null,null,null,null,null,null,null,null,null,null,null,null,null,null,null,null,null,"",null,"",null,null,null,null,null,null,null,{"$f":"IF($Q131=\"\",\"0\",VLOOKUP($Q131,登録データ!$U$4:$V$19,2,FALSE))","v":"0"},"00","","000000","",0]
[null,38,null,null,null,null,null,null,null,null,null,null,null,null,null,"①",null,null,"",null,"",null,null,null,null,null,null,null,{"$f":"IF($Q132=\"\",\"0\",VLOOKUP($Q132,登録データ!$U$4:$V$19,2,FALSE))","v":"0"},"00","","000000","",0,{"$f":"IF($C132=\"\",\"\",IF($C132=\"@\",0,IF(COUNTIF($C$21:$C$620,$C132)=1,0,1)))","v":""},{"$f":"IF($M132=\"\",\"\",IF(OR($M132=\"東京都\",$M132=\"北海道\",$M132=\"大阪府\",$M132=\"京都府\",RIGHT($M132,1)=\"県\"),0,1))","v":""}]
[null,null,null,null,null,null,null,null,null,null,null,null,null,null,null,null,null,null,"",null,"",null,null,null,null,null,null,null,{"$f":"IF($Q133=\"\",\"0\",VLOOKUP($Q133,登録データ!$U$4:$V$19,2,FALSE))","v":"0"},"00","","000000","",0]
[null,null,null,null,null,null,null,null,null,null,null,null,null,null,null,null,null,null,"",null,"",null,null,null,null,null,null,null,{"$f":"IF($Q134=\"\",\"0\",VLOOKUP($Q134,登録データ!$U$4:$V$19,2,FALSE))","v":"0"},"00","","000000","",0]
[null,39,null,null,null,null,null,null,null,null,null,null,null,null,null,"①",null,null,"",null,"",null,null,null,null,null,null,null,{"$f":"IF($Q135=\"\",\"0\",VLOOKUP($Q135,登録データ!$U$4:$V$19,2,FALSE))","v":"0"},"00","","000000","",0,{"$f":"IF($C135=\"\",\"\",IF($C135=\"@\",0,IF(COUNTIF($C$21:$C$620,$C135)=1,0,1)))","v":""},{"$f":"IF($M135=\"\",\"\",IF(OR($M135=\"東京都\",$M135=\"北海道\",$M135=\"大阪府\",$M135=\"京都府\",RIGHT($M135,1)=\"県\"),0,1))","v":""}]
[null,null,null,null,null,null,null,null,null,null,null,null,null,null,null,null,null,null,"",null,"",null,null,null,null,null,null,null,{"$f":"IF($Q136=\"\",\"0\",VLOOKUP($Q136,登録データ!$U$4:$V$19,2,FALSE))","v":"0"},"00","","000000","",0]
[null,null,null,null,null,null,null,null,null,null,null,null,null,null,null,null,null,null,"",null,"",null,null,null,null,null,null,null,{"$f":"IF($Q137=\"\",\"0\",VLOOKUP($Q137,登録データ!$U$4:$V$19,2,FALSE))","v":"0"},"00","","000000","",0]
[null,40,null,null,null,null,null,null,null,null,null,null,null,null,null,"①",null,null,"",null,"",null,null,null,null,null,null,null,{"$f":"IF($Q138=\"\",\"0\",VLOOKUP($Q138,登録データ!$U$4:$V$19,2,FALSE))","v":"0"},"00","","000000","",0,{"$f":"IF($C138=\"\",\"\",IF($C138=\"@\",0,IF(COUNTIF($C$21:$C$620,$C138)=1,0,1)))","v":""},{"$f":"IF($M138=\"\",\"\",IF(OR($M138=\"東京都\",$M138=\"北海道\",$M138=\"大阪府\",$M138=\"京都府\",RIGHT($M138,1)=\"県\"),0,1))","v":""}]
[null,null,null,null,null,null,null,null,null,null,null,null,null,null,null,null,null,null,"",null,"",null,null,null,null,null,null,null,{"$f":"IF($Q139=\"\",\"0\",VLOOKUP($Q139,登録データ!$U$4:$V$19,2,FALSE))","v":"0"},"00","","000000","",0]
[null,null,null,null,null,null,null,null,null,null,null,null,null,null,null,null,null,null,"",null,"",null,null,null,null,null,null,null,{"$f":"IF($Q140=\"\",\"0\",VLOOKUP($Q140,登録データ!$U$4:$V$19,2,FALSE))","v":"0"},"00","","000000","",0]
[null,41,null,null,null,null,null,null,null,null,null,null,null,null,null,"①",null,null,"",null,"",null,null,null,null,null,null,null,{"$f":"IF($Q141=\"\",\"0\",VLOOKUP($Q141,登録データ!$U$4:$V$19,2,FALSE))","v":"0"},"00","","000000","",0,{"$f":"IF($C141=\"\",\"\",IF($C141=\"@\",0,IF(COUNTIF($C$21:$C$620,$C141)=1,0,1)))","v":""},{"$f":"IF($M141=\"\",\"\",IF(OR($M141=\"東京都\",$M141=\"北海道\",$M141=\"大阪府\",$M141=\"京都府\",RIGHT($M141,1)=\"県\"),0,1))","v":""}]
[null,null,null,null,null,null,null,null,null,null,null,null,null,null,null,null,null,null,"",null,"",null,null,null,null,null,null,null,{"$f":"IF($Q142=\"\",\"0\",VLOOKUP($Q142,登録データ!$U$4:$V$19,2,FALSE))","v":"0"},"00","","000000","",0]
[null,null,null,null,null,null,null,null,null,null,null,null,null,null,null,null,null,null,"",null,"",null,null,null,null,null,null,null,{"$f":"IF($Q143=\"\",\"0\",VLOOKUP($Q143,登録データ!$U$4:$V$19,2,FALSE))","v":"0"},"00","","000000","",0]
[null,42,null,null,null,null,null,null,null,null,null,null,null,null,null,"①",null,null,"",null,"",null,null,null,null,null,null,null,{"$f":"IF($Q144=\"\",\"0\",VLOOKUP($Q144,登録データ!$U$4:$V$19,2,FALSE))","v":"0"},"00","","000000","",0,{"$f":"IF($C144=\"\",\"\",IF($C144=\"@\",0,IF(COUNTIF($C$21:$C$620,$C144)=1,0,1)))","v":""},{"$f":"IF($M144=\"\",\"\",IF(OR($M144=\"東京都\",$M144=\"北海道\",$M144=\"大阪府\",$M144=\"京都府\",RIGHT($M144,1)=\"県\"),0,1))","v":""}]
[null,null,null,null,null,null,null,null,null,null,null,null,null,null,null,null,null,null,"",null,"",null,null,null,null,null,null,null,{"$f":"IF($Q145=\"\",\"0\",VLOOKUP($Q145,登録データ!$U$4:$V$19,2,FALSE))","v":"0"},"00","","000000","",0]
[null,null,null,null,null,null,null,null,null,null,null,null,null,null,null,null,null,null,"",null,"",null,null,null,null,null,null,null,{"$f":"IF($Q146=\"\",\"0\",VLOOKUP($Q146,登録データ!$U$4:$V$19,2,FALSE))","v":"0"},"00","","000000","",0]
[null,43,null,null,null,null,null,null,null,null,null,null,null,null,null,"①",null,null,"",null,"",null,null,null,null,null,null,null,{"$f":"IF($Q147=\"\",\"0\",VLOOKUP($Q147,登録データ!$U$4:$V$19,2,FALSE))","v":"0"},"00","","000000","",0,{"$f":"IF($C147=\"\",\"\",IF($C147=\"@\",0,IF(COUNTIF($C$21:$C$620,$C147)=1,0,1)))","v":""},{"$f":"IF($M147=\"\",\"\",IF(OR($M147=\"東京都\",$M147=\"北海道\",$M147=\"大阪府\",$M147=\"京都府\",RIGHT($M147,1)=\"県\"),0,1))","v":""}]
[null,null,null,null,null,null,null,null,null,null,null,null,null,null,null,null,null,null,"",null,"",null,null,null,null,null,null,null,{"$f":"IF($Q148=\"\",\"0\",VLOOKUP($Q148,登録データ!$U$4:$V$19,2,FALSE))","v":"0"},"00","","000000","",0]
[null,null,null,null,null,null,null,null,null,null,null,null,null,null,null,null,null,null,"",null,"",null,null,null,null,null,null,null,{"$f":"IF($Q149=\"\",\"0\",VLOOKUP($Q149,登録データ!$U$4:$V$19,2,FALSE))","v":"0"},"00","",{"$f":"IF($AE149=2,IF($T149=\"\",\"0000\",CONCATENATE(RIGHT($T149+100,2),$AD149)),IF($T149=\"\",\"000000\",CONCATENATE(RIGHT($R149+100,2),RIGHT($T149+100,2),$AD149)))","v":"000000"},{"$f":"IF($Q149=\"\",\"\",CONCATENATE($AC149,\" \",IF($AE149=1,RIGHT($AF149+10000000,7),RIGHT($AF149+100000,5))))","v":""},0]
[null,44,null,null,null,null,null,null,null,null,null,null,null,null,null,"①",null,null,{"$f":"IF($Q150=\"\",\"\",IF(OR(RIGHT($Q150,1)=\"m\",RIGHT($Q150,1)=\"H\"),\"分\",\"\"))","v":""},null,{"$f":"IF($Q150=\"\",\"\",IF(OR(RIGHT($Q150,1)=\"m\",RIGHT($Q150,1)=\"H\"),\"秒\",\"m\"))","v":""},null,null,null,null,null,null,null,{"$f":"IF($Q150=\"\",\"0\",VLOOKUP($Q150,登録データ!$U$4:$V$19,2,FALSE))","v":"0"},{"$f":"IF($V150=\"\",\"00\",IF(LEN($V150)=1,$V150*10,$V150))","v":"00"},{"$f":"IF($Q150=\"\",\"\",IF(OR(RIGHT($Q150,1)=\"m\",RIGHT($Q150,1)=\"H\"),1,2))","v":""},"000000","",{"$f":"IF(OR(RIGHT($H146,1)=\"m\",RIGHT($H146,1)=\"H\",RIGHT($H146,1)=\"W\",RIGHT($H146,1)=\"C\"),IF(VALUE($K146)>59,1,0),0)","v":0},{"$f":"IF($C150=\"\",\"\",IF($C150=\"@\",0,IF(COUNTIF($C$21:$C$620,$C150)=1,0,1)))","v":""},{"$f":"IF($M150=\"\",\"\",IF(OR($M150=\"東京都\",$M150=\"北海道\",$M150=\"大阪府\",$M150=\"京都府\",RIGHT($M150,1)=\"県\"),0,1))","v":""}]
[null,null,null,null,null,null,null,null,null,null,null,null,null,null,null,null,null,null,"",null,"",null,null,null,null,null,null,null,{"$f":"IF($Q151=\"\",\"0\",VLOOKUP($Q151,登録データ!$U$4:$V$19,2,FALSE))","v":"0"},"00","","000000","",0]
[null,null,null,null,null,null,null,null,null,null,null,null,null,null,null,null,null,null,"",null,"",null,null,null,null,null,null,null,{"$f":"IF($Q152=\"\",\"0\",VLOOKUP($Q152,登録データ!$U$4:$V$19,2,FALSE))","v":"0"},"00","","000000","",0]
[null,45,null,null,null,null,null,null,null,null,null,null,null,null,null,"①",null,null,"",null,"",null,null,null,null,null,null,null,{"$f":"IF($Q153=\"\",\"0\",VLOOKUP($Q153,登録データ!$U$4:$V$19,2,FALSE))","v":"0"},"00","","000000","",0,{"$f":"IF($C153=\"\",\"\",IF($C153=\"@\",0,IF(COUNTIF($C$21:$C$620,$C153)=1,0,1)))","v":""},{"$f":"IF($M153=\"\",\"\",IF(OR($M153=\"東京都\",$M153=\"北海道\",$M153=\"大阪府\",$M153=\"京都府\",RIGHT($M153,1)=\"県\"),0,1))","v":""}]
[null,null,null,null,null,null,null,null,null,null,null,null,null,null,null,null,null,null,"",null,"",null,null,null,null,null,null,null,{"$f":"IF($Q154=\"\",\"0\",VLOOKUP($Q154,登録データ!$U$4:$V$19,2,FALSE))","v":"0"},"00","","000000","",0]
[null,null,null,null,null,null,null,null,null,null,null,null,null,null,null,null,null,null,"",null,"",null,null,null,null,null,null,null,{"$f":"IF($Q155=\"\",\"0\",VLOOKUP($Q155,登録データ!$U$4:$V$19,2,FALSE))","v":"0"},"00","","000000","",0]
[null,46,null,null,null,null,null,null,null,null,null,null,null,null,null,"①",null,null,"",null,"",null,null,null,null,null,null,null,{"$f":"IF($Q156=\"\",\"0\",VLOOKUP($Q156,登録データ!$U$4:$V$19,2,FALSE))","v":"0"},"00","","000000","",0,{"$f":"IF($C156=\"\",\"\",IF($C156=\"@\",0,IF(COUNTIF($C$21:$C$620,$C156)=1,0,1)))","v":""},{"$f":"IF($M156=\"\",\"\",IF(OR($M156=\"東京都\",$M156=\"北海道\",$M156=\"大阪府\",$M156=\"京都府\",RIGHT($M156,1)=\"県\"),0,1))","v":""}]
[null,null,null,null,null,null,null,null,null,null,null,null,null,null,null,null,null,null,"",null,"",null,null,null,null,null,null,null,{"$f":"IF($Q157=\"\",\"0\",VLOOKUP($Q157,登録データ!$U$4:$V$19,2,FALSE))","v":"0"},"00","","000000","",0]
[null,null,null,null,null,null,null,null,null,null,null,null,null,null,null,null,null,null,"",null,"",null,null,null,null,null,null,null,{"$f":"IF($Q158=\"\",\"0\",VLOOKUP($Q158,登録データ!$U$4:$V$19,2,FALSE))","v":"0"},"00","","000000","",0]
[null,47,null,null,null,null,null,null,null,null,null,null,null,null,null,"①",null,null,"",null,"",null,null,null,null,null,null,null,{"$f":"IF($Q159=\"\",\"0\",VLOOKUP($Q159,登録データ!$U$4:$V$19,2,FALSE))","v":"0"},"00","","000000","",0,{"$f":"IF($C159=\"\",\"\",IF($C159=\"@\",0,IF(COUNTIF($C$21:$C$620,$C159)=1,0,1)))","v":""},{"$f":"IF($M159=\"\",\"\",IF(OR($M159=\"東京都\",$M159=\"北海道\",$M159=\"大阪府\",$M159=\"京都府\",RIGHT($M159,1)=\"県\"),0,1))","v":""}]
[null,null,null,null,null,null,null,null,null,null,null,null,null,null,null,null,null,null,"",null,"",null,null,null,null,null,null,null,{"$f":"IF($Q160=\"\",\"0\",VLOOKUP($Q160,登録データ!$U$4:$V$19,2,FALSE))","v":"0"},"00","","000000","",0]
[null,null,null,null,null,null,null,null,null,null,null,null,null,null,null,null,null,null,"",null,"",null,null,null,null,null,null,null,{"$f":"IF($Q161=\"\",\"0\",VLOOKUP($Q161,登録データ!$U$4:$V$19,2,FALSE))","v":"0"},"00","","000000","",0]
[null,48,null,null,null,null,null,null,null,null,null,null,null,null,null,"①",null,null,"",null,"",null,null,null,null,null,null,null,{"$f":"IF($Q162=\"\",\"0\",VLOOKUP($Q162,登録データ!$U$4:$V$19,2,FALSE))","v":"0"},"00","","000000","",0,{"$f":"IF($C162=\"\",\"\",IF($C162=\"@\",0,IF(COUNTIF($C$21:$C$620,$C162)=1,0,1)))","v":""},{"$f":"IF($M162=\"\",\"\",IF(OR($M162=\"東京都\",$M162=\"北海道\",$M162=\"大阪府\",$M162=\"京都府\",RIGHT($M162,1)=\"県\"),0,1))","v":""}]
[null,null,null,null,null,null,null,null,null,null,null,null,null,null,null,null,null,null,"",null,"",null,null,null,null,null,null,null,{"$f":"IF($Q163=\"\",\"0\",VLOOKUP($Q163,登録データ!$U$4:$V$19,2,FALSE))","v":"0"},"00","","000000","",0]
[null,null,null,null,null,null,null,null,null,null,null,null,null,null,null,null,null,null,"",null,"",null,null,null,null,null,null,null,{"$f":"IF($Q164=\"\",\"0\",VLOOKUP($Q164,登録データ!$U$4:$V$19,2,FALSE))","v":"0"},"00","","000000","",0]
[null,49,null,null,null,null,null,null,null,null,null,null,null,null,null,"①",null,null,"",null,"",null,null,null,null,null,null,null,{"$f":"IF($Q165=\"\",\"0\",VLOOKUP($Q165,登録データ!$U$4:$V$19,2,FALSE))","v":"0"},"00","","000000","",0,{"$f":"IF($C165=\"\",\"\",IF($C165=\"@\",0,IF(COUNTIF($C$21:$C$620,$C165)=1,0,1)))","v":""},{"$f":"IF($M165=\"\",\"\",IF(OR($M165=\"東京都\",$M165=\"北海道\",$M165=\"大阪府\",$M165=\"京都府\",RIGHT($M165,1)=\"県\"),0,1))","v":""}]
[null,null,null,null,null,null,null,null,null,null,null,null,null,null,null,null,null,null,"",null,"",null,null,null,null,null,null,null,{"$f":"IF($Q166=\"\",\"0\",VLOOKUP($Q166,登録データ!$U$4:$V$19,2,FALSE))","v":"0"},"00","","000000","",0]
[null,null,null,null,null,null,null,null,null,null,null,null,null,null,null,null,null,null,"",null,"",null,null,null,null,null,null,null,{"$f":"IF($Q167=\"\",\"0\",VLOOKUP($Q167,登録データ!$U$4:$V$19,2,FALSE))","v":"0"},"00","","000000","",0]
[null,50,null,null,null,null,null,null,null,null,null,null,null,null,null,"①",null,null,"",null,"",null,null,null,null,null,null,null,{"$f":"IF($Q168=\"\",\"0\",VLOOKUP($Q168,登録データ!$U$4:$V$19,2,FALSE))","v":"0"},"00","","000000","",0,{"$f":"IF($C168=\"\",\"\",IF($C168=\"@\",0,IF(COUNTIF($C$21:$C$620,$C168)=1,0,1)))","v":""},{"$f":"IF($M168=\"\",\"\",IF(OR($M168=\"東京都\",$M168=\"北海道\",$M168=\"大阪府\",$M168=\"京都府\",RIGHT($M168,1)=\"県\"),0,1))","v":""}]
[null,null,null,null,null,null,null,null,null,null,null,null,null,null,null,null,null,null,"",null,"",null,null,null,null,null,null,null,{"$f":"IF($Q169=\"\",\"0\",VLOOKUP($Q169,登録データ!$U$4:$V$19,2,FALSE))","v":"0"},"00","","000000","",0]
[null,null,null,null,null,null,null,null,null,null,null,null,null,null,null,null,null,null,"",null,"",null,null,null,null,null,null,null,{"$f":"IF($Q170=\"\",\"0\",VLOOKUP($Q170,登録データ!$U$4:$V$19,2,FALSE))","v":"0"},"00","","000000","",0]
[null,51,null,null,null,null,null,null,null,null,null,null,null,null,null,"①",null,null,"",null,"",null,null,null,null,null,null,null,{"$f":"IF($Q171=\"\",\"0\",VLOOKUP($Q171,登録データ!$U$4:$V$19,2,FALSE))","v":"0"},"00","","000000","",0,{"$f":"IF($C171=\"\",\"\",IF($C171=\"@\",0,IF(COUNTIF($C$21:$C$620,$C171)=1,0,1)))","v":""},{"$f":"IF($M171=\"\",\"\",IF(OR($M171=\"東京都\",$M171=\"北海道\",$M171=\"大阪府\",$M171=\"京都府\",RIGHT($M171,1)=\"県\"),0,1))","v":""}]
[null,null,null,null,null,null,null,null,null,null,null,null,null,null,null,null,null,null,"",null,"",null,null,null,null,null,null,null,{"$f":"IF($Q172=\"\",\"0\",VLOOKUP($Q172,登録データ!$U$4:$V$19,2,FALSE))","v":"0"},"00","","000000","",0]
[null,null,null,null,null,null,null,null,null,null,null,null,null,null,null,null,null,null,"",null,"",null,null,null,null,null,null,null,{"$f":"IF($Q173=\"\",\"0\",VLOOKUP($Q173,登録データ!$U$4:$V$19,2,FALSE))","v":"0"},"00","","000000","",0]
[null,52,null,null,null,null,null,null,null,null,null,null,null,null,null,"①",null,null,"",null,"",null,null,null,null,null,null,null,{"$f":"IF($Q174=\"\",\"0\",VLOOKUP($Q174,登録データ!$U$4:$V$19,2,FALSE))","v":"0"},"00","","000000","",0,{"$f":"IF($C174=\"\",\"\",IF($C174=\"@\",0,IF(COUNTIF($C$21:$C$620,$C174)=1,0,1)))","v":""},{"$f":"IF($M174=\"\",\"\",IF(OR($M174=\"東京都\",$M174=\"北海道\",$M174=\"大阪府\",$M174=\"京都府\",RIGHT($M174,1)=\"県\"),0,1))","v":""}]
[null,null,null,null,null,null,null,null,null,null,null,null,null,null,null,null,null,null,"",null,"",null,null,null,null,null,null,null,{"$f":"IF($Q175=\"\",\"0\",VLOOKUP($Q175,登録データ!$U$4:$V$19,2,FALSE))","v":"0"},"00","","000000","",0]
[null,null,null,null,null,null,null,null,null,null,null,null,null,null,null,null,null,null,"",null,"",null,null,null,null,null,null,null,{"$f":"IF($Q176=\"\",\"0\",VLOOKUP($Q176,登録データ!$U$4:$V$19,2,FALSE))","v":"0"},"00","","000000","",0]
[null,53,null,null,null,null,null,null,null,null,null,null,null,null,null,"①",null,null,"",null,"",null,null,null,null,null,null,null,{"$f":"IF($Q177=\"\",\"0\",VLOOKUP($Q177,登録データ!$U$4:$V$19,2,FALSE))","v":"0"},"00","","000000","",0,{"$f":"IF($C177=\"\",\"\",IF($C177=\"@\",0,IF(COUNTIF($C$21:$C$620,$C177)=1,0,1)))","v":""},{"$f":"IF($M177=\"\",\"\",IF(OR($M177=\"東京都\",$M177=\"北海道\",$M177=\"大阪府\",$M177=\"京都府\",RIGHT($M177,1)=\"県\"),0,1))","v":""}]
[null,null,null,null,null,null,null,null,null,null,null,null,null,null,null,null,null,null,"",null,"",null,null,null,null,null,null,null,{"$f":"IF($Q178=\"\",\"0\",VLOOKUP($Q178,登録データ!$U$4:$V$19,2,FALSE))","v":"0"},"00","","000000","",0]
[null,null,null,null,null,null,null,null,null,null,null,null,null,null,null,null,null,null,"",null,"",null,null,null,null,null,null,null,{"$f":"IF($Q179=\"\",\"0\",VLOOKUP($Q179,登録データ!$U$4:$V$19,2,FALSE))","v":"0"},"00","","000000","",0]
[null,54,null,null,null,null,null,null,null,null,null,null,null,null,null,"①",null,null,"",null,"",null,null,null,null,null,null,null,{"$f":"IF($Q180=\"\",\"0\",VLOOKUP($Q180,登録データ!$U$4:$V$19,2,FALSE))","v":"0"},"00","","000000","",0,{"$f":"IF($C180=\"\",\"\",IF($C180=\"@\",0,IF(COUNTIF($C$21:$C$620,$C180)=1,0,1)))","v":""},{"$f":"IF($M180=\"\",\"\",IF(OR($M180=\"東京都\",$M180=\"北海道\",$M180=\"大阪府\",$M180=\"京都府\",RIGHT($M180,1)=\"県\"),0,1))","v":""}]
[null,null,null,null,null,null,null,null,null,null,null,null,null,null,null,null,null,null,"",null,"",null,null,null,null,null,null,null,{"$f":"IF($Q181=\"\",\"0\",VLOOKUP($Q181,登録データ!$U$4:$V$19,2,FALSE))","v":"0"},"00","","000000","",0]
[null,null,null,null,null,null,null,null,null,null,null,null,null,null,null,null,null,null,"",null,"",null,null,null,null,null,null,null,{"$f":"IF($Q182=\"\",\"0\",VLOOKUP($Q182,登録データ!$U$4:$V$19,2,FALSE))","v":"0"},"00","","000000","",0]
[null,55,null,null,null,null,null,null,null,null,null,null,null,null,null,"①",null,null,"",null,"",null,null,null,null,null,null,null,{"$f":"IF($Q183=\"\",\"0\",VLOOKUP($Q183,登録データ!$U$4:$V$19,2,FALSE))","v":"0"},"00","","000000","",0,{"$f":"IF($C183=\"\",\"\",IF($C183=\"@\",0,IF(COUNTIF($C$21:$C$620,$C183)=1,0,1)))","v":""},{"$f":"IF($M183=\"\",\"\",IF(OR($M183=\"東京都\",$M183=\"北海道\",$M183=\"大阪府\",$M183=\"京都府\",RIGHT($M183,1)=\"県\"),0,1))","v":""}]
[null,null,null,null,null,null,null,null,null,null,null,null,null,null,null,null,null,null,"",null,"",null,null,null,null,null,null,null,{"$f":"IF($Q184=\"\",\"0\",VLOOKUP($Q184,登録データ!$U$4:$V$19,2,FALSE))","v":"0"},"00","","000000","",0]
[null,null,null,null,null,null,null,null,null,null,null,null,null,null,null,null,null,null,"",null,"",null,null,null,null,null,null,null,{"$f":"IF($Q185=\"\",\"0\",VLOOKUP($Q185,登録データ!$U$4:$V$19,2,FALSE))","v":"0"},"00","","000000","",0]
[null,56,null,null,null,null,null,null,null,null,null,null,null,null,null,"①",null,null,"",null,"",null,null,null,null,null,null,null,{"$f":"IF($Q186=\"\",\"0\",VLOOKUP($Q186,登録データ!$U$4:$V$19,2,FALSE))","v":"0"},"00","","000000","",0,{"$f":"IF($C186=\"\",\"\",IF($C186=\"@\",0,IF(COUNTIF($C$21:$C$620,$C186)=1,0,1)))","v":""},{"$f":"IF($M186=\"\",\"\",IF(OR($M186=\"東京都\",$M186=\"北海道\",$M186=\"大阪府\",$M186=\"京都府\",RIGHT($M186,1)=\"県\"),0,1))","v":""}]
[null,null,null,null,null,null,null,null,null,null,null,null,null,null,null,null,null,null,"",null,"",null,null,null,null,null,null,null,{"$f":"IF($Q187=\"\",\"0\",VLOOKUP($Q187,登録データ!$U$4:$V$19,2,FALSE))","v":"0"},"00","","000000","",0]
[null,null,null,null,null,null,null,null,null,null,null,null,null,null,null,null,null,null,"",null,"",null,null,null,null,null,null,null,{"$f":"IF($Q188=\"\",\"0\",VLOOKUP($Q188,登録データ!$U$4:$V$19,2,FALSE))","v":"0"},"00","","000000","",0]
[null,57,null,null,null,null,null,null,null,null,null,null,null,null,null,"①",null,null,"",null,"",null,null,null,null,null,null,null,{"$f":"IF($Q189=\"\",\"0\",VLOOKUP($Q189,登録データ!$U$4:$V$19,2,FALSE))","v":"0"},"00","","000000","",0,{"$f":"IF($C189=\"\",\"\",IF($C189=\"@\",0,IF(COUNTIF($C$21:$C$620,$C189)=1,0,1)))","v":""},{"$f":"IF($M189=\"\",\"\",IF(OR($M189=\"東京都\",$M189=\"北海道\",$M189=\"大阪府\",$M189=\"京都府\",RIGHT($M189,1)=\"県\"),0,1))","v":""}]
[null,null,null,null,null,null,null,null,null,null,null,null,null,null,null,null,null,null,"",null,"",null,null,null,null,null,null,null,{"$f":"IF($Q190=\"\",\"0\",VLOOKUP($Q190,登録データ!$U$4:$V$19,2,FALSE))","v":"0"},"00","","000000","",0]
[null,null,null,null,null,null,null,null,null,null,null,null,null,null,null,null,null,null,"",null,"",null,null,null,null,null,null,null,{"$f":"IF($Q191=\"\",\"0\",VLOOKUP($Q191,登録データ!$U$4:$V$19,2,FALSE))","v":"0"},"00","","000000","",0]
[null,58,null,null,null,null,null,null,null,null,null,null,null,null,null,"①",null,null,"",null,"",null,null,null,null,null,null,null,{"$f":"IF($Q192=\"\",\"0\",VLOOKUP($Q192,登録データ!$U$4:$V$19,2,FALSE))","v":"0"},"00","","000000","",0,{"$f":"IF($C192=\"\",\"\",IF($C192=\"@\",0,IF(COUNTIF($C$21:$C$620,$C192)=1,0,1)))","v":""},{"$f":"IF($M192=\"\",\"\",IF(OR($M192=\"東京都\",$M192=\"北海道\",$M192=\"大阪府\",$M192=\"京都府\",RIGHT($M192,1)=\"県\"),0,1))","v":""}]
[null,null,null,null,null,null,null,null,null,null,null,null,null,null,null,null,null,null,"",null,"",null,null,null,null,null,null,null,{"$f":"IF($Q193=\"\",\"0\",VLOOKUP($Q193,登録データ!$U$4:$V$19,2,FALSE))","v":"0"},"00","","000000","",0]
[null,null,null,null,null,null,null,null,null,null,null,null,null,null,null,null,null,null,"",null,"",null,null,null,null,null,null,null,{"$f":"IF($Q194=\"\",\"0\",VLOOKUP($Q194,登録データ!$U$4:$V$19,2,FALSE))","v":"0"},"00","","000000","",0]
[null,59,null,null,null,null,null,null,null,null,null,null,null,null,null,"①",null,null,"",null,"",null,null,null,null,null,null,null,{"$f":"IF($Q195=\"\",\"0\",VLOOKUP($Q195,登録データ!$U$4:$V$19,2,FALSE))","v":"0"},"00","","000000","",0,{"$f":"IF($C195=\"\",\"\",IF($C195=\"@\",0,IF(COUNTIF($C$21:$C$620,$C195)=1,0,1)))","v":""},{"$f":"IF($M195=\"\",\"\",IF(OR($M195=\"東京都\",$M195=\"北海道\",$M195=\"大阪府\",$M195=\"京都府\",RIGHT($M195,1)=\"県\"),0,1))","v":""}]
[null,null,null,null,null,null,null,null,null,null,null,null,null,null,null,null,null,null,"",null,"",null,null,null,null,null,null,null,{"$f":"IF($Q196=\"\",\"0\",VLOOKUP($Q196,登録データ!$U$4:$V$19,2,FALSE))","v":"0"},"00","","000000","",0]
[null,null,null,null,null,null,null,null,null,null,null,null,null,null,null,null,null,null,"",null,"",null,null,null,null,null,null,null,{"$f":"IF($Q197=\"\",\"0\",VLOOKUP($Q197,登録データ!$U$4:$V$19,2,FALSE))","v":"0"},"00","","000000","",0]
[null,60,null,null,null,null,null,null,null,null,null,null,null,null,null,"①",null,null,"",null,"",null,null,null,null,null,null,null,{"$f":"IF($Q198=\"\",\"0\",VLOOKUP($Q198,登録データ!$U$4:$V$19,2,FALSE))","v":"0"},"00","","000000","",0,{"$f":"IF($C198=\"\",\"\",IF($C198=\"@\",0,IF(COUNTIF($C$21:$C$620,$C198)=1,0,1)))","v":""},{"$f":"IF($M198=\"\",\"\",IF(OR($M198=\"東京都\",$M198=\"北海道\",$M198=\"大阪府\",$M198=\"京都府\",RIGHT($M198,1)=\"県\"),0,1))","v":""}]
[null,null,null,null,null,null,null,null,null,null,null,null,null,null,null,null,null,null,"",null,"",null,null,null,null,null,null,null,{"$f":"IF($Q199=\"\",\"0\",VLOOKUP($Q199,登録データ!$U$4:$V$19,2,FALSE))","v":"0"},"00","","000000","",0]
[null,null,null,null,null,null,null,null,null,null,null,null,null,null,null,null,null,null,"",null,"",null,null,null,null,null,null,null,{"$f":"IF($Q200=\"\",\"0\",VLOOKUP($Q200,登録データ!$U$4:$V$19,2,FALSE))","v":"0"},"00","","000000","",0]
[null,61,null,null,null,null,null,null,null,null,null,null,null,null,null,"①",null,null,"",null,"",null,null,null,null,null,null,null,{"$f":"IF($Q201=\"\",\"0\",VLOOKUP($Q201,登録データ!$U$4:$V$19,2,FALSE))","v":"0"},"00","","000000","",0,{"$f":"IF($C201=\"\",\"\",IF($C201=\"@\",0,IF(COUNTIF($C$21:$C$620,$C201)=1,0,1)))","v":""},{"$f":"IF($M201=\"\",\"\",IF(OR($M201=\"東京都\",$M201=\"北海道\",$M201=\"大阪府\",$M201=\"京都府\",RIGHT($M201,1)=\"県\"),0,1))","v":""}]
[null,null,null,null,null,null,null,null,null,null,null,null,null,null,null,null,null,null,"",null,"",null,null,null,null,null,null,null,{"$f":"IF($Q202=\"\",\"0\",VLOOKUP($Q202,登録データ!$U$4:$V$19,2,FALSE))","v":"0"},"00","","000000","",0]
[null,null,null,null,null,null,null,null,null,null,null,null,null,null,null,null,null,null,"",null,"",null,null,null,null,null,null,null,{"$f":"IF($Q203=\"\",\"0\",VLOOKUP($Q203,登録データ!$U$4:$V$19,2,FALSE))","v":"0"},"00","","000000","",0]
[null,62,null,null,null,null,null,null,null,null,null,null,null,null,null,"①",null,null,"",null,"",null,null,null,null,null,null,null,{"$f":"IF($Q204=\"\",\"0\",VLOOKUP($Q204,登録データ!$U$4:$V$19,2,FALSE))","v":"0"},"00","","000000","",0,{"$f":"IF($C204=\"\",\"\",IF($C204=\"@\",0,IF(COUNTIF($C$21:$C$620,$C204)=1,0,1)))","v":""},{"$f":"IF($M204=\"\",\"\",IF(OR($M204=\"東京都\",$M204=\"北海道\",$M204=\"大阪府\",$M204=\"京都府\",RIGHT($M204,1)=\"県\"),0,1))","v":""}]
[null,null,null,null,null,null,null,null,null,null,null,null,null,null,null,null,null,null,"",null,"",null,null,null,null,null,null,null,{"$f":"IF($Q205=\"\",\"0\",VLOOKUP($Q205,登録データ!$U$4:$V$19,2,FALSE))","v":"0"},"00","","000000","",0]
[null,null,null,null,null,null,null,null,null,null,null,null,null,null,null,null,null,null,"",null,"",null,null,null,null,null,null,null,{"$f":"IF($Q206=\"\",\"0\",VLOOKUP($Q206,登録データ!$U$4:$V$19,2,FALSE))","v":"0"},"00","","000000","",0]
[null,63,null,null,null,null,null,null,null,null,null,null,null,null,null,"①",null,null,"",null,"",null,null,null,null,null,null,null,{"$f":"IF($Q207=\"\",\"0\",VLOOKUP($Q207,登録データ!$U$4:$V$19,2,FALSE))","v":"0"},"00","","000000","",0,{"$f":"IF($C207=\"\",\"\",IF($C207=\"@\",0,IF(COUNTIF($C$21:$C$620,$C207)=1,0,1)))","v":""},{"$f":"IF($M207=\"\",\"\",IF(OR($M207=\"東京都\",$M207=\"北海道\",$M207=\"大阪府\",$M207=\"京都府\",RIGHT($M207,1)=\"県\"),0,1))","v":""}]
[null,null,null,null,null,null,null,null,null,null,null,null,null,null,null,null,null,null,"",null,"",null,null,null,null,null,null,null,{"$f":"IF($Q208=\"\",\"0\",VLOOKUP($Q208,登録データ!$U$4:$V$19,2,FALSE))","v":"0"},"00","","000000","",0]
[null,null,null,null,null,null,null,null,null,null,null,null,null,null,null,null,null,null,"",null,"",null,null,null,null,null,null,null,{"$f":"IF($Q209=\"\",\"0\",VLOOKUP($Q209,登録データ!$U$4:$V$19,2,FALSE))","v":"0"},"00","","000000","",0]
[null,64,null,null,null,null,null,null,null,null,null,null,null,null,null,"①",null,null,"",null,"",null,null,null,null,null,null,null,{"$f":"IF($Q210=\"\",\"0\",VLOOKUP($Q210,登録データ!$U$4:$V$19,2,FALSE))","v":"0"},"00","","000000","",0,{"$f":"IF($C210=\"\",\"\",IF($C210=\"@\",0,IF(COUNTIF($C$21:$C$620,$C210)=1,0,1)))","v":""},{"$f":"IF($M210=\"\",\"\",IF(OR($M210=\"東京都\",$M210=\"北海道\",$M210=\"大阪府\",$M210=\"京都府\",RIGHT($M210,1)=\"県\"),0,1))","v":""}]
[null,null,null,null,null,null,null,null,null,null,null,null,null,null,null,null,null,null,"",null,"",null,null,null,null,null,null,null,{"$f":"IF($Q211=\"\",\"0\",VLOOKUP($Q211,登録データ!$U$4:$V$19,2,FALSE))","v":"0"},"00","","000000","",0]
[null,null,null,null,null,null,null,null,null,null,null,null,null,null,null,null,null,null,"",null,"",null,null,null,null,null,null,null,{"$f":"IF($Q212=\"\",\"0\",VLOOKUP($Q212,登録データ!$U$4:$V$19,2,FALSE))","v":"0"},"00","","000000","",0]
[null,65,null,null,null,null,null,null,null,null,null,null,null,null,null,"①",null,null,"",null,"",null,null,null,null,null,null,null,{"$f":"IF($Q213=\"\",\"0\",VLOOKUP($Q213,登録データ!$U$4:$V$19,2,FALSE))","v":"0"},"00","",{"$f":"IF($AE213=2,IF($T213=\"\",\"0000\",CONCATENATE(RIGHT($T213+100,2),$AD213)),IF($T213=\"\",\"000000\",CONCATENATE(RIGHT($R213+100,2),RIGHT($T213+100,2),$AD213)))","v":"000000"},{"$f":"IF($Q213=\"\",\"\",CONCATENATE($AC213,\" \",IF($AE213=1,RIGHT($AF213+10000000,7),RIGHT($AF213+100000,5))))","v":""},0,{"$f":"IF($C213=\"\",\"\",IF($C213=\"@\",0,IF(COUNTIF($C$21:$C$620,$C213)=1,0,1)))","v":""},{"$f":"IF($M213=\"\",\"\",IF(OR($M213=\"東京都\",$M213=\"北海道\",$M213=\"大阪府\",$M213=\"京都府\",RIGHT($M213,1)=\"県\"),0,1))","v":""}]
[null,null,null,null,null,null,null,null,null,null,null,null,null,null,null,null,null,null,{"$f":"IF($Q214=\"\",\"\",IF(OR(RIGHT($Q214,1)=\"m\",RIGHT($Q214,1)=\"H\"),\"分\",\"\"))","v":""},null,{"$f":"IF($Q214=\"\",\"\",IF(OR(RIGHT($Q214,1)=\"m\",RIGHT($Q214,1)=\"H\"),\"秒\",\"m\"))","v":""},null,null,null,null,null,null,null,{"$f":"IF($Q214=\"\",\"0\",VLOOKUP($Q214,登録データ!$U$4:$V$19,2,FALSE))","v":"0"},{"$f":"IF($V214=\"\",\"00\",IF(LEN($V214)=1,$V214*10,$V214))","v":"00"},{"$f":"IF($Q214=\"\",\"\",IF(OR(RIGHT($Q214,1)=\"m\",RIGHT($Q214,1)=\"H\"),1,2))","v":""},"000000","",{"$f":"IF(OR(RIGHT($H210,1)=\"m\",RIGHT($H210,1)=\"H\",RIGHT($H210,1)=\"W\",RIGHT($H210,1)=\"C\"),IF(VALUE($K210)>59,1,0),0)","v":0}]
[null,null,null,null,null,null,null,null,null,null,null,null,null,null,null,null,null,null,"",null,"",null,null,null,null,null,null,null,{"$f":"IF($Q215=\"\",\"0\",VLOOKUP($Q215,登録データ!$U$4:$V$19,2,FALSE))","v":"0"},"00","","000000","",0]
[null,66,null,null,null,null,null,null,null,null,null,null,null,null,null,"①",null,null,"",null,"",null,null,null,null,null,null,null,{"$f":"IF($Q216=\"\",\"0\",VLOOKUP($Q216,登録データ!$U$4:$V$19,2,FALSE))","v":"0"},"00","","000000","",0,{"$f":"IF($C216=\"\",\"\",IF($C216=\"@\",0,IF(COUNTIF($C$21:$C$620,$C216)=1,0,1)))","v":""},{"$f":"IF($M216=\"\",\"\",IF(OR($M216=\"東京都\",$M216=\"北海道\",$M216=\"大阪府\",$M216=\"京都府\",RIGHT($M216,1)=\"県\"),0,1))","v":""}]
[null,null,null,null,null,null,null,null,null,null,null,null,null,null,null,null,null,null,"",null,"",null,null,null,null,null,null,null,{"$f":"IF($Q217=\"\",\"0\",VLOOKUP($Q217,登録データ!$U$4:$V$19,2,FALSE))","v":"0"},"00","","000000","",0]
[null,null,null,null,null,null,null,null,null,null,null,null,null,null,null,null,null,null,"",null,"",null,null,null,null,null,null,null,{"$f":"IF($Q218=\"\",\"0\",VLOOKUP($Q218,登録データ!$U$4:$V$19,2,FALSE))","v":"0"},"00","","000000","",0]
[null,67,null,null,null,null,null,null,null,null,null,null,null,null,null,"①",null,null,"",null,"",null,null,null,null,null,null,null,{"$f":"IF($Q219=\"\",\"0\",VLOOKUP($Q219,登録データ!$U$4:$V$19,2,FALSE))","v":"0"},"00","","000000","",0,{"$f":"IF($C219=\"\",\"\",IF($C219=\"@\",0,IF(COUNTIF($C$21:$C$620,$C219)=1,0,1)))","v":""},{"$f":"IF($M219=\"\",\"\",IF(OR($M219=\"東京都\",$M219=\"北海道\",$M219=\"大阪府\",$M219=\"京都府\",RIGHT($M219,1)=\"県\"),0,1))","v":""}]
[null,null,null,null,null,null,null,null,null,null,null,null,null,null,null,null,null,null,"",null,"",null,null,null,null,null,null,null,{"$f":"IF($Q220=\"\",\"0\",VLOOKUP($Q220,登録データ!$U$4:$V$19,2,FALSE))","v":"0"},"00","","000000","",0]
[null,null,null,null,null,null,null,null,null,null,null,null,null,null,null,null,null,null,"",null,"",null,null,null,null,null,null,null,{"$f":"IF($Q221=\"\",\"0\",VLOOKUP($Q221,登録データ!$U$4:$V$19,2,FALSE))","v":"0"},"00","","000000","",0]
[null,68,null,null,null,null,null,null,null,null,null,null,null,null,null,"①",null,null,"",null,"",null,null,null,null,null,null,null,{"$f":"IF($Q222=\"\",\"0\",VLOOKUP($Q222,登録データ!$U$4:$V$19,2,FALSE))","v":"0"},"00","","000000","",0,{"$f":"IF($C222=\"\",\"\",IF($C222=\"@\",0,IF(COUNTIF($C$21:$C$620,$C222)=1,0,1)))","v":""},{"$f":"IF($M222=\"\",\"\",IF(OR($M222=\"東京都\",$M222=\"北海道\",$M222=\"大阪府\",$M222=\"京都府\",RIGHT($M222,1)=\"県\"),0,1))","v":""}]
[null,null,null,null,null,null,null,null,null,null,null,null,null,null,null,null,null,null,"",null,"",null,null,null,null,null,null,null,{"$f":"IF($Q223=\"\",\"0\",VLOOKUP($Q223,登録データ!$U$4:$V$19,2,FALSE))","v":"0"},"00","","000000","",0]
[null,null,null,null,null,null,null,null,null,null,null,null,null,null,null,null,null,null,"",null,"",null,null,null,null,null,null,null,{"$f":"IF($Q224=\"\",\"0\",VLOOKUP($Q224,登録データ!$U$4:$V$19,2,FALSE))","v":"0"},"00","","000000","",0]
[null,69,null,null,null,null,null,null,null,null,null,null,null,null,null,"①",null,null,"",null,"",null,null,null,null,null,null,null,{"$f":"IF($Q225=\"\",\"0\",VLOOKUP($Q225,登録データ!$U$4:$V$19,2,FALSE))","v":"0"},"00","","000000","",0,{"$f":"IF($C225=\"\",\"\",IF($C225=\"@\",0,IF(COUNTIF($C$21:$C$620,$C225)=1,0,1)))","v":""},{"$f":"IF($M225=\"\",\"\",IF(OR($M225=\"東京都\",$M225=\"北海道\",$M225=\"大阪府\",$M225=\"京都府\",RIGHT($M225,1)=\"県\"),0,1))","v":""}]
[null,null,null,null,null,null,null,null,null,null,null,null,null,null,null,null,null,null,"",null,"",null,null,null,null,null,null,null,{"$f":"IF($Q226=\"\",\"0\",VLOOKUP($Q226,登録データ!$U$4:$V$19,2,FALSE))","v":"0"},"00","","000000","",0]
[null,null,null,null,null,null,null,null,null,null,null,null,null,null,null,null,null,null,"",null,"",null,null,null,null,null,null,null,{"$f":"IF($Q227=\"\",\"0\",VLOOKUP($Q227,登録データ!$U$4:$V$19,2,FALSE))","v":"0"},"00","","000000","",0]
[null,70,null,null,null,null,null,null,null,null,null,null,null,null,null,"①",null,null,"",null,"",null,null,null,null,null,null,null,{"$f":"IF($Q228=\"\",\"0\",VLOOKUP($Q228,登録データ!$U$4:$V$19,2,FALSE))","v":"0"},"00","","000000","",0,{"$f":"IF($C228=\"\",\"\",IF($C228=\"@\",0,IF(COUNTIF($C$21:$C$620,$C228)=1,0,1)))","v":""},{"$f":"IF($M228=\"\",\"\",IF(OR($M228=\"東京都\",$M228=\"北海道\",$M228=\"大阪府\",$M228=\"京都府\",RIGHT($M228,1)=\"県\"),0,1))","v":""}]
[null,null,null,null,null,null,null,null,null,null,null,null,null,null,null,null,null,null,"",null,"",null,null,null,null,null,null,null,{"$f":"IF($Q229=\"\",\"0\",VLOOKUP($Q229,登録データ!$U$4:$V$19,2,FALSE))","v":"0"},"00","","000000","",0]
[null,null,null,null,null,null,null,null,null,null,null,null,null,null,null,null,null,null,"",null,"",null,null,null,null,null,null,null,{"$f":"IF($Q230=\"\",\"0\",VLOOKUP($Q230,登録データ!$U$4:$V$19,2,FALSE))","v":"0"},"00","","000000","",0]
[null,71,null,null,null,null,null,null,null,null,null,null,null,null,null,"①",null,null,"",null,"",null,null,null,null,null,null,null,{"$f":"IF($Q231=\"\",\"0\",VLOOKUP($Q231,登録データ!$U$4:$V$19,2,FALSE))","v":"0"},"00","","000000","",0,{"$f":"IF($C231=\"\",\"\",IF($C231=\"@\",0,IF(COUNTIF($C$21:$C$620,$C231)=1,0,1)))","v":""},{"$f":"IF($M231=\"\",\"\",IF(OR($M231=\"東京都\",$M231=\"北海道\",$M231=\"大阪府\",$M231=\"京都府\",RIGHT($M231,1)=\"県\"),0,1))","v":""}]
[null,null,null,null,null,null,null,null,null,null,null,null,null,null,null,null,null,null,"",null,"",null,null,null,null,null,null,null,{"$f":"IF($Q232=\"\",\"0\",VLOOKUP($Q232,登録データ!$U$4:$V$19,2,FALSE))","v":"0"},"00","","000000","",0]
[null,null,null,null,null,null,null,null,null,null,null,null,null,null,null,null,null,null,"",null,"",null,null,null,null,null,null,null,{"$f":"IF($Q233=\"\",\"0\",VLOOKUP($Q233,登録データ!$U$4:$V$19,2,FALSE))","v":"0"},"00","","000000","",0]
[null,72,null,null,null,null,null,null,null,null,null,null,null,null,null,"①",null,null,"",null,"",null,null,null,null,null,null,null,{"$f":"IF($Q234=\"\",\"0\",VLOOKUP($Q234,登録データ!$U$4:$V$19,2,FALSE))","v":"0"},"00","","000000","",0,{"$f":"IF($C234=\"\",\"\",IF($C234=\"@\",0,IF(COUNTIF($C$21:$C$620,$C234)=1,0,1)))","v":""},{"$f":"IF($M234=\"\",\"\",IF(OR($M234=\"東京都\",$M234=\"北海道\",$M234=\"大阪府\",$M234=\"京都府\",RIGHT($M234,1)=\"県\"),0,1))","v":""}]
[null,null,null,null,null,null,null,null,null,null,null,null,null,null,null,null,null,null,"",null,"",null,null,null,null,null,null,null,{"$f":"IF($Q235=\"\",\"0\",VLOOKUP($Q235,登録データ!$U$4:$V$19,2,FALSE))","v":"0"},"00","","000000","",0]
[null,null,null,null,null,null,null,null,null,null,null,null,null,null,null,null,null,null,"",null,"",null,null,null,null,null,null,null,{"$f":"IF($Q236=\"\",\"0\",VLOOKUP($Q236,登録データ!$U$4:$V$19,2,FALSE))","v":"0"},"00","","000000","",0]
[null,73,null,null,null,null,null,null,null,null,null,null,null,null,null,"①",null,null,"",null,"",null,null,null,null,null,null,null,{"$f":"IF($Q237=\"\",\"0\",VLOOKUP($Q237,登録データ!$U$4:$V$19,2,FALSE))","v":"0"},"00","","000000","",0,{"$f":"IF($C237=\"\",\"\",IF($C237=\"@\",0,IF(COUNTIF($C$21:$C$620,$C237)=1,0,1)))","v":""},{"$f":"IF($M237=\"\",\"\",IF(OR($M237=\"東京都\",$M237=\"北海道\",$M237=\"大阪府\",$M237=\"京都府\",RIGHT($M237,1)=\"県\"),0,1))","v":""}]
[null,null,null,null,null,null,null,null,null,null,null,null,null,null,null,null,null,null,"",null,"",null,null,null,null,null,null,null,{"$f":"IF($Q238=\"\",\"0\",VLOOKUP($Q238,登録データ!$U$4:$V$19,2,FALSE))","v":"0"},"00","","000000","",0]
[null,null,null,null,null,null,null,null,null,null,null,null,null,null,null,null,null,null,"",null,"",null,null,null,null,null,null,null,{"$f":"IF($Q239=\"\",\"0\",VLOOKUP($Q239,登録データ!$U$4:$V$19,2,FALSE))","v":"0"},"00","","000000","",0]
[null,74,null,null,null,null,null,null,null,null,null,null,null,null,null,"①",null,null,"",null,"",null,null,null,null,null,null,null,{"$f":"IF($Q240=\"\",\"0\",VLOOKUP($Q240,登録データ!$U$4:$V$19,2,FALSE))","v":"0"},"00","","000000","",0,{"$f":"IF($C240=\"\",\"\",IF($C240=\"@\",0,IF(COUNTIF($C$21:$C$620,$C240)=1,0,1)))","v":""},{"$f":"IF($M240=\"\",\"\",IF(OR($M240=\"東京都\",$M240=\"北海道\",$M240=\"大阪府\",$M240=\"京都府\",RIGHT($M240,1)=\"県\"),0,1))","v":""}]
[null,null,null,null,null,null,null,null,null,null,null,null,null,null,null,null,null,null,"",null,"",null,null,null,null,null,null,null,{"$f":"IF($Q241=\"\",\"0\",VLOOKUP($Q241,登録データ!$U$4:$V$19,2,FALSE))","v":"0"},"00","","000000","",0]
[null,null,null,null,null,null,null,null,null,null,null,null,null,null,null,null,null,null,"",null,"",null,null,null,null,null,null,null,{"$f":"IF($Q242=\"\",\"0\",VLOOKUP($Q242,登録データ!$U$4:$V$19,2,FALSE))","v":"0"},"00","","000000","",0]
[null,75,null,null,null,null,null,null,null,null,null,null,null,null,null,"①",null,null,"",null,"",null,null,null,null,null,null,null,{"$f":"IF($Q243=\"\",\"0\",VLOOKUP($Q243,登録データ!$U$4:$V$19,2,FALSE))","v":"0"},"00","","000000","",0,{"$f":"IF($C243=\"\",\"\",IF($C243=\"@\",0,IF(COUNTIF($C$21:$C$620,$C243)=1,0,1)))","v":""},{"$f":"IF($M243=\"\",\"\",IF(OR($M243=\"東京都\",$M243=\"北海道\",$M243=\"大阪府\",$M243=\"京都府\",RIGHT($M243,1)=\"県\"),0,1))","v":""}]
[null,null,null,null,null,null,null,null,null,null,null,null,null,null,null,null,null,null,"",null,"",null,null,null,null,null,null,null,{"$f":"IF($Q244=\"\",\"0\",VLOOKUP($Q244,登録データ!$U$4:$V$19,2,FALSE))","v":"0"},"00","","000000","",0]
[null,null,null,null,null,null,null,null,null,null,null,null,null,null,null,null,null,null,"",null,"",null,null,null,null,null,null,null,{"$f":"IF($Q245=\"\",\"0\",VLOOKUP($Q245,登録データ!$U$4:$V$19,2,FALSE))","v":"0"},"00","","000000","",0]
[null,76,null,null,null,null,null,null,null,null,null,null,null,null,null,"①",null,null,"",null,"",null,null,null,null,null,null,null,{"$f":"IF($Q246=\"\",\"0\",VLOOKUP($Q246,登録データ!$U$4:$V$19,2,FALSE))","v":"0"},"00","","000000","",0,{"$f":"IF($C246=\"\",\"\",IF($C246=\"@\",0,IF(COUNTIF($C$21:$C$620,$C246)=1,0,1)))","v":""},{"$f":"IF($M246=\"\",\"\",IF(OR($M246=\"東京都\",$M246=\"北海道\",$M246=\"大阪府\",$M246=\"京都府\",RIGHT($M246,1)=\"県\"),0,1))","v":""}]
[null,null,null,null,null,null,null,null,null,null,null,null,null,null,null,null,null,null,"",null,"",null,null,null,null,null,null,null,{"$f":"IF($Q247=\"\",\"0\",VLOOKUP($Q247,登録データ!$U$4:$V$19,2,FALSE))","v":"0"},"00","","000000","",0]
[null,null,null,null,null,null,null,null,null,null,null,null,null,null,null,null,null,null,"",null,"",null,null,null,null,null,null,null,{"$f":"IF($Q248=\"\",\"0\",VLOOKUP($Q248,登録データ!$U$4:$V$19,2,FALSE))","v":"0"},"00","","000000","",0]
[null,77,null,null,null,null,null,null,null,null,null,null,null,null,null,"①",null,null,"",null,"",null,null,null,null,null,null,null,{"$f":"IF($Q249=\"\",\"0\",VLOOKUP($Q249,登録データ!$U$4:$V$19,2,FALSE))","v":"0"},"00","","000000","",0,{"$f":"IF($C249=\"\",\"\",IF($C249=\"@\",0,IF(COUNTIF($C$21:$C$620,$C249)=1,0,1)))","v":""},{"$f":"IF($M249=\"\",\"\",IF(OR($M249=\"東京都\",$M249=\"北海道\",$M249=\"大阪府\",$M249=\"京都府\",RIGHT($M249,1)=\"県\"),0,1))","v":""}]
[null,null,null,null,null,null,null,null,null,null,null,null,null,null,null,null,null,null,"",null,"",null,null,null,null,null,null,null,{"$f":"IF($Q250=\"\",\"0\",VLOOKUP($Q250,登録データ!$U$4:$V$19,2,FALSE))","v":"0"},"00","","000000","",0]
[null,null,null,null,null,null,null,null,null,null,null,null,null,null,null,null,null,null,"",null,"",null,null,null,null,null,null,null,{"$f":"IF($Q251=\"\",\"0\",VLOOKUP($Q251,登録データ!$U$4:$V$19,2,FALSE))","v":"0"},"00","","000000","",0]
[null,78,null,null,null,null,null,null,null,null,null,null,null,null,null,"①",null,null,"",null,"",null,null,null,null,null,null,null,{"$f":"IF($Q252=\"\",\"0\",VLOOKUP($Q252,登録データ!$U$4:$V$19,2,FALSE))","v":"0"},"00","","000000","",0,{"$f":"IF($C252=\"\",\"\",IF($C252=\"@\",0,IF(COUNTIF($C$21:$C$620,$C252)=1,0,1)))","v":""},{"$f":"IF($M252=\"\",\"\",IF(OR($M252=\"東京都\",$M252=\"北海道\",$M252=\"大阪府\",$M252=\"京都府\",RIGHT($M252,1)=\"県\"),0,1))","v":""}]
[null,null,null,null,null,null,null,null,null,null,null,null,null,null,null,null,null,null,"",null,"",null,null,null,null,null,null,null,{"$f":"IF($Q253=\"\",\"0\",VLOOKUP($Q253,登録データ!$U$4:$V$19,2,FALSE))","v":"0"},"00","","000000","",0]
[null,null,null,null,null,null,null,null,null,null,null,null,null,null,null,null,null,null,"",null,"",null,null,null,null,null,null,null,{"$f":"IF($Q254=\"\",\"0\",VLOOKUP($Q254,登録データ!$U$4:$V$19,2,FALSE))","v":"0"},"00","","000000","",0]
[null,79,null,null,null,null,null,null,null,null,null,null,null,null,null,"①",null,null,"",null,"",null,null,null,null,null,null,null,{"$f":"IF($Q255=\"\",\"0\",VLOOKUP($Q255,登録データ!$U$4:$V$19,2,FALSE))","v":"0"},"00","","000000","",0,{"$f":"IF($C255=\"\",\"\",IF($C255=\"@\",0,IF(COUNTIF($C$21:$C$620,$C255)=1,0,1)))","v":""},{"$f":"IF($M255=\"\",\"\",IF(OR($M255=\"東京都\",$M255=\"北海道\",$M255=\"大阪府\",$M255=\"京都府\",RIGHT($M255,1)=\"県\"),0,1))","v":""}]
[null,null,null,null,null,null,null,null,null,null,null,null,null,null,null,null,null,null,"",null,"",null,null,null,null,null,null,null,{"$f":"IF($Q256=\"\",\"0\",VLOOKUP($Q256,登録データ!$U$4:$V$19,2,FALSE))","v":"0"},"00","","000000","",0]
[null,null,null,null,null,null,null,null,null,null,null,null,null,null,null,null,null,null,"",null,"",null,null,null,null,null,null,null,{"$f":"IF($Q257=\"\",\"0\",VLOOKUP($Q257,登録データ!$U$4:$V$19,2,FALSE))","v":"0"},"00","","000000","",0]
[null,80,null,null,null,null,null,null,null,null,null,null,null,null,null,"①",null,null,"",null,"",null,null,null,null,null,null,null,{"$f":"IF($Q258=\"\",\"0\",VLOOKUP($Q258,登録データ!$U$4:$V$19,2,FALSE))","v":"0"},"00","","000000","",0,{"$f":"IF($C258=\"\",\"\",IF($C258=\"@\",0,IF(COUNTIF($C$21:$C$620,$C258)=1,0,1)))","v":""},{"$f":"IF($M258=\"\",\"\",IF(OR($M258=\"東京都\",$M258=\"北海道\",$M258=\"大阪府\",$M258=\"京都府\",RIGHT($M258,1)=\"県\"),0,1))","v":""}]
[null,null,null,null,null,null,null,null,null,null,null,null,null,null,null,null,null,null,"",null,"",null,null,null,null,null,null,null,{"$f":"IF($Q259=\"\",\"0\",VLOOKUP($Q259,登録データ!$U$4:$V$19,2,FALSE))","v":"0"},"00","","000000","",0]
[null,null,null,null,null,null,null,null,null,null,null,null,null,null,null,null,null,null,"",null,"",null,null,null,null,null,null,null,{"$f":"IF($Q260=\"\",\"0\",VLOOKUP($Q260,登録データ!$U$4:$V$19,2,FALSE))","v":"0"},"00","","000000","",0]
[null,81,null,null,null,null,null,null,null,null,null,null,null,null,null,"①",null,null,"",null,"",null,null,null,null,null,null,null,{"$f":"IF($Q261=\"\",\"0\",VLOOKUP($Q261,登録データ!$U$4:$V$19,2,FALSE))","v":"0"},"00","","000000","",0,{"$f":"IF($C261=\"\",\"\",IF($C261=\"@\",0,IF(COUNTIF($C$21:$C$620,$C261)=1,0,1)))","v":""},{"$f":"IF($M261=\"\",\"\",IF(OR($M261=\"東京都\",$M261=\"北海道\",$M261=\"大阪府\",$M261=\"京都府\",RIGHT($M261,1)=\"県\"),0,1))","v":""}]
[null,null,null,null,null,null,null,null,null,null,null,null,null,null,null,null,null,null,"",null,"",null,null,null,null,null,null,null,{"$f":"IF($Q262=\"\",\"0\",VLOOKUP($Q262,登録データ!$U$4:$V$19,2,FALSE))","v":"0"},"00","","000000","",0]
[null,null,null,null,null,null,null,null,null,null,null,null,null,null,null,null,null,null,"",null,"",null,null,null,null,null,null,null,{"$f":"IF($Q263=\"\",\"0\",VLOOKUP($Q263,登録データ!$U$4:$V$19,2,FALSE))","v":"0"},"00","","000000","",0]
[null,82,null,null,null,null,null,null,null,null,null,null,null,null,null,"①",null,null,"",null,"",null,null,null,null,null,null,null,{"$f":"IF($Q264=\"\",\"0\",VLOOKUP($Q264,登録データ!$U$4:$V$19,2,FALSE))","v":"0"},"00","","000000","",0,{"$f":"IF($C264=\"\",\"\",IF($C264=\"@\",0,IF(COUNTIF($C$21:$C$620,$C264)=1,0,1)))","v":""},{"$f":"IF($M264=\"\",\"\",IF(OR($M264=\"東京都\",$M264=\"北海道\",$M264=\"大阪府\",$M264=\"京都府\",RIGHT($M264,1)=\"県\"),0,1))","v":""}]
[null,null,null,null,null,null,null,null,null,null,null,null,null,null,null,null,null,null,"",null,"",null,null,null,null,null,null,null,{"$f":"IF($Q265=\"\",\"0\",VLOOKUP($Q265,登録データ!$U$4:$V$19,2,FALSE))","v":"0"},"00","","000000","",0]
[null,null,null,null,null,null,null,null,null,null,null,null,null,null,null,null,null,null,"",null,"",null,null,null,null,null,null,null,{"$f":"IF($Q266=\"\",\"0\",VLOOKUP($Q266,登録データ!$U$4:$V$19,2,FALSE))","v":"0"},"00","","000000","",0]
[null,83,null,null,null,null,null,null,null,null,null,null,null,null,null,"①",null,null,"",null,"",null,null,null,null,null,null,null,{"$f":"IF($Q267=\"\",\"0\",VLOOKUP($Q267,登録データ!$U$4:$V$19,2,FALSE))","v":"0"},"00","","000000","",0,{"$f":"IF($C267=\"\",\"\",IF($C267=\"@\",0,IF(COUNTIF($C$21:$C$620,$C267)=1,0,1)))","v":""},{"$f":"IF($M267=\"\",\"\",IF(OR($M267=\"東京都\",$M267=\"北海道\",$M267=\"大阪府\",$M267=\"京都府\",RIGHT($M267,1)=\"県\"),0,1))","v":""}]
[null,null,null,null,null,null,null,null,null,null,null,null,null,null,null,null,null,null,"",null,"",null,null,null,null,null,null,null,{"$f":"IF($Q268=\"\",\"0\",VLOOKUP($Q268,登録データ!$U$4:$V$19,2,FALSE))","v":"0"},"00","","000000","",0]
[null,null,null,null,null,null,null,null,null,null,null,null,null,null,null,null,null,null,"",null,"",null,null,null,null,null,null,null,{"$f":"IF($Q269=\"\",\"0\",VLOOKUP($Q269,登録データ!$U$4:$V$19,2,FALSE))","v":"0"},"00","","000000","",0]
[null,84,null,null,null,null,null,null,null,null,null,null,null,null,null,"①",null,null,"",null,"",null,null,null,null,null,null,null,{"$f":"IF($Q270=\"\",\"0\",VLOOKUP($Q270,登録データ!$U$4:$V$19,2,FALSE))","v":"0"},"00","","000000","",0,{"$f":"IF($C270=\"\",\"\",IF($C270=\"@\",0,IF(COUNTIF($C$21:$C$620,$C270)=1,0,1)))","v":""},{"$f":"IF($M270=\"\",\"\",IF(OR($M270=\"東京都\",$M270=\"北海道\",$M270=\"大阪府\",$M270=\"京都府\",RIGHT($M270,1)=\"県\"),0,1))","v":""}]
[null,null,null,null,null,null,null,null,null,null,null,null,null,null,null,null,null,null,"",null,"",null,null,null,null,null,null,null,{"$f":"IF($Q271=\"\",\"0\",VLOOKUP($Q271,登録データ!$U$4:$V$19,2,FALSE))","v":"0"},"00","","000000","",0]
[null,null,null,null,null,null,null,null,null,null,null,null,null,null,null,null,null,null,"",null,"",null,null,null,null,null,null,null,{"$f":"IF($Q272=\"\",\"0\",VLOOKUP($Q272,登録データ!$U$4:$V$19,2,FALSE))","v":"0"},"00","","000000","",0]
[null,85,null,null,null,null,null,null,null,null,null,null,null,null,null,"①",null,null,"",null,"",null,null,null,null,null,null,null,{"$f":"IF($Q273=\"\",\"0\",VLOOKUP($Q273,登録データ!$U$4:$V$19,2,FALSE))","v":"0"},"00","","000000","",0,{"$f":"IF($C273=\"\",\"\",IF($C273=\"@\",0,IF(COUNTIF($C$21:$C$620,$C273)=1,0,1)))","v":""},{"$f":"IF($M273=\"\",\"\",IF(OR($M273=\"東京都\",$M273=\"北海道\",$M273=\"大阪府\",$M273=\"京都府\",RIGHT($M273,1)=\"県\"),0,1))","v":""}]
[null,null,null,null,null,null,null,null,null,null,null,null,null,null,null,null,null,null,"",null,"",null,null,null,null,null,null,null,{"$f":"IF($Q274=\"\",\"0\",VLOOKUP($Q274,登録データ!$U$4:$V$19,2,FALSE))","v":"0"},"00","","000000","",0]
[null,null,null,null,null,null,null,null,null,null,null,null,null,null,null,null,null,null,"",null,"",null,null,null,null,null,null,null,{"$f":"IF($Q275=\"\",\"0\",VLOOKUP($Q275,登録データ!$U$4:$V$19,2,FALSE))","v":"0"},"00","","000000","",0]
[null,86,null,null,null,null,null,null,null,null,null,null,null,null,null,"①",null,null,"",null,"",null,null,null,null,null,null,null,{"$f":"IF($Q276=\"\",\"0\",VLOOKUP($Q276,登録データ!$U$4:$V$19,2,FALSE))","v":"0"},"00","","000000","",0,{"$f":"IF($C276=\"\",\"\",IF($C276=\"@\",0,IF(COUNTIF($C$21:$C$620,$C276)=1,0,1)))","v":""},{"$f":"IF($M276=\"\",\"\",IF(OR($M276=\"東京都\",$M276=\"北海道\",$M276=\"大阪府\",$M276=\"京都府\",RIGHT($M276,1)=\"県\"),0,1))","v":""}]
[null,null,null,null,null,null,null,null,null,null,null,null,null,null,null,null,null,null,"",null,"",null,null,null,null,null,null,null,{"$f":"IF($Q277=\"\",\"0\",VLOOKUP($Q277,登録データ!$U$4:$V$19,2,FALSE))","v":"0"},"00","",{"$f":"IF($AE277=2,IF($T277=\"\",\"0000\",CONCATENATE(RIGHT($T277+100,2),$AD277)),IF($T277=\"\",\"000000\",CONCATENATE(RIGHT($R277+100,2),RIGHT($T277+100,2),$AD277)))","v":"000000"},{"$f":"IF($Q277=\"\",\"\",CONCATENATE($AC277,\" \",IF($AE277=1,RIGHT($AF277+10000000,7),RIGHT($AF277+100000,5))))","v":""},0]
[null,null,null,null,null,null,null,null,null,null,null,null,null,null,null,null,null,null,{"$f":"IF($Q278=\"\",\"\",IF(OR(RIGHT($Q278,1)=\"m\",RIGHT($Q278,1)=\"H\"),\"分\",\"\"))","v":""},null,{"$f":"IF($Q278=\"\",\"\",IF(OR(RIGHT($Q278,1)=\"m\",RIGHT($Q278,1)=\"H\"),\"秒\",\"m\"))","v":""},null,null,null,null,null,null,null,{"$f":"IF($Q278=\"\",\"0\",VLOOKUP($Q278,登録データ!$U$4:$V$19,2,FALSE))","v":"0"},{"$f":"IF($V278=\"\",\"00\",IF(LEN($V278)=1,$V278*10,$V278))","v":"00"},{"$f":"IF($Q278=\"\",\"\",IF(OR(RIGHT($Q278,1)=\"m\",RIGHT($Q278,1)=\"H\"),1,2))","v":""},"000000","",{"$f":"IF(OR(RIGHT($H274,1)=\"m\",RIGHT($H274,1)=\"H\",RIGHT($H274,1)=\"W\",RIGHT($H274,1)=\"C\"),IF(VALUE($K274)>59,1,0),0)","v":0}]
[null,87,null,null,null,null,null,null,null,null,null,null,null,null,null,"①",null,null,"",null,"",null,null,null,null,null,null,null,{"$f":"IF($Q279=\"\",\"0\",VLOOKUP($Q279,登録データ!$U$4:$V$19,2,FALSE))","v":"0"},"00","","000000","",0,{"$f":"IF($C279=\"\",\"\",IF($C279=\"@\",0,IF(COUNTIF($C$21:$C$620,$C279)=1,0,1)))","v":""},{"$f":"IF($M279=\"\",\"\",IF(OR($M279=\"東京都\",$M279=\"北海道\",$M279=\"大阪府\",$M279=\"京都府\",RIGHT($M279,1)=\"県\"),0,1))","v":""}]
[null,null,null,null,null,null,null,null,null,null,null,null,null,null,null,null,null,null,"",null,"",null,null,null,null,null,null,null,{"$f":"IF($Q280=\"\",\"0\",VLOOKUP($Q280,登録データ!$U$4:$V$19,2,FALSE))","v":"0"},"00","","000000","",0]
[null,null,null,null,null,null,null,null,null,null,null,null,null,null,null,null,null,null,"",null,"",null,null,null,null,null,null,null,{"$f":"IF($Q281=\"\",\"0\",VLOOKUP($Q281,登録データ!$U$4:$V$19,2,FALSE))","v":"0"},"00","","000000","",0]
[null,88,null,null,null,null,null,null,null,null,null,null,null,null,null,"①",null,null,"",null,"",null,null,null,null,null,null,null,{"$f":"IF($Q282=\"\",\"0\",VLOOKUP($Q282,登録データ!$U$4:$V$19,2,FALSE))","v":"0"},"00","","000000","",0,{"$f":"IF($C282=\"\",\"\",IF($C282=\"@\",0,IF(COUNTIF($C$21:$C$620,$C282)=1,0,1)))","v":""},{"$f":"IF($M282=\"\",\"\",IF(OR($M282=\"東京都\",$M282=\"北海道\",$M282=\"大阪府\",$M282=\"京都府\",RIGHT($M282,1)=\"県\"),0,1))","v":""}]
[null,null,null,null,null,null,null,null,null,null,null,null,null,null,null,null,null,null,"",null,"",null,null,null,null,null,null,null,{"$f":"IF($Q283=\"\",\"0\",VLOOKUP($Q283,登録データ!$U$4:$V$19,2,FALSE))","v":"0"},"00","","000000","",0]
[null,null,null,null,null,null,null,null,null,null,null,null,null,null,null,null,null,null,"",null,"",null,null,null,null,null,null,null,{"$f":"IF($Q284=\"\",\"0\",VLOOKUP($Q284,登録データ!$U$4:$V$19,2,FALSE))","v":"0"},"00","","000000","",0]
[null,89,null,null,null,null,null,null,null,null,null,null,null,null,null,"①",null,null,"",null,"",null,null,null,null,null,null,null,{"$f":"IF($Q285=\"\",\"0\",VLOOKUP($Q285,登録データ!$U$4:$V$19,2,FALSE))","v":"0"},"00","","000000","",0,{"$f":"IF($C285=\"\",\"\",IF($C285=\"@\",0,IF(COUNTIF($C$21:$C$620,$C285)=1,0,1)))","v":""},{"$f":"IF($M285=\"\",\"\",IF(OR($M285=\"東京都\",$M285=\"北海道\",$M285=\"大阪府\",$M285=\"京都府\",RIGHT($M285,1)=\"県\"),0,1))","v":""}]
[null,null,null,null,null,null,null,null,null,null,null,null,null,null,null,null,null,null,"",null,"",null,null,null,null,null,null,null,{"$f":"IF($Q286=\"\",\"0\",VLOOKUP($Q286,登録データ!$U$4:$V$19,2,FALSE))","v":"0"},"00","","000000","",0]
[null,null,null,null,null,null,null,null,null,null,null,null,null,null,null,null,null,null,"",null,"",null,null,null,null,null,null,null,{"$f":"IF($Q287=\"\",\"0\",VLOOKUP($Q287,登録データ!$U$4:$V$19,2,FALSE))","v":"0"},"00","","000000","",0]
[null,90,null,null,null,null,null,null,null,null,null,null,null,null,null,"①",null,null,"",null,"",null,null,null,null,null,null,null,{"$f":"IF($Q288=\"\",\"0\",VLOOKUP($Q288,登録データ!$U$4:$V$19,2,FALSE))","v":"0"},"00","","000000","",0,{"$f":"IF($C288=\"\",\"\",IF($C288=\"@\",0,IF(COUNTIF($C$21:$C$620,$C288)=1,0,1)))","v":""},{"$f":"IF($M288=\"\",\"\",IF(OR($M288=\"東京都\",$M288=\"北海道\",$M288=\"大阪府\",$M288=\"京都府\",RIGHT($M288,1)=\"県\"),0,1))","v":""}]
[null,null,null,null,null,null,null,null,null,null,null,null,null,null,null,null,null,null,"",null,"",null,null,null,null,null,null,null,{"$f":"IF($Q289=\"\",\"0\",VLOOKUP($Q289,登録データ!$U$4:$V$19,2,FALSE))","v":"0"},"00","","000000","",0]
[null,null,null,null,null,null,null,null,null,null,null,null,null,null,null,null,null,null,"",null,"",null,null,null,null,null,null,null,{"$f":"IF($Q290=\"\",\"0\",VLOOKUP($Q290,登録データ!$U$4:$V$19,2,FALSE))","v":"0"},"00","","000000","",0]
[null,91,null,null,null,null,null,null,null,null,null,null,null,null,null,"①",null,null,"",null,"",null,null,null,null,null,null,null,{"$f":"IF($Q291=\"\",\"0\",VLOOKUP($Q291,登録データ!$U$4:$V$19,2,FALSE))","v":"0"},"00","","000000","",0,{"$f":"IF($C291=\"\",\"\",IF($C291=\"@\",0,IF(COUNTIF($C$21:$C$620,$C291)=1,0,1)))","v":""},{"$f":"IF($M291=\"\",\"\",IF(OR($M291=\"東京都\",$M291=\"北海道\",$M291=\"大阪府\",$M291=\"京都府\",RIGHT($M291,1)=\"県\"),0,1))","v":""}]
[null,null,null,null,null,null,null,null,null,null,null,null,null,null,null,null,null,null,"",null,"",null,null,null,null,null,null,null,{"$f":"IF($Q292=\"\",\"0\",VLOOKUP($Q292,登録データ!$U$4:$V$19,2,FALSE))","v":"0"},"00","","000000","",0]
[null,null,null,null,null,null,null,null,null,null,null,null,null,null,null,null,null,null,"",null,"",null,null,null,null,null,null,null,{"$f":"IF($Q293=\"\",\"0\",VLOOKUP($Q293,登録データ!$U$4:$V$19,2,FALSE))","v":"0"},"00","","000000","",0]
[null,92,null,null,null,null,null,null,null,null,null,null,null,null,null,"①",null,null,"",null,"",null,null,null,null,null,null,null,{"$f":"IF($Q294=\"\",\"0\",VLOOKUP($Q294,登録データ!$U$4:$V$19,2,FALSE))","v":"0"},"00","","000000","",0,{"$f":"IF($C294=\"\",\"\",IF($C294=\"@\",0,IF(COUNTIF($C$21:$C$620,$C294)=1,0,1)))","v":""},{"$f":"IF($M294=\"\",\"\",IF(OR($M294=\"東京都\",$M294=\"北海道\",$M294=\"大阪府\",$M294=\"京都府\",RIGHT($M294,1)=\"県\"),0,1))","v":""}]
[null,null,null,null,null,null,null,null,null,null,null,null,null,null,null,null,null,null,"",null,"",null,null,null,null,null,null,null,{"$f":"IF($Q295=\"\",\"0\",VLOOKUP($Q295,登録データ!$U$4:$V$19,2,FALSE))","v":"0"},"00","","000000","",0]
[null,null,null,null,null,null,null,null,null,null,null,null,null,null,null,null,null,null,"",null,"",null,null,null,null,null,null,null,{"$f":"IF($Q296=\"\",\"0\",VLOOKUP($Q296,登録データ!$U$4:$V$19,2,FALSE))","v":"0"},"00","","000000","",0]
[null,93,null,null,null,null,null,null,null,null,null,null,null,null,null,"①",null,null,"",null,"",null,null,null,null,null,null,null,{"$f":"IF($Q297=\"\",\"0\",VLOOKUP($Q297,登録データ!$U$4:$V$19,2,FALSE))","v":"0"},"00","","000000","",0,{"$f":"IF($C297=\"\",\"\",IF($C297=\"@\",0,IF(COUNTIF($C$21:$C$620,$C297)=1,0,1)))","v":""},{"$f":"IF($M297=\"\",\"\",IF(OR($M297=\"東京都\",$M297=\"北海道\",$M297=\"大阪府\",$M297=\"京都府\",RIGHT($M297,1)=\"県\"),0,1))","v":""}]
[null,null,null,null,null,null,null,null,null,null,null,null,null,null,null,null,null,null,"",null,"",null,null,null,null,null,null,null,{"$f":"IF($Q298=\"\",\"0\",VLOOKUP($Q298,登録データ!$U$4:$V$19,2,FALSE))","v":"0"},"00","","000000","",0]
[null,null,null,null,null,null,null,null,null,null,null,null,null,null,null,null,null,null,"",null,"",null,null,null,null,null,null,null,{"$f":"IF($Q299=\"\",\"0\",VLOOKUP($Q299,登録データ!$U$4:$V$19,2,FALSE))","v":"0"},"00","","000000","",0]
[null,94,null,null,null,null,null,null,null,null,null,null,null,null,null,"①",null,null,"",null,"",null,null,null,null,null,null,null,{"$f":"IF($Q300=\"\",\"0\",VLOOKUP($Q300,登録データ!$U$4:$V$19,2,FALSE))","v":"0"},"00","","000000","",0,{"$f":"IF($C300=\"\",\"\",IF($C300=\"@\",0,IF(COUNTIF($C$21:$C$620,$C300)=1,0,1)))","v":""},{"$f":"IF($M300=\"\",\"\",IF(OR($M300=\"東京都\",$M300=\"北海道\",$M300=\"大阪府\",$M300=\"京都府\",RIGHT($M300,1)=\"県\"),0,1))","v":""}]
[null,null,null,null,null,null,null,null,null,null,null,null,null,null,null,null,null,null,"",null,"",null,null,null,null,null,null,null,{"$f":"IF($Q301=\"\",\"0\",VLOOKUP($Q301,登録データ!$U$4:$V$19,2,FALSE))","v":"0"},"00","","000000","",0]
[null,null,null,null,null,null,null,null,null,null,null,null,null,null,null,null,null,null,"",null,"",null,null,null,null,null,null,null,{"$f":"IF($Q302=\"\",\"0\",VLOOKUP($Q302,登録データ!$U$4:$V$19,2,FALSE))","v":"0"},"00","","000000","",0]
[null,95,null,null,null,null,null,null,null,null,null,null,null,null,null,"①",null,null,"",null,"",null,null,null,null,null,null,null,{"$f":"IF($Q303=\"\",\"0\",VLOOKUP($Q303,登録データ!$U$4:$V$19,2,FALSE))","v":"0"},"00","","000000","",0,{"$f":"IF($C303=\"\",\"\",IF($C303=\"@\",0,IF(COUNTIF($C$21:$C$620,$C303)=1,0,1)))","v":""},{"$f":"IF($M303=\"\",\"\",IF(OR($M303=\"東京都\",$M303=\"北海道\",$M303=\"大阪府\",$M303=\"京都府\",RIGHT($M303,1)=\"県\"),0,1))","v":""}]
[null,null,null,null,null,null,null,null,null,null,null,null,null,null,null,null,null,null,"",null,"",null,null,null,null,null,null,null,{"$f":"IF($Q304=\"\",\"0\",VLOOKUP($Q304,登録データ!$U$4:$V$19,2,FALSE))","v":"0"},"00","","000000","",0]
[null,null,null,null,null,null,null,null,null,null,null,null,null,null,null,null,null,null,"",null,"",null,null,null,null,null,null,null,{"$f":"IF($Q305=\"\",\"0\",VLOOKUP($Q305,登録データ!$U$4:$V$19,2,FALSE))","v":"0"},"00","","000000","",0]
[null,96,null,null,null,null,null,null,null,null,null,null,null,null,null,"①",null,null,"",null,"",null,null,null,null,null,null,null,{"$f":"IF($Q306=\"\",\"0\",VLOOKUP($Q306,登録データ!$U$4:$V$19,2,FALSE))","v":"0"},"00","","000000","",0,{"$f":"IF($C306=\"\",\"\",IF($C306=\"@\",0,IF(COUNTIF($C$21:$C$620,$C306)=1,0,1)))","v":""},{"$f":"IF($M306=\"\",\"\",IF(OR($M306=\"東京都\",$M306=\"北海道\",$M306=\"大阪府\",$M306=\"京都府\",RIGHT($M306,1)=\"県\"),0,1))","v":""}]
[null,null,null,null,null,null,null,null,null,null,null,null,null,null,null,null,null,null,"",null,"",null,null,null,null,null,null,null,{"$f":"IF($Q307=\"\",\"0\",VLOOKUP($Q307,登録データ!$U$4:$V$19,2,FALSE))","v":"0"},"00","","000000","",0]
[null,null,null,null,null,null,null,null,null,null,null,null,null,null,null,null,null,null,"",null,"",null,null,null,null,null,null,null,{"$f":"IF($Q308=\"\",\"0\",VLOOKUP($Q308,登録データ!$U$4:$V$19,2,FALSE))","v":"0"},"00","","000000","",0]
[null,97,null,null,null,null,null,null,null,null,null,null,null,null,null,"①",null,null,"",null,"",null,null,null,null,null,null,null,{"$f":"IF($Q309=\"\",\"0\",VLOOKUP($Q309,登録データ!$U$4:$V$19,2,FALSE))","v":"0"},"00","","000000","",0,{"$f":"IF($C309=\"\",\"\",IF($C309=\"@\",0,IF(COUNTIF($C$21:$C$620,$C309)=1,0,1)))","v":""},{"$f":"IF($M309=\"\",\"\",IF(OR($M309=\"東京都\",$M309=\"北海道\",$M309=\"大阪府\",$M309=\"京都府\",RIGHT($M309,1)=\"県\"),0,1))","v":""}]
[null,null,null,null,null,null,null,null,null,null,null,null,null,null,null,null,null,null,"",null,"",null,null,null,null,null,null,null,{"$f":"IF($Q310=\"\",\"0\",VLOOKUP($Q310,登録データ!$U$4:$V$19,2,FALSE))","v":"0"},"00","","000000","",0]
[null,null,null,null,null,null,null,null,null,null,null,null,null,null,null,null,null,null,"",null,"",null,null,null,null,null,null,null,{"$f":"IF($Q311=\"\",\"0\",VLOOKUP($Q311,登録データ!$U$4:$V$19,2,FALSE))","v":"0"},"00","","000000","",0]
[null,98,null,null,null,null,null,null,null,null,null,null,null,null,null,"①",null,null,"",null,"",null,null,null,null,null,null,null,{"$f":"IF($Q312=\"\",\"0\",VLOOKUP($Q312,登録データ!$U$4:$V$19,2,FALSE))","v":"0"},"00","","000000","",0,{"$f":"IF($C312=\"\",\"\",IF($C312=\"@\",0,IF(COUNTIF($C$21:$C$620,$C312)=1,0,1)))","v":""},{"$f":"IF($M312=\"\",\"\",IF(OR($M312=\"東京都\",$M312=\"北海道\",$M312=\"大阪府\",$M312=\"京都府\",RIGHT($M312,1)=\"県\"),0,1))","v":""}]
[null,null,null,null,null,null,null,null,null,null,null,null,null,null,null,null,null,null,"",null,"",null,null,null,null,null,null,null,{"$f":"IF($Q313=\"\",\"0\",VLOOKUP($Q313,登録データ!$U$4:$V$19,2,FALSE))","v":"0"},"00","","000000","",0]
[null,null,null,null,null,null,null,null,null,null,null,null,null,null,null,null,null,null,"",null,"",null,null,null,null,null,null,null,{"$f":"IF($Q314=\"\",\"0\",VLOOKUP($Q314,登録データ!$U$4:$V$19,2,FALSE))","v":"0"},"00","","000000","",0]
[null,99,null,null,null,null,null,null,null,null,null,null,null,null,null,"①",null,null,"",null,"",null,null,null,null,null,null,null,{"$f":"IF($Q315=\"\",\"0\",VLOOKUP($Q315,登録データ!$U$4:$V$19,2,FALSE))","v":"0"},"00","","000000","",0,{"$f":"IF($C315=\"\",\"\",IF($C315=\"@\",0,IF(COUNTIF($C$21:$C$620,$C315)=1,0,1)))","v":""},{"$f":"IF($M315=\"\",\"\",IF(OR($M315=\"東京都\",$M315=\"北海道\",$M315=\"大阪府\",$M315=\"京都府\",RIGHT($M315,1)=\"県\"),0,1))","v":""}]
[null,null,null,null,null,null,null,null,null,null,null,null,null,null,null,null,null,null,"",null,"",null,null,null,null,null,null,null,{"$f":"IF($Q316=\"\",\"0\",VLOOKUP($Q316,登録データ!$U$4:$V$19,2,FALSE))","v":"0"},"00","","000000","",0]
[null,null,null,null,null,null,null,null,null,null,null,null,null,null,null,null,null,null,"",null,"",null,null,null,null,null,null,null,{"$f":"IF($Q317=\"\",\"0\",VLOOKUP($Q317,登録データ!$U$4:$V$19,2,FALSE))","v":"0"},"00","","000000","",0]
[null,100,null,null,null,null,null,null,null,null,null,null,null,null,null,"①",null,null,"",null,"",null,null,null,null,null,null,null,{"$f":"IF($Q318=\"\",\"0\",VLOOKUP($Q318,登録データ!$U$4:$V$19,2,FALSE))","v":"0"},"00","","000000","",0,{"$f":"IF($C318=\"\",\"\",IF($C318=\"@\",0,IF(COUNTIF($C$21:$C$620,$C318)=1,0,1)))","v":""},{"$f":"IF($M318=\"\",\"\",IF(OR($M318=\"東京都\",$M318=\"北海道\",$M318=\"大阪府\",$M318=\"京都府\",RIGHT($M318,1)=\"県\"),0,1))","v":""}]
[null,null,null,null,null,null,null,null,null,null,null,null,null,null,null,null,null,null,"",null,"",null,null,null,null,null,null,null,{"$f":"IF($Q319=\"\",\"0\",VLOOKUP($Q319,登録データ!$U$4:$V$19,2,FALSE))","v":"0"},"00","","000000","",0]
[null,null,null,null,null,null,null,null,null,null,null,null,null,null,null,null,null,null,"",null,"",null,null,null,null,null,null,null,{"$f":"IF($Q320=\"\",\"0\",VLOOKUP($Q320,登録データ!$U$4:$V$19,2,FALSE))","v":"0"},"00","","000000","",0]
[null,101,null,null,null,null,null,null,null,null,null,null,null,null,null,"①",null,null,"",null,"",null,null,null,null,null,null,null,{"$f":"IF($Q321=\"\",\"0\",VLOOKUP($Q321,登録データ!$U$4:$V$19,2,FALSE))","v":"0"},"00","","000000","",0,{"$f":"IF($C321=\"\",\"\",IF($C321=\"@\",0,IF(COUNTIF($C$21:$C$620,$C321)=1,0,1)))","v":""},{"$f":"IF($M321=\"\",\"\",IF(OR($M321=\"東京都\",$M321=\"北海道\",$M321=\"大阪府\",$M321=\"京都府\",RIGHT($M321,1)=\"県\"),0,1))","v":""}]
[null,null,null,null,null,null,null,null,null,null,null,null,null,null,null,null,null,null,"",null,"",null,null,null,null,null,null,null,{"$f":"IF($Q322=\"\",\"0\",VLOOKUP($Q322,登録データ!$U$4:$V$19,2,FALSE))","v":"0"},"00","","000000","",0]
[null,null,null,null,null,null,null,null,null,null,null,null,null,null,null,null,null,null,"",null,"",null,null,null,null,null,null,null,{"$f":"IF($Q323=\"\",\"0\",VLOOKUP($Q323,登録データ!$U$4:$V$19,2,FALSE))","v":"0"},"00","","000000","",0]
[null,102,null,null,null,null,null,null,null,null,null,null,null,null,null,"①",null,null,"",null,"",null,null,null,null,null,null,null,{"$f":"IF($Q324=\"\",\"0\",VLOOKUP($Q324,登録データ!$U$4:$V$19,2,FALSE))","v":"0"},"00","","000000","",0,{"$f":"IF($C324=\"\",\"\",IF($C324=\"@\",0,IF(COUNTIF($C$21:$C$620,$C324)=1,0,1)))","v":""},{"$f":"IF($M324=\"\",\"\",IF(OR($M324=\"東京都\",$M324=\"北海道\",$M324=\"大阪府\",$M324=\"京都府\",RIGHT($M324,1)=\"県\"),0,1))","v":""}]
[null,null,null,null,null,null,null,null,null,null,null,null,null,null,null,null,null,null,"",null,"",null,null,null,null,null,null,null,{"$f":"IF($Q325=\"\",\"0\",VLOOKUP($Q325,登録データ!$U$4:$V$19,2,FALSE))","v":"0"},"00","","000000","",0]
[null,null,null,null,null,null,null,null,null,null,null,null,null,null,null,null,null,null,"",null,"",null,null,null,null,null,null,null,{"$f":"IF($Q326=\"\",\"0\",VLOOKUP($Q326,登録データ!$U$4:$V$19,2,FALSE))","v":"0"},"00","","000000","",0]
[null,103,null,null,null,null,null,null,null,null,null,null,null,null,null,"①",null,null,"",null,"",null,null,null,null,null,null,null,{"$f":"IF($Q327=\"\",\"0\",VLOOKUP($Q327,登録データ!$U$4:$V$19,2,FALSE))","v":"0"},"00","","000000","",0,{"$f":"IF($C327=\"\",\"\",IF($C327=\"@\",0,IF(COUNTIF($C$21:$C$620,$C327)=1,0,1)))","v":""},{"$f":"IF($M327=\"\",\"\",IF(OR($M327=\"東京都\",$M327=\"北海道\",$M327=\"大阪府\",$M327=\"京都府\",RIGHT($M327,1)=\"県\"),0,1))","v":""}]
[null,null,null,null,null,null,null,null,null,null,null,null,null,null,null,null,null,null,"",null,"",null,null,null,null,null,null,null,{"$f":"IF($Q328=\"\",\"0\",VLOOKUP($Q328,登録データ!$U$4:$V$19,2,FALSE))","v":"0"},"00","","000000","",0]
[null,null,null,null,null,null,null,null,null,null,null,null,null,null,null,null,null,null,"",null,"",null,null,null,null,null,null,null,{"$f":"IF($Q329=\"\",\"0\",VLOOKUP($Q329,登録データ!$U$4:$V$19,2,FALSE))","v":"0"},"00","","000000","",0]
[null,104,null,null,null,null,null,null,null,null,null,null,null,null,null,"①",null,null,"",null,"",null,null,null,null,null,null,null,{"$f":"IF($Q330=\"\",\"0\",VLOOKUP($Q330,登録データ!$U$4:$V$19,2,FALSE))","v":"0"},"00","","000000","",0,{"$f":"IF($C330=\"\",\"\",IF($C330=\"@\",0,IF(COUNTIF($C$21:$C$620,$C330)=1,0,1)))","v":""},{"$f":"IF($M330=\"\",\"\",IF(OR($M330=\"東京都\",$M330=\"北海道\",$M330=\"大阪府\",$M330=\"京都府\",RIGHT($M330,1)=\"県\"),0,1))","v":""}]
[null,null,null,null,null,null,null,null,null,null,null,null,null,null,null,null,null,null,"",null,"",null,null,null,null,null,null,null,{"$f":"IF($Q331=\"\",\"0\",VLOOKUP($Q331,登録データ!$U$4:$V$19,2,FALSE))","v":"0"},"00","","000000","",0]
[null,null,null,null,null,null,null,null,null,null,null,null,null,null,null,null,null,null,"",null,"",null,null,null,null,null,null,null,{"$f":"IF($Q332=\"\",\"0\",VLOOKUP($Q332,登録データ!$U$4:$V$19,2,FALSE))","v":"0"},"00","","000000","",0]
[null,105,null,null,null,null,null,null,null,null,null,null,null,null,null,"①",null,null,"",null,"",null,null,null,null,null,null,null,{"$f":"IF($Q333=\"\",\"0\",VLOOKUP($Q333,登録データ!$U$4:$V$19,2,FALSE))","v":"0"},"00","","000000","",0,{"$f":"IF($C333=\"\",\"\",IF($C333=\"@\",0,IF(COUNTIF($C$21:$C$620,$C333)=1,0,1)))","v":""},{"$f":"IF($M333=\"\",\"\",IF(OR($M333=\"東京都\",$M333=\"北海道\",$M333=\"大阪府\",$M333=\"京都府\",RIGHT($M333,1)=\"県\"),0,1))","v":""}]
[null,null,null,null,null,null,null,null,null,null,null,null,null,null,null,null,null,null,"",null,"",null,null,null,null,null,null,null,{"$f":"IF($Q334=\"\",\"0\",VLOOKUP($Q334,登録データ!$U$4:$V$19,2,FALSE))","v":"0"},"00","","000000","",0]
[null,null,null,null,null,null,null,null,null,null,null,null,null,null,null,null,null,null,"",null,"",null,null,null,null,null,null,null,{"$f":"IF($Q335=\"\",\"0\",VLOOKUP($Q335,登録データ!$U$4:$V$19,2,FALSE))","v":"0"},"00","","000000","",0]
[null,106,null,null,null,null,null,null,null,null,null,null,null,null,null,"①",null,null,"",null,"",null,null,null,null,null,null,null,{"$f":"IF($Q336=\"\",\"0\",VLOOKUP($Q336,登録データ!$U$4:$V$19,2,FALSE))","v":"0"},"00","","000000","",0,{"$f":"IF($C336=\"\",\"\",IF($C336=\"@\",0,IF(COUNTIF($C$21:$C$620,$C336)=1,0,1)))","v":""},{"$f":"IF($M336=\"\",\"\",IF(OR($M336=\"東京都\",$M336=\"北海道\",$M336=\"大阪府\",$M336=\"京都府\",RIGHT($M336,1)=\"県\"),0,1))","v":""}]
[null,null,null,null,null,null,null,null,null,null,null,null,null,null,null,null,null,null,"",null,"",null,null,null,null,null,null,null,{"$f":"IF($Q337=\"\",\"0\",VLOOKUP($Q337,登録データ!$U$4:$V$19,2,FALSE))","v":"0"},"00","","000000","",0]
[null,null,null,null,null,null,null,null,null,null,null,null,null,null,null,null,null,null,"",null,"",null,null,null,null,null,null,null,{"$f":"IF($Q338=\"\",\"0\",VLOOKUP($Q338,登録データ!$U$4:$V$19,2,FALSE))","v":"0"},"00","","000000","",0]
[null,107,null,null,null,null,null,null,null,null,null,null,null,null,null,"①",null,null,"",null,"",null,null,null,null,null,null,null,{"$f":"IF($Q339=\"\",\"0\",VLOOKUP($Q339,登録データ!$U$4:$V$19,2,FALSE))","v":"0"},"00","","000000","",0,{"$f":"IF($C339=\"\",\"\",IF($C339=\"@\",0,IF(COUNTIF($C$21:$C$620,$C339)=1,0,1)))","v":""},{"$f":"IF($M339=\"\",\"\",IF(OR($M339=\"東京都\",$M339=\"北海道\",$M339=\"大阪府\",$M339=\"京都府\",RIGHT($M339,1)=\"県\"),0,1))","v":""}]
[null,null,null,null,null,null,null,null,null,null,null,null,null,null,null,null,null,null,"",null,"",null,null,null,null,null,null,null,{"$f":"IF($Q340=\"\",\"0\",VLOOKUP($Q340,登録データ!$U$4:$V$19,2,FALSE))","v":"0"},"00","","000000","",0]
[null,null,null,null,null,null,null,null,null,null,null,null,null,null,null,null,null,null,"",null,"",null,null,null,null,null,null,null,{"$f":"IF($Q341=\"\",\"0\",VLOOKUP($Q341,登録データ!$U$4:$V$19,2,FALSE))","v":"0"},"00","",{"$f":"IF($AE341=2,IF($T341=\"\",\"0000\",CONCATENATE(RIGHT($T341+100,2),$AD341)),IF($T341=\"\",\"000000\",CONCATENATE(RIGHT($R341+100,2),RIGHT($T341+100,2),$AD341)))","v":"000000"},{"$f":"IF($Q341=\"\",\"\",CONCATENATE($AC341,\" \",IF($AE341=1,RIGHT($AF341+10000000,7),RIGHT($AF341+100000,5))))","v":""},0]
[null,108,null,null,null,null,null,null,null,null,null,null,null,null,null,"①",null,null,{"$f":"IF($Q342=\"\",\"\",IF(OR(RIGHT($Q342,1)=\"m\",RIGHT($Q342,1)=\"H\"),\"分\",\"\"))","v":""},null,{"$f":"IF($Q342=\"\",\"\",IF(OR(RIGHT($Q342,1)=\"m\",RIGHT($Q342,1)=\"H\"),\"秒\",\"m\"))","v":""},null,null,null,null,null,null,null,{"$f":"IF($Q342=\"\",\"0\",VLOOKUP($Q342,登録データ!$U$4:$V$19,2,FALSE))","v":"0"},{"$f":"IF($V342=\"\",\"00\",IF(LEN($V342)=1,$V342*10,$V342))","v":"00"},{"$f":"IF($Q342=\"\",\"\",IF(OR(RIGHT($Q342,1)=\"m\",RIGHT($Q342,1)=\"H\"),1,2))","v":""},"000000","",{"$f":"IF(OR(RIGHT($H338,1)=\"m\",RIGHT($H338,1)=\"H\",RIGHT($H338,1)=\"W\",RIGHT($H338,1)=\"C\"),IF(VALUE($K338)>59,1,0),0)","v":0},{"$f":"IF($C342=\"\",\"\",IF($C342=\"@\",0,IF(COUNTIF($C$21:$C$620,$C342)=1,0,1)))","v":""},{"$f":"IF($M342=\"\",\"\",IF(OR($M342=\"東京都\",$M342=\"北海道\",$M342=\"大阪府\",$M342=\"京都府\",RIGHT($M342,1)=\"県\"),0,1))","v":""}]
[null,null,null,null,null,null,null,null,null,null,null,null,null,null,null,null,null,null,"",null,"",null,null,null,null,null,null,null,{"$f":"IF($Q343=\"\",\"0\",VLOOKUP($Q343,登録データ!$U$4:$V$19,2,FALSE))","v":"0"},"00","","000000","",0]
[null,null,null,null,null,null,null,null,null,null,null,null,null,null,null,null,null,null,"",null,"",null,null,null,null,null,null,null,{"$f":"IF($Q344=\"\",\"0\",VLOOKUP($Q344,登録データ!$U$4:$V$19,2,FALSE))","v":"0"},"00","","000000","",0]
[null,109,null,null,null,null,null,null,null,null,null,null,null,null,null,"①",null,null,"",null,"",null,null,null,null,null,null,null,{"$f":"IF($Q345=\"\",\"0\",VLOOKUP($Q345,登録データ!$U$4:$V$19,2,FALSE))","v":"0"},"00","","000000","",0,{"$f":"IF($C345=\"\",\"\",IF($C345=\"@\",0,IF(COUNTIF($C$21:$C$620,$C345)=1,0,1)))","v":""},{"$f":"IF($M345=\"\",\"\",IF(OR($M345=\"東京都\",$M345=\"北海道\",$M345=\"大阪府\",$M345=\"京都府\",RIGHT($M345,1)=\"県\"),0,1))","v":""}]
[null,null,null,null,null,null,null,null,null,null,null,null,null,null,null,null,null,null,"",null,"",null,null,null,null,null,null,null,{"$f":"IF($Q346=\"\",\"0\",VLOOKUP($Q346,登録データ!$U$4:$V$19,2,FALSE))","v":"0"},"00","","000000","",0]
[null,null,null,null,null,null,null,null,null,null,null,null,null,null,null,null,null,null,"",null,"",null,null,null,null,null,null,null,{"$f":"IF($Q347=\"\",\"0\",VLOOKUP($Q347,登録データ!$U$4:$V$19,2,FALSE))","v":"0"},"00","","000000","",0]
[null,110,null,null,null,null,null,null,null,null,null,null,null,null,null,"①",null,null,"",null,"",null,null,null,null,null,null,null,{"$f":"IF($Q348=\"\",\"0\",VLOOKUP($Q348,登録データ!$U$4:$V$19,2,FALSE))","v":"0"},"00","","000000","",0,{"$f":"IF($C348=\"\",\"\",IF($C348=\"@\",0,IF(COUNTIF($C$21:$C$620,$C348)=1,0,1)))","v":""},{"$f":"IF($M348=\"\",\"\",IF(OR($M348=\"東京都\",$M348=\"北海道\",$M348=\"大阪府\",$M348=\"京都府\",RIGHT($M348,1)=\"県\"),0,1))","v":""}]
[null,null,null,null,null,null,null,null,null,null,null,null,null,null,null,null,null,null,"",null,"",null,null,null,null,null,null,null,{"$f":"IF($Q349=\"\",\"0\",VLOOKUP($Q349,登録データ!$U$4:$V$19,2,FALSE))","v":"0"},"00","","000000","",0]
[null,null,null,null,null,null,null,null,null,null,null,null,null,null,null,null,null,null,"",null,"",null,null,null,null,null,null,null,{"$f":"IF($Q350=\"\",\"0\",VLOOKUP($Q350,登録データ!$U$4:$V$19,2,FALSE))","v":"0"},"00","","000000","",0]
[null,111,null,null,null,null,null,null,null,null,null,null,null,null,null,"①",null,null,"",null,"",null,null,null,null,null,null,null,{"$f":"IF($Q351=\"\",\"0\",VLOOKUP($Q351,登録データ!$U$4:$V$19,2,FALSE))","v":"0"},"00","","000000","",0,{"$f":"IF($C351=\"\",\"\",IF($C351=\"@\",0,IF(COUNTIF($C$21:$C$620,$C351)=1,0,1)))","v":""},{"$f":"IF($M351=\"\",\"\",IF(OR($M351=\"東京都\",$M351=\"北海道\",$M351=\"大阪府\",$M351=\"京都府\",RIGHT($M351,1)=\"県\"),0,1))","v":""}]
[null,null,null,null,null,null,null,null,null,null,null,null,null,null,null,null,null,null,"",null,"",null,null,null,null,null,null,null,{"$f":"IF($Q352=\"\",\"0\",VLOOKUP($Q352,登録データ!$U$4:$V$19,2,FALSE))","v":"0"},"00","","000000","",0]
[null,null,null,null,null,null,null,null,null,null,null,null,null,null,null,null,null,null,"",null,"",null,null,null,null,null,null,null,{"$f":"IF($Q353=\"\",\"0\",VLOOKUP($Q353,登録データ!$U$4:$V$19,2,FALSE))","v":"0"},"00","","000000","",0]
[null,112,null,null,null,null,null,null,null,null,null,null,null,null,null,"①",null,null,"",null,"",null,null,null,null,null,null,null,{"$f":"IF($Q354=\"\",\"0\",VLOOKUP($Q354,登録データ!$U$4:$V$19,2,FALSE))","v":"0"},"00","","000000","",0,{"$f":"IF($C354=\"\",\"\",IF($C354=\"@\",0,IF(COUNTIF($C$21:$C$620,$C354)=1,0,1)))","v":""},{"$f":"IF($M354=\"\",\"\",IF(OR($M354=\"東京都\",$M354=\"北海道\",$M354=\"大阪府\",$M354=\"京都府\",RIGHT($M354,1)=\"県\"),0,1))","v":""}]
[null,null,null,null,null,null,null,null,null,null,null,null,null,null,null,null,null,null,"",null,"",null,null,null,null,null,null,null,{"$f":"IF($Q355=\"\",\"0\",VLOOKUP($Q355,登録データ!$U$4:$V$19,2,FALSE))","v":"0"},"00","","000000","",0]
[null,null,null,null,null,null,null,null,null,null,null,null,null,null,null,null,null,null,"",null,"",null,null,null,null,null,null,null,{"$f":"IF($Q356=\"\",\"0\",VLOOKUP($Q356,登録データ!$U$4:$V$19,2,FALSE))","v":"0"},"00","","000000","",0]
[null,113,null,null,null,null,null,null,null,null,null,null,null,null,null,"①",null,null,"",null,"",null,null,null,null,null,null,null,{"$f":"IF($Q357=\"\",\"0\",VLOOKUP($Q357,登録データ!$U$4:$V$19,2,FALSE))","v":"0"},"00","","000000","",0,{"$f":"IF($C357=\"\",\"\",IF($C357=\"@\",0,IF(COUNTIF($C$21:$C$620,$C357)=1,0,1)))","v":""},{"$f":"IF($M357=\"\",\"\",IF(OR($M357=\"東京都\",$M357=\"北海道\",$M357=\"大阪府\",$M357=\"京都府\",RIGHT($M357,1)=\"県\"),0,1))","v":""}]
[null,null,null,null,null,null,null,null,null,null,null,null,null,null,null,null,null,null,"",null,"",null,null,null,null,null,null,null,{"$f":"IF($Q358=\"\",\"0\",VLOOKUP($Q358,登録データ!$U$4:$V$19,2,FALSE))","v":"0"},"00","","000000","",0]
[null,null,null,null,null,null,null,null,null,null,null,null,null,null,null,null,null,null,"",null,"",null,null,null,null,null,null,null,{"$f":"IF($Q359=\"\",\"0\",VLOOKUP($Q359,登録データ!$U$4:$V$19,2,FALSE))","v":"0"},"00","","000000","",0]
[null,114,null,null,null,null,null,null,null,null,null,null,null,null,null,"①",null,null,"",null,"",null,null,null,null,null,null,null,{"$f":"IF($Q360=\"\",\"0\",VLOOKUP($Q360,登録データ!$U$4:$V$19,2,FALSE))","v":"0"},"00","","000000","",0,{"$f":"IF($C360=\"\",\"\",IF($C360=\"@\",0,IF(COUNTIF($C$21:$C$620,$C360)=1,0,1)))","v":""},{"$f":"IF($M360=\"\",\"\",IF(OR($M360=\"東京都\",$M360=\"北海道\",$M360=\"大阪府\",$M360=\"京都府\",RIGHT($M360,1)=\"県\"),0,1))","v":""}]
[null,null,null,null,null,null,null,null,null,null,null,null,null,null,null,null,null,null,"",null,"",null,null,null,null,null,null,null,{"$f":"IF($Q361=\"\",\"0\",VLOOKUP($Q361,登録データ!$U$4:$V$19,2,FALSE))","v":"0"},"00","","000000","",0]
[null,null,null,null,null,null,null,null,null,null,null,null,null,null,null,null,null,null,"",null,"",null,null,null,null,null,null,null,{"$f":"IF($Q362=\"\",\"0\",VLOOKUP($Q362,登録データ!$U$4:$V$19,2,FALSE))","v":"0"},"00","","000000","",0]
[null,115,null,null,null,null,null,null,null,null,null,null,null,null,null,"①",null,null,"",null,"",null,null,null,null,null,null,null,{"$f":"IF($Q363=\"\",\"0\",VLOOKUP($Q363,登録データ!$U$4:$V$19,2,FALSE))","v":"0"},"00","","000000","",0,{"$f":"IF($C363=\"\",\"\",IF($C363=\"@\",0,IF(COUNTIF($C$21:$C$620,$C363)=1,0,1)))","v":""},{"$f":"IF($M363=\"\",\"\",IF(OR($M363=\"東京都\",$M363=\"北海道\",$M363=\"大阪府\",$M363=\"京都府\",RIGHT($M363,1)=\"県\"),0,1))","v":""}]
[null,null,null,null,null,null,null,null,null,null,null,null,null,null,null,null,null,null,"",null,"",null,null,null,null,null,null,null,{"$f":"IF($Q364=\"\",\"0\",VLOOKUP($Q364,登録データ!$U$4:$V$19,2,FALSE))","v":"0"},"00","","000000","",0]
[null,null,null,null,null,null,null,null,null,null,null,null,null,null,null,null,null,null,"",null,"",null,null,null,null,null,null,null,{"$f":"IF($Q365=\"\",\"0\",VLOOKUP($Q365,登録データ!$U$4:$V$19,2,FALSE))","v":"0"},"00","","000000","",0]
[null,116,null,null,null,null,null,null,null,null,null,null,null,null,null,"①",null,null,"",null,"",null,null,null,null,null,null,null,{"$f":"IF($Q366=\"\",\"0\",VLOOKUP($Q366,登録データ!$U$4:$V$19,2,FALSE))","v":"0"},"00","","000000","",0,{"$f":"IF($C366=\"\",\"\",IF($C366=\"@\",0,IF(COUNTIF($C$21:$C$620,$C366)=1,0,1)))","v":""},{"$f":"IF($M366=\"\",\"\",IF(OR($M366=\"東京都\",$M366=\"北海道\",$M366=\"大阪府\",$M366=\"京都府\",RIGHT($M366,1)=\"県\"),0,1))","v":""}]
[null,null,null,null,null,null,null,null,null,null,null,null,null,null,null,null,null,null,"",null,"",null,null,null,null,null,null,null,{"$f":"IF($Q367=\"\",\"0\",VLOOKUP($Q367,登録データ!$U$4:$V$19,2,FALSE))","v":"0"},"00","","000000","",0]
[null,null,null,null,null,null,null,null,null,null,null,null,null,null,null,null,null,null,"",null,"",null,null,null,null,null,null,null,{"$f":"IF($Q368=\"\",\"0\",VLOOKUP($Q368,登録データ!$U$4:$V$19,2,FALSE))","v":"0"},"00","","000000","",0]
[null,117,null,null,null,null,null,null,null,null,null,null,null,null,null,"①",null,null,"",null,"",null,null,null,null,null,null,null,{"$f":"IF($Q369=\"\",\"0\",VLOOKUP($Q369,登録データ!$U$4:$V$19,2,FALSE))","v":"0"},"00","","000000","",0,{"$f":"IF($C369=\"\",\"\",IF($C369=\"@\",0,IF(COUNTIF($C$21:$C$620,$C369)=1,0,1)))","v":""},{"$f":"IF($M369=\"\",\"\",IF(OR($M369=\"東京都\",$M369=\"北海道\",$M369=\"大阪府\",$M369=\"京都府\",RIGHT($M369,1)=\"県\"),0,1))","v":""}]
[null,null,null,null,null,null,null,null,null,null,null,null,null,null,null,null,null,null,"",null,"",null,null,null,null,null,null,null,{"$f":"IF($Q370=\"\",\"0\",VLOOKUP($Q370,登録データ!$U$4:$V$19,2,FALSE))","v":"0"},"00","","000000","",0]
[null,null,null,null,null,null,null,null,null,null,null,null,null,null,null,null,null,null,"",null,"",null,null,null,null,null,null,null,{"$f":"IF($Q371=\"\",\"0\",VLOOKUP($Q371,登録データ!$U$4:$V$19,2,FALSE))","v":"0"},"00","","000000","",0]
[null,118,null,null,null,null,null,null,null,null,null,null,null,null,null,"①",null,null,"",null,"",null,null,null,null,null,null,null,{"$f":"IF($Q372=\"\",\"0\",VLOOKUP($Q372,登録データ!$U$4:$V$19,2,FALSE))","v":"0"},"00","","000000","",0,{"$f":"IF($C372=\"\",\"\",IF($C372=\"@\",0,IF(COUNTIF($C$21:$C$620,$C372)=1,0,1)))","v":""},{"$f":"IF($M372=\"\",\"\",IF(OR($M372=\"東京都\",$M372=\"北海道\",$M372=\"大阪府\",$M372=\"京都府\",RIGHT($M372,1)=\"県\"),0,1))","v":""}]
[null,null,null,null,null,null,null,null,null,null,null,null,null,null,null,null,null,null,"",null,"",null,null,null,null,null,null,null,{"$f":"IF($Q373=\"\",\"0\",VLOOKUP($Q373,登録データ!$U$4:$V$19,2,FALSE))","v":"0"},"00","","000000","",0]
[null,null,null,null,null,null,null,null,null,null,null,null,null,null,null,null,null,null,"",null,"",null,null,null,null,null,null,null,{"$f":"IF($Q374=\"\",\"0\",VLOOKUP($Q374,登録データ!$U$4:$V$19,2,FALSE))","v":"0"},"00","","000000","",0]
[null,119,null,null,null,null,null,null,null,null,null,null,null,null,null,"①",null,null,"",null,"",null,null,null,null,null,null,null,{"$f":"IF($Q375=\"\",\"0\",VLOOKUP($Q375,登録データ!$U$4:$V$19,2,FALSE))","v":"0"},"00","","000000","",0,{"$f":"IF($C375=\"\",\"\",IF($C375=\"@\",0,IF(COUNTIF($C$21:$C$620,$C375)=1,0,1)))","v":""},{"$f":"IF($M375=\"\",\"\",IF(OR($M375=\"東京都\",$M375=\"北海道\",$M375=\"大阪府\",$M375=\"京都府\",RIGHT($M375,1)=\"県\"),0,1))","v":""}]
[null,null,null,null,null,null,null,null,null,null,null,null,null,null,null,null,null,null,"",null,"",null,null,null,null,null,null,null,{"$f":"IF($Q376=\"\",\"0\",VLOOKUP($Q376,登録データ!$U$4:$V$19,2,FALSE))","v":"0"},"00","","000000","",0]
[null,null,null,null,null,null,null,null,null,null,null,null,null,null,null,null,null,null,"",null,"",null,null,null,null,null,null,null,{"$f":"IF($Q377=\"\",\"0\",VLOOKUP($Q377,登録データ!$U$4:$V$19,2,FALSE))","v":"0"},"00","","000000","",0]
[null,120,null,null,null,null,null,null,null,null,null,null,null,null,null,"①",null,null,"",null,"",null,null,null,null,null,null,null,{"$f":"IF($Q378=\"\",\"0\",VLOOKUP($Q378,登録データ!$U$4:$V$19,2,FALSE))","v":"0"},"00","","000000","",0,{"$f":"IF($C378=\"\",\"\",IF($C378=\"@\",0,IF(COUNTIF($C$21:$C$620,$C378)=1,0,1)))","v":""},{"$f":"IF($M378=\"\",\"\",IF(OR($M378=\"東京都\",$M378=\"北海道\",$M378=\"大阪府\",$M378=\"京都府\",RIGHT($M378,1)=\"県\"),0,1))","v":""}]
[null,null,null,null,null,null,null,null,null,null,null,null,null,null,null,null,null,null,"",null,"",null,null,null,null,null,null,null,{"$f":"IF($Q379=\"\",\"0\",VLOOKUP($Q379,登録データ!$U$4:$V$19,2,FALSE))","v":"0"},"00","","000000","",0]
[null,null,null,null,null,null,null,null,null,null,null,null,null,null,null,null,null,null,"",null,"",null,null,null,null,null,null,null,{"$f":"IF($Q380=\"\",\"0\",VLOOKUP($Q380,登録データ!$U$4:$V$19,2,FALSE))","v":"0"},"00","","000000","",0]
[null,121,null,null,null,null,null,null,null,null,null,null,null,null,null,"①",null,null,"",null,"",null,null,null,null,null,null,null,{"$f":"IF($Q381=\"\",\"0\",VLOOKUP($Q381,登録データ!$U$4:$V$19,2,FALSE))","v":"0"},"00","","000000","",0,{"$f":"IF($C381=\"\",\"\",IF($C381=\"@\",0,IF(COUNTIF($C$21:$C$620,$C381)=1,0,1)))","v":""},{"$f":"IF($M381=\"\",\"\",IF(OR($M381=\"東京都\",$M381=\"北海道\",$M381=\"大阪府\",$M381=\"京都府\",RIGHT($M381,1)=\"県\"),0,1))","v":""}]
[null,null,null,null,null,null,null,null,null,null,null,null,null,null,null,null,null,null,"",null,"",null,null,null,null,null,null,null,{"$f":"IF($Q382=\"\",\"0\",VLOOKUP($Q382,登録データ!$U$4:$V$19,2,FALSE))","v":"0"},"00","","000000","",0]
[null,null,null,null,null,null,null,null,null,null,null,null,null,null,null,null,null,null,"",null,"",null,null,null,null,null,null,null,{"$f":"IF($Q383=\"\",\"0\",VLOOKUP($Q383,登録データ!$U$4:$V$19,2,FALSE))","v":"0"},"00","","000000","",0]
[null,122,null,null,null,null,null,null,null,null,null,null,null,null,null,"①",null,null,"",null,"",null,null,null,null,null,null,null,{"$f":"IF($Q384=\"\",\"0\",VLOOKUP($Q384,登録データ!$U$4:$V$19,2,FALSE))","v":"0"},"00","","000000","",0,{"$f":"IF($C384=\"\",\"\",IF($C384=\"@\",0,IF(COUNTIF($C$21:$C$620,$C384)=1,0,1)))","v":""},{"$f":"IF($M384=\"\",\"\",IF(OR($M384=\"東京都\",$M384=\"北海道\",$M384=\"大阪府\",$M384=\"京都府\",RIGHT($M384,1)=\"県\"),0,1))","v":""}]
[null,null,null,null,null,null,null,null,null,null,null,null,null,null,null,null,null,null,"",null,"",null,null,null,null,null,null,null,{"$f":"IF($Q385=\"\",\"0\",VLOOKUP($Q385,登録データ!$U$4:$V$19,2,FALSE))","v":"0"},"00","","000000","",0]
[null,null,null,null,null,null,null,null,null,null,null,null,null,null,null,null,null,null,"",null,"",null,null,null,null,null,null,null,{"$f":"IF($Q386=\"\",\"0\",VLOOKUP($Q386,登録データ!$U$4:$V$19,2,FALSE))","v":"0"},"00","","000000","",0]
[null,123,null,null,null,null,null,null,null,null,null,null,null,null,null,"①",null,null,"",null,"",null,null,null,null,null,null,null,{"$f":"IF($Q387=\"\",\"0\",VLOOKUP($Q387,登録データ!$U$4:$V$19,2,FALSE))","v":"0"},"00","","000000","",0,{"$f":"IF($C387=\"\",\"\",IF($C387=\"@\",0,IF(COUNTIF($C$21:$C$620,$C387)=1,0,1)))","v":""},{"$f":"IF($M387=\"\",\"\",IF(OR($M387=\"東京都\",$M387=\"北海道\",$M387=\"大阪府\",$M387=\"京都府\",RIGHT($M387,1)=\"県\"),0,1))","v":""}]
[null,null,null,null,null,null,null,null,null,null,null,null,null,null,null,null,null,null,"",null,"",null,null,null,null,null,null,null,{"$f":"IF($Q388=\"\",\"0\",VLOOKUP($Q388,登録データ!$U$4:$V$19,2,FALSE))","v":"0"},"00","","000000","",0]
[null,null,null,null,null,null,null,null,null,null,null,null,null,null,null,null,null,null,"",null,"",null,null,null,null,null,null,null,{"$f":"IF($Q389=\"\",\"0\",VLOOKUP($Q389,登録データ!$U$4:$V$19,2,FALSE))","v":"0"},"00","","000000","",0]
[null,124,null,null,null,null,null,null,null,null,null,null,null,null,null,"①",null,null,"",null,"",null,null,null,null,null,null,null,{"$f":"IF($Q390=\"\",\"0\",VLOOKUP($Q390,登録データ!$U$4:$V$19,2,FALSE))","v":"0"},"00","","000000","",0,{"$f":"IF($C390=\"\",\"\",IF($C390=\"@\",0,IF(COUNTIF($C$21:$C$620,$C390)=1,0,1)))","v":""},{"$f":"IF($M390=\"\",\"\",IF(OR($M390=\"東京都\",$M390=\"北海道\",$M390=\"大阪府\",$M390=\"京都府\",RIGHT($M390,1)=\"県\"),0,1))","v":""}]
[null,null,null,null,null,null,null,null,null,null,null,null,null,null,null,null,null,null,"",null,"",null,null,null,null,null,null,null,{"$f":"IF($Q391=\"\",\"0\",VLOOKUP($Q391,登録データ!$U$4:$V$19,2,FALSE))","v":"0"},"00","","000000","",0]
[null,null,null,null,null,null,null,null,null,null,null,null,null,null,null,null,null,null,"",null,"",null,null,null,null,null,null,null,{"$f":"IF($Q392=\"\",\"0\",VLOOKUP($Q392,登録データ!$U$4:$V$19,2,FALSE))","v":"0"},"00","","000000","",0]
[null,125,null,null,null,null,null,null,null,null,null,null,null,null,null,"①",null,null,"",null,"",null,null,null,null,null,null,null,{"$f":"IF($Q393=\"\",\"0\",VLOOKUP($Q393,登録データ!$U$4:$V$19,2,FALSE))","v":"0"},"00","","000000","",0,{"$f":"IF($C393=\"\",\"\",IF($C393=\"@\",0,IF(COUNTIF($C$21:$C$620,$C393)=1,0,1)))","v":""},{"$f":"IF($M393=\"\",\"\",IF(OR($M393=\"東京都\",$M393=\"北海道\",$M393=\"大阪府\",$M393=\"京都府\",RIGHT($M393,1)=\"県\"),0,1))","v":""}]
[null,null,null,null,null,null,null,null,null,null,null,null,null,null,null,null,null,null,"",null,"",null,null,null,null,null,null,null,{"$f":"IF($Q394=\"\",\"0\",VLOOKUP($Q394,登録データ!$U$4:$V$19,2,FALSE))","v":"0"},"00","","000000","",0]
[null,null,null,null,null,null,null,null,null,null,null,null,null,null,null,null,null,null,"",null,"",null,null,null,null,null,null,null,{"$f":"IF($Q395=\"\",\"0\",VLOOKUP($Q395,登録データ!$U$4:$V$19,2,FALSE))","v":"0"},"00","","000000","",0]
[null,126,null,null,null,null,null,null,null,null,null,null,null,null,null,"①",null,null,"",null,"",null,null,null,null,null,null,null,{"$f":"IF($Q396=\"\",\"0\",VLOOKUP($Q396,登録データ!$U$4:$V$19,2,FALSE))","v":"0"},"00","","000000","",0,{"$f":"IF($C396=\"\",\"\",IF($C396=\"@\",0,IF(COUNTIF($C$21:$C$620,$C396)=1,0,1)))","v":""},{"$f":"IF($M396=\"\",\"\",IF(OR($M396=\"東京都\",$M396=\"北海道\",$M396=\"大阪府\",$M396=\"京都府\",RIGHT($M396,1)=\"県\"),0,1))","v":""}]
[null,null,null,null,null,null,null,null,null,null,null,null,null,null,null,null,null,null,"",null,"",null,null,null,null,null,null,null,{"$f":"IF($Q397=\"\",\"0\",VLOOKUP($Q397,登録データ!$U$4:$V$19,2,FALSE))","v":"0"},"00","","000000","",0]
[null,null,null,null,null,null,null,null,null,null,null,null,null,null,null,null,null,null,"",null,"",null,null,null,null,null,null,null,{"$f":"IF($Q398=\"\",\"0\",VLOOKUP($Q398,登録データ!$U$4:$V$19,2,FALSE))","v":"0"},"00","","000000","",0]
[null,127,null,null,null,null,null,null,null,null,null,null,null,null,null,"①",null,null,"",null,"",null,null,null,null,null,null,null,{"$f":"IF($Q399=\"\",\"0\",VLOOKUP($Q399,登録データ!$U$4:$V$19,2,FALSE))","v":"0"},"00","","000000","",0,{"$f":"IF($C399=\"\",\"\",IF($C399=\"@\",0,IF(COUNTIF($C$21:$C$620,$C399)=1,0,1)))","v":""},{"$f":"IF($M399=\"\",\"\",IF(OR($M399=\"東京都\",$M399=\"北海道\",$M399=\"大阪府\",$M399=\"京都府\",RIGHT($M399,1)=\"県\"),0,1))","v":""}]
[null,null,null,null,null,null,null,null,null,null,null,null,null,null,null,null,null,null,"",null,"",null,null,null,null,null,null,null,{"$f":"IF($Q400=\"\",\"0\",VLOOKUP($Q400,登録データ!$U$4:$V$19,2,FALSE))","v":"0"},"00","","000000","",0]
[null,null,null,null,null,null,null,null,null,null,null,null,null,null,null,null,null,null,"",null,"",null,null,null,null,null,null,null,{"$f":"IF($Q401=\"\",\"0\",VLOOKUP($Q401,登録データ!$U$4:$V$19,2,FALSE))","v":"0"},"00","","000000","",0]
[null,128,null,null,null,null,null,null,null,null,null,null,null,null,null,"①",null,null,"",null,"",null,null,null,null,null,null,null,{"$f":"IF($Q402=\"\",\"0\",VLOOKUP($Q402,登録データ!$U$4:$V$19,2,FALSE))","v":"0"},"00","","000000","",0,{"$f":"IF($C402=\"\",\"\",IF($C402=\"@\",0,IF(COUNTIF($C$21:$C$620,$C402)=1,0,1)))","v":""},{"$f":"IF($M402=\"\",\"\",IF(OR($M402=\"東京都\",$M402=\"北海道\",$M402=\"大阪府\",$M402=\"京都府\",RIGHT($M402,1)=\"県\"),0,1))","v":""}]
[null,null,null,null,null,null,null,null,null,null,null,null,null,null,null,null,null,null,"",null,"",null,null,null,null,null,null,null,{"$f":"IF($Q403=\"\",\"0\",VLOOKUP($Q403,登録データ!$U$4:$V$19,2,FALSE))","v":"0"},"00","","000000","",0]
[null,null,null,null,null,null,null,null,null,null,null,null,null,null,null,null,null,null,"",null,"",null,null,null,null,null,null,null,{"$f":"IF($Q404=\"\",\"0\",VLOOKUP($Q404,登録データ!$U$4:$V$19,2,FALSE))","v":"0"},"00","","000000","",0]
[null,129,null,null,null,null,null,null,null,null,null,null,null,null,null,"①",null,null,"",null,"",null,null,null,null,null,null,null,{"$f":"IF($Q405=\"\",\"0\",VLOOKUP($Q405,登録データ!$U$4:$V$19,2,FALSE))","v":"0"},"00","",{"$f":"IF($AE405=2,IF($T405=\"\",\"0000\",CONCATENATE(RIGHT($T405+100,2),$AD405)),IF($T405=\"\",\"000000\",CONCATENATE(RIGHT($R405+100,2),RIGHT($T405+100,2),$AD405)))","v":"000000"},{"$f":"IF($Q405=\"\",\"\",CONCATENATE($AC405,\" \",IF($AE405=1,RIGHT($AF405+10000000,7),RIGHT($AF405+100000,5))))","v":""},0,{"$f":"IF($C405=\"\",\"\",IF($C405=\"@\",0,IF(COUNTIF($C$21:$C$620,$C405)=1,0,1)))","v":""},{"$f":"IF($M405=\"\",\"\",IF(OR($M405=\"東京都\",$M405=\"北海道\",$M405=\"大阪府\",$M405=\"京都府\",RIGHT($M405,1)=\"県\"),0,1))","v":""}]
[null,null,null,null,null,null,null,null,null,null,null,null,null,null,null,null,null,null,{"$f":"IF($Q406=\"\",\"\",IF(OR(RIGHT($Q406,1)=\"m\",RIGHT($Q406,1)=\"H\"),\"分\",\"\"))","v":""},null,{"$f":"IF($Q406=\"\",\"\",IF(OR(RIGHT($Q406,1)=\"m\",RIGHT($Q406,1)=\"H\"),\"秒\",\"m\"))","v":""},null,null,null,null,null,null,null,{"$f":"IF($Q406=\"\",\"0\",VLOOKUP($Q406,登録データ!$U$4:$V$19,2,FALSE))","v":"0"},{"$f":"IF($V406=\"\",\"00\",IF(LEN($V406)=1,$V406*10,$V406))","v":"00"},{"$f":"IF($Q406=\"\",\"\",IF(OR(RIGHT($Q406,1)=\"m\",RIGHT($Q406,1)=\"H\"),1,2))","v":""},"000000","",{"$f":"IF(OR(RIGHT($H402,1)=\"m\",RIGHT($H402,1)=\"H\",RIGHT($H402,1)=\"W\",RIGHT($H402,1)=\"C\"),IF(VALUE($K402)>59,1,0),0)","v":0}]
[null,null,null,null,null,null,null,null,null,null,null,null,null,null,null,null,null,null,"",null,"",null,null,null,null,null,null,null,{"$f":"IF($Q407=\"\",\"0\",VLOOKUP($Q407,登録データ!$U$4:$V$19,2,FALSE))","v":"0"},"00","","000000","",0]
[null,130,null,null,null,null,null,null,null,null,null,null,null,null,null,"①",null,null,"",null,"",null,null,null,null,null,null,null,{"$f":"IF($Q408=\"\",\"0\",VLOOKUP($Q408,登録データ!$U$4:$V$19,2,FALSE))","v":"0"},"00","","000000","",0,{"$f":"IF($C408=\"\",\"\",IF($C408=\"@\",0,IF(COUNTIF($C$21:$C$620,$C408)=1,0,1)))","v":""},{"$f":"IF($M408=\"\",\"\",IF(OR($M408=\"東京都\",$M408=\"北海道\",$M408=\"大阪府\",$M408=\"京都府\",RIGHT($M408,1)=\"県\"),0,1))","v":""}]
[null,null,null,null,null,null,null,null,null,null,null,null,null,null,null,null,null,null,"",null,"",null,null,null,null,null,null,null,{"$f":"IF($Q409=\"\",\"0\",VLOOKUP($Q409,登録データ!$U$4:$V$19,2,FALSE))","v":"0"},"00","","000000","",0]
[null,null,null,null,null,null,null,null,null,null,null,null,null,null,null,null,null,null,"",null,"",null,null,null,null,null,null,null,{"$f":"IF($Q410=\"\",\"0\",VLOOKUP($Q410,登録データ!$U$4:$V$19,2,FALSE))","v":"0"},"00","","000000","",0]
[null,131,null,null,null,null,null,null,null,null,null,null,null,null,null,"①",null,null,"",null,"",null,null,null,null,null,null,null,{"$f":"IF($Q411=\"\",\"0\",VLOOKUP($Q411,登録データ!$U$4:$V$19,2,FALSE))","v":"0"},"00","","000000","",0,{"$f":"IF($C411=\"\",\"\",IF($C411=\"@\",0,IF(COUNTIF($C$21:$C$620,$C411)=1,0,1)))","v":""},{"$f":"IF($M411=\"\",\"\",IF(OR($M411=\"東京都\",$M411=\"北海道\",$M411=\"大阪府\",$M411=\"京都府\",RIGHT($M411,1)=\"県\"),0,1))","v":""}]
[null,null,null,null,null,null,null,null,null,null,null,null,null,null,null,null,null,null,"",null,"",null,null,null,null,null,null,null,{"$f":"IF($Q412=\"\",\"0\",VLOOKUP($Q412,登録データ!$U$4:$V$19,2,FALSE))","v":"0"},"00","","000000","",0]
[null,null,null,null,null,null,null,null,null,null,null,null,null,null,null,null,null,null,"",null,"",null,null,null,null,null,null,null,{"$f":"IF($Q413=\"\",\"0\",VLOOKUP($Q413,登録データ!$U$4:$V$19,2,FALSE))","v":"0"},"00","","000000","",0]
[null,132,null,null,null,null,null,null,null,null,null,null,null,null,null,"①",null,null,"",null,"",null,null,null,null,null,null,null,{"$f":"IF($Q414=\"\",\"0\",VLOOKUP($Q414,登録データ!$U$4:$V$19,2,FALSE))","v":"0"},"00","","000000","",0,{"$f":"IF($C414=\"\",\"\",IF($C414=\"@\",0,IF(COUNTIF($C$21:$C$620,$C414)=1,0,1)))","v":""},{"$f":"IF($M414=\"\",\"\",IF(OR($M414=\"東京都\",$M414=\"北海道\",$M414=\"大阪府\",$M414=\"京都府\",RIGHT($M414,1)=\"県\"),0,1))","v":""}]
[null,null,null,null,null,null,null,null,null,null,null,null,null,null,null,null,null,null,"",null,"",null,null,null,null,null,null,null,{"$f":"IF($Q415=\"\",\"0\",VLOOKUP($Q415,登録データ!$U$4:$V$19,2,FALSE))","v":"0"},"00","","000000","",0]
[null,null,null,null,null,null,null,null,null,null,null,null,null,null,null,null,null,null,"",null,"",null,null,null,null,null,null,null,{"$f":"IF($Q416=\"\",\"0\",VLOOKUP($Q416,登録データ!$U$4:$V$19,2,FALSE))","v":"0"},"00","","000000","",0]
[null,133,null,null,null,null,null,null,null,null,null,null,null,null,null,"①",null,null,"",null,"",null,null,null,null,null,null,null,{"$f":"IF($Q417=\"\",\"0\",VLOOKUP($Q417,登録データ!$U$4:$V$19,2,FALSE))","v":"0"},"00","","000000","",0,{"$f":"IF($C417=\"\",\"\",IF($C417=\"@\",0,IF(COUNTIF($C$21:$C$620,$C417)=1,0,1)))","v":""},{"$f":"IF($M417=\"\",\"\",IF(OR($M417=\"東京都\",$M417=\"北海道\",$M417=\"大阪府\",$M417=\"京都府\",RIGHT($M417,1)=\"県\"),0,1))","v":""}]
[null,null,null,null,null,null,null,null,null,null,null,null,null,null,null,null,null,null,"",null,"",null,null,null,null,null,null,null,{"$f":"IF($Q418=\"\",\"0\",VLOOKUP($Q418,登録データ!$U$4:$V$19,2,FALSE))","v":"0"},"00","","000000","",0]
[null,null,null,null,null,null,null,null,null,null,null,null,null,null,null,null,null,null,"",null,"",null,null,null,null,null,null,null,{"$f":"IF($Q419=\"\",\"0\",VLOOKUP($Q419,登録データ!$U$4:$V$19,2,FALSE))","v":"0"},"00","","000000","",0]
[null,134,null,null,null,null,null,null,null,null,null,null,null,null,null,"①",null,null,"",null,"",null,null,null,null,null,null,null,{"$f":"IF($Q420=\"\",\"0\",VLOOKUP($Q420,登録データ!$U$4:$V$19,2,FALSE))","v":"0"},"00","","000000","",0,{"$f":"IF($C420=\"\",\"\",IF($C420=\"@\",0,IF(COUNTIF($C$21:$C$620,$C420)=1,0,1)))","v":""},{"$f":"IF($M420=\"\",\"\",IF(OR($M420=\"東京都\",$M420=\"北海道\",$M420=\"大阪府\",$M420=\"京都府\",RIGHT($M420,1)=\"県\"),0,1))","v":""}]
[null,null,null,null,null,null,null,null,null,null,null,null,null,null,null,null,null,null,"",null,"",null,null,null,null,null,null,null,{"$f":"IF($Q421=\"\",\"0\",VLOOKUP($Q421,登録データ!$U$4:$V$19,2,FALSE))","v":"0"},"00","","000000","",0]
[null,null,null,null,null,null,null,null,null,null,null,null,null,null,null,null,null,null,"",null,"",null,null,null,null,null,null,null,{"$f":"IF($Q422=\"\",\"0\",VLOOKUP($Q422,登録データ!$U$4:$V$19,2,FALSE))","v":"0"},"00","","000000","",0]
[null,135,null,null,null,null,null,null,null,null,null,null,null,null,null,"①",null,null,"",null,"",null,null,null,null,null,null,null,{"$f":"IF($Q423=\"\",\"0\",VLOOKUP($Q423,登録データ!$U$4:$V$19,2,FALSE))","v":"0"},"00","","000000","",0,{"$f":"IF($C423=\"\",\"\",IF($C423=\"@\",0,IF(COUNTIF($C$21:$C$620,$C423)=1,0,1)))","v":""},{"$f":"IF($M423=\"\",\"\",IF(OR($M423=\"東京都\",$M423=\"北海道\",$M423=\"大阪府\",$M423=\"京都府\",RIGHT($M423,1)=\"県\"),0,1))","v":""}]
[null,null,null,null,null,null,null,null,null,null,null,null,null,null,null,null,null,null,"",null,"",null,null,null,null,null,null,null,{"$f":"IF($Q424=\"\",\"0\",VLOOKUP($Q424,登録データ!$U$4:$V$19,2,FALSE))","v":"0"},"00","","000000","",0]
[null,null,null,null,null,null,null,null,null,null,null,null,null,null,null,null,null,null,"",null,"",null,null,null,null,null,null,null,{"$f":"IF($Q425=\"\",\"0\",VLOOKUP($Q425,登録データ!$U$4:$V$19,2,FALSE))","v":"0"},"00","","000000","",0]
[null,136,null,null,null,null,null,null,null,null,null,null,null,null,null,"①",null,null,"",null,"",null,null,null,null,null,null,null,{"$f":"IF($Q426=\"\",\"0\",VLOOKUP($Q426,登録データ!$U$4:$V$19,2,FALSE))","v":"0"},"00","","000000","",0,{"$f":"IF($C426=\"\",\"\",IF($C426=\"@\",0,IF(COUNTIF($C$21:$C$620,$C426)=1,0,1)))","v":""},{"$f":"IF($M426=\"\",\"\",IF(OR($M426=\"東京都\",$M426=\"北海道\",$M426=\"大阪府\",$M426=\"京都府\",RIGHT($M426,1)=\"県\"),0,1))","v":""}]
[null,null,null,null,null,null,null,null,null,null,null,null,null,null,null,null,null,null,"",null,"",null,null,null,null,null,null,null,{"$f":"IF($Q427=\"\",\"0\",VLOOKUP($Q427,登録データ!$U$4:$V$19,2,FALSE))","v":"0"},"00","","000000","",0]
[null,null,null,null,null,null,null,null,null,null,null,null,null,null,null,null,null,null,"",null,"",null,null,null,null,null,null,null,{"$f":"IF($Q428=\"\",\"0\",VLOOKUP($Q428,登録データ!$U$4:$V$19,2,FALSE))","v":"0"},"00","","000000","",0]
[null,137,null,null,null,null,null,null,null,null,null,null,null,null,null,"①",null,null,"",null,"",null,null,null,null,null,null,null,{"$f":"IF($Q429=\"\",\"0\",VLOOKUP($Q429,登録データ!$U$4:$V$19,2,FALSE))","v":"0"},"00","","000000","",0,{"$f":"IF($C429=\"\",\"\",IF($C429=\"@\",0,IF(COUNTIF($C$21:$C$620,$C429)=1,0,1)))","v":""},{"$f":"IF($M429=\"\",\"\",IF(OR($M429=\"東京都\",$M429=\"北海道\",$M429=\"大阪府\",$M429=\"京都府\",RIGHT($M429,1)=\"県\"),0,1))","v":""}]
[null,null,null,null,null,null,null,null,null,null,null,null,null,null,null,null,null,null,"",null,"",null,null,null,null,null,null,null,{"$f":"IF($Q430=\"\",\"0\",VLOOKUP($Q430,登録データ!$U$4:$V$19,2,FALSE))","v":"0"},"00","","000000","",0]
[null,null,null,null,null,null,null,null,null,null,null,null,null,null,null,null,null,null,"",null,"",null,null,null,null,null,null,null,{"$f":"IF($Q431=\"\",\"0\",VLOOKUP($Q431,登録データ!$U$4:$V$19,2,FALSE))","v":"0"},"00","","000000","",0]
[null,138,null,null,null,null,null,null,null,null,null,null,null,null,null,"①",null,null,"",null,"",null,null,null,null,null,null,null,{"$f":"IF($Q432=\"\",\"0\",VLOOKUP($Q432,登録データ!$U$4:$V$19,2,FALSE))","v":"0"},"00","","000000","",0,{"$f":"IF($C432=\"\",\"\",IF($C432=\"@\",0,IF(COUNTIF($C$21:$C$620,$C432)=1,0,1)))","v":""},{"$f":"IF($M432=\"\",\"\",IF(OR($M432=\"東京都\",$M432=\"北海道\",$M432=\"大阪府\",$M432=\"京都府\",RIGHT($M432,1)=\"県\"),0,1))","v":""}]
[null,null,null,null,null,null,null,null,null,null,null,null,null,null,null,null,null,null,"",null,"",null,null,null,null,null,null,null,{"$f":"IF($Q433=\"\",\"0\",VLOOKUP($Q433,登録データ!$U$4:$V$19,2,FALSE))","v":"0"},"00","","000000","",0]
[null,null,null,null,null,null,null,null,null,null,null,null,null,null,null,null,null,null,"",null,"",null,null,null,null,null,null,null,{"$f":"IF($Q434=\"\",\"0\",VLOOKUP($Q434,登録データ!$U$4:$V$19,2,FALSE))","v":"0"},"00","","000000","",0]
[null,139,null,null,null,null,null,null,null,null,null,null,null,null,null,"①",null,null,"",null,"",null,null,null,null,null,null,null,{"$f":"IF($Q435=\"\",\"0\",VLOOKUP($Q435,登録データ!$U$4:$V$19,2,FALSE))","v":"0"},"00","","000000","",0,{"$f":"IF($C435=\"\",\"\",IF($C435=\"@\",0,IF(COUNTIF($C$21:$C$620,$C435)=1,0,1)))","v":""},{"$f":"IF($M435=\"\",\"\",IF(OR($M435=\"東京都\",$M435=\"北海道\",$M435=\"大阪府\",$M435=\"京都府\",RIGHT($M435,1)=\"県\"),0,1))","v":""}]
[null,null,null,null,null,null,null,null,null,null,null,null,null,null,null,null,null,null,"",null,"",null,null,null,null,null,null,null,{"$f":"IF($Q436=\"\",\"0\",VLOOKUP($Q436,登録データ!$U$4:$V$19,2,FALSE))","v":"0"},"00","","000000","",0]
[null,null,null,null,null,null,null,null,null,null,null,null,null,null,null,null,null,null,"",null,"",null,null,null,null,null,null,null,{"$f":"IF($Q437=\"\",\"0\",VLOOKUP($Q437,登録データ!$U$4:$V$19,2,FALSE))","v":"0"},"00","","000000","",0]
[null,140,null,null,null,null,null,null,null,null,null,null,null,null,null,"①",null,null,"",null,"",null,null,null,null,null,null,null,{"$f":"IF($Q438=\"\",\"0\",VLOOKUP($Q438,登録データ!$U$4:$V$19,2,FALSE))","v":"0"},"00","","000000","",0,{"$f":"IF($C438=\"\",\"\",IF($C438=\"@\",0,IF(COUNTIF($C$21:$C$620,$C438)=1,0,1)))","v":""},{"$f":"IF($M438=\"\",\"\",IF(OR($M438=\"東京都\",$M438=\"北海道\",$M438=\"大阪府\",$M438=\"京都府\",RIGHT($M438,1)=\"県\"),0,1))","v":""}]
[null,null,null,null,null,null,null,null,null,null,null,null,null,null,null,null,null,null,"",null,"",null,null,null,null,null,null,null,{"$f":"IF($Q439=\"\",\"0\",VLOOKUP($Q439,登録データ!$U$4:$V$19,2,FALSE))","v":"0"},"00","","000000","",0]
[null,null,null,null,null,null,null,null,null,null,null,null,null,null,null,null,null,null,"",null,"",null,null,null,null,null,null,null,{"$f":"IF($Q440=\"\",\"0\",VLOOKUP($Q440,登録データ!$U$4:$V$19,2,FALSE))","v":"0"},"00","","000000","",0]
[null,141,null,null,null,null,null,null,null,null,null,null,null,null,null,"①",null,null,"",null,"",null,null,null,null,null,null,null,{"$f":"IF($Q441=\"\",\"0\",VLOOKUP($Q441,登録データ!$U$4:$V$19,2,FALSE))","v":"0"},"00","","000000","",0,{"$f":"IF($C441=\"\",\"\",IF($C441=\"@\",0,IF(COUNTIF($C$21:$C$620,$C441)=1,0,1)))","v":""},{"$f":"IF($M441=\"\",\"\",IF(OR($M441=\"東京都\",$M441=\"北海道\",$M441=\"大阪府\",$M441=\"京都府\",RIGHT($M441,1)=\"県\"),0,1))","v":""}]
[null,null,null,null,null,null,null,null,null,null,null,null,null,null,null,null,null,null,"",null,"",null,null,null,null,null,null,null,{"$f":"IF($Q442=\"\",\"0\",VLOOKUP($Q442,登録データ!$U$4:$V$19,2,FALSE))","v":"0"},"00","","000000","",0]
[null,null,null,null,null,null,null,null,null,null,null,null,null,null,null,null,null,null,"",null,"",null,null,null,null,null,null,null,{"$f":"IF($Q443=\"\",\"0\",VLOOKUP($Q443,登録データ!$U$4:$V$19,2,FALSE))","v":"0"},"00","","000000","",0]
[null,142,null,null,null,null,null,null,null,null,null,null,null,null,null,"①",null,null,"",null,"",null,null,null,null,null,null,null,{"$f":"IF($Q444=\"\",\"0\",VLOOKUP($Q444,登録データ!$U$4:$V$19,2,FALSE))","v":"0"},"00","","000000","",0,{"$f":"IF($C444=\"\",\"\",IF($C444=\"@\",0,IF(COUNTIF($C$21:$C$620,$C444)=1,0,1)))","v":""},{"$f":"IF($M444=\"\",\"\",IF(OR($M444=\"東京都\",$M444=\"北海道\",$M444=\"大阪府\",$M444=\"京都府\",RIGHT($M444,1)=\"県\"),0,1))","v":""}]
[null,null,null,null,null,null,null,null,null,null,null,null,null,null,null,null,null,null,"",null,"",null,null,null,null,null,null,null,{"$f":"IF($Q445=\"\",\"0\",VLOOKUP($Q445,登録データ!$U$4:$V$19,2,FALSE))","v":"0"},"00","","000000","",0]
[null,null,null,null,null,null,null,null,null,null,null,null,null,null,null,null,null,null,"",null,"",null,null,null,null,null,null,null,{"$f":"IF($Q446=\"\",\"0\",VLOOKUP($Q446,登録データ!$U$4:$V$19,2,FALSE))","v":"0"},"00","","000000","",0]
[null,143,null,null,null,null,null,null,null,null,null,null,null,null,null,"①",null,null,"",null,"",null,null,null,null,null,null,null,{"$f":"IF($Q447=\"\",\"0\",VLOOKUP($Q447,登録データ!$U$4:$V$19,2,FALSE))","v":"0"},"00","","000000","",0,{"$f":"IF($C447=\"\",\"\",IF($C447=\"@\",0,IF(COUNTIF($C$21:$C$620,$C447)=1,0,1)))","v":""},{"$f":"IF($M447=\"\",\"\",IF(OR($M447=\"東京都\",$M447=\"北海道\",$M447=\"大阪府\",$M447=\"京都府\",RIGHT($M447,1)=\"県\"),0,1))","v":""}]
[null,null,null,null,null,null,null,null,null,null,null,null,null,null,null,null,null,null,"",null,"",null,null,null,null,null,null,null,{"$f":"IF($Q448=\"\",\"0\",VLOOKUP($Q448,登録データ!$U$4:$V$19,2,FALSE))","v":"0"},"00","","000000","",0]
[null,null,null,null,null,null,null,null,null,null,null,null,null,null,null,null,null,null,"",null,"",null,null,null,null,null,null,null,{"$f":"IF($Q449=\"\",\"0\",VLOOKUP($Q449,登録データ!$U$4:$V$19,2,FALSE))","v":"0"},"00","","000000","",0]
[null,144,null,null,null,null,null,null,null,null,null,null,null,null,null,"①",null,null,"",null,"",null,null,null,null,null,null,null,{"$f":"IF($Q450=\"\",\"0\",VLOOKUP($Q450,登録データ!$U$4:$V$19,2,FALSE))","v":"0"},"00","","000000","",0,{"$f":"IF($C450=\"\",\"\",IF($C450=\"@\",0,IF(COUNTIF($C$21:$C$620,$C450)=1,0,1)))","v":""},{"$f":"IF($M450=\"\",\"\",IF(OR($M450=\"東京都\",$M450=\"北海道\",$M450=\"大阪府\",$M450=\"京都府\",RIGHT($M450,1)=\"県\"),0,1))","v":""}]
[null,null,null,null,null,null,null,null,null,null,null,null,null,null,null,null,null,null,"",null,"",null,null,null,null,null,null,null,{"$f":"IF($Q451=\"\",\"0\",VLOOKUP($Q451,登録データ!$U$4:$V$19,2,FALSE))","v":"0"},"00","","000000","",0]
[null,null,null,null,null,null,null,null,null,null,null,null,null,null,null,null,null,null,"",null,"",null,null,null,null,null,null,null,{"$f":"IF($Q452=\"\",\"0\",VLOOKUP($Q452,登録データ!$U$4:$V$19,2,FALSE))","v":"0"},"00","","000000","",0]
[null,145,null,null,null,null,null,null,null,null,null,null,null,null,null,"①",null,null,"",null,"",null,null,null,null,null,null,null,{"$f":"IF($Q453=\"\",\"0\",VLOOKUP($Q453,登録データ!$U$4:$V$19,2,FALSE))","v":"0"},"00","","000000","",0,{"$f":"IF($C453=\"\",\"\",IF($C453=\"@\",0,IF(COUNTIF($C$21:$C$620,$C453)=1,0,1)))","v":""},{"$f":"IF($M453=\"\",\"\",IF(OR($M453=\"東京都\",$M453=\"北海道\",$M453=\"大阪府\",$M453=\"京都府\",RIGHT($M453,1)=\"県\"),0,1))","v":""}]
[null,null,null,null,null,null,null,null,null,null,null,null,null,null,null,null,null,null,"",null,"",null,null,null,null,null,null,null,{"$f":"IF($Q454=\"\",\"0\",VLOOKUP($Q454,登録データ!$U$4:$V$19,2,FALSE))","v":"0"},"00","","000000","",0]
[null,null,null,null,null,null,null,null,null,null,null,null,null,null,null,null,null,null,"",null,"",null,null,null,null,null,null,null,{"$f":"IF($Q455=\"\",\"0\",VLOOKUP($Q455,登録データ!$U$4:$V$19,2,FALSE))","v":"0"},"00","","000000","",0]
[null,146,null,null,null,null,null,null,null,null,null,null,null,null,null,"①",null,null,"",null,"",null,null,null,null,null,null,null,{"$f":"IF($Q456=\"\",\"0\",VLOOKUP($Q456,登録データ!$U$4:$V$19,2,FALSE))","v":"0"},"00","","000000","",0,{"$f":"IF($C456=\"\",\"\",IF($C456=\"@\",0,IF(COUNTIF($C$21:$C$620,$C456)=1,0,1)))","v":""},{"$f":"IF($M456=\"\",\"\",IF(OR($M456=\"東京都\",$M456=\"北海道\",$M456=\"大阪府\",$M456=\"京都府\",RIGHT($M456,1)=\"県\"),0,1))","v":""}]
[null,null,null,null,null,null,null,null,null,null,null,null,null,null,null,null,null,null,"",null,"",null,null,null,null,null,null,null,{"$f":"IF($Q457=\"\",\"0\",VLOOKUP($Q457,登録データ!$U$4:$V$19,2,FALSE))","v":"0"},"00","","000000","",0]
[null,null,null,null,null,null,null,null,null,null,null,null,null,null,null,null,null,null,"",null,"",null,null,null,null,null,null,null,{"$f":"IF($Q458=\"\",\"0\",VLOOKUP($Q458,登録データ!$U$4:$V$19,2,FALSE))","v":"0"},"00","","000000","",0]
[null,147,null,null,null,null,null,null,null,null,null,null,null,null,null,"①",null,null,"",null,"",null,null,null,null,null,null,null,{"$f":"IF($Q459=\"\",\"0\",VLOOKUP($Q459,登録データ!$U$4:$V$19,2,FALSE))","v":"0"},"00","","000000","",0,{"$f":"IF($C459=\"\",\"\",IF($C459=\"@\",0,IF(COUNTIF($C$21:$C$620,$C459)=1,0,1)))","v":""},{"$f":"IF($M459=\"\",\"\",IF(OR($M459=\"東京都\",$M459=\"北海道\",$M459=\"大阪府\",$M459=\"京都府\",RIGHT($M459,1)=\"県\"),0,1))","v":""}]
[null,null,null,null,null,null,null,null,null,null,null,null,null,null,null,null,null,null,"",null,"",null,null,null,null,null,null,null,{"$f":"IF($Q460=\"\",\"0\",VLOOKUP($Q460,登録データ!$U$4:$V$19,2,FALSE))","v":"0"},"00","","000000","",0]
[null,null,null,null,null,null,null,null,null,null,null,null,null,null,null,null,null,null,"",null,"",null,null,null,null,null,null,null,{"$f":"IF($Q461=\"\",\"0\",VLOOKUP($Q461,登録データ!$U$4:$V$19,2,FALSE))","v":"0"},"00","","000000","",0]
[null,148,null,null,null,null,null,null,null,null,null,null,null,null,null,"①",null,null,"",null,"",null,null,null,null,null,null,null,{"$f":"IF($Q462=\"\",\"0\",VLOOKUP($Q462,登録データ!$U$4:$V$19,2,FALSE))","v":"0"},"00","","000000","",0,{"$f":"IF($C462=\"\",\"\",IF($C462=\"@\",0,IF(COUNTIF($C$21:$C$620,$C462)=1,0,1)))","v":""},{"$f":"IF($M462=\"\",\"\",IF(OR($M462=\"東京都\",$M462=\"北海道\",$M462=\"大阪府\",$M462=\"京都府\",RIGHT($M462,1)=\"県\"),0,1))","v":""}]
[null,null,null,null,null,null,null,null,null,null,null,null,null,null,null,null,null,null,"",null,"",null,null,null,null,null,null,null,{"$f":"IF($Q463=\"\",\"0\",VLOOKUP($Q463,登録データ!$U$4:$V$19,2,FALSE))","v":"0"},"00","","000000","",0]
[null,null,null,null,null,null,null,null,null,null,null,null,null,null,null,null,null,null,"",null,"",null,null,null,null,null,null,null,{"$f":"IF($Q464=\"\",\"0\",VLOOKUP($Q464,登録データ!$U$4:$V$19,2,FALSE))","v":"0"},"00","","000000","",0]
[null,149,null,null,null,null,null,null,null,null,null,null,null,null,null,"①",null,null,"",null,"",null,null,null,null,null,null,null,{"$f":"IF($Q465=\"\",\"0\",VLOOKUP($Q465,登録データ!$U$4:$V$19,2,FALSE))","v":"0"},"00","","000000","",0,{"$f":"IF($C465=\"\",\"\",IF($C465=\"@\",0,IF(COUNTIF($C$21:$C$620,$C465)=1,0,1)))","v":""},{"$f":"IF($M465=\"\",\"\",IF(OR($M465=\"東京都\",$M465=\"北海道\",$M465=\"大阪府\",$M465=\"京都府\",RIGHT($M465,1)=\"県\"),0,1))","v":""}]
[null,null,null,null,null,null,null,null,null,null,null,null,null,null,null,null,null,null,"",null,"",null,null,null,null,null,null,null,{"$f":"IF($Q466=\"\",\"0\",VLOOKUP($Q466,登録データ!$U$4:$V$19,2,FALSE))","v":"0"},"00","","000000","",0]
[null,null,null,null,null,null,null,null,null,null,null,null,null,null,null,null,null,null,"",null,"",null,null,null,null,null,null,null,{"$f":"IF($Q467=\"\",\"0\",VLOOKUP($Q467,登録データ!$U$4:$V$19,2,FALSE))","v":"0"},"00","","000000","",0]
[null,150,null,null,null,null,null,null,null,null,null,null,null,null,null,"①",null,null,"",null,"",null,null,null,null,null,null,null,{"$f":"IF($Q468=\"\",\"0\",VLOOKUP($Q468,登録データ!$U$4:$V$19,2,FALSE))","v":"0"},"00","","000000","",0,{"$f":"IF($C468=\"\",\"\",IF($C468=\"@\",0,IF(COUNTIF($C$21:$C$620,$C468)=1,0,1)))","v":""},{"$f":"IF($M468=\"\",\"\",IF(OR($M468=\"東京都\",$M468=\"北海道\",$M468=\"大阪府\",$M468=\"京都府\",RIGHT($M468,1)=\"県\"),0,1))","v":""}]
[null,null,null,null,null,null,null,null,null,null,null,null,null,null,null,null,null,null,"",null,"",null,null,null,null,null,null,null,{"$f":"IF($Q469=\"\",\"0\",VLOOKUP($Q469,登録データ!$U$4:$V$19,2,FALSE))","v":"0"},"00","",{"$f":"IF($AE469=2,IF($T469=\"\",\"0000\",CONCATENATE(RIGHT($T469+100,2),$AD469)),IF($T469=\"\",\"000000\",CONCATENATE(RIGHT($R469+100,2),RIGHT($T469+100,2),$AD469)))","v":"000000"},{"$f":"IF($Q469=\"\",\"\",CONCATENATE($AC469,\" \",IF($AE469=1,RIGHT($AF469+10000000,7),RIGHT($AF469+100000,5))))","v":""},0]
[null,null,null,null,null,null,null,null,null,null,null,null,null,null,null,null,null,null,{"$f":"IF($Q470=\"\",\"\",IF(OR(RIGHT($Q470,1)=\"m\",RIGHT($Q470,1)=\"H\"),\"分\",\"\"))","v":""},null,{"$f":"IF($Q470=\"\",\"\",IF(OR(RIGHT($Q470,1)=\"m\",RIGHT($Q470,1)=\"H\"),\"秒\",\"m\"))","v":""},null,null,null,null,null,null,null,{"$f":"IF($Q470=\"\",\"0\",VLOOKUP($Q470,登録データ!$U$4:$V$19,2,FALSE))","v":"0"},{"$f":"IF($V470=\"\",\"00\",IF(LEN($V470)=1,$V470*10,$V470))","v":"00"},{"$f":"IF($Q470=\"\",\"\",IF(OR(RIGHT($Q470,1)=\"m\",RIGHT($Q470,1)=\"H\"),1,2))","v":""},"000000","",{"$f":"IF(OR(RIGHT($H466,1)=\"m\",RIGHT($H466,1)=\"H\",RIGHT($H466,1)=\"W\",RIGHT($H466,1)=\"C\"),IF(VALUE($K466)>59,1,0),0)","v":0}]
[null,151,null,null,null,null,null,null,null,null,null,null,null,null,null,"①",null,null,"",null,"",null,null,null,null,null,null,null,{"$f":"IF($Q471=\"\",\"0\",VLOOKUP($Q471,登録データ!$U$4:$V$19,2,FALSE))","v":"0"},"00","","000000","",0,{"$f":"IF($C471=\"\",\"\",IF($C471=\"@\",0,IF(COUNTIF($C$21:$C$620,$C471)=1,0,1)))","v":""},{"$f":"IF($M471=\"\",\"\",IF(OR($M471=\"東京都\",$M471=\"北海道\",$M471=\"大阪府\",$M471=\"京都府\",RIGHT($M471,1)=\"県\"),0,1))","v":""}]
[null,null,null,null,null,null,null,null,null,null,null,null,null,null,null,null,null,null,"",null,"",null,null,null,null,null,null,null,{"$f":"IF($Q472=\"\",\"0\",VLOOKUP($Q472,登録データ!$U$4:$V$19,2,FALSE))","v":"0"},"00","","000000","",0]
[null,null,null,null,null,null,null,null,null,null,null,null,null,null,null,null,null,null,"",null,"",null,null,null,null,null,null,null,{"$f":"IF($Q473=\"\",\"0\",VLOOKUP($Q473,登録データ!$U$4:$V$19,2,FALSE))","v":"0"},"00","","000000","",0]
[null,152,null,null,null,null,null,null,null,null,null,null,null,null,null,"①",null,null,"",null,"",null,null,null,null,null,null,null,{"$f":"IF($Q474=\"\",\"0\",VLOOKUP($Q474,登録データ!$U$4:$V$19,2,FALSE))","v":"0"},"00","","000000","",0,{"$f":"IF($C474=\"\",\"\",IF($C474=\"@\",0,IF(COUNTIF($C$21:$C$620,$C474)=1,0,1)))","v":""},{"$f":"IF($M474=\"\",\"\",IF(OR($M474=\"東京都\",$M474=\"北海道\",$M474=\"大阪府\",$M474=\"京都府\",RIGHT($M474,1)=\"県\"),0,1))","v":""}]
[null,null,null,null,null,null,null,null,null,null,null,null,null,null,null,null,null,null,"",null,"",null,null,null,null,null,null,null,{"$f":"IF($Q475=\"\",\"0\",VLOOKUP($Q475,登録データ!$U$4:$V$19,2,FALSE))","v":"0"},"00","","000000","",0]
[null,null,null,null,null,null,null,null,null,null,null,null,null,null,null,null,null,null,"",null,"",null,null,null,null,null,null,null,{"$f":"IF($Q476=\"\",\"0\",VLOOKUP($Q476,登録データ!$U$4:$V$19,2,FALSE))","v":"0"},"00","","000000","",0]
[null,153,null,null,null,null,null,null,null,null,null,null,null,null,null,"①",null,null,"",null,"",null,null,null,null,null,null,null,{"$f":"IF($Q477=\"\",\"0\",VLOOKUP($Q477,登録データ!$U$4:$V$19,2,FALSE))","v":"0"},"00","","000000","",0,{"$f":"IF($C477=\"\",\"\",IF($C477=\"@\",0,IF(COUNTIF($C$21:$C$620,$C477)=1,0,1)))","v":""},{"$f":"IF($M477=\"\",\"\",IF(OR($M477=\"東京都\",$M477=\"北海道\",$M477=\"大阪府\",$M477=\"京都府\",RIGHT($M477,1)=\"県\"),0,1))","v":""}]
[null,null,null,null,null,null,null,null,null,null,null,null,null,null,null,null,null,null,"",null,"",null,null,null,null,null,null,null,{"$f":"IF($Q478=\"\",\"0\",VLOOKUP($Q478,登録データ!$U$4:$V$19,2,FALSE))","v":"0"},"00","","000000","",0]
[null,null,null,null,null,null,null,null,null,null,null,null,null,null,null,null,null,null,"",null,"",null,null,null,null,null,null,null,{"$f":"IF($Q479=\"\",\"0\",VLOOKUP($Q479,登録データ!$U$4:$V$19,2,FALSE))","v":"0"},"00","","000000","",0]
[null,154,null,null,null,null,null,null,null,null,null,null,null,null,null,"①",null,null,"",null,"",null,null,null,null,null,null,null,{"$f":"IF($Q480=\"\",\"0\",VLOOKUP($Q480,登録データ!$U$4:$V$19,2,FALSE))","v":"0"},"00","","000000","",0,{"$f":"IF($C480=\"\",\"\",IF($C480=\"@\",0,IF(COUNTIF($C$21:$C$620,$C480)=1,0,1)))","v":""},{"$f":"IF($M480=\"\",\"\",IF(OR($M480=\"東京都\",$M480=\"北海道\",$M480=\"大阪府\",$M480=\"京都府\",RIGHT($M480,1)=\"県\"),0,1))","v":""}]
[null,null,null,null,null,null,null,null,null,null,null,null,null,null,null,null,null,null,"",null,"",null,null,null,null,null,null,null,{"$f":"IF($Q481=\"\",\"0\",VLOOKUP($Q481,登録データ!$U$4:$V$19,2,FALSE))","v":"0"},"00","","000000","",0]
[null,null,null,null,null,null,null,null,null,null,null,null,null,null,null,null,null,null,"",null,"",null,null,null,null,null,null,null,{"$f":"IF($Q482=\"\",\"0\",VLOOKUP($Q482,登録データ!$U$4:$V$19,2,FALSE))","v":"0"},"00","","000000","",0]
[null,155,null,null,null,null,null,null,null,null,null,null,null,null,null,"①",null,null,"",null,"",null,null,null,null,null,null,null,{"$f":"IF($Q483=\"\",\"0\",VLOOKUP($Q483,登録データ!$U$4:$V$19,2,FALSE))","v":"0"},"00","","000000","",0,{"$f":"IF($C483=\"\",\"\",IF($C483=\"@\",0,IF(COUNTIF($C$21:$C$620,$C483)=1,0,1)))","v":""},{"$f":"IF($M483=\"\",\"\",IF(OR($M483=\"東京都\",$M483=\"北海道\",$M483=\"大阪府\",$M483=\"京都府\",RIGHT($M483,1)=\"県\"),0,1))","v":""}]
[null,null,null,null,null,null,null,null,null,null,null,null,null,null,null,null,null,null,"",null,"",null,null,null,null,null,null,null,{"$f":"IF($Q484=\"\",\"0\",VLOOKUP($Q484,登録データ!$U$4:$V$19,2,FALSE))","v":"0"},"00","","000000","",0]
[null,null,null,null,null,null,null,null,null,null,null,null,null,null,null,null,null,null,"",null,"",null,null,null,null,null,null,null,{"$f":"IF($Q485=\"\",\"0\",VLOOKUP($Q485,登録データ!$U$4:$V$19,2,FALSE))","v":"0"},"00","","000000","",0]
[null,156,null,null,null,null,null,null,null,null,null,null,null,null,null,"①",null,null,"",null,"",null,null,null,null,null,null,null,{"$f":"IF($Q486=\"\",\"0\",VLOOKUP($Q486,登録データ!$U$4:$V$19,2,FALSE))","v":"0"},"00","","000000","",0,{"$f":"IF($C486=\"\",\"\",IF($C486=\"@\",0,IF(COUNTIF($C$21:$C$620,$C486)=1,0,1)))","v":""},{"$f":"IF($M486=\"\",\"\",IF(OR($M486=\"東京都\",$M486=\"北海道\",$M486=\"大阪府\",$M486=\"京都府\",RIGHT($M486,1)=\"県\"),0,1))","v":""}]
[null,null,null,null,null,null,null,null,null,null,null,null,null,null,null,null,null,null,"",null,"",null,null,null,null,null,null,null,{"$f":"IF($Q487=\"\",\"0\",VLOOKUP($Q487,登録データ!$U$4:$V$19,2,FALSE))","v":"0"},"00","","000000","",0]
[null,null,null,null,null,null,null,null,null,null,null,null,null,null,null,null,null,null,"",null,"",null,null,null,null,null,null,null,{"$f":"IF($Q488=\"\",\"0\",VLOOKUP($Q488,登録データ!$U$4:$V$19,2,FALSE))","v":"0"},"00","","000000","",0]
[null,157,null,null,null,null,null,null,null,null,null,null,null,null,null,"①",null,null,"",null,"",null,null,null,null,null,null,null,{"$f":"IF($Q489=\"\",\"0\",VLOOKUP($Q489,登録データ!$U$4:$V$19,2,FALSE))","v":"0"},"00","","000000","",0,{"$f":"IF($C489=\"\",\"\",IF($C489=\"@\",0,IF(COUNTIF($C$21:$C$620,$C489)=1,0,1)))","v":""},{"$f":"IF($M489=\"\",\"\",IF(OR($M489=\"東京都\",$M489=\"北海道\",$M489=\"大阪府\",$M489=\"京都府\",RIGHT($M489,1)=\"県\"),0,1))","v":""}]
[null,null,null,null,null,null,null,null,null,null,null,null,null,null,null,null,null,null,"",null,"",null,null,null,null,null,null,null,{"$f":"IF($Q490=\"\",\"0\",VLOOKUP($Q490,登録データ!$U$4:$V$19,2,FALSE))","v":"0"},"00","","000000","",0]
[null,null,null,null,null,null,null,null,null,null,null,null,null,null,null,null,null,null,"",null,"",null,null,null,null,null,null,null,{"$f":"IF($Q491=\"\",\"0\",VLOOKUP($Q491,登録データ!$U$4:$V$19,2,FALSE))","v":"0"},"00","","000000","",0]
[null,158,null,null,null,null,null,null,null,null,null,null,null,null,null,"①",null,null,"",null,"",null,null,null,null,null,null,null,{"$f":"IF($Q492=\"\",\"0\",VLOOKUP($Q492,登録データ!$U$4:$V$19,2,FALSE))","v":"0"},"00","","000000","",0,{"$f":"IF($C492=\"\",\"\",IF($C492=\"@\",0,IF(COUNTIF($C$21:$C$620,$C492)=1,0,1)))","v":""},{"$f":"IF($M492=\"\",\"\",IF(OR($M492=\"東京都\",$M492=\"北海道\",$M492=\"大阪府\",$M492=\"京都府\",RIGHT($M492,1)=\"県\"),0,1))","v":""}]
[null,null,null,null,null,null,null,null,null,null,null,null,null,null,null,null,null,null,"",null,"",null,null,null,null,null,null,null,{"$f":"IF($Q493=\"\",\"0\",VLOOKUP($Q493,登録データ!$U$4:$V$19,2,FALSE))","v":"0"},"00","","000000","",0]
[null,null,null,null,null,null,null,null,null,null,null,null,null,null,null,null,null,null,"",null,"",null,null,null,null,null,null,null,{"$f":"IF($Q494=\"\",\"0\",VLOOKUP($Q494,登録データ!$U$4:$V$19,2,FALSE))","v":"0"},"00","","000000","",0]
[null,159,null,null,null,null,null,null,null,null,null,null,null,null,null,"①",null,null,"",null,"",null,null,null,null,null,null,null,{"$f":"IF($Q495=\"\",\"0\",VLOOKUP($Q495,登録データ!$U$4:$V$19,2,FALSE))","v":"0"},"00","","000000","",0,{"$f":"IF($C495=\"\",\"\",IF($C495=\"@\",0,IF(COUNTIF($C$21:$C$620,$C495)=1,0,1)))","v":""},{"$f":"IF($M495=\"\",\"\",IF(OR($M495=\"東京都\",$M495=\"北海道\",$M495=\"大阪府\",$M495=\"京都府\",RIGHT($M495,1)=\"県\"),0,1))","v":""}]
[null,null,null,null,null,null,null,null,null,null,null,null,null,null,null,null,null,null,"",null,"",null,null,null,null,null,null,null,{"$f":"IF($Q496=\"\",\"0\",VLOOKUP($Q496,登録データ!$U$4:$V$19,2,FALSE))","v":"0"},"00","","000000","",0]
[null,null,null,null,null,null,null,null,null,null,null,null,null,null,null,null,null,null,"",null,"",null,null,null,null,null,null,null,{"$f":"IF($Q497=\"\",\"0\",VLOOKUP($Q497,登録データ!$U$4:$V$19,2,FALSE))","v":"0"},"00","","000000","",0]
[null,160,null,null,null,null,null,null,null,null,null,null,null,null,null,"①",null,null,"",null,"",null,null,null,null,null,null,null,{"$f":"IF($Q498=\"\",\"0\",VLOOKUP($Q498,登録データ!$U$4:$V$19,2,FALSE))","v":"0"},"00","","000000","",0,{"$f":"IF($C498=\"\",\"\",IF($C498=\"@\",0,IF(COUNTIF($C$21:$C$620,$C498)=1,0,1)))","v":""},{"$f":"IF($M498=\"\",\"\",IF(OR($M498=\"東京都\",$M498=\"北海道\",$M498=\"大阪府\",$M498=\"京都府\",RIGHT($M498,1)=\"県\"),0,1))","v":""}]
[null,null,null,null,null,null,null,null,null,null,null,null,null,null,null,null,null,null,"",null,"",null,null,null,null,null,null,null,{"$f":"IF($Q499=\"\",\"0\",VLOOKUP($Q499,登録データ!$U$4:$V$19,2,FALSE))","v":"0"},"00","","000000","",0]
[null,null,null,null,null,null,null,null,null,null,null,null,null,null,null,null,null,null,"",null,"",null,null,null,null,null,null,null,{"$f":"IF($Q500=\"\",\"0\",VLOOKUP($Q500,登録データ!$U$4:$V$19,2,FALSE))","v":"0"},"00","","000000","",0]
[null,161,null,null,null,null,null,null,null,null,null,null,null,null,null,"①",null,null,"",null,"",null,null,null,null,null,null,null,{"$f":"IF($Q501=\"\",\"0\",VLOOKUP($Q501,登録データ!$U$4:$V$19,2,FALSE))","v":"0"},"00","","000000","",0,{"$f":"IF($C501=\"\",\"\",IF($C501=\"@\",0,IF(COUNTIF($C$21:$C$620,$C501)=1,0,1)))","v":""},{"$f":"IF($M501=\"\",\"\",IF(OR($M501=\"東京都\",$M501=\"北海道\",$M501=\"大阪府\",$M501=\"京都府\",RIGHT($M501,1)=\"県\"),0,1))","v":""}]
[null,null,null,null,null,null,null,null,null,null,null,null,null,null,null,null,null,null,"",null,"",null,null,null,null,null,null,null,{"$f":"IF($Q502=\"\",\"0\",VLOOKUP($Q502,登録データ!$U$4:$V$19,2,FALSE))","v":"0"},"00","","000000","",0]
[null,null,null,null,null,null,null,null,null,null,null,null,null,null,null,null,null,null,"",null,"",null,null,null,null,null,null,null,{"$f":"IF($Q503=\"\",\"0\",VLOOKUP($Q503,登録データ!$U$4:$V$19,2,FALSE))","v":"0"},"00","","000000","",0]
[null,162,null,null,null,null,null,null,null,null,null,null,null,null,null,"①",null,null,"",null,"",null,null,null,null,null,null,null,{"$f":"IF($Q504=\"\",\"0\",VLOOKUP($Q504,登録データ!$U$4:$V$19,2,FALSE))","v":"0"},"00","","000000","",0,{"$f":"IF($C504=\"\",\"\",IF($C504=\"@\",0,IF(COUNTIF($C$21:$C$620,$C504)=1,0,1)))","v":""},{"$f":"IF($M504=\"\",\"\",IF(OR($M504=\"東京都\",$M504=\"北海道\",$M504=\"大阪府\",$M504=\"京都府\",RIGHT($M504,1)=\"県\"),0,1))","v":""}]
[null,null,null,null,null,null,null,null,null,null,null,null,null,null,null,null,null,null,"",null,"",null,null,null,null,null,null,null,{"$f":"IF($Q505=\"\",\"0\",VLOOKUP($Q505,登録データ!$U$4:$V$19,2,FALSE))","v":"0"},"00","","000000","",0]
[null,null,null,null,null,null,null,null,null,null,null,null,null,null,null,null,null,null,"",null,"",null,null,null,null,null,null,null,{"$f":"IF($Q506=\"\",\"0\",VLOOKUP($Q506,登録データ!$U$4:$V$19,2,FALSE))","v":"0"},"00","","000000","",0]
[null,163,null,null,null,null,null,null,null,null,null,null,null,null,null,"①",null,null,"",null,"",null,null,null,null,null,null,null,{"$f":"IF($Q507=\"\",\"0\",VLOOKUP($Q507,登録データ!$U$4:$V$19,2,FALSE))","v":"0"},"00","","000000","",0,{"$f":"IF($C507=\"\",\"\",IF($C507=\"@\",0,IF(COUNTIF($C$21:$C$620,$C507)=1,0,1)))","v":""},{"$f":"IF($M507=\"\",\"\",IF(OR($M507=\"東京都\",$M507=\"北海道\",$M507=\"大阪府\",$M507=\"京都府\",RIGHT($M507,1)=\"県\"),0,1))","v":""}]
[null,null,null,null,null,null,null,null,null,null,null,null,null,null,null,null,null,null,"",null,"",null,null,null,null,null,null,null,{"$f":"IF($Q508=\"\",\"0\",VLOOKUP($Q508,登録データ!$U$4:$V$19,2,FALSE))","v":"0"},"00","","000000","",0]
[null,null,null,null,null,null,null,null,null,null,null,null,null,null,null,null,null,null,"",null,"",null,null,null,null,null,null,null,{"$f":"IF($Q509=\"\",\"0\",VLOOKUP($Q509,登録データ!$U$4:$V$19,2,FALSE))","v":"0"},"00","","000000","",0]
[null,164,null,null,null,null,null,null,null,null,null,null,null,null,null,"①",null,null,"",null,"",null,null,null,null,null,null,null,{"$f":"IF($Q510=\"\",\"0\",VLOOKUP($Q510,登録データ!$U$4:$V$19,2,FALSE))","v":"0"},"00","","000000","",0,{"$f":"IF($C510=\"\",\"\",IF($C510=\"@\",0,IF(COUNTIF($C$21:$C$620,$C510)=1,0,1)))","v":""},{"$f":"IF($M510=\"\",\"\",IF(OR($M510=\"東京都\",$M510=\"北海道\",$M510=\"大阪府\",$M510=\"京都府\",RIGHT($M510,1)=\"県\"),0,1))","v":""}]
[null,null,null,null,null,null,null,null,null,null,null,null,null,null,null,null,null,null,"",null,"",null,null,null,null,null,null,null,{"$f":"IF($Q511=\"\",\"0\",VLOOKUP($Q511,登録データ!$U$4:$V$19,2,FALSE))","v":"0"},"00","","000000","",0]
[null,null,null,null,null,null,null,null,null,null,null,null,null,null,null,null,null,null,"",null,"",null,null,null,null,null,null,null,{"$f":"IF($Q512=\"\",\"0\",VLOOKUP($Q512,登録データ!$U$4:$V$19,2,FALSE))","v":"0"},"00","","000000","",0]
[null,165,null,null,null,null,null,null,null,null,null,null,null,null,null,"①",null,null,"",null,"",null,null,null,null,null,null,null,{"$f":"IF($Q513=\"\",\"0\",VLOOKUP($Q513,登録データ!$U$4:$V$19,2,FALSE))","v":"0"},"00","","000000","",0,{"$f":"IF($C513=\"\",\"\",IF($C513=\"@\",0,IF(COUNTIF($C$21:$C$620,$C513)=1,0,1)))","v":""},{"$f":"IF($M513=\"\",\"\",IF(OR($M513=\"東京都\",$M513=\"北海道\",$M513=\"大阪府\",$M513=\"京都府\",RIGHT($M513,1)=\"県\"),0,1))","v":""}]
[null,null,null,null,null,null,null,null,null,null,null,null,null,null,null,null,null,null,"",null,"",null,null,null,null,null,null,null,{"$f":"IF($Q514=\"\",\"0\",VLOOKUP($Q514,登録データ!$U$4:$V$19,2,FALSE))","v":"0"},"00","","000000","",0]
[null,null,null,null,null,null,null,null,null,null,null,null,null,null,null,null,null,null,"",null,"",null,null,null,null,null,null,null,{"$f":"IF($Q515=\"\",\"0\",VLOOKUP($Q515,登録データ!$U$4:$V$19,2,FALSE))","v":"0"},"00","","000000","",0]
[null,166,null,null,null,null,null,null,null,null,null,null,null,null,null,"①",null,null,"",null,"",null,null,null,null,null,null,null,{"$f":"IF($Q516=\"\",\"0\",VLOOKUP($Q516,登録データ!$U$4:$V$19,2,FALSE))","v":"0"},"00","","000000","",0,{"$f":"IF($C516=\"\",\"\",IF($C516=\"@\",0,IF(COUNTIF($C$21:$C$620,$C516)=1,0,1)))","v":""},{"$f":"IF($M516=\"\",\"\",IF(OR($M516=\"東京都\",$M516=\"北海道\",$M516=\"大阪府\",$M516=\"京都府\",RIGHT($M516,1)=\"県\"),0,1))","v":""}]
[null,null,null,null,null,null,null,null,null,null,null,null,null,null,null,null,null,null,"",null,"",null,null,null,null,null,null,null,{"$f":"IF($Q517=\"\",\"0\",VLOOKUP($Q517,登録データ!$U$4:$V$19,2,FALSE))","v":"0"},"00","","000000","",0]
[null,null,null,null,null,null,null,null,null,null,null,null,null,null,null,null,null,null,"",null,"",null,null,null,null,null,null,null,{"$f":"IF($Q518=\"\",\"0\",VLOOKUP($Q518,登録データ!$U$4:$V$19,2,FALSE))","v":"0"},"00","","000000","",0]
[null,167,null,null,null,null,null,null,null,null,null,null,null,null,null,"①",null,null,"",null,"",null,null,null,null,null,null,null,{"$f":"IF($Q519=\"\",\"0\",VLOOKUP($Q519,登録データ!$U$4:$V$19,2,FALSE))","v":"0"},"00","","000000","",0,{"$f":"IF($C519=\"\",\"\",IF($C519=\"@\",0,IF(COUNTIF($C$21:$C$620,$C519)=1,0,1)))","v":""},{"$f":"IF($M519=\"\",\"\",IF(OR($M519=\"東京都\",$M519=\"北海道\",$M519=\"大阪府\",$M519=\"京都府\",RIGHT($M519,1)=\"県\"),0,1))","v":""}]
[null,null,null,null,null,null,null,null,null,null,null,null,null,null,null,null,null,null,"",null,"",null,null,null,null,null,null,null,{"$f":"IF($Q520=\"\",\"0\",VLOOKUP($Q520,登録データ!$U$4:$V$19,2,FALSE))","v":"0"},"00","","000000","",0]
[null,null,null,null,null,null,null,null,null,null,null,null,null,null,null,null,null,null,"",null,"",null,null,null,null,null,null,null,{"$f":"IF($Q521=\"\",\"0\",VLOOKUP($Q521,登録データ!$U$4:$V$19,2,FALSE))","v":"0"},"00","","000000","",0]
[null,168,null,null,null,null,null,null,null,null,null,null,null,null,null,"①",null,null,"",null,"",null,null,null,null,null,null,null,{"$f":"IF($Q522=\"\",\"0\",VLOOKUP($Q522,登録データ!$U$4:$V$19,2,FALSE))","v":"0"},"00","","000000","",0,{"$f":"IF($C522=\"\",\"\",IF($C522=\"@\",0,IF(COUNTIF($C$21:$C$620,$C522)=1,0,1)))","v":""},{"$f":"IF($M522=\"\",\"\",IF(OR($M522=\"東京都\",$M522=\"北海道\",$M522=\"大阪府\",$M522=\"京都府\",RIGHT($M522,1)=\"県\"),0,1))","v":""}]
[null,null,null,null,null,null,null,null,null,null,null,null,null,null,null,null,null,null,"",null,"",null,null,null,null,null,null,null,{"$f":"IF($Q523=\"\",\"0\",VLOOKUP($Q523,登録データ!$U$4:$V$19,2,FALSE))","v":"0"},"00","","000000","",0]
[null,null,null,null,null,null,null,null,null,null,null,null,null,null,null,null,null,null,"",null,"",null,null,null,null,null,null,null,{"$f":"IF($Q524=\"\",\"0\",VLOOKUP($Q524,登録データ!$U$4:$V$19,2,FALSE))","v":"0"},"00","","000000","",0]
[null,169,null,null,null,null,null,null,null,null,null,null,null,null,null,"①",null,null,"",null,"",null,null,null,null,null,null,null,{"$f":"IF($Q525=\"\",\"0\",VLOOKUP($Q525,登録データ!$U$4:$V$19,2,FALSE))","v":"0"},"00","","000000","",0,{"$f":"IF($C525=\"\",\"\",IF($C525=\"@\",0,IF(COUNTIF($C$21:$C$620,$C525)=1,0,1)))","v":""},{"$f":"IF($M525=\"\",\"\",IF(OR($M525=\"東京都\",$M525=\"北海道\",$M525=\"大阪府\",$M525=\"京都府\",RIGHT($M525,1)=\"県\"),0,1))","v":""}]
[null,null,null,null,null,null,null,null,null,null,null,null,null,null,null,null,null,null,"",null,"",null,null,null,null,null,null,null,{"$f":"IF($Q526=\"\",\"0\",VLOOKUP($Q526,登録データ!$U$4:$V$19,2,FALSE))","v":"0"},"00","","000000","",0]
[null,null,null,null,null,null,null,null,null,null,null,null,null,null,null,null,null,null,"",null,"",null,null,null,null,null,null,null,{"$f":"IF($Q527=\"\",\"0\",VLOOKUP($Q527,登録データ!$U$4:$V$19,2,FALSE))","v":"0"},"00","","000000","",0]
[null,170,null,null,null,null,null,null,null,null,null,null,null,null,null,"①",null,null,"",null,"",null,null,null,null,null,null,null,{"$f":"IF($Q528=\"\",\"0\",VLOOKUP($Q528,登録データ!$U$4:$V$19,2,FALSE))","v":"0"},"00","","000000","",0,{"$f":"IF($C528=\"\",\"\",IF($C528=\"@\",0,IF(COUNTIF($C$21:$C$620,$C528)=1,0,1)))","v":""},{"$f":"IF($M528=\"\",\"\",IF(OR($M528=\"東京都\",$M528=\"北海道\",$M528=\"大阪府\",$M528=\"京都府\",RIGHT($M528,1)=\"県\"),0,1))","v":""}]
[null,null,null,null,null,null,null,null,null,null,null,null,null,null,null,null,null,null,"",null,"",null,null,null,null,null,null,null,{"$f":"IF($Q529=\"\",\"0\",VLOOKUP($Q529,登録データ!$U$4:$V$19,2,FALSE))","v":"0"},"00","","000000","",0]
[null,null,null,null,null,null,null,null,null,null,null,null,null,null,null,null,null,null,"",null,"",null,null,null,null,null,null,null,{"$f":"IF($Q530=\"\",\"0\",VLOOKUP($Q530,登録データ!$U$4:$V$19,2,FALSE))","v":"0"},"00","","000000","",0]
[null,171,null,null,null,null,null,null,null,null,null,null,null,null,null,"①",null,null,"",null,"",null,null,null,null,null,null,null,{"$f":"IF($Q531=\"\",\"0\",VLOOKUP($Q531,登録データ!$U$4:$V$19,2,FALSE))","v":"0"},"00","","000000","",0,{"$f":"IF($C531=\"\",\"\",IF($C531=\"@\",0,IF(COUNTIF($C$21:$C$620,$C531)=1,0,1)))","v":""},{"$f":"IF($M531=\"\",\"\",IF(OR($M531=\"東京都\",$M531=\"北海道\",$M531=\"大阪府\",$M531=\"京都府\",RIGHT($M531,1)=\"県\"),0,1))","v":""}]
[null,null,null,null,null,null,null,null,null,null,null,null,null,null,null,null,null,null,"",null,"",null,null,null,null,null,null,null,{"$f":"IF($Q532=\"\",\"0\",VLOOKUP($Q532,登録データ!$U$4:$V$19,2,FALSE))","v":"0"},"00","","000000","",0]
[null,null,null,null,null,null,null,null,null,null,null,null,null,null,null,null,null,null,"",null,"",null,null,null,null,null,null,null,{"$f":"IF($Q533=\"\",\"0\",VLOOKUP($Q533,登録データ!$U$4:$V$19,2,FALSE))","v":"0"},"00","",{"$f":"IF($AE533=2,IF($T533=\"\",\"0000\",CONCATENATE(RIGHT($T533+100,2),$AD533)),IF($T533=\"\",\"000000\",CONCATENATE(RIGHT($R533+100,2),RIGHT($T533+100,2),$AD533)))","v":"000000"},{"$f":"IF($Q533=\"\",\"\",CONCATENATE($AC533,\" \",IF($AE533=1,RIGHT($AF533+10000000,7),RIGHT($AF533+100000,5))))","v":""},0]
[null,172,null,null,null,null,null,null,null,null,null,null,null,null,null,"①",null,null,{"$f":"IF($Q534=\"\",\"\",IF(OR(RIGHT($Q534,1)=\"m\",RIGHT($Q534,1)=\"H\"),\"分\",\"\"))","v":""},null,{"$f":"IF($Q534=\"\",\"\",IF(OR(RIGHT($Q534,1)=\"m\",RIGHT($Q534,1)=\"H\"),\"秒\",\"m\"))","v":""},null,null,null,null,null,null,null,{"$f":"IF($Q534=\"\",\"0\",VLOOKUP($Q534,登録データ!$U$4:$V$19,2,FALSE))","v":"0"},{"$f":"IF($V534=\"\",\"00\",IF(LEN($V534)=1,$V534*10,$V534))","v":"00"},{"$f":"IF($Q534=\"\",\"\",IF(OR(RIGHT($Q534,1)=\"m\",RIGHT($Q534,1)=\"H\"),1,2))","v":""},"000000","",{"$f":"IF(OR(RIGHT($H530,1)=\"m\",RIGHT($H530,1)=\"H\",RIGHT($H530,1)=\"W\",RIGHT($H530,1)=\"C\"),IF(VALUE($K530)>59,1,0),0)","v":0},{"$f":"IF($C534=\"\",\"\",IF($C534=\"@\",0,IF(COUNTIF($C$21:$C$620,$C534)=1,0,1)))","v":""},{"$f":"IF($M534=\"\",\"\",IF(OR($M534=\"東京都\",$M534=\"北海道\",$M534=\"大阪府\",$M534=\"京都府\",RIGHT($M534,1)=\"県\"),0,1))","v":""}]
[null,null,null,null,null,null,null,null,null,null,null,null,null,null,null,null,null,null,"",null,"",null,null,null,null,null,null,null,{"$f":"IF($Q535=\"\",\"0\",VLOOKUP($Q535,登録データ!$U$4:$V$19,2,FALSE))","v":"0"},"00","","000000","",0]
[null,null,null,null,null,null,null,null,null,null,null,null,null,null,null,null,null,null,"",null,"",null,null,null,null,null,null,null,{"$f":"IF($Q536=\"\",\"0\",VLOOKUP($Q536,登録データ!$U$4:$V$19,2,FALSE))","v":"0"},"00","","000000","",0]
[null,173,null,null,null,null,null,null,null,null,null,null,null,null,null,"①",null,null,"",null,"",null,null,null,null,null,null,null,{"$f":"IF($Q537=\"\",\"0\",VLOOKUP($Q537,登録データ!$U$4:$V$19,2,FALSE))","v":"0"},"00","","000000","",0,{"$f":"IF($C537=\"\",\"\",IF($C537=\"@\",0,IF(COUNTIF($C$21:$C$620,$C537)=1,0,1)))","v":""},{"$f":"IF($M537=\"\",\"\",IF(OR($M537=\"東京都\",$M537=\"北海道\",$M537=\"大阪府\",$M537=\"京都府\",RIGHT($M537,1)=\"県\"),0,1))","v":""}]
[null,null,null,null,null,null,null,null,null,null,null,null,null,null,null,null,null,null,"",null,"",null,null,null,null,null,null,null,{"$f":"IF($Q538=\"\",\"0\",VLOOKUP($Q538,登録データ!$U$4:$V$19,2,FALSE))","v":"0"},"00","","000000","",0]
[null,null,null,null,null,null,null,null,null,null,null,null,null,null,null,null,null,null,"",null,"",null,null,null,null,null,null,null,{"$f":"IF($Q539=\"\",\"0\",VLOOKUP($Q539,登録データ!$U$4:$V$19,2,FALSE))","v":"0"},"00","","000000","",0]
[null,174,null,null,null,null,null,null,null,null,null,null,null,null,null,"①",null,null,"",null,"",null,null,null,null,null,null,null,{"$f":"IF($Q540=\"\",\"0\",VLOOKUP($Q540,登録データ!$U$4:$V$19,2,FALSE))","v":"0"},"00","","000000","",0,{"$f":"IF($C540=\"\",\"\",IF($C540=\"@\",0,IF(COUNTIF($C$21:$C$620,$C540)=1,0,1)))","v":""},{"$f":"IF($M540=\"\",\"\",IF(OR($M540=\"東京都\",$M540=\"北海道\",$M540=\"大阪府\",$M540=\"京都府\",RIGHT($M540,1)=\"県\"),0,1))","v":""}]
[null,null,null,null,null,null,null,null,null,null,null,null,null,null,null,null,null,null,"",null,"",null,null,null,null,null,null,null,{"$f":"IF($Q541=\"\",\"0\",VLOOKUP($Q541,登録データ!$U$4:$V$19,2,FALSE))","v":"0"},"00","","000000","",0]
[null,null,null,null,null,null,null,null,null,null,null,null,null,null,null,null,null,null,"",null,"",null,null,null,null,null,null,null,{"$f":"IF($Q542=\"\",\"0\",VLOOKUP($Q542,登録データ!$U$4:$V$19,2,FALSE))","v":"0"},"00","","000000","",0]
[null,175,null,null,null,null,null,null,null,null,null,null,null,null,null,"①",null,null,"",null,"",null,null,null,null,null,null,null,{"$f":"IF($Q543=\"\",\"0\",VLOOKUP($Q543,登録データ!$U$4:$V$19,2,FALSE))","v":"0"},"00","","000000","",0,{"$f":"IF($C543=\"\",\"\",IF($C543=\"@\",0,IF(COUNTIF($C$21:$C$620,$C543)=1,0,1)))","v":""},{"$f":"IF($M543=\"\",\"\",IF(OR($M543=\"東京都\",$M543=\"北海道\",$M543=\"大阪府\",$M543=\"京都府\",RIGHT($M543,1)=\"県\"),0,1))","v":""}]
[null,null,null,null,null,null,null,null,null,null,null,null,null,null,null,null,null,null,"",null,"",null,null,null,null,null,null,null,{"$f":"IF($Q544=\"\",\"0\",VLOOKUP($Q544,登録データ!$U$4:$V$19,2,FALSE))","v":"0"},"00","","000000","",0]
[null,null,null,null,null,null,null,null,null,null,null,null,null,null,null,null,null,null,"",null,"",null,null,null,null,null,null,null,{"$f":"IF($Q545=\"\",\"0\",VLOOKUP($Q545,登録データ!$U$4:$V$19,2,FALSE))","v":"0"},"00","","000000","",0]
[null,176,null,null,null,null,null,null,null,null,null,null,null,null,null,"①",null,null,"",null,"",null,null,null,null,null,null,null,{"$f":"IF($Q546=\"\",\"0\",VLOOKUP($Q546,登録データ!$U$4:$V$19,2,FALSE))","v":"0"},"00","","000000","",0,{"$f":"IF($C546=\"\",\"\",IF($C546=\"@\",0,IF(COUNTIF($C$21:$C$620,$C546)=1,0,1)))","v":""},{"$f":"IF($M546=\"\",\"\",IF(OR($M546=\"東京都\",$M546=\"北海道\",$M546=\"大阪府\",$M546=\"京都府\",RIGHT($M546,1)=\"県\"),0,1))","v":""}]
[null,null,null,null,null,null,null,null,null,null,null,null,null,null,null,null,null,null,"",null,"",null,null,null,null,null,null,null,{"$f":"IF($Q547=\"\",\"0\",VLOOKUP($Q547,登録データ!$U$4:$V$19,2,FALSE))","v":"0"},"00","","000000","",0]
[null,null,null,null,null,null,null,null,null,null,null,null,null,null,null,null,null,null,"",null,"",null,null,null,null,null,null,null,{"$f":"IF($Q548=\"\",\"0\",VLOOKUP($Q548,登録データ!$U$4:$V$19,2,FALSE))","v":"0"},"00","","000000","",0]
[null,177,null,null,null,null,null,null,null,null,null,null,null,null,null,"①",null,null,"",null,"",null,null,null,null,null,null,null,{"$f":"IF($Q549=\"\",\"0\",VLOOKUP($Q549,登録データ!$U$4:$V$19,2,FALSE))","v":"0"},"00","","000000","",0,{"$f":"IF($C549=\"\",\"\",IF($C549=\"@\",0,IF(COUNTIF($C$21:$C$620,$C549)=1,0,1)))","v":""},{"$f":"IF($M549=\"\",\"\",IF(OR($M549=\"東京都\",$M549=\"北海道\",$M549=\"大阪府\",$M549=\"京都府\",RIGHT($M549,1)=\"県\"),0,1))","v":""}]
[null,null,null,null,null,null,null,null,null,null,null,null,null,null,null,null,null,null,"",null,"",null,null,null,null,null,null,null,{"$f":"IF($Q550=\"\",\"0\",VLOOKUP($Q550,登録データ!$U$4:$V$19,2,FALSE))","v":"0"},"00","","000000","",0]
[null,null,null,null,null,null,null,null,null,null,null,null,null,null,null,null,null,null,"",null,"",null,null,null,null,null,null,null,{"$f":"IF($Q551=\"\",\"0\",VLOOKUP($Q551,登録データ!$U$4:$V$19,2,FALSE))","v":"0"},"00","","000000","",0]
[null,178,null,null,null,null,null,null,null,null,null,null,null,null,null,"①",null,null,"",null,"",null,null,null,null,null,null,null,{"$f":"IF($Q552=\"\",\"0\",VLOOKUP($Q552,登録データ!$U$4:$V$19,2,FALSE))","v":"0"},"00","","000000","",0,{"$f":"IF($C552=\"\",\"\",IF($C552=\"@\",0,IF(COUNTIF($C$21:$C$620,$C552)=1,0,1)))","v":""},{"$f":"IF($M552=\"\",\"\",IF(OR($M552=\"東京都\",$M552=\"北海道\",$M552=\"大阪府\",$M552=\"京都府\",RIGHT($M552,1)=\"県\"),0,1))","v":""}]
[null,null,null,null,null,null,null,null,null,null,null,null,null,null,null,null,null,null,"",null,"",null,null,null,null,null,null,null,{"$f":"IF($Q553=\"\",\"0\",VLOOKUP($Q553,登録データ!$U$4:$V$19,2,FALSE))","v":"0"},"00","","000000","",0]
[null,null,null,null,null,null,null,null,null,null,null,null,null,null,null,null,null,null,"",null,"",null,null,null,null,null,null,null,{"$f":"IF($Q554=\"\",\"0\",VLOOKUP($Q554,登録データ!$U$4:$V$19,2,FALSE))","v":"0"},"00","","000000","",0]
[null,179,null,null,null,null,null,null,null,null,null,null,null,null,null,"①",null,null,"",null,"",null,null,null,null,null,null,null,{"$f":"IF($Q555=\"\",\"0\",VLOOKUP($Q555,登録データ!$U$4:$V$19,2,FALSE))","v":"0"},"00","","000000","",0,{"$f":"IF($C555=\"\",\"\",IF($C555=\"@\",0,IF(COUNTIF($C$21:$C$620,$C555)=1,0,1)))","v":""},{"$f":"IF($M555=\"\",\"\",IF(OR($M555=\"東京都\",$M555=\"北海道\",$M555=\"大阪府\",$M555=\"京都府\",RIGHT($M555,1)=\"県\"),0,1))","v":""}]
[null,null,null,null,null,null,null,null,null,null,null,null,null,null,null,null,null,null,"",null,"",null,null,null,null,null,null,null,{"$f":"IF($Q556=\"\",\"0\",VLOOKUP($Q556,登録データ!$U$4:$V$19,2,FALSE))","v":"0"},"00","","000000","",0]
[null,null,null,null,null,null,null,null,null,null,null,null,null,null,null,null,null,null,"",null,"",null,null,null,null,null,null,null,{"$f":"IF($Q557=\"\",\"0\",VLOOKUP($Q557,登録データ!$U$4:$V$19,2,FALSE))","v":"0"},"00","","000000","",0]
[null,180,null,null,null,null,null,null,null,null,null,null,null,null,null,"①",null,null,"",null,"",null,null,null,null,null,null,null,{"$f":"IF($Q558=\"\",\"0\",VLOOKUP($Q558,登録データ!$U$4:$V$19,2,FALSE))","v":"0"},"00","","000000","",0,{"$f":"IF($C558=\"\",\"\",IF($C558=\"@\",0,IF(COUNTIF($C$21:$C$620,$C558)=1,0,1)))","v":""},{"$f":"IF($M558=\"\",\"\",IF(OR($M558=\"東京都\",$M558=\"北海道\",$M558=\"大阪府\",$M558=\"京都府\",RIGHT($M558,1)=\"県\"),0,1))","v":""}]
[null,null,null,null,null,null,null,null,null,null,null,null,null,null,null,null,null,null,"",null,"",null,null,null,null,null,null,null,{"$f":"IF($Q559=\"\",\"0\",VLOOKUP($Q559,登録データ!$U$4:$V$19,2,FALSE))","v":"0"},"00","","000000","",0]
[null,null,null,null,null,null,null,null,null,null,null,null,null,null,null,null,null,null,"",null,"",null,null,null,null,null,null,null,{"$f":"IF($Q560=\"\",\"0\",VLOOKUP($Q560,登録データ!$U$4:$V$19,2,FALSE))","v":"0"},"00","","000000","",0]
[null,181,null,null,null,null,null,null,null,null,null,null,null,null,null,"①",null,null,"",null,"",null,null,null,null,null,null,null,{"$f":"IF($Q561=\"\",\"0\",VLOOKUP($Q561,登録データ!$U$4:$V$19,2,FALSE))","v":"0"},"00","","000000","",0,{"$f":"IF($C561=\"\",\"\",IF($C561=\"@\",0,IF(COUNTIF($C$21:$C$620,$C561)=1,0,1)))","v":""},{"$f":"IF($M561=\"\",\"\",IF(OR($M561=\"東京都\",$M561=\"北海道\",$M561=\"大阪府\",$M561=\"京都府\",RIGHT($M561,1)=\"県\"),0,1))","v":""}]
[null,null,null,null,null,null,null,null,null,null,null,null,null,null,null,null,null,null,"",null,"",null,null,null,null,null,null,null,{"$f":"IF($Q562=\"\",\"0\",VLOOKUP($Q562,登録データ!$U$4:$V$19,2,FALSE))","v":"0"},"00","","000000","",0]
[null,null,null,null,null,null,null,null,null,null,null,null,null,null,null,null,null,null,"",null,"",null,null,null,null,null,null,null,{"$f":"IF($Q563=\"\",\"0\",VLOOKUP($Q563,登録データ!$U$4:$V$19,2,FALSE))","v":"0"},"00","","000000","",0]
[null,182,null,null,null,null,null,null,null,null,null,null,null,null,null,"①",null,null,"",null,"",null,null,null,null,null,null,null,{"$f":"IF($Q564=\"\",\"0\",VLOOKUP($Q564,登録データ!$U$4:$V$19,2,FALSE))","v":"0"},"00","","000000","",0,{"$f":"IF($C564=\"\",\"\",IF($C564=\"@\",0,IF(COUNTIF($C$21:$C$620,$C564)=1,0,1)))","v":""},{"$f":"IF($M564=\"\",\"\",IF(OR($M564=\"東京都\",$M564=\"北海道\",$M564=\"大阪府\",$M564=\"京都府\",RIGHT($M564,1)=\"県\"),0,1))","v":""}]
[null,null,null,null,null,null,null,null,null,null,null,null,null,null,null,null,null,null,"",null,"",null,null,null,null,null,null,null,{"$f":"IF($Q565=\"\",\"0\",VLOOKUP($Q565,登録データ!$U$4:$V$19,2,FALSE))","v":"0"},"00","","000000","",0]
[null,null,null,null,null,null,null,null,null,null,null,null,null,null,null,null,null,null,"",null,"",null,null,null,null,null,null,null,{"$f":"IF($Q566=\"\",\"0\",VLOOKUP($Q566,登録データ!$U$4:$V$19,2,FALSE))","v":"0"},"00","","000000","",0]
[null,183,null,null,null,null,null,null,null,null,null,null,null,null,null,"①",null,null,"",null,"",null,null,null,null,null,null,null,{"$f":"IF($Q567=\"\",\"0\",VLOOKUP($Q567,登録データ!$U$4:$V$19,2,FALSE))","v":"0"},"00","","000000","",0,{"$f":"IF($C567=\"\",\"\",IF($C567=\"@\",0,IF(COUNTIF($C$21:$C$620,$C567)=1,0,1)))","v":""},{"$f":"IF($M567=\"\",\"\",IF(OR($M567=\"東京都\",$M567=\"北海道\",$M567=\"大阪府\",$M567=\"京都府\",RIGHT($M567,1)=\"県\"),0,1))","v":""}]
[null,null,null,null,null,null,null,null,null,null,null,null,null,null,null,null,null,null,"",null,"",null,null,null,null,null,null,null,{"$f":"IF($Q568=\"\",\"0\",VLOOKUP($Q568,登録データ!$U$4:$V$19,2,FALSE))","v":"0"},"00","","000000","",0]
[null,null,null,null,null,null,null,null,null,null,null,null,null,null,null,null,null,null,"",null,"",null,null,null,null,null,null,null,{"$f":"IF($Q569=\"\",\"0\",VLOOKUP($Q569,登録データ!$U$4:$V$19,2,FALSE))","v":"0"},"00","","000000","",0]
[null,184,null,null,null,null,null,null,null,null,null,null,null,null,null,"①",null,null,"",null,"",null,null,null,null,null,null,null,{"$f":"IF($Q570=\"\",\"0\",VLOOKUP($Q570,登録データ!$U$4:$V$19,2,FALSE))","v":"0"},"00","","000000","",0,{"$f":"IF($C570=\"\",\"\",IF($C570=\"@\",0,IF(COUNTIF($C$21:$C$620,$C570)=1,0,1)))","v":""},{"$f":"IF($M570=\"\",\"\",IF(OR($M570=\"東京都\",$M570=\"北海道\",$M570=\"大阪府\",$M570=\"京都府\",RIGHT($M570,1)=\"県\"),0,1))","v":""}]
[null,null,null,null,null,null,null,null,null,null,null,null,null,null,null,null,null,null,"",null,"",null,null,null,null,null,null,null,{"$f":"IF($Q571=\"\",\"0\",VLOOKUP($Q571,登録データ!$U$4:$V$19,2,FALSE))","v":"0"},"00","","000000","",0]
[null,null,null,null,null,null,null,null,null,null,null,null,null,null,null,null,null,null,"",null,"",null,null,null,null,null,null,null,{"$f":"IF($Q572=\"\",\"0\",VLOOKUP($Q572,登録データ!$U$4:$V$19,2,FALSE))","v":"0"},"00","","000000","",0]
[null,185,null,null,null,null,null,null,null,null,null,null,null,null,null,"①",null,null,"",null,"",null,null,null,null,null,null,null,{"$f":"IF($Q573=\"\",\"0\",VLOOKUP($Q573,登録データ!$U$4:$V$19,2,FALSE))","v":"0"},"00","","000000","",0,{"$f":"IF($C573=\"\",\"\",IF($C573=\"@\",0,IF(COUNTIF($C$21:$C$620,$C573)=1,0,1)))","v":""},{"$f":"IF($M573=\"\",\"\",IF(OR($M573=\"東京都\",$M573=\"北海道\",$M573=\"大阪府\",$M573=\"京都府\",RIGHT($M573,1)=\"県\"),0,1))","v":""}]
[null,null,null,null,null,null,null,null,null,null,null,null,null,null,null,null,null,null,"",null,"",null,null,null,null,null,null,null,{"$f":"IF($Q574=\"\",\"0\",VLOOKUP($Q574,登録データ!$U$4:$V$19,2,FALSE))","v":"0"},"00","","000000","",0]
[null,null,null,null,null,null,null,null,null,null,null,null,null,null,null,null,null,null,"",null,"",null,null,null,null,null,null,null,{"$f":"IF($Q575=\"\",\"0\",VLOOKUP($Q575,登録データ!$U$4:$V$19,2,FALSE))","v":"0"},"00","","000000","",0]
[null,186,null,null,null,null,null,null,null,null,null,null,null,null,null,"①",null,null,"",null,"",null,null,null,null,null,null,null,{"$f":"IF($Q576=\"\",\"0\",VLOOKUP($Q576,登録データ!$U$4:$V$19,2,FALSE))","v":"0"},"00","","000000","",0,{"$f":"IF($C576=\"\",\"\",IF($C576=\"@\",0,IF(COUNTIF($C$21:$C$620,$C576)=1,0,1)))","v":""},{"$f":"IF($M576=\"\",\"\",IF(OR($M576=\"東京都\",$M576=\"北海道\",$M576=\"大阪府\",$M576=\"京都府\",RIGHT($M576,1)=\"県\"),0,1))","v":""}]
[null,null,null,null,null,null,null,null,null,null,null,null,null,null,null,null,null,null,"",null,"",null,null,null,null,null,null,null,{"$f":"IF($Q577=\"\",\"0\",VLOOKUP($Q577,登録データ!$U$4:$V$19,2,FALSE))","v":"0"},"00","","000000","",0]
[null,null,null,null,null,null,null,null,null,null,null,null,null,null,null,null,null,null,"",null,"",null,null,null,null,null,null,null,{"$f":"IF($Q578=\"\",\"0\",VLOOKUP($Q578,登録データ!$U$4:$V$19,2,FALSE))","v":"0"},"00","","000000","",0]
[null,187,null,null,null,null,null,null,null,null,null,null,null,null,null,"①",null,null,"",null,"",null,null,null,null,null,null,null,{"$f":"IF($Q579=\"\",\"0\",VLOOKUP($Q579,登録データ!$U$4:$V$19,2,FALSE))","v":"0"},"00","","000000","",0,{"$f":"IF($C579=\"\",\"\",IF($C579=\"@\",0,IF(COUNTIF($C$21:$C$620,$C579)=1,0,1)))","v":""},{"$f":"IF($M579=\"\",\"\",IF(OR($M579=\"東京都\",$M579=\"北海道\",$M579=\"大阪府\",$M579=\"京都府\",RIGHT($M579,1)=\"県\"),0,1))","v":""}]
[null,null,null,null,null,null,null,null,null,null,null,null,null,null,null,null,null,null,"",null,"",null,null,null,null,null,null,null,{"$f":"IF($Q580=\"\",\"0\",VLOOKUP($Q580,登録データ!$U$4:$V$19,2,FALSE))","v":"0"},"00","","000000","",0]
[null,null,null,null,null,null,null,null,null,null,null,null,null,null,null,null,null,null,"",null,"",null,null,null,null,null,null,null,{"$f":"IF($Q581=\"\",\"0\",VLOOKUP($Q581,登録データ!$U$4:$V$19,2,FALSE))","v":"0"},"00","","000000","",0]
[null,188,null,null,null,null,null,null,null,null,null,null,null,null,null,"①",null,null,"",null,"",null,null,null,null,null,null,null,{"$f":"IF($Q582=\"\",\"0\",VLOOKUP($Q582,登録データ!$U$4:$V$19,2,FALSE))","v":"0"},"00","","000000","",0,{"$f":"IF($C582=\"\",\"\",IF($C582=\"@\",0,IF(COUNTIF($C$21:$C$620,$C582)=1,0,1)))","v":""},{"$f":"IF($M582=\"\",\"\",IF(OR($M582=\"東京都\",$M582=\"北海道\",$M582=\"大阪府\",$M582=\"京都府\",RIGHT($M582,1)=\"県\"),0,1))","v":""}]
[null,null,null,null,null,null,null,null,null,null,null,null,null,null,null,null,null,null,"",null,"",null,null,null,null,null,null,null,{"$f":"IF($Q583=\"\",\"0\",VLOOKUP($Q583,登録データ!$U$4:$V$19,2,FALSE))","v":"0"},"00","","000000","",0]
[null,null,null,null,null,null,null,null,null,null,null,null,null,null,null,null,null,null,"",null,"",null,null,null,null,null,null,null,{"$f":"IF($Q584=\"\",\"0\",VLOOKUP($Q584,登録データ!$U$4:$V$19,2,FALSE))","v":"0"},"00","","000000","",0]
[null,189,null,null,null,null,null,null,null,null,null,null,null,null,null,"①",null,null,"",null,"",null,null,null,null,null,null,null,{"$f":"IF($Q585=\"\",\"0\",VLOOKUP($Q585,登録データ!$U$4:$V$19,2,FALSE))","v":"0"},"00","","000000","",0,{"$f":"IF($C585=\"\",\"\",IF($C585=\"@\",0,IF(COUNTIF($C$21:$C$620,$C585)=1,0,1)))","v":""},{"$f":"IF($M585=\"\",\"\",IF(OR($M585=\"東京都\",$M585=\"北海道\",$M585=\"大阪府\",$M585=\"京都府\",RIGHT($M585,1)=\"県\"),0,1))","v":""}]
[null,null,null,null,null,null,null,null,null,null,null,null,null,null,null,null,null,null,"",null,"",null,null,null,null,null,null,null,{"$f":"IF($Q586=\"\",\"0\",VLOOKUP($Q586,登録データ!$U$4:$V$19,2,FALSE))","v":"0"},"00","","000000","",0]
[null,null,null,null,null,null,null,null,null,null,null,null,null,null,null,null,null,null,"",null,"",null,null,null,null,null,null,null,{"$f":"IF($Q587=\"\",\"0\",VLOOKUP($Q587,登録データ!$U$4:$V$19,2,FALSE))","v":"0"},"00","","000000","",0]
[null,190,null,null,null,null,null,null,null,null,null,null,null,null,null,"①",null,null,"",null,"",null,null,null,null,null,null,null,{"$f":"IF($Q588=\"\",\"0\",VLOOKUP($Q588,登録データ!$U$4:$V$19,2,FALSE))","v":"0"},"00","","000000","",0,{"$f":"IF($C588=\"\",\"\",IF($C588=\"@\",0,IF(COUNTIF($C$21:$C$620,$C588)=1,0,1)))","v":""},{"$f":"IF($M588=\"\",\"\",IF(OR($M588=\"東京都\",$M588=\"北海道\",$M588=\"大阪府\",$M588=\"京都府\",RIGHT($M588,1)=\"県\"),0,1))","v":""}]
[null,null,null,null,null,null,null,null,null,null,null,null,null,null,null,null,null,null,"",null,"",null,null,null,null,null,null,null,{"$f":"IF($Q589=\"\",\"0\",VLOOKUP($Q589,登録データ!$U$4:$V$19,2,FALSE))","v":"0"},"00","","000000","",0]
[null,null,null,null,null,null,null,null,null,null,null,null,null,null,null,null,null,null,"",null,"",null,null,null,null,null,null,null,{"$f":"IF($Q590=\"\",\"0\",VLOOKUP($Q590,登録データ!$U$4:$V$19,2,FALSE))","v":"0"},"00","","000000","",0]
[null,191,null,null,null,null,null,null,null,null,null,null,null,null,null,"①",null,null,"",null,"",null,null,null,null,null,null,null,{"$f":"IF($Q591=\"\",\"0\",VLOOKUP($Q591,登録データ!$U$4:$V$19,2,FALSE))","v":"0"},"00","","000000","",0,{"$f":"IF($C591=\"\",\"\",IF($C591=\"@\",0,IF(COUNTIF($C$21:$C$620,$C591)=1,0,1)))","v":""},{"$f":"IF($M591=\"\",\"\",IF(OR($M591=\"東京都\",$M591=\"北海道\",$M591=\"大阪府\",$M591=\"京都府\",RIGHT($M591,1)=\"県\"),0,1))","v":""}]
[null,null,null,null,null,null,null,null,null,null,null,null,null,null,null,null,null,null,"",null,"",null,null,null,null,null,null,null,{"$f":"IF($Q592=\"\",\"0\",VLOOKUP($Q592,登録データ!$U$4:$V$19,2,FALSE))","v":"0"},"00","","000000","",0]
[null,null,null,null,null,null,null,null,null,null,null,null,null,null,null,null,null,null,"",null,"",null,null,null,null,null,null,null,{"$f":"IF($Q593=\"\",\"0\",VLOOKUP($Q593,登録データ!$U$4:$V$19,2,FALSE))","v":"0"},"00","","000000","",0]
[null,192,null,null,null,null,null,null,null,null,null,null,null,null,null,"①",null,null,"",null,"",null,null,null,null,null,null,null,{"$f":"IF($Q594=\"\",\"0\",VLOOKUP($Q594,登録データ!$U$4:$V$19,2,FALSE))","v":"0"},"00","","000000","",0,{"$f":"IF($C594=\"\",\"\",IF($C594=\"@\",0,IF(COUNTIF($C$21:$C$620,$C594)=1,0,1)))","v":""},{"$f":"IF($M594=\"\",\"\",IF(OR($M594=\"東京都\",$M594=\"北海道\",$M594=\"大阪府\",$M594=\"京都府\",RIGHT($M594,1)=\"県\"),0,1))","v":""}]
[null,null,null,null,null,null,null,null,null,null,null,null,null,null,null,null,null,null,"",null,"",null,null,null,null,null,null,null,{"$f":"IF($Q595=\"\",\"0\",VLOOKUP($Q595,登録データ!$U$4:$V$19,2,FALSE))","v":"0"},"00","","000000","",0]
[null,null,null,null,null,null,null,null,null,null,null,null,null,null,null,null,null,null,"",null,"",null,null,null,null,null,null,null,{"$f":"IF($Q596=\"\",\"0\",VLOOKUP($Q596,登録データ!$U$4:$V$19,2,FALSE))","v":"0"},"00","","000000","",0]
[null,193,null,null,null,null,null,null,null,null,null,null,null,null,null,"①",null,null,"",null,"",null,null,null,null,null,null,null,{"$f":"IF($Q597=\"\",\"0\",VLOOKUP($Q597,登録データ!$U$4:$V$19,2,FALSE))","v":"0"},"00","",{"$f":"IF($AE597=2,IF($T597=\"\",\"0000\",CONCATENATE(RIGHT($T597+100,2),$AD597)),IF($T597=\"\",\"000000\",CONCATENATE(RIGHT($R597+100,2),RIGHT($T597+100,2),$AD597)))","v":"000000"},{"$f":"IF($Q597=\"\",\"\",CONCATENATE($AC597,\" \",IF($AE597=1,RIGHT($AF597+10000000,7),RIGHT($AF597+100000,5))))","v":""},0,{"$f":"IF($C597=\"\",\"\",IF($C597=\"@\",0,IF(COUNTIF($C$21:$C$620,$C597)=1,0,1)))","v":""},{"$f":"IF($M597=\"\",\"\",IF(OR($M597=\"東京都\",$M597=\"北海道\",$M597=\"大阪府\",$M597=\"京都府\",RIGHT($M597,1)=\"県\"),0,1))","v":""}]
[null,null,null,null,null,null,null,null,null,null,null,null,null,null,null,null,null,null,{"$f":"IF($Q598=\"\",\"\",IF(OR(RIGHT($Q598,1)=\"m\",RIGHT($Q598,1)=\"H\"),\"分\",\"\"))","v":""},null,{"$f":"IF($Q598=\"\",\"\",IF(OR(RIGHT($Q598,1)=\"m\",RIGHT($Q598,1)=\"H\"),\"秒\",\"m\"))","v":""},null,null,null,null,null,null,null,{"$f":"IF($Q598=\"\",\"0\",VLOOKUP($Q598,登録データ!$U$4:$V$19,2,FALSE))","v":"0"},{"$f":"IF($V598=\"\",\"00\",IF(LEN($V598)=1,$V598*10,$V598))","v":"00"},{"$f":"IF($Q598=\"\",\"\",IF(OR(RIGHT($Q598,1)=\"m\",RIGHT($Q598,1)=\"H\"),1,2))","v":""},"000000","",{"$f":"IF(OR(RIGHT($H594,1)=\"m\",RIGHT($H594,1)=\"H\",RIGHT($H594,1)=\"W\",RIGHT($H594,1)=\"C\"),IF(VALUE($K594)>59,1,0),0)","v":0}]
[null,null,null,null,null,null,null,null,null,null,null,null,null,null,null,null,null,null,"",null,"",null,null,null,null,null,null,null,{"$f":"IF($Q599=\"\",\"0\",VLOOKUP($Q599,登録データ!$U$4:$V$19,2,FALSE))","v":"0"},"00","","000000","",0]
[null,194,null,null,null,null,null,null,null,null,null,null,null,null,null,"①",null,null,"",null,"",null,null,null,null,null,null,null,{"$f":"IF($Q600=\"\",\"0\",VLOOKUP($Q600,登録データ!$U$4:$V$19,2,FALSE))","v":"0"},"00","","000000","",0,{"$f":"IF($C600=\"\",\"\",IF($C600=\"@\",0,IF(COUNTIF($C$21:$C$620,$C600)=1,0,1)))","v":""},{"$f":"IF($M600=\"\",\"\",IF(OR($M600=\"東京都\",$M600=\"北海道\",$M600=\"大阪府\",$M600=\"京都府\",RIGHT($M600,1)=\"県\"),0,1))","v":""}]
[null,null,null,null,null,null,null,null,null,null,null,null,null,null,null,null,null,null,"",null,"",null,null,null,null,null,null,null,{"$f":"IF($Q601=\"\",\"0\",VLOOKUP($Q601,登録データ!$U$4:$V$19,2,FALSE))","v":"0"},"00","","000000","",0]
[null,null,null,null,null,null,null,null,null,null,null,null,null,null,null,null,null,null,"",null,"",null,null,null,null,null,null,null,{"$f":"IF($Q602=\"\",\"0\",VLOOKUP($Q602,登録データ!$U$4:$V$19,2,FALSE))","v":"0"},"00","","000000","",0]
[null,195,null,null,null,null,null,null,null,null,null,null,null,null,null,"①",null,null,"",null,"",null,null,null,null,null,null,null,{"$f":"IF($Q603=\"\",\"0\",VLOOKUP($Q603,登録データ!$U$4:$V$19,2,FALSE))","v":"0"},"00","","000000","",0,{"$f":"IF($C603=\"\",\"\",IF($C603=\"@\",0,IF(COUNTIF($C$21:$C$620,$C603)=1,0,1)))","v":""},{"$f":"IF($M603=\"\",\"\",IF(OR($M603=\"東京都\",$M603=\"北海道\",$M603=\"大阪府\",$M603=\"京都府\",RIGHT($M603,1)=\"県\"),0,1))","v":""}]
[null,null,null,null,null,null,null,null,null,null,null,null,null,null,null,null,null,null,"",null,"",null,null,null,null,null,null,null,{"$f":"IF($Q604=\"\",\"0\",VLOOKUP($Q604,登録データ!$U$4:$V$19,2,FALSE))","v":"0"},"00","","000000","",0]
[null,null,null,null,null,null,null,null,null,null,null,null,null,null,null,null,null,null,"",null,"",null,null,null,null,null,null,null,{"$f":"IF($Q605=\"\",\"0\",VLOOKUP($Q605,登録データ!$U$4:$V$19,2,FALSE))","v":"0"},"00","","000000","",0]
[null,196,null,null,null,null,null,null,null,null,null,null,null,null,null,"①",null,null,"",null,"",null,null,null,null,null,null,null,{"$f":"IF($Q606=\"\",\"0\",VLOOKUP($Q606,登録データ!$U$4:$V$19,2,FALSE))","v":"0"},"00","","000000","",0,{"$f":"IF($C606=\"\",\"\",IF($C606=\"@\",0,IF(COUNTIF($C$21:$C$620,$C606)=1,0,1)))","v":""},{"$f":"IF($M606=\"\",\"\",IF(OR($M606=\"東京都\",$M606=\"北海道\",$M606=\"大阪府\",$M606=\"京都府\",RIGHT($M606,1)=\"県\"),0,1))","v":""}]
[null,null,null,null,null,null,null,null,null,null,null,null,null,null,null,null,null,null,"",null,"",null,null,null,null,null,null,null,{"$f":"IF($Q607=\"\",\"0\",VLOOKUP($Q607,登録データ!$U$4:$V$19,2,FALSE))","v":"0"},"00","","000000","",0]
[null,null,null,null,null,null,null,null,null,null,null,null,null,null,null,null,null,null,"",null,"",null,null,null,null,null,null,null,{"$f":"IF($Q608=\"\",\"0\",VLOOKUP($Q608,登録データ!$U$4:$V$19,2,FALSE))","v":"0"},"00","","000000","",0]
[null,197,null,null,null,null,null,null,null,null,null,null,null,null,null,"①",null,null,"",null,"",null,null,null,null,null,null,null,{"$f":"IF($Q609=\"\",\"0\",VLOOKUP($Q609,登録データ!$U$4:$V$19,2,FALSE))","v":"0"},"00","","000000","",0,{"$f":"IF($C609=\"\",\"\",IF($C609=\"@\",0,IF(COUNTIF($C$21:$C$620,$C609)=1,0,1)))","v":""},{"$f":"IF($M609=\"\",\"\",IF(OR($M609=\"東京都\",$M609=\"北海道\",$M609=\"大阪府\",$M609=\"京都府\",RIGHT($M609,1)=\"県\"),0,1))","v":""}]
[null,null,null,null,null,null,null,null,null,null,null,null,null,null,null,null,null,null,"",null,"",null,null,null,null,null,null,null,{"$f":"IF($Q610=\"\",\"0\",VLOOKUP($Q610,登録データ!$U$4:$V$19,2,FALSE))","v":"0"},"00","","000000","",0]
[null,null,null,null,null,null,null,null,null,null,null,null,null,null,null,null,null,null,"",null,"",null,null,null,null,null,null,null,{"$f":"IF($Q611=\"\",\"0\",VLOOKUP($Q611,登録データ!$U$4:$V$19,2,FALSE))","v":"0"},"00","","000000","",0]
[null,198,null,null,null,null,null,null,null,null,null,null,null,null,null,"①",null,null,"",null,"",null,null,null,null,null,null,null,{"$f":"IF($Q612=\"\",\"0\",VLOOKUP($Q612,登録データ!$U$4:$V$19,2,FALSE))","v":"0"},"00","","000000","",0,{"$f":"IF($C612=\"\",\"\",IF($C612=\"@\",0,IF(COUNTIF($C$21:$C$620,$C612)=1,0,1)))","v":""},{"$f":"IF($M612=\"\",\"\",IF(OR($M612=\"東京都\",$M612=\"北海道\",$M612=\"大阪府\",$M612=\"京都府\",RIGHT($M612,1)=\"県\"),0,1))","v":""}]
[null,null,null,null,null,null,null,null,null,null,null,null,null,null,null,null,null,null,"",null,"",null,null,null,null,null,null,null,{"$f":"IF($Q613=\"\",\"0\",VLOOKUP($Q613,登録データ!$U$4:$V$19,2,FALSE))","v":"0"},"00","","000000","",0]
[null,null,null,null,null,null,null,null,null,null,null,null,null,null,null,null,null,null,"",null,"",null,null,null,null,null,null,null,{"$f":"IF($Q614=\"\",\"0\",VLOOKUP($Q614,登録データ!$U$4:$V$19,2,FALSE))","v":"0"},"00","","000000","",0]
[null,199,null,null,null,null,null,null,null,null,null,null,null,null,null,"①",null,null,"",null,"",null,null,null,null,null,null,null,{"$f":"IF($Q615=\"\",\"0\",VLOOKUP($Q615,登録データ!$U$4:$V$19,2,FALSE))","v":"0"},"00","","000000","",0,{"$f":"IF($C615=\"\",\"\",IF($C615=\"@\",0,IF(COUNTIF($C$21:$C$620,$C615)=1,0,1)))","v":""},{"$f":"IF($M615=\"\",\"\",IF(OR($M615=\"東京都\",$M615=\"北海道\",$M615=\"大阪府\",$M615=\"京都府\",RIGHT($M615,1)=\"県\"),0,1))","v":""}]
[null,null,null,null,null,null,null,null,null,null,null,null,null,null,null,null,null,null,"",null,"",null,null,null,null,null,null,null,{"$f":"IF($Q616=\"\",\"0\",VLOOKUP($Q616,登録データ!$U$4:$V$19,2,FALSE))","v":"0"},"00","","000000","",0]
[null,null,null,null,null,null,null,null,null,null,null,null,null,null,null,null,null,null,"",null,"",null,null,null,null,null,null,null,{"$f":"IF($Q617=\"\",\"0\",VLOOKUP($Q617,登録データ!$U$4:$V$19,2,FALSE))","v":"0"},"00","","000000","",0]
[null,200,null,null,null,null,null,null,null,null,null,null,null,null,null,"①",null,null,"",null,"",null,null,null,null,null,null,null,{"$f":"IF($Q618=\"\",\"0\",VLOOKUP($Q618,登録データ!$U$4:$V$19,2,FALSE))","v":"0"},"00","","000000","",0,{"$f":"IF($C618=\"\",\"\",IF($C618=\"@\",0,IF(COUNTIF($C$21:$C$620,$C618)=1,0,1)))","v":""},{"$f":"IF($M618=\"\",\"\",IF(OR($M618=\"東京都\",$M618=\"北海道\",$M618=\"大阪府\",$M618=\"京都府\",RIGHT($M618,1)=\"県\"),0,1))","v":""}]
[null,null,null,null,null,null,null,null,null,null,null,null,null,null,null,null,null,null,"",null,"",null,null,null,null,null,null,null,{"$f":"IF($Q619=\"\",\"0\",VLOOKUP($Q619,登録データ!$U$4:$V$19,2,FALSE))","v":"0"},"00","","000000","",0]
[null,null,null,null,null,null,null,null,null,null,null,null,null,null,null,null,null,null,"",null,"",null,null,null,null,null,null,null,{"$f":"IF($Q620=\"\",\"0\",VLOOKUP($Q620,登録データ!$U$4:$V$19,2,FALSE))","v":"0"},"00","","000000","",0]

{"sheet":"人数チェック表","index":3,"n_rows":24,"n_cols":12,"rows_kept":24,"cut":false,"hidden":false,"merged":[[10,1,14,1],[17,1,21,1],[0,0,2,13],[4,2,4,4],[4,8,4,10],[6,2,6,4],[6,8,6,10],[8,2,8,4],[8,8,8,10]]}
["学連競技会　人数チェックシート"]
[]
[]
[]
[null,"大学名",{"$f":"IF(基本登録情報!$C7=\"\",\"\",基本登録情報!$C7)","v":""},null,null,null,null,"申込責任者",{"$f":"IF(基本登録情報!$C15=\"\",\"\",基本登録情報!$C15)","v":""},null,null,"印"]
[]
[null,"部長名",{"$f":"IF(基本登録情報!$C10=\"\",\"\",基本登録情報!$C10)","v":""},null,null,"印",null,"電話番号",{"$f":"IF(基本登録情報!$C16=\"\",\"\",基本登録情報!$C16)","v":""}]
[]
[null,"監督名",{"$f":"IF(基本登録情報!$C12=\"\",\"\",基本登録情報!$C12)","v":""},null,null,"印",null,"緊急連絡先",{"$f":"IF(基本登録情報!$C17=\"\",\"\",基本登録情報!$C17)","v":""}]
[]
[null,"男子","100m","200m","400m","800m","1500m","5000m","10000m","110mH","400mH"]
[null,null,{"$f":"COUNTIF(男子様式!$Q$21:$Q$620,人数チェック表!C11)","v":0},{"$f":"COUNTIF(男子様式!$Q$21:$Q$620,人数チェック表!D11)","v":0},{"$f":"COUNTIF(男子様式!$Q$21:$Q$620,人数チェック表!E11)","v":0},{"$f":"COUNTIF(男子様式!$Q$21:$Q$620,人数チェック表!F11)","v":0},{"$f":"COUNTIF(男子様式!$Q$21:$Q$620,人数チェック表!G11)","v":0},{"$f":"COUNTIF(男子様式!$Q$21:$Q$620,人数チェック表!H11)","v":0},{"$f":"COUNTIF(男子様式!$Q$21:$Q$620,人数チェック表!I11)","v":0},{"$f":"COUNTIF(男子様式!$Q$21:$Q$620,人数チェック表!J11)","v":0},{"$f":"COUNTIF(男子様式!$Q$21:$Q$620,人数チェック表!K11)","v":0}]
[]
[null,null,"走幅跳","三段跳","走高跳","棒高跳","砲丸投","ハンマー投","円盤投","やり投","十種競技"]
[null,null,{"$f":"COUNTIF(男子様式!$Q$21:$Q$620,人数チェック表!C14)","v":0},{"$f":"COUNTIF(男子様式!$Q$21:$Q$620,人数チェック表!D14)","v":0},{"$f":"COUNTIF(男子様式!$Q$21:$Q$620,人数チェック表!E14)","v":0},{"$f":"COUNTIF(男子様式!$Q$21:$Q$620,人数チェック表!F14)","v":0},{"$f":"COUNTIF(男子様式!$Q$21:$Q$620,人数チェック表!G14)","v":0},{"$f":"COUNTIF(男子様式!$Q$21:$Q$620,人数チェック表!H14)","v":0},{"$f":"COUNTIF(男子様式!$Q$21:$Q$620,人数チェック表!I14)","v":0},{"$f":"COUNTIF(男子様式!$Q$21:$Q$620,人数チェック表!J14)","v":0},{"$f":"COUNTIF(男子様式!$Q$21:$Q$620,人数チェック表!K14)","v":0}]
[]
[]
[null,"女子","100m","200m","400m","800m","1500m","5000m","10000m","110mH","400mH"]
[null,null,{"$f":"COUNTIF(女子様式!$Q$21:$Q$620,人数チェック表!C18)","v":0},{"$f":"COUNTIF(女子様式!$Q$21:$Q$620,人数チェック表!D18)","v":0},{"$f":"COUNTIF(女子様式!$Q$21:$Q$620,人数チェック表!E18)","v":0},{"$f":"COUNTIF(女子様式!$Q$21:$Q$620,人数チェック表!F18)","v":0},{"$f":"COUNTIF(女子様式!$Q$21:$Q$620,人数チェック表!G18)","v":0},{"$f":"COUNTIF(女子様式!$Q$21:$Q$620,人数チェック表!H18)","v":0},{"$f":"COUNTIF(女子様式!$Q$21:$Q$620,人数チェック表!I18)","v":0},{"$f":"COUNTIF(女子様式!$Q$21:$Q$620,人数チェック表!J18)","v":0},{"$f":"COUNTIF(女子様式!$Q$21:$Q$620,人数チェック表!K18)","v":0}]
[]
[null,null,"走幅跳","三段跳","走高跳","棒高跳","砲丸投","ハンマー投","円盤投","やり投","七種競技"]
[null,null,{"$f":"COUNTIF(女子様式!$Q$21:$Q$620,C21)","v":0},{"$f":"COUNTIF(女子様式!$Q$21:$Q$620,D21)","v":0},{"$f":"COUNTIF(女子様式!$Q$21:$Q$620,E21)","v":0},{"$f":"COUNTIF(女子様式!$Q$21:$Q$620,F21)","v":0},{"$f":"COUNTIF(女子様式!$Q$21:$Q$620,G21)","v":0},{"$f":"COUNTIF(女子様式!$Q$21:$Q$620,H21)","v":0},{"$f":"COUNTIF(女子様式!$Q$21:$Q$620,I21)","v":0},{"$f":"COUNTIF(女子様式!$Q$21:$Q$620,J21)","v":0},{"$f":"COUNTIF(女子様式!$Q$21:$Q$620,K21)","v":0}]
[]
[null,"郵送をしてください"]

{"sheet":"明細書","index":4,"n_rows":32,"n_cols":7,"rows_kept":32,"cut":false,"hidden":false,"merged":[[17,2,17,6],[12,2,13,6],[27,2,28,2],[27,3,28,6],[31,1,54,7],[0,0,2,7],[20,2,20,3],[20,4,20,6],[22,2,25,2],[22,3,22,6],[23,3,23,6],[24,3,24,6],[25,3,25,6],[4,2,4,6],[6,2,6,6],[8,2,8,6],[10,2,10,6],[14,2,14,6]]}
["学連競技会　明細書"]
[]
[]
[]
[null,"大学名",{"$f":"IF(基本登録情報!$C7=\"\",\"\",基本登録情報!$C7)","v":""}]
[]
[null,"申込責任者",{"$f":"IF(基本登録情報!$C15=\"\",\"\",基本登録情報!$C15)","v":""}]
[]
[null,"電話番号",{"$f":"IF(基本登録情報!$C16=\"\",\"\",基本登録情報!$C16)","v":""}]
[]
[null,"緊急連絡先",{"$f":"IF(基本登録情報!$C17=\"\",\"\",基本登録情報!$C17)","v":""}]
[]
[null,null,"(明細)"]
[]
[null,null,"男子"]
[null,null,"個人種目",1000,"×",{"$f":"男子様式!Q7","v":0},{"$f":"D16*F16","v":0}]
[]
[null,null,"女子"]
[null,null,"個人種目",1000,"×",{"$f":"女子様式!Q7","v":0},{"$f":"D19*F19","v":0}]
[]
[null,null,"合計",null,{"$f":"G16+G19","v":0}]
[]
[null,null,"振込先","西日本シティ銀行　港町支店　普通口座"]
[null,null,null,"九州学生陸上競技連盟　　　　会計　乙藤　祐樹"]
[null,null,null,"(ｷｭｳｼｭｳｶﾞｸｾｲﾘｸｼﾞｮｳｷｮｳｷﾞﾚﾝﾒｲ ｶｲｹｲ  ｵﾄﾌｼﾞ ﾕｳｷ）"]
[null,null,null,"口座番号：3058189"]
[]
[null,null,"領収書","必要"]
[]
[]
[]
[null,"領収書\n貼り付け欄"]

{"sheet":"登録データ","index":5,"n_rows":82,"n_cols":40,"rows_kept":82,"cut":false,"hidden":false,"merged":[[0,16,0,22],[0,23,0,24],[3,25,5,25],[0,38,0,39],[0,8,0,12]]}
[null,null,null,null,null,null,null,null,"加盟校情報",null,null,null,null,null,null,null,"種目情報",null,null,null,null,null,null,"参加料",null,null,null,null,null,null,null,null,null,null,null,null,null,null,"都道府県コード"]
[null,null,null,null,null,null,null,null,null,null,null,null,"KC",null,null,null,"男子",null,null,null,"女子",null,null,null,null,null,null,null,null,null,null,null,null,null,null,null,null,null,"北海道","01"]
[null,null,null,null,null,null,null,null,"活水女子大学","ｶｯｽｲｼﾞｮｼﾀﾞｲｶﾞｸ","492325","活水女子大","42",null,null,null,null,null,null,null,null,null,null,null,null,null,null,null,null,null,null,null,null,null,null,null,null,null,"青森県","02"]
[null,null,null,null,null,null,null,null,"久留米大学","ｸﾙﾒﾀﾞｲｶﾞｸ","492276","久留米大","40",null,null,null,"100m","00200",1175,null,"100m","00200",null,null,null,"○","必要",null,null,null,null,null,null,null,null,null,null,null,"岩手県","03"]
[null,null,null,null,null,null,null,null,"宮崎公立大学","ﾐﾔｻﾞｷｺｳﾘﾂﾀﾞｲｶﾞｸ","491048","宮﨑公立大","45",null,null,null,"200m","00300",2350,null,"200m","00300",null,null,null,null,"不必要",null,null,null,null,null,null,null,null,null,null,null,"宮城県","04"]
[null,null,null,null,null,null,null,null,"宮崎大学","ﾐﾔｻﾞｷﾀﾞｲｶﾞｸ","490109","宮崎大","45",null,null,null,"400m","00500",5400,null,"400m","00500",null,null,null,null,null,null,null,null,null,null,null,null,null,null,null,null,"秋田県","05"]
[null,null,null,null,null,null,null,null,"九州工業大学","ｷｭｳｼｭｳｺｳｷﾞｮｳﾀﾞｲｶﾞｸ","490071","九州工業大","40",null,null,null,"800m","00600",20800,null,"800m","00600",null,null,null,null,null,null,null,null,null,null,null,null,null,null,null,null,"山形県","06"]
[null,null,null,null,null,null,null,null,"九州産業大学","ｷｭｳｼｭｳｻﾝｷﾞｮｳﾀﾞｲｶﾞｸ","492274","九州産業大","40",null,null,null,"1500m","00800",43000,null,"1500m","00800",null,null,null,null,null,null,null,null,null,null,null,null,null,null,null,null,"福島県","07"]
[null,null,null,null,null,null,null,null,"九州情報大学","ｷｭｳｼｭｳｼﾞｮｳﾎｳﾀﾞｲｶﾞｸ","492443","九州情報大","40",null,null,null,"5000m","01100",163000,null,"5000m","01100",null,null,null,null,null,null,null,null,null,null,null,null,null,null,null,null,"茨城県","08"]
[null,null,null,null,null,null,null,null,"九州大学","ｷｭｳｼｭｳﾀﾞｲｶﾞｸ","490069","九州大","40",null,null,null,"110mH","03400",1660,null,"100mH","04400",null,null,null,null,null,null,null,null,null,null,null,null,null,null,null,null,"栃木県","09"]
[null,null,null,null,null,null,null,null,"九州保健福祉大学","ｷｭｳｼｭｳﾎｹﾝﾌｸｼﾀﾞｲｶﾞｸ","492458","九州保健福祉大","45",null,null,null,"400mH","03700",6000,null,"400mH","03600",null,null,null,null,null,null,null,null,null,null,null,null,null,null,null,null,"群馬県","10"]
[null,null,null,null,null,null,null,null,"佐賀大学","ｻｶﾞﾀﾞｲｶﾞｸ","490107","佐賀大","41",null,null,null,"走高跳","07100",175,null,"走高跳","07100",null,null,null,null,null,null,null,null,null,null,null,null,null,null,null,null,"埼玉県","11"]
[null,null,null,null,null,null,null,null,"鹿児島大学","ｶｺﾞｼﾏﾀﾞｲｶﾞｸ","490077","鹿児島大","46",null,null,null,"棒高跳","07200",360,null,"棒高跳","07200",null,null,null,null,null,null,null,null,null,null,null,null,null,null,null,null,"千葉県","12"]
[null,null,null,null,null,null,null,null,"西南学院大学","ｾｲﾅﾝｶﾞｸｲﾝﾀﾞｲｶﾞｸ","492277","西南学院大","40",null,null,null,"走幅跳","07300",630,null,"走幅跳","07300",null,null,null,null,null,null,null,null,null,null,null,null,null,null,null,null,"東京都","13"]
[null,null,null,null,null,null,null,null,"折尾愛真短期大学","ｵﾘｵｱｲｼﾝﾀﾝｷﾀﾞｲｶﾞｸ","495380","折尾愛真大","40",null,null,null,"三段跳","07400",1300,null,"三段跳","07400",null,null,null,null,null,null,null,null,null,null,null,null,null,null,null,null,"神奈川県","14"]
[null,null,null,null,null,null,null,null,"第一工業大学","ﾀﾞｲｲﾁｺｳｷﾞｮｳﾀﾞｲｶﾞｸ","492296","第一工業大","46",null,null,null,"砲丸投","08100",1135,null,"砲丸投","08400",null,null,null,null,null,null,null,null,null,null,null,null,null,null,null,null,"新潟県","15"]
[null,null,null,null,null,null,null,null,"産業医科大学","ｻﾝｷﾞｮｳｲｶﾀﾞｲｶﾞｸ","492314","産業医科大","40",null,null,null,"円盤投","08600",3000,null,"円盤投","08800",null,null,null,null,null,null,null,null,null,null,null,null,null,null,null,null,"富山県","16"]
[null,null,null,null,null,null,null,null,"志學館大学","ｼｶﾞｸｶﾝﾀﾞｲｶﾞｸ","492318","志學館大","46",null,null,null,"ハンマー投","08900",3600,null,"ハンマー投","09400",null,null,null,null,null,null,null,null,null,null,null,null,null,null,null,null,"石川県","17"]
[null,null,null,null,null,null,null,null,"鹿屋体育大学","ｶﾉﾔﾀｲｲｸﾀﾞｲｶﾞｸ","490096","鹿屋体育大","46",null,null,null,"やり投","09200",4500,null,"やり投","09300",null,null,null,null,null,null,null,null,null,null,null,null,null,null,null,null,"福井県","18"]
[null,null,null,null,null,null,null,null,"鹿児島国際大学","ｶｺﾞｼﾏｺｸｻｲﾀﾞｲｶﾞｸ","492295","鹿児島国際大","46",null,null,null,null,null,null,null,null,null,null,null,null,null,null,null,null,null,null,null,null,null,null,null,null,null,"山梨県","19"]
[null,null,null,null,null,null,null,null,"大分大学","ｵｵｲﾀﾀﾞｲｶﾞｸ","490108","大分大","44",null,null,null,null,null,null,null,{"$f":"IF([1]基本情報登録!$D$10=\"\",\"\",IF([1]基本情報登録!$D$10=[1]登録データ!F21,1,0))","v":0},null,null,null,null,null,null,null,null,null,null,null,null,null,null,null,null,null,"長野県","20"]
[null,null,null,null,null,null,null,null,"長崎県立大学","ﾅｶﾞｻｷｹﾝﾘﾂﾀﾞｲｶﾞｸ","491092","長崎県立大","42",null,null,null,null,null,null,null,null,null,null,null,null,null,null,null,null,null,null,null,null,null,null,null,null,null,"岐阜県","21"]
[null,null,null,null,null,null,null,null,"東海大学九州","ﾄｳｶｲﾀﾞｲｶﾞｸｷｭｳｼｭｳ","499802","東海大学九州","43",null,null,null,null,null,null,null,null,null,null,null,null,null,null,null,null,null,null,null,null,null,null,null,null,null,"静岡県","22"]
[null,null,null,null,null,null,null,null,"福岡大学","ﾌｸｵｶﾀﾞｲｶﾞｸ","492283","福岡大","40",null,null,null,null,null,null,null,null,null,null,null,"",null,null,null,null,null,null,null,null,null,null,null,null,null,"愛知県","23"]
[null,null,null,null,null,null,null,null,"長崎国際大学","ﾅｶﾞｻｷｺｸｻｲﾀﾞｲｶﾞｸ","492479","長崎国際大","42",null,null,null,null,null,null,null,null,null,null,null,null,null,null,null,null,null,null,null,null,null,null,null,null,null,"三重県","24"]
[null,null,null,null,null,null,null,null,"宮崎国際大学","ﾐﾔｻﾞｷｺｸｻｲﾀﾞｲｶﾞｸ","492405","宮崎国際大","45",null,null,null,null,null,null,null,null,null,null,null,null,null,null,null,null,null,null,null,null,null,null,null,null,null,"滋賀県","25"]
[null,null,null,null,null,null,null,null,"福岡教育大学","ﾌｸｵｶｷｮｳｲｸﾀﾞｲｶﾞｸ","490068","福岡教育大","40",null,null,null,null,null,null,null,null,null,null,null,null,null,null,null,null,null,null,null,null,null,null,null,null,null,"京都府","26"]
[null,null,null,null,null,null,null,null,"北九州市立大学","ｷﾀｷｭｳｼｭｳｼﾘﾂﾀﾞｲｶﾞｸ","491028","北九州市立大","40",null,null,null,null,null,null,null,null,null,null,null,null,null,null,null,null,null,null,null,null,null,null,null,null,null,"大阪府","27"]
[null,null,null,null,null,null,null,null,"九州共立大学","ｷｭｳｼｭｳｷｮｳﾘﾂﾀﾞｲｶﾞｸ","492273","九州共立大","40",null,null,null,null,null,null,null,null,null,null,null,null,null,null,null,null,null,null,null,null,null,null,null,null,null,"兵庫県","28"]
[null,null,null,null,null,null,null,null,"日本文理大学","ﾆｯﾎﾟﾝﾌﾞﾝﾘﾀﾞｲｶﾞｸ","492292","日本文理大","44",null,null,null,null,null,null,null,null,null,null,null,null,null,null,null,null,null,null,null,null,null,null,null,null,null,"奈良県","29"]
[null,null,null,null,null,null,null,null,"沖縄国際大学","ｵｷﾅﾜｺｸｻｲﾀﾞｲｶﾞｸ","492298","沖縄国際大","47",null,null,null,null,null,null,null,null,null,null,null,null,null,null,null,null,null,null,null,null,null,null,null,null,null,"和歌山県","30"]
[null,null,null,null,null,null,null,null,"沖縄大学","ｵｷﾅﾜﾀﾞｲｶﾞｸ","492297","沖縄大","47",null,null,null,null,null,null,null,null,null,null,null,null,null,null,null,null,null,null,null,null,null,null,null,null,null,"鳥取県","31"]
[null,null,null,null,null,null,null,null,"久留米工業大学","ｸﾙﾒｺｳｷﾞｮｳﾀﾞｲｶﾞｸ","492308","久留米工業","40",null,null,null,null,null,null,null,null,null,null,null,null,null,null,null,null,null,null,null,null,null,null,null,null,null,"島根県","32"]
[null,null,null,null,null,null,null,null,"宮崎産業経営大学","ﾐﾔｻﾞｷｻﾝｷﾞｮｳｹｲｴｲﾀﾞｲｶﾞｸ","492343","宮崎産業経","45",null,null,null,null,null,null,null,null,null,null,null,null,null,null,null,null,null,null,null,null,null,null,null,null,null,"岡山県","33"]
[null,null,null,null,null,null,null,null,"九州国際大学","ｷｭｳｼｭｳｺｸｻｲﾀﾞｲｶﾞｸ","492286","九州国際大","40",null,null,null,null,null,null,null,null,null,null,null,null,null,null,null,null,null,null,null,null,null,null,null,null,null,"広島県","34"]
[null,null,null,null,null,null,null,null,"熊本大学","ｸﾏﾓﾄﾀﾞｲｶﾞｸ",490074,"熊本大","43",null,null,null,null,null,null,null,null,null,null,null,null,null,null,null,null,null,null,null,null,null,null,null,null,null,"山口県","35"]
[null,null,null,null,null,null,null,null,"佐世保工業高等専門学校","ｻｾﾎﾞｺｳｷﾞｮｳｺｳﾄｳｾﾝﾓﾝｶﾞｯｺｳ",496048,"佐世保工業","42",null,null,null,null,null,null,null,null,null,null,null,null,null,null,null,null,null,null,null,null,null,null,null,null,null,"徳島県","36"]
[null,null,null,null,null,null,null,null,"鹿児島工業高等専門学校","ｶｺﾞｼﾏｺｳｷﾞｮｳｺｳﾄｳｾﾝﾓﾝｶﾞｯｺｳ","496052","鹿児島工業","46",null,null,null,null,null,null,null,null,null,null,null,null,null,null,null,null,null,null,null,null,null,null,null,null,null,"香川県","37"]
[null,null,null,null,null,null,null,null,"西九州大学","ﾆｼｷｭｳｼｭｳﾀﾞｲｶﾞｸ","492287","西九州大学","41",null,null,null,null,null,null,null,null,null,null,null,null,null,null,null,null,null,null,null,null,null,null,null,null,null,"愛媛県","38"]
[null,null,null,null,null,null,null,null,"長崎総合科学大学","ﾅｶﾞｻｷｿｳｺﾞｳｶｶﾞｸﾀﾞｲｶﾞｸ","492288","長崎総合科","42",null,null,null,null,null,null,null,null,null,null,null,null,null,null,null,null,null,null,null,null,null,null,null,null,null,"高知県","39"]
[null,null,null,null,null,null,null,null,"長崎大学","ﾅｶﾞｻｷﾀﾞｲｶﾞｸ","490073","長崎大","42",null,null,null,null,null,null,null,null,null,null,null,null,null,null,null,null,null,null,null,null,null,null,null,null,null,"福岡県","40"]
[null,null,null,null,null,null,null,null,"福岡工業大学","ﾌｸｵｶｺｳｷﾞｮｳﾀﾞｲｶﾞｸ","492284","福岡工業大","40",null,null,null,null,null,null,null,null,null,null,null,null,null,null,null,null,null,null,null,null,null,null,null,null,null,"佐賀県","41"]
[null,null,null,null,null,null,null,null,"北九州工業高等専門学校","ｷﾀｷｭｳｼｭｳｺｳｷﾞｮｳｺｳﾄｳｾﾝﾓﾝｶﾞｯｺｳ","496047","北九州工業","40",null,null,null,null,null,null,null,null,null,null,null,null,null,null,null,null,null,null,null,null,null,null,null,null,null,"長崎県","42"]
[null,null,null,null,null,null,null,null,"名桜大学","ﾒｲｵｳﾀﾞｲｶﾞｸ","491099","名桜大","47",null,null,null,null,null,null,null,null,null,null,null,null,null,null,null,null,null,null,null,null,null,null,null,null,null,"熊本県","43"]
[null,null,null,null,null,null,null,null,"大分工業高等専門学校","ｵｵｲﾀｺｳｷﾞｮｳｺｳﾄｳｾﾝﾓﾝｶﾞｯｺｳ","496050","大分工業高","44",null,null,null,null,null,null,null,null,null,null,null,null,null,null,null,null,null,null,null,null,null,null,null,null,null,"大分県","44"]
[null,null,null,null,null,null,null,null,"熊本学園大学","ｸﾏﾓﾄｶﾞｸｴﾝﾀﾞｲｶﾞｸ","492291","熊本学園大","43",null,null,null,null,null,null,null,null,null,null,null,null,null,null,null,null,null,null,null,null,null,null,null,null,null,"宮崎県","45"]
[null,null,null,null,null,null,null,null,"西日本工業大学","ﾆｼﾆｯﾎﾟﾝｺｳｷﾞｮｳﾀﾞｲｶﾞｸ","492282","西日本工業大","40",null,null,null,null,null,null,null,null,null,null,null,null,null,null,null,null,null,null,null,null,null,null,null,null,null,"鹿児島県","46"]
[null,null,null,null,null,null,null,null,"琉球大学","ﾘｭｳｷｭｳﾀﾞｲｶﾞｸ","490078","琉球大","47",null,null,null,null,null,null,null,null,null,null,null,null,null,null,null,null,null,null,null,null,null,null,null,null,null,"沖縄県","47"]
[null,null,null,null,null,null,null,null,"崇城大学","ｿｳｼﾞｮｳﾀﾞｲｶﾞｸ","492290","崇城大","43"]
[null,null,null,null,null,null,null,null,"近畿大学九州","ｷﾝｷﾀﾞｲｶﾞｸｷｭｳｼｭｳ","499801","近畿大九州","40"]
[null,null,null,null,null,null,null,null,"九州歯科大学","ｷｭｳｼｭｳｼｶﾀﾞｲｶﾞｸ","491029","九州歯科大","40"]
[null,null,null,null,null,null,null,null,"福岡女子大学","ﾌｸｵｶｼﾞｮｼﾀﾞｲｶﾞｸ",491030,"福岡女子大","40"]
[]
[null,null,null,null,null,null,null,null,"今村病院","ｲﾏﾑﾗﾋﾞｮｳｲﾝ",500001,"今村病院",41]
[null,null,null,null,null,null,null,null,"福岡大学クラブ","ﾌｸｵｶﾀﾞｲｶﾞｸｸﾗﾌﾞ",500002,"福岡大学クラブ",40]
[null,null,null,null,null,null,null,null,"九電工","ｷｭｳﾃﾞﾝｺｳ",500003,"九電工",40]
[null,null,null,null,null,null,null,null,"松美屋","ﾏﾂﾐﾔ",500004,"松美屋",40]
[null,null,null,null,null,null,null,null,"大阪桐蔭高等学校","ｵｵｻｶﾄｳｲﾝｺｳﾄｳｶﾞｯｺｳ",500005,"大阪桐蔭高",27]
[null,null,null,null,null,null,null,null,null,null,500006]
[null,null,null,null,null,null,null,null,null,null,500007]
[null,null,null,null,null,null,null,null,null,null,500008]
[null,null,null,null,null,null,null,null,null,null,500009]
[null,null,null,null,null,null,null,null,null,null,500010]
[null,null,null,null,null,null,null,null,null,null,500011]
[null,null,null,null,null,null,null,null,null,null,500012]
[null,null,null,null,null,null,null,null,null,null,500013]
[null,null,null,null,null,null,null,null,null,null,500014]
[null,null,null,null,null,null,null,null,null,null,500015]
[null,null,null,null,null,null,null,null,null,null,500016]
[null,null,null,null,null,null,null,null,null,null,500017]
[null,null,null,null,null,null,null,null,null,null,500018]
[null,null,null,null,null,null,null,null,null,null,500019]
[null,null,null,null,null,null,null,null,null,null,500020]
[null,null,null,null,null,null,null,null,null,null,500021]
[null,null,null,null,null,null,null,null,null,null,500022]
[null,null,null,null,null,null,null,null,null,null,500023]
[null,null,null,null,null,null,null,null,null,null,500024]
[null,null,null,null,null,null,null,null,null,null,500025]
[null,null,null,null,null,null,null,null,null,null,500026]
[null,null,null,null,null,null,null,null,null,null,500027]
[null,null,null,null,null,null,null,null,null,null,500028]
[null,null,null,null,null,null,null,null,null,null,500029]

{"sheet":"男子mat","index":6,"n_rows":724,"n_cols":13,"rows_kept":724,"cut":false,"hidden":false,"merged":[]}
[null,"ZKチェック","DB","N1","N2","N3","SX","MC","KC","ZK","S1","S2","S3"]
[1,{"$f":"IF(男子様式!$C21=\"\",\"\",IF(男子様式!$C21=\"@\",\"@\",男子様式!$C21))","v":""},{"$f":"IF(男子様式!$C21=\"\",\"\",IF($B2=\"@\",\"@\",$B2+100000000))","v":""},{"$f":"IF($C2=\"\",\"\",CONCATENATE(男子様式!$D21,\" \",男子様式!$J21))","v":""},{"$f":"IF($C2=\"\",\"\",男子様式!$G21)","v":""},{"$f":"CONCATENATE(OFFSET(男子様式!$J$18,3*A2,0),\" \",IF(LEN(OFFSET(男子様式!$L$18,A2*3,0))=0,,\"(\"),LEFT(OFFSET(男子様式!$L$18,A2*3,0),2),IF(LEN(OFFSET(男子様式!$J$18,A2*3,0))=0,,\")\"))","v":" "},{"$f":"IF($C2=\"\",\"\",1)","v":""},{"$f":"IF($C2=\"\",\"\",VLOOKUP(基本登録情報!$C$7,登録データ!$I$3:$L$100,3,FALSE))","v":""},{"$f":"IF($C2=\"\",\"\",VLOOKUP(OFFSET(男子様式!$O$18,3*A2,0),登録データ!AM2:AN48,2,FALSE))","v":""},{"$f":"IF($C2=\"\",\"\",IF($C2=\"@\",\"@\",VALUE(RIGHT($C2,4))))","v":""},{"$f":"IF(男子様式!$AG21=\"\",\"\",男子様式!$AG21)","v":""},{"$f":"IF(男子様式!$AG22=\"\",\"\",男子様式!$AG22)","v":""},{"$f":"IF(男子様式!$AG23=\"\",\"\",男子様式!$AG23)","v":""}]
[2,{"$f":"IF(男子様式!C24=\"\",\"\",IF(男子様式!C24=\"@\",\"@\",男子様式!C24))","v":""},{"$f":"IF(男子様式!C24=\"\",\"\",IF($B3=\"@\",\"@\",$B3+100000000))","v":""},{"$f":"IF($C3=\"\",\"\",CONCATENATE(男子様式!$D22,\" \",男子様式!$J22))","v":""},{"$f":"IF($C3=\"\",\"\",男子様式!$G24)","v":""},{"$f":"CONCATENATE(OFFSET(男子様式!$J$18,3*A3,0),\" \",IF(LEN(OFFSET(男子様式!$L$18,A3*3,0))=0,,\"(\"),LEFT(OFFSET(男子様式!$L$18,A3*3,0),2),IF(LEN(OFFSET(男子様式!$J$18,A3*3,0))=0,,\")\"))","v":" "},{"$f":"IF($C3=\"\",\"\",1)","v":""},{"$f":"IF($C3=\"\",\"\",VLOOKUP(基本登録情報!$C$7,登録データ!$I$3:$L$100,3,FALSE))","v":""},{"$f":"IF($C3=\"\",\"\",VLOOKUP(OFFSET(男子様式!$O$18,3*A3,0),登録データ!AM3:AN49,2,FALSE))","v":""},{"$f":"IF($C3=\"\",\"\",IF($C3=\"@\",\"@\",VALUE(RIGHT($C3,4))))","v":""},{"$f":"IF(男子様式!$AG24=\"\",\"\",男子様式!$AG24)","v":""},{"$f":"IF(男子様式!$AG25=\"\",\"\",男子様式!$AG25)","v":""},{"$f":"IF(男子様式!$AG26=\"\",\"\",男子様式!$AG26)","v":""}]
[3,{"$f":"IF(男子様式!$C27=\"\",\"\",IF(男子様式!C27=\"@\",\"@\",男子様式!C27))","v":""},{"$f":"IF(男子様式!$C27=\"\",\"\",IF($B4=\"@\",\"@\",$B4+100000000))","v":""},{"$f":"IF($C4=\"\",\"\",CONCATENATE(男子様式!$D23,\" \",男子様式!$J23))","v":""},{"$f":"IF($C4=\"\",\"\",男子様式!$G27)","v":""},{"$f":"CONCATENATE(OFFSET(男子様式!$J$18,3*A4,0),\" \",IF(LEN(OFFSET(男子様式!$L$18,A4*3,0))=0,,\"(\"),LEFT(OFFSET(男子様式!$L$18,A4*3,0),2),IF(LEN(OFFSET(男子様式!$J$18,A4*3,0))=0,,\")\"))","v":" "},"",{"$f":"IF($C4=\"\",\"\",VLOOKUP(基本登録情報!$C$7,登録データ!$I$3:$L$100,3,FALSE))","v":""},{"$f":"IF($C4=\"\",\"\",VLOOKUP(OFFSET(男子様式!$O$18,3*A4,0),登録データ!AM4:AN50,2,FALSE))","v":""},"",{"$f":"IF(男子様式!$AG27=\"\",\"\",男子様式!$AG27)","v":""},{"$f":"IF(男子様式!$AG28=\"\",\"\",男子様式!$AG28)","v":""},{"$f":"IF(男子様式!$AG29=\"\",\"\",男子様式!$AG29)","v":""}]
[4,{"$f":"IF(男子様式!$C30=\"\",\"\",IF(男子様式!$C30=\"@\",\"@\",男子様式!$C30))","v":""},{"$f":"IF(男子様式!$C30=\"\",\"\",IF($B5=\"@\",\"@\",$B5+100000000))","v":""},{"$f":"IF($C5=\"\",\"\",CONCATENATE(男子様式!$D24,\" \",男子様式!$J24))","v":""},{"$f":"IF($C5=\"\",\"\",男子様式!$G30)","v":""},{"$f":"CONCATENATE(OFFSET(男子様式!$J$18,3*A5,0),\" \",IF(LEN(OFFSET(男子様式!$L$18,A5*3,0))=0,,\"(\"),LEFT(OFFSET(男子様式!$L$18,A5*3,0),2),IF(LEN(OFFSET(男子様式!$J$18,A5*3,0))=0,,\")\"))","v":" "},"",{"$f":"IF($C5=\"\",\"\",VLOOKUP(基本登録情報!$C$7,登録データ!$I$3:$L$100,3,FALSE))","v":""},{"$f":"IF($C5=\"\",\"\",VLOOKUP(OFFSET(男子様式!$O$18,3*A5,0),登録データ!AM5:AN51,2,FALSE))","v":""},"",{"$f":"IF(男子様式!$AG30=\"\",\"\",男子様式!$AG30)","v":""},{"$f":"IF(男子様式!$AG31=\"\",\"\",男子様式!$AG31)","v":""},{"$f":"IF(男子様式!$AG32=\"\",\"\",男子様式!$AG32)","v":""}]
[5,{"$f":"IF(男子様式!$C33=\"\",\"\",IF(男子様式!$C33=\"@\",\"@\",男子様式!$C33))","v":""},{"$f":"IF(男子様式!$C33=\"\",\"\",IF($B6=\"@\",\"@\",$B6+100000000))","v":""},{"$f":"IF($C6=\"\",\"\",CONCATENATE(男子様式!$D25,\" \",男子様式!$J25))","v":""},{"$f":"IF($C6=\"\",\"\",男子様式!$G33)","v":""},{"$f":"CONCATENATE(OFFSET(男子様式!$J$18,3*A6,0),\" \",IF(LEN(OFFSET(男子様式!$L$18,A6*3,0))=0,,\"(\"),LEFT(OFFSET(男子様式!$L$18,A6*3,0),2),IF(LEN(OFFSET(男子様式!$J$18,A6*3,0))=0,,\")\"))","v":" "},"",{"$f":"IF($C6=\"\",\"\",VLOOKUP(基本登録情報!$C$7,登録データ!$I$3:$L$100,3,FALSE))","v":""},{"$f":"IF($C6=\"\",\"\",VLOOKUP(OFFSET(男子様式!$O$18,3*A6,0),登録データ!AM6:AN52,2,FALSE))","v":""},"",{"$f":"IF(男子様式!$AG33=\"\",\"\",男子様式!$AG33)","v":""},{"$f":"IF(男子様式!$AG34=\"\",\"\",男子様式!$AG34)","v":""},{"$f":"IF(男子様式!$AG35=\"\",\"\",男子様式!$AG35)","v":""}]
[6,{"$f":"IF(男子様式!$C36=\"\",\"\",IF(男子様式!$C36=\"@\",\"@\",男子様式!$C36))","v":""},{"$f":"IF(男子様式!$C36=\"\",\"\",IF($B7=\"@\",\"@\",$B7+100000000))","v":""},{"$f":"IF($C7=\"\",\"\",CONCATENATE(男子様式!$D26,\" \",男子様式!$J26))","v":""},{"$f":"IF($C7=\"\",\"\",男子様式!$G36)","v":""},{"$f":"CONCATENATE(OFFSET(男子様式!$J$18,3*A7,0),\" \",IF(LEN(OFFSET(男子様式!$L$18,A7*3,0))=0,,\"(\"),LEFT(OFFSET(男子様式!$L$18,A7*3,0),2),IF(LEN(OFFSET(男子様式!$J$18,A7*3,0))=0,,\")\"))","v":" "},"",{"$f":"IF($C7=\"\",\"\",VLOOKUP(基本登録情報!$C$7,登録データ!$I$3:$L$100,3,FALSE))","v":""},{"$f":"IF($C7=\"\",\"\",VLOOKUP(OFFSET(男子様式!$O$18,3*A7,0),登録データ!AM7:AN53,2,FALSE))","v":""},"",{"$f":"IF(男子様式!$AG36=\"\",\"\",男子様式!$AG36)","v":""},{"$f":"IF(男子様式!$AG37=\"\",\"\",男子様式!$AG37)","v":""},{"$f":"IF(男子様式!$AG38=\"\",\"\",男子様式!$AG38)","v":""}]
[7,{"$f":"IF(男子様式!$C39=\"\",\"\",IF(男子様式!$C39=\"@\",\"@\",男子様式!$C39))","v":""},{"$f":"IF(男子様式!$C39=\"\",\"\",IF($B8=\"@\",\"@\",$B8+100000000))","v":""},{"$f":"IF($C8=\"\",\"\",CONCATENATE(男子様式!$D27,\" \",男子様式!$J27))","v":""},{"$f":"IF($C8=\"\",\"\",男子様式!$G39)","v":""},{"$f":"CONCATENATE(OFFSET(男子様式!$J$18,3*A8,0),\" \",IF(LEN(OFFSET(男子様式!$L$18,A8*3,0))=0,,\"(\"),LEFT(OFFSET(男子様式!$L$18,A8*3,0),2),IF(LEN(OFFSET(男子様式!$J$18,A8*3,0))=0,,\")\"))","v":" "},"",{"$f":"IF($C8=\"\",\"\",VLOOKUP(基本登録情報!$C$7,登録データ!$I$3:$L$100,3,FALSE))","v":""},{"$f":"IF($C8=\"\",\"\",VLOOKUP(OFFSET(男子様式!$O$18,3*A8,0),登録データ!AM8:AN54,2,FALSE))","v":""},"",{"$f":"IF(男子様式!$AG39=\"\",\"\",男子様式!$AG39)","v":""},{"$f":"IF(男子様式!$AG40=\"\",\"\",男子様式!$AG40)","v":""},{"$f":"IF(男子様式!$AG41=\"\",\"\",男子様式!$AG41)","v":""}]
[8,{"$f":"IF(男子様式!$C42=\"\",\"\",IF(男子様式!$C42=\"@\",\"@\",男子様式!$C42))","v":""},{"$f":"IF(男子様式!$C42=\"\",\"\",IF($B9=\"@\",\"@\",$B9+100000000))","v":""},{"$f":"IF($C9=\"\",\"\",CONCATENATE(男子様式!$D28,\" \",男子様式!$J28))","v":""},{"$f":"IF($C9=\"\",\"\",男子様式!$G42)","v":""},{"$f":"CONCATENATE(OFFSET(男子様式!$J$18,3*A9,0),\" \",IF(LEN(OFFSET(男子様式!$L$18,A9*3,0))=0,,\"(\"),LEFT(OFFSET(男子様式!$L$18,A9*3,0),2),IF(LEN(OFFSET(男子様式!$J$18,A9*3,0))=0,,\")\"))","v":" "},"",{"$f":"IF($C9=\"\",\"\",VLOOKUP(基本登録情報!$C$7,登録データ!$I$3:$L$100,3,FALSE))","v":""},{"$f":"IF($C9=\"\",\"\",VLOOKUP(OFFSET(男子様式!$O$18,3*A9,0),登録データ!AM9:AN55,2,FALSE))","v":""},"",{"$f":"IF(男子様式!$AG42=\"\",\"\",男子様式!$AG42)","v":""},{"$f":"IF(男子様式!$AG43=\"\",\"\",男子様式!$AG43)","v":""},{"$f":"IF(男子様式!$AG44=\"\",\"\",男子様式!$AG44)","v":""}]
[9,{"$f":"IF(男子様式!$C45=\"\",\"\",IF(男子様式!$C45=\"@\",\"@\",男子様式!$C45))","v":""},{"$f":"IF(男子様式!$C45=\"\",\"\",IF($B10=\"@\",\"@\",$B10+100000000))","v":""},{"$f":"IF($C10=\"\",\"\",CONCATENATE(男子様式!$D29,\" \",男子様式!$J29))","v":""},{"$f":"IF($C10=\"\",\"\",男子様式!$G45)","v":""},{"$f":"CONCATENATE(OFFSET(男子様式!$J$18,3*A10,0),\" \",IF(LEN(OFFSET(男子様式!$L$18,A10*3,0))=0,,\"(\"),LEFT(OFFSET(男子様式!$L$18,A10*3,0),2),IF(LEN(OFFSET(男子様式!$J$18,A10*3,0))=0,,\")\"))","v":" "},"",{"$f":"IF($C10=\"\",\"\",VLOOKUP(基本登録情報!$C$7,登録データ!$I$3:$L$100,3,FALSE))","v":""},{"$f":"IF($C10=\"\",\"\",VLOOKUP(OFFSET(男子様式!$O$18,3*A10,0),登録データ!AM10:AN56,2,FALSE))","v":""},"",{"$f":"IF(男子様式!$AG45=\"\",\"\",男子様式!$AG45)","v":""},{"$f":"IF(男子様式!$AG46=\"\",\"\",男子様式!$AG46)","v":""},{"$f":"IF(男子様式!$AG47=\"\",\"\",男子様式!$AG47)","v":""}]
[10,{"$f":"IF(男子様式!$C48=\"\",\"\",IF(男子様式!$C48=\"@\",\"@\",男子様式!$C48))","v":""},{"$f":"IF(男子様式!$C48=\"\",\"\",IF($B11=\"@\",\"@\",$B11+100000000))","v":""},{"$f":"IF($C11=\"\",\"\",CONCATENATE(男子様式!$D30,\" \",男子様式!$J30))","v":""},{"$f":"IF($C11=\"\",\"\",男子様式!$G48)","v":""},{"$f":"CONCATENATE(OFFSET(男子様式!$J$18,3*A11,0),\" \",IF(LEN(OFFSET(男子様式!$L$18,A11*3,0))=0,,\"(\"),LEFT(OFFSET(男子様式!$L$18,A11*3,0),2),IF(LEN(OFFSET(男子様式!$J$18,A11*3,0))=0,,\")\"))","v":" "},"",{"$f":"IF($C11=\"\",\"\",VLOOKUP(基本登録情報!$C$7,登録データ!$I$3:$L$100,3,FALSE))","v":""},{"$f":"IF($C11=\"\",\"\",VLOOKUP(OFFSET(男子様式!$O$18,3*A11,0),登録データ!AM11:AN57,2,FALSE))","v":""},"",{"$f":"IF(男子様式!$AG48=\"\",\"\",男子様式!$AG48)","v":""},{"$f":"IF(男子様式!$AG49=\"\",\"\",男子様式!$AG49)","v":""},{"$f":"IF(男子様式!$AG50=\"\",\"\",男子様式!$AG50)","v":""}]
[11,{"$f":"IF(男子様式!$C51=\"\",\"\",IF(男子様式!$C51=\"@\",\"@\",男子様式!$C51))","v":""},{"$f":"IF(男子様式!$C51=\"\",\"\",IF($B12=\"@\",\"@\",$B12+100000000))","v":""},{"$f":"IF($C12=\"\",\"\",CONCATENATE(男子様式!$D31,\" \",男子様式!$J31))","v":""},{"$f":"IF($C12=\"\",\"\",男子様式!$G51)","v":""},{"$f":"CONCATENATE(OFFSET(男子様式!$J$18,3*A12,0),\" \",IF(LEN(OFFSET(男子様式!$L$18,A12*3,0))=0,,\"(\"),LEFT(OFFSET(男子様式!$L$18,A12*3,0),2),IF(LEN(OFFSET(男子様式!$J$18,A12*3,0))=0,,\")\"))","v":" "},"",{"$f":"IF($C12=\"\",\"\",VLOOKUP(基本登録情報!$C$7,登録データ!$I$3:$L$100,3,FALSE))","v":""},{"$f":"IF($C12=\"\",\"\",VLOOKUP(OFFSET(男子様式!$O$18,3*A12,0),登録データ!AM12:AN58,2,FALSE))","v":""},"",{"$f":"IF(男子様式!$AG51=\"\",\"\",男子様式!$AG51)","v":""},{"$f":"IF(男子様式!$AG52=\"\",\"\",男子様式!$AG52)","v":""},{"$f":"IF(男子様式!$AG53=\"\",\"\",男子様式!$AG53)","v":""}]
[12,{"$f":"IF(男子様式!$C54=\"\",\"\",IF(男子様式!$C54=\"@\",\"@\",男子様式!$C54))","v":""},{"$f":"IF(男子様式!$C54=\"\",\"\",IF($B13=\"@\",\"@\",$B13+100000000))","v":""},{"$f":"IF($C13=\"\",\"\",CONCATENATE(男子様式!$D32,\" \",男子様式!$J32))","v":""},{"$f":"IF($C13=\"\",\"\",男子様式!$G54)","v":""},{"$f":"CONCATENATE(OFFSET(男子様式!$J$18,3*A13,0),\" \",IF(LEN(OFFSET(男子様式!$L$18,A13*3,0))=0,,\"(\"),LEFT(OFFSET(男子様式!$L$18,A13*3,0),2),IF(LEN(OFFSET(男子様式!$J$18,A13*3,0))=0,,\")\"))","v":" "},"",{"$f":"IF($C13=\"\",\"\",VLOOKUP(基本登録情報!$C$7,登録データ!$I$3:$L$100,3,FALSE))","v":""},{"$f":"IF($C13=\"\",\"\",VLOOKUP(OFFSET(男子様式!$O$18,3*A13,0),登録データ!AM13:AN59,2,FALSE))","v":""},"",{"$f":"IF(男子様式!$AG54=\"\",\"\",男子様式!$AG54)","v":""},{"$f":"IF(男子様式!$AG55=\"\",\"\",男子様式!$AG55)","v":""},{"$f":"IF(男子様式!$AG56=\"\",\"\",男子様式!$AG56)","v":""}]
[13,{"$f":"IF(男子様式!$C57=\"\",\"\",IF(男子様式!$C57=\"@\",\"@\",男子様式!$C57))","v":""},{"$f":"IF(男子様式!$C57=\"\",\"\",IF($B14=\"@\",\"@\",$B14+100000000))","v":""},{"$f":"IF($C14=\"\",\"\",CONCATENATE(男子様式!$D33,\" \",男子様式!$J33))","v":""},{"$f":"IF($C14=\"\",\"\",男子様式!$G57)","v":""},{"$f":"CONCATENATE(OFFSET(男子様式!$J$18,3*A14,0),\" \",IF(LEN(OFFSET(男子様式!$L$18,A14*3,0))=0,,\"(\"),LEFT(OFFSET(男子様式!$L$18,A14*3,0),2),IF(LEN(OFFSET(男子様式!$J$18,A14*3,0))=0,,\")\"))","v":" "},"",{"$f":"IF($C14=\"\",\"\",VLOOKUP(基本登録情報!$C$7,登録データ!$I$3:$L$100,3,FALSE))","v":""},{"$f":"IF($C14=\"\",\"\",VLOOKUP(OFFSET(男子様式!$O$18,3*A14,0),登録データ!AM14:AN60,2,FALSE))","v":""},"",{"$f":"IF(男子様式!$AG57=\"\",\"\",男子様式!$AG57)","v":""},{"$f":"IF(男子様式!$AG58=\"\",\"\",男子様式!$AG58)","v":""},{"$f":"IF(男子様式!$AG59=\"\",\"\",男子様式!$AG59)","v":""}]
[14,{"$f":"IF(男子様式!$C60=\"\",\"\",IF(男子様式!$C60=\"@\",\"@\",男子様式!$C60))","v":""},{"$f":"IF(男子様式!$C60=\"\",\"\",IF($B15=\"@\",\"@\",$B15+100000000))","v":""},{"$f":"IF($C15=\"\",\"\",CONCATENATE(男子様式!$D34,\" \",男子様式!$J34))","v":""},{"$f":"IF($C15=\"\",\"\",男子様式!$G60)","v":""},{"$f":"CONCATENATE(OFFSET(男子様式!$J$18,3*A15,0),\" \",IF(LEN(OFFSET(男子様式!$L$18,A15*3,0))=0,,\"(\"),LEFT(OFFSET(男子様式!$L$18,A15*3,0),2),IF(LEN(OFFSET(男子様式!$J$18,A15*3,0))=0,,\")\"))","v":" "},"",{"$f":"IF($C15=\"\",\"\",VLOOKUP(基本登録情報!$C$7,登録データ!$I$3:$L$100,3,FALSE))","v":""},{"$f":"IF($C15=\"\",\"\",VLOOKUP(OFFSET(男子様式!$O$18,3*A15,0),登録データ!AM15:AN61,2,FALSE))","v":""},"",{"$f":"IF(男子様式!$AG60=\"\",\"\",男子様式!$AG60)","v":""},{"$f":"IF(男子様式!$AG61=\"\",\"\",男子様式!$AG61)","v":""},{"$f":"IF(男子様式!$AG62=\"\",\"\",男子様式!$AG62)","v":""}]
[15,{"$f":"IF(男子様式!$C63=\"\",\"\",IF(男子様式!$C63=\"@\",\"@\",男子様式!$C63))","v":""},{"$f":"IF(男子様式!$C63=\"\",\"\",IF($B16=\"@\",\"@\",$B16+100000000))","v":""},{"$f":"IF($C16=\"\",\"\",CONCATENATE(男子様式!$D35,\" \",男子様式!$J35))","v":""},{"$f":"IF($C16=\"\",\"\",男子様式!$G63)","v":""},{"$f":"CONCATENATE(OFFSET(男子様式!$J$18,3*A16,0),\" \",IF(LEN(OFFSET(男子様式!$L$18,A16*3,0))=0,,\"(\"),LEFT(OFFSET(男子様式!$L$18,A16*3,0),2),IF(LEN(OFFSET(男子様式!$J$18,A16*3,0))=0,,\")\"))","v":" "},"",{"$f":"IF($C16=\"\",\"\",VLOOKUP(基本登録情報!$C$7,登録データ!$I$3:$L$100,3,FALSE))","v":""},{"$f":"IF($C16=\"\",\"\",VLOOKUP(OFFSET(男子様式!$O$18,3*A16,0),登録データ!AM16:AN62,2,FALSE))","v":""},"",{"$f":"IF(男子様式!$AG63=\"\",\"\",男子様式!$AG63)","v":""},{"$f":"IF(男子様式!$AG64=\"\",\"\",男子様式!$AG64)","v":""},{"$f":"IF(男子様式!$AG65=\"\",\"\",男子様式!$AG65)","v":""}]
[16,{"$f":"IF(男子様式!$C66=\"\",\"\",IF(男子様式!$C66=\"@\",\"@\",男子様式!$C66))","v":""},{"$f":"IF(男子様式!$C66=\"\",\"\",IF($B17=\"@\",\"@\",$B17+100000000))","v":""},{"$f":"IF($C17=\"\",\"\",CONCATENATE(男子様式!$D36,\" \",男子様式!$J36))","v":""},{"$f":"IF($C17=\"\",\"\",男子様式!$G66)","v":""},{"$f":"CONCATENATE(OFFSET(男子様式!$J$18,3*A17,0),\" \",IF(LEN(OFFSET(男子様式!$L$18,A17*3,0))=0,,\"(\"),LEFT(OFFSET(男子様式!$L$18,A17*3,0),2),IF(LEN(OFFSET(男子様式!$J$18,A17*3,0))=0,,\")\"))","v":" "},"",{"$f":"IF($C17=\"\",\"\",VLOOKUP(基本登録情報!$C$7,登録データ!$I$3:$L$100,3,FALSE))","v":""},{"$f":"IF($C17=\"\",\"\",VLOOKUP(OFFSET(男子様式!$O$18,3*A17,0),登録データ!AM17:AN63,2,FALSE))","v":""},"",{"$f":"IF(男子様式!$AG66=\"\",\"\",男子様式!$AG66)","v":""},{"$f":"IF(男子様式!$AG67=\"\",\"\",男子様式!$AG67)","v":""},{"$f":"IF(男子様式!$AG68=\"\",\"\",男子様式!$AG68)","v":""}]
[17,{"$f":"IF(男子様式!$C69=\"\",\"\",IF(男子様式!$C69=\"@\",\"@\",男子様式!$C69))","v":""},{"$f":"IF(男子様式!$C69=\"\",\"\",IF($B18=\"@\",\"@\",$B18+100000000))","v":""},{"$f":"IF($C18=\"\",\"\",CONCATENATE(男子様式!$D37,\" \",男子様式!$J37))","v":""},{"$f":"IF($C18=\"\",\"\",男子様式!$G69)","v":""},{"$f":"CONCATENATE(OFFSET(男子様式!$J$18,3*A18,0),\" \",IF(LEN(OFFSET(男子様式!$L$18,A18*3,0))=0,,\"(\"),LEFT(OFFSET(男子様式!$L$18,A18*3,0),2),IF(LEN(OFFSET(男子様式!$J$18,A18*3,0))=0,,\")\"))","v":" "},"",{"$f":"IF($C18=\"\",\"\",VLOOKUP(基本登録情報!$C$7,登録データ!$I$3:$L$100,3,FALSE))","v":""},{"$f":"IF($C18=\"\",\"\",VLOOKUP(OFFSET(男子様式!$O$18,3*A18,0),登録データ!AM18:AN64,2,FALSE))","v":""},"",{"$f":"IF(男子様式!$AG69=\"\",\"\",男子様式!$AG69)","v":""},{"$f":"IF(男子様式!$AG70=\"\",\"\",男子様式!$AG70)","v":""},{"$f":"IF(男子様式!$AG71=\"\",\"\",男子様式!$AG71)","v":""}]
[18,{"$f":"IF(男子様式!$C72=\"\",\"\",IF(男子様式!$C72=\"@\",\"@\",男子様式!$C72))","v":""},{"$f":"IF(男子様式!$C72=\"\",\"\",IF($B19=\"@\",\"@\",$B19+100000000))","v":""},{"$f":"IF($C19=\"\",\"\",CONCATENATE(男子様式!$D38,\" \",男子様式!$J38))","v":""},{"$f":"IF($C19=\"\",\"\",男子様式!$G72)","v":""},{"$f":"CONCATENATE(OFFSET(男子様式!$J$18,3*A19,0),\" \",IF(LEN(OFFSET(男子様式!$L$18,A19*3,0))=0,,\"(\"),LEFT(OFFSET(男子様式!$L$18,A19*3,0),2),IF(LEN(OFFSET(男子様式!$J$18,A19*3,0))=0,,\")\"))","v":" "},"",{"$f":"IF($C19=\"\",\"\",VLOOKUP(基本登録情報!$C$7,登録データ!$I$3:$L$100,3,FALSE))","v":""},{"$f":"IF($C19=\"\",\"\",VLOOKUP(OFFSET(男子様式!$O$18,3*A19,0),登録データ!AM19:AN65,2,FALSE))","v":""},"",{"$f":"IF(男子様式!$AG72=\"\",\"\",男子様式!$AG72)","v":""},{"$f":"IF(男子様式!$AG73=\"\",\"\",男子様式!$AG73)","v":""},{"$f":"IF(男子様式!$AG74=\"\",\"\",男子様式!$AG74)","v":""}]
[19,{"$f":"IF(男子様式!$C75=\"\",\"\",IF(男子様式!$C75=\"@\",\"@\",男子様式!$C75))","v":""},{"$f":"IF(男子様式!$C75=\"\",\"\",IF($B20=\"@\",\"@\",$B20+100000000))","v":""},{"$f":"IF($C20=\"\",\"\",CONCATENATE(男子様式!$D39,\" \",男子様式!$J39))","v":""},{"$f":"IF($C20=\"\",\"\",男子様式!$G75)","v":""},{"$f":"CONCATENATE(OFFSET(男子様式!$J$18,3*A20,0),\" \",IF(LEN(OFFSET(男子様式!$L$18,A20*3,0))=0,,\"(\"),LEFT(OFFSET(男子様式!$L$18,A20*3,0),2),IF(LEN(OFFSET(男子様式!$J$18,A20*3,0))=0,,\")\"))","v":" "},"",{"$f":"IF($C20=\"\",\"\",VLOOKUP(基本登録情報!$C$7,登録データ!$I$3:$L$100,3,FALSE))","v":""},{"$f":"IF($C20=\"\",\"\",VLOOKUP(OFFSET(男子様式!$O$18,3*A20,0),登録データ!AM20:AN66,2,FALSE))","v":""},"",{"$f":"IF(男子様式!$AG75=\"\",\"\",男子様式!$AG75)","v":""},{"$f":"IF(男子様式!$AG76=\"\",\"\",男子様式!$AG76)","v":""},{"$f":"IF(男子様式!$AG77=\"\",\"\",男子様式!$AG77)","v":""}]
[20,{"$f":"IF(男子様式!$C78=\"\",\"\",IF(男子様式!$C78=\"@\",\"@\",男子様式!$C78))","v":""},{"$f":"IF(男子様式!$C78=\"\",\"\",IF($B21=\"@\",\"@\",$B21+100000000))","v":""},{"$f":"IF($C21=\"\",\"\",CONCATENATE(男子様式!$D40,\" \",男子様式!$J40))","v":""},{"$f":"IF($C21=\"\",\"\",男子様式!$G78)","v":""},{"$f":"CONCATENATE(OFFSET(男子様式!$J$18,3*A21,0),\" \",IF(LEN(OFFSET(男子様式!$L$18,A21*3,0))=0,,\"(\"),LEFT(OFFSET(男子様式!$L$18,A21*3,0),2),IF(LEN(OFFSET(男子様式!$J$18,A21*3,0))=0,,\")\"))","v":" "},"",{"$f":"IF($C21=\"\",\"\",VLOOKUP(基本登録情報!$C$7,登録データ!$I$3:$L$100,3,FALSE))","v":""},{"$f":"IF($C21=\"\",\"\",VLOOKUP(OFFSET(男子様式!$O$18,3*A21,0),登録データ!AM21:AN67,2,FALSE))","v":""},"",{"$f":"IF(男子様式!$AG78=\"\",\"\",男子様式!$AG78)","v":""},{"$f":"IF(男子様式!$AG79=\"\",\"\",男子様式!$AG79)","v":""},{"$f":"IF(男子様式!$AG80=\"\",\"\",男子様式!$AG80)","v":""}]
[21,{"$f":"IF(男子様式!$C81=\"\",\"\",IF(男子様式!$C81=\"@\",\"@\",男子様式!$C81))","v":""},{"$f":"IF(男子様式!$C81=\"\",\"\",IF($B22=\"@\",\"@\",$B22+100000000))","v":""},{"$f":"IF($C22=\"\",\"\",CONCATENATE(男子様式!$D41,\" \",男子様式!$J41))","v":""},{"$f":"IF($C22=\"\",\"\",男子様式!$G81)","v":""},{"$f":"CONCATENATE(OFFSET(男子様式!$J$18,3*A22,0),\" \",IF(LEN(OFFSET(男子様式!$L$18,A22*3,0))=0,,\"(\"),LEFT(OFFSET(男子様式!$L$18,A22*3,0),2),IF(LEN(OFFSET(男子様式!$J$18,A22*3,0))=0,,\")\"))","v":" "},"",{"$f":"IF($C22=\"\",\"\",VLOOKUP(基本登録情報!$C$7,登録データ!$I$3:$L$100,3,FALSE))","v":""},{"$f":"IF($C22=\"\",\"\",VLOOKUP(OFFSET(男子様式!$O$18,3*A22,0),登録データ!AM22:AN68,2,FALSE))","v":""},"",{"$f":"IF(男子様式!$AG81=\"\",\"\",男子様式!$AG81)","v":""},{"$f":"IF(男子様式!$AG82=\"\",\"\",男子様式!$AG82)","v":""},{"$f":"IF(男子様式!$AG83=\"\",\"\",男子様式!$AG83)","v":""}]
[22,{"$f":"IF(男子様式!$C84=\"\",\"\",IF(男子様式!$C84=\"@\",\"@\",男子様式!$C84))","v":""},{"$f":"IF(男子様式!$C84=\"\",\"\",IF($B23=\"@\",\"@\",$B23+100000000))","v":""},{"$f":"IF($C23=\"\",\"\",CONCATENATE(男子様式!$D42,\" \",男子様式!$J42))","v":""},{"$f":"IF($C23=\"\",\"\",男子様式!$G84)","v":""},{"$f":"CONCATENATE(OFFSET(男子様式!$J$18,3*A23,0),\" \",IF(LEN(OFFSET(男子様式!$L$18,A23*3,0))=0,,\"(\"),LEFT(OFFSET(男子様式!$L$18,A23*3,0),2),IF(LEN(OFFSET(男子様式!$J$18,A23*3,0))=0,,\")\"))","v":" "},"",{"$f":"IF($C23=\"\",\"\",VLOOKUP(基本登録情報!$C$7,登録データ!$I$3:$L$100,3,FALSE))","v":""},{"$f":"IF($C23=\"\",\"\",VLOOKUP(OFFSET(男子様式!$O$18,3*A23,0),登録データ!AM23:AN69,2,FALSE))","v":""},"",{"$f":"IF(男子様式!$AG84=\"\",\"\",男子様式!$AG84)","v":""},{"$f":"IF(男子様式!$AG85=\"\",\"\",男子様式!$AG85)","v":""},{"$f":"IF(男子様式!$AG86=\"\",\"\",男子様式!$AG86)","v":""}]
[23,{"$f":"IF(男子様式!$C87=\"\",\"\",IF(男子様式!$C87=\"@\",\"@\",男子様式!$C87))","v":""},{"$f":"IF(男子様式!$C87=\"\",\"\",IF($B24=\"@\",\"@\",$B24+100000000))","v":""},{"$f":"IF($C24=\"\",\"\",CONCATENATE(男子様式!$D43,\" \",男子様式!$J43))","v":""},{"$f":"IF($C24=\"\",\"\",男子様式!$G87)","v":""},{"$f":"CONCATENATE(OFFSET(男子様式!$J$18,3*A24,0),\" \",IF(LEN(OFFSET(男子様式!$L$18,A24*3,0))=0,,\"(\"),LEFT(OFFSET(男子様式!$L$18,A24*3,0),2),IF(LEN(OFFSET(男子様式!$J$18,A24*3,0))=0,,\")\"))","v":" "},"",{"$f":"IF($C24=\"\",\"\",VLOOKUP(基本登録情報!$C$7,登録データ!$I$3:$L$100,3,FALSE))","v":""},{"$f":"IF($C24=\"\",\"\",VLOOKUP(OFFSET(男子様式!$O$18,3*A24,0),登録データ!AM24:AN70,2,FALSE))","v":""},"",{"$f":"IF(男子様式!$AG87=\"\",\"\",男子様式!$AG87)","v":""},{"$f":"IF(男子様式!$AG88=\"\",\"\",男子様式!$AG88)","v":""},{"$f":"IF(男子様式!$AG89=\"\",\"\",男子様式!$AG89)","v":""}]
[24,{"$f":"IF(男子様式!$C90=\"\",\"\",IF(男子様式!$C90=\"@\",\"@\",男子様式!$C90))","v":""},{"$f":"IF(男子様式!$C90=\"\",\"\",IF($B25=\"@\",\"@\",$B25+100000000))","v":""},{"$f":"IF($C25=\"\",\"\",CONCATENATE(男子様式!$D44,\" \",男子様式!$J44))","v":""},{"$f":"IF($C25=\"\",\"\",男子様式!$G90)","v":""},{"$f":"CONCATENATE(OFFSET(男子様式!$J$18,3*A25,0),\" \",IF(LEN(OFFSET(男子様式!$L$18,A25*3,0))=0,,\"(\"),LEFT(OFFSET(男子様式!$L$18,A25*3,0),2),IF(LEN(OFFSET(男子様式!$J$18,A25*3,0))=0,,\")\"))","v":" "},"",{"$f":"IF($C25=\"\",\"\",VLOOKUP(基本登録情報!$C$7,登録データ!$I$3:$L$100,3,FALSE))","v":""},{"$f":"IF($C25=\"\",\"\",VLOOKUP(OFFSET(男子様式!$O$18,3*A25,0),登録データ!AM25:AN71,2,FALSE))","v":""},"",{"$f":"IF(男子様式!$AG90=\"\",\"\",男子様式!$AG90)","v":""},{"$f":"IF(男子様式!$AG91=\"\",\"\",男子様式!$AG91)","v":""},{"$f":"IF(男子様式!$AG92=\"\",\"\",男子様式!$AG92)","v":""}]
[25,{"$f":"IF(男子様式!$C93=\"\",\"\",IF(男子様式!$C93=\"@\",\"@\",男子様式!$C93))","v":""},{"$f":"IF(男子様式!$C93=\"\",\"\",IF($B26=\"@\",\"@\",$B26+100000000))","v":""},{"$f":"IF($C26=\"\",\"\",CONCATENATE(男子様式!$D45,\" \",男子様式!$J45))","v":""},{"$f":"IF($C26=\"\",\"\",男子様式!$G93)","v":""},{"$f":"CONCATENATE(OFFSET(男子様式!$J$18,3*A26,0),\" \",IF(LEN(OFFSET(男子様式!$L$18,A26*3,0))=0,,\"(\"),LEFT(OFFSET(男子様式!$L$18,A26*3,0),2),IF(LEN(OFFSET(男子様式!$J$18,A26*3,0))=0,,\")\"))","v":" "},"",{"$f":"IF($C26=\"\",\"\",VLOOKUP(基本登録情報!$C$7,登録データ!$I$3:$L$100,3,FALSE))","v":""},{"$f":"IF($C26=\"\",\"\",VLOOKUP(OFFSET(男子様式!$O$18,3*A26,0),登録データ!AM26:AN72,2,FALSE))","v":""},"",{"$f":"IF(男子様式!$AG93=\"\",\"\",男子様式!$AG93)","v":""},{"$f":"IF(男子様式!$AG94=\"\",\"\",男子様式!$AG94)","v":""},{"$f":"IF(男子様式!$AG95=\"\",\"\",男子様式!$AG95)","v":""}]
[26,{"$f":"IF(男子様式!$C96=\"\",\"\",IF(男子様式!$C96=\"@\",\"@\",男子様式!$C96))","v":""},{"$f":"IF(男子様式!$C96=\"\",\"\",IF($B27=\"@\",\"@\",$B27+100000000))","v":""},{"$f":"IF($C27=\"\",\"\",CONCATENATE(男子様式!$D46,\" \",男子様式!$J46))","v":""},{"$f":"IF($C27=\"\",\"\",男子様式!$G96)","v":""},{"$f":"CONCATENATE(OFFSET(男子様式!$J$18,3*A27,0),\" \",IF(LEN(OFFSET(男子様式!$L$18,A27*3,0))=0,,\"(\"),LEFT(OFFSET(男子様式!$L$18,A27*3,0),2),IF(LEN(OFFSET(男子様式!$J$18,A27*3,0))=0,,\")\"))","v":" "},"",{"$f":"IF($C27=\"\",\"\",VLOOKUP(基本登録情報!$C$7,登録データ!$I$3:$L$100,3,FALSE))","v":""},{"$f":"IF($C27=\"\",\"\",VLOOKUP(OFFSET(男子様式!$O$18,3*A27,0),登録データ!AM27:AN73,2,FALSE))","v":""},"",{"$f":"IF(男子様式!$AG96=\"\",\"\",男子様式!$AG96)","v":""},{"$f":"IF(男子様式!$AG97=\"\",\"\",男子様式!$AG97)","v":""},{"$f":"IF(男子様式!$AG98=\"\",\"\",男子様式!$AG98)","v":""}]
[27,{"$f":"IF(男子様式!$C99=\"\",\"\",IF(男子様式!$C99=\"@\",\"@\",男子様式!$C99))","v":""},{"$f":"IF(男子様式!$C99=\"\",\"\",IF($B28=\"@\",\"@\",$B28+100000000))","v":""},{"$f":"IF($C28=\"\",\"\",CONCATENATE(男子様式!$D47,\" \",男子様式!$J47))","v":""},{"$f":"IF($C28=\"\",\"\",男子様式!$G99)","v":""},{"$f":"CONCATENATE(OFFSET(男子様式!$J$18,3*A28,0),\" \",IF(LEN(OFFSET(男子様式!$L$18,A28*3,0))=0,,\"(\"),LEFT(OFFSET(男子様式!$L$18,A28*3,0),2),IF(LEN(OFFSET(男子様式!$J$18,A28*3,0))=0,,\")\"))","v":" "},"",{"$f":"IF($C28=\"\",\"\",VLOOKUP(基本登録情報!$C$7,登録データ!$I$3:$L$100,3,FALSE))","v":""},{"$f":"IF($C28=\"\",\"\",VLOOKUP(OFFSET(男子様式!$O$18,3*A28,0),登録データ!AM28:AN74,2,FALSE))","v":""},"",{"$f":"IF(男子様式!$AG99=\"\",\"\",男子様式!$AG99)","v":""},{"$f":"IF(男子様式!$AG100=\"\",\"\",男子様式!$AG100)","v":""},{"$f":"IF(男子様式!$AG101=\"\",\"\",男子様式!$AG101)","v":""}]
[28,{"$f":"IF(男子様式!$C102=\"\",\"\",IF(男子様式!$C102=\"@\",\"@\",男子様式!$C102))","v":""},{"$f":"IF(男子様式!$C102=\"\",\"\",IF($B29=\"@\",\"@\",$B29+100000000))","v":""},{"$f":"IF($C29=\"\",\"\",CONCATENATE(男子様式!$D48,\" \",男子様式!$J48))","v":""},{"$f":"IF($C29=\"\",\"\",男子様式!$G102)","v":""},{"$f":"CONCATENATE(OFFSET(男子様式!$J$18,3*A29,0),\" \",IF(LEN(OFFSET(男子様式!$L$18,A29*3,0))=0,,\"(\"),LEFT(OFFSET(男子様式!$L$18,A29*3,0),2),IF(LEN(OFFSET(男子様式!$J$18,A29*3,0))=0,,\")\"))","v":" "},"",{"$f":"IF($C29=\"\",\"\",VLOOKUP(基本登録情報!$C$7,登録データ!$I$3:$L$100,3,FALSE))","v":""},{"$f":"IF($C29=\"\",\"\",VLOOKUP(OFFSET(男子様式!$O$18,3*A29,0),登録データ!AM29:AN75,2,FALSE))","v":""},"",{"$f":"IF(男子様式!$AG102=\"\",\"\",男子様式!$AG102)","v":""},{"$f":"IF(男子様式!$AG103=\"\",\"\",男子様式!$AG103)","v":""},{"$f":"IF(男子様式!$AG104=\"\",\"\",男子様式!$AG104)","v":""}]
[29,{"$f":"IF(男子様式!$C105=\"\",\"\",IF(男子様式!$C105=\"@\",\"@\",男子様式!$C105))","v":""},{"$f":"IF(男子様式!$C105=\"\",\"\",IF($B30=\"@\",\"@\",$B30+100000000))","v":""},{"$f":"IF($C30=\"\",\"\",CONCATENATE(男子様式!$D49,\" \",男子様式!$J49))","v":""},{"$f":"IF($C30=\"\",\"\",男子様式!$G105)","v":""},{"$f":"CONCATENATE(OFFSET(男子様式!$J$18,3*A30,0),\" \",IF(LEN(OFFSET(男子様式!$L$18,A30*3,0))=0,,\"(\"),LEFT(OFFSET(男子様式!$L$18,A30*3,0),2),IF(LEN(OFFSET(男子様式!$J$18,A30*3,0))=0,,\")\"))","v":" "},"",{"$f":"IF($C30=\"\",\"\",VLOOKUP(基本登録情報!$C$7,登録データ!$I$3:$L$100,3,FALSE))","v":""},{"$f":"IF($C30=\"\",\"\",VLOOKUP(OFFSET(男子様式!$O$18,3*A30,0),登録データ!AM30:AN76,2,FALSE))","v":""},"",{"$f":"IF(男子様式!$AG105=\"\",\"\",男子様式!$AG105)","v":""},{"$f":"IF(男子様式!$AG106=\"\",\"\",男子様式!$AG106)","v":""},{"$f":"IF(男子様式!$AG107=\"\",\"\",男子様式!$AG107)","v":""}]
[30,{"$f":"IF(男子様式!$C108=\"\",\"\",IF(男子様式!$C108=\"@\",\"@\",男子様式!$C108))","v":""},{"$f":"IF(男子様式!$C108=\"\",\"\",IF($B31=\"@\",\"@\",$B31+100000000))","v":""},{"$f":"IF($C31=\"\",\"\",CONCATENATE(男子様式!$D50,\" \",男子様式!$J50))","v":""},{"$f":"IF($C31=\"\",\"\",男子様式!$G108)","v":""},{"$f":"CONCATENATE(OFFSET(男子様式!$J$18,3*A31,0),\" \",IF(LEN(OFFSET(男子様式!$L$18,A31*3,0))=0,,\"(\"),LEFT(OFFSET(男子様式!$L$18,A31*3,0),2),IF(LEN(OFFSET(男子様式!$J$18,A31*3,0))=0,,\")\"))","v":" "},"",{"$f":"IF($C31=\"\",\"\",VLOOKUP(基本登録情報!$C$7,登録データ!$I$3:$L$100,3,FALSE))","v":""},{"$f":"IF($C31=\"\",\"\",VLOOKUP(OFFSET(男子様式!$O$18,3*A31,0),登録データ!AM31:AN77,2,FALSE))","v":""},"",{"$f":"IF(男子様式!$AG108=\"\",\"\",男子様式!$AG108)","v":""},{"$f":"IF(男子様式!$AG109=\"\",\"\",男子様式!$AG109)","v":""},{"$f":"IF(男子様式!$AG110=\"\",\"\",男子様式!$AG110)","v":""}]
[31,{"$f":"IF(男子様式!$C111=\"\",\"\",IF(男子様式!$C111=\"@\",\"@\",男子様式!$C111))","v":""},{"$f":"IF(男子様式!$C111=\"\",\"\",IF($B32=\"@\",\"@\",$B32+100000000))","v":""},{"$f":"IF($C32=\"\",\"\",CONCATENATE(男子様式!$D51,\" \",男子様式!$J51))","v":""},{"$f":"IF($C32=\"\",\"\",男子様式!$G111)","v":""},{"$f":"CONCATENATE(OFFSET(男子様式!$J$18,3*A32,0),\" \",IF(LEN(OFFSET(男子様式!$L$18,A32*3,0))=0,,\"(\"),LEFT(OFFSET(男子様式!$L$18,A32*3,0),2),IF(LEN(OFFSET(男子様式!$J$18,A32*3,0))=0,,\")\"))","v":" "},"",{"$f":"IF($C32=\"\",\"\",VLOOKUP(基本登録情報!$C$7,登録データ!$I$3:$L$100,3,FALSE))","v":""},{"$f":"IF($C32=\"\",\"\",VLOOKUP(OFFSET(男子様式!$O$18,3*A32,0),登録データ!AM32:AN78,2,FALSE))","v":""},"",{"$f":"IF(男子様式!$AG111=\"\",\"\",男子様式!$AG111)","v":""},{"$f":"IF(男子様式!$AG112=\"\",\"\",男子様式!$AG112)","v":""},{"$f":"IF(男子様式!$AG113=\"\",\"\",男子様式!$AG113)","v":""}]
[32,{"$f":"IF(男子様式!$C114=\"\",\"\",IF(男子様式!$C114=\"@\",\"@\",男子様式!$C114))","v":""},{"$f":"IF(男子様式!$C114=\"\",\"\",IF($B33=\"@\",\"@\",$B33+100000000))","v":""},{"$f":"IF($C33=\"\",\"\",CONCATENATE(男子様式!$D52,\" \",男子様式!$J52))","v":""},{"$f":"IF($C33=\"\",\"\",男子様式!$G114)","v":""},{"$f":"CONCATENATE(OFFSET(男子様式!$J$18,3*A33,0),\" \",IF(LEN(OFFSET(男子様式!$L$18,A33*3,0))=0,,\"(\"),LEFT(OFFSET(男子様式!$L$18,A33*3,0),2),IF(LEN(OFFSET(男子様式!$J$18,A33*3,0))=0,,\")\"))","v":" "},"",{"$f":"IF($C33=\"\",\"\",VLOOKUP(基本登録情報!$C$7,登録データ!$I$3:$L$100,3,FALSE))","v":""},{"$f":"IF($C33=\"\",\"\",VLOOKUP(OFFSET(男子様式!$O$18,3*A33,0),登録データ!AM33:AN79,2,FALSE))","v":""},"",{"$f":"IF(男子様式!$AG114=\"\",\"\",男子様式!$AG114)","v":""},{"$f":"IF(男子様式!$AG115=\"\",\"\",男子様式!$AG115)","v":""},{"$f":"IF(男子様式!$AG116=\"\",\"\",男子様式!$AG116)","v":""}]
[33,{"$f":"IF(男子様式!$C117=\"\",\"\",IF(男子様式!$C117=\"@\",\"@\",男子様式!$C117))","v":""},{"$f":"IF(男子様式!$C117=\"\",\"\",IF($B34=\"@\",\"@\",$B34+100000000))","v":""},{"$f":"IF($C34=\"\",\"\",CONCATENATE(男子様式!$D53,\" \",男子様式!$J53))","v":""},{"$f":"IF($C34=\"\",\"\",男子様式!$G117)","v":""},{"$f":"CONCATENATE(OFFSET(男子様式!$J$18,3*A34,0),\" \",IF(LEN(OFFSET(男子様式!$L$18,A34*3,0))=0,,\"(\"),LEFT(OFFSET(男子様式!$L$18,A34*3,0),2),IF(LEN(OFFSET(男子様式!$J$18,A34*3,0))=0,,\")\"))","v":" "},"",{"$f":"IF($C34=\"\",\"\",VLOOKUP(基本登録情報!$C$7,登録データ!$I$3:$L$100,3,FALSE))","v":""},{"$f":"IF($C34=\"\",\"\",VLOOKUP(OFFSET(男子様式!$O$18,3*A34,0),登録データ!AM34:AN80,2,FALSE))","v":""},"",{"$f":"IF(男子様式!$AG117=\"\",\"\",男子様式!$AG117)","v":""},{"$f":"IF(男子様式!$AG118=\"\",\"\",男子様式!$AG118)","v":""},{"$f":"IF(男子様式!$AG119=\"\",\"\",男子様式!$AG119)","v":""}]
[34,{"$f":"IF(男子様式!$C120=\"\",\"\",IF(男子様式!$C120=\"@\",\"@\",男子様式!$C120))","v":""},{"$f":"IF(男子様式!$C120=\"\",\"\",IF($B35=\"@\",\"@\",$B35+100000000))","v":""},{"$f":"IF($C35=\"\",\"\",CONCATENATE(男子様式!$D54,\" \",男子様式!$J54))","v":""},{"$f":"IF($C35=\"\",\"\",男子様式!$G120)","v":""},{"$f":"CONCATENATE(OFFSET(男子様式!$J$18,3*A35,0),\" \",IF(LEN(OFFSET(男子様式!$L$18,A35*3,0))=0,,\"(\"),LEFT(OFFSET(男子様式!$L$18,A35*3,0),2),IF(LEN(OFFSET(男子様式!$J$18,A35*3,0))=0,,\")\"))","v":" "},"",{"$f":"IF($C35=\"\",\"\",VLOOKUP(基本登録情報!$C$7,登録データ!$I$3:$L$100,3,FALSE))","v":""},{"$f":"IF($C35=\"\",\"\",VLOOKUP(OFFSET(男子様式!$O$18,3*A35,0),登録データ!AM35:AN81,2,FALSE))","v":""},"",{"$f":"IF(男子様式!$AG120=\"\",\"\",男子様式!$AG120)","v":""},{"$f":"IF(男子様式!$AG121=\"\",\"\",男子様式!$AG121)","v":""},{"$f":"IF(男子様式!$AG122=\"\",\"\",男子様式!$AG122)","v":""}]
[35,{"$f":"IF(男子様式!$C123=\"\",\"\",IF(男子様式!$C123=\"@\",\"@\",男子様式!$C123))","v":""},{"$f":"IF(男子様式!$C123=\"\",\"\",IF($B36=\"@\",\"@\",$B36+100000000))","v":""},{"$f":"IF($C36=\"\",\"\",CONCATENATE(男子様式!$D55,\" \",男子様式!$J55))","v":""},{"$f":"IF($C36=\"\",\"\",男子様式!$G123)","v":""},{"$f":"CONCATENATE(OFFSET(男子様式!$J$18,3*A36,0),\" \",IF(LEN(OFFSET(男子様式!$L$18,A36*3,0))=0,,\"(\"),LEFT(OFFSET(男子様式!$L$18,A36*3,0),2),IF(LEN(OFFSET(男子様式!$J$18,A36*3,0))=0,,\")\"))","v":" "},"",{"$f":"IF($C36=\"\",\"\",VLOOKUP(基本登録情報!$C$7,登録データ!$I$3:$L$100,3,FALSE))","v":""},{"$f":"IF($C36=\"\",\"\",VLOOKUP(OFFSET(男子様式!$O$18,3*A36,0),登録データ!AM36:AN82,2,FALSE))","v":""},"",{"$f":"IF(男子様式!$AG123=\"\",\"\",男子様式!$AG123)","v":""},{"$f":"IF(男子様式!$AG124=\"\",\"\",男子様式!$AG124)","v":""},{"$f":"IF(男子様式!$AG125=\"\",\"\",男子様式!$AG125)","v":""}]
[36,{"$f":"IF(男子様式!$C126=\"\",\"\",IF(男子様式!$C126=\"@\",\"@\",男子様式!$C126))","v":""},{"$f":"IF(男子様式!$C126=\"\",\"\",IF($B37=\"@\",\"@\",$B37+100000000))","v":""},{"$f":"IF($C37=\"\",\"\",CONCATENATE(男子様式!$D56,\" \",男子様式!$J56))","v":""},{"$f":"IF($C37=\"\",\"\",男子様式!$G126)","v":""},{"$f":"CONCATENATE(OFFSET(男子様式!$J$18,3*A37,0),\" \",IF(LEN(OFFSET(男子様式!$L$18,A37*3,0))=0,,\"(\"),LEFT(OFFSET(男子様式!$L$18,A37*3,0),2),IF(LEN(OFFSET(男子様式!$J$18,A37*3,0))=0,,\")\"))","v":" "},"",{"$f":"IF($C37=\"\",\"\",VLOOKUP(基本登録情報!$C$7,登録データ!$I$3:$L$100,3,FALSE))","v":""},{"$f":"IF($C37=\"\",\"\",VLOOKUP(OFFSET(男子様式!$O$18,3*A37,0),登録データ!AM37:AN83,2,FALSE))","v":""},"",{"$f":"IF(男子様式!$AG126=\"\",\"\",男子様式!$AG126)","v":""},{"$f":"IF(男子様式!$AG127=\"\",\"\",男子様式!$AG127)","v":""},{"$f":"IF(男子様式!$AG128=\"\",\"\",男子様式!$AG128)","v":""}]
[37,{"$f":"IF(男子様式!$C129=\"\",\"\",IF(男子様式!$C129=\"@\",\"@\",男子様式!$C129))","v":""},{"$f":"IF(男子様式!$C129=\"\",\"\",IF($B38=\"@\",\"@\",$B38+100000000))","v":""},{"$f":"IF($C38=\"\",\"\",CONCATENATE(男子様式!$D57,\" \",男子様式!$J57))","v":""},{"$f":"IF($C38=\"\",\"\",男子様式!$G129)","v":""},{"$f":"CONCATENATE(OFFSET(男子様式!$J$18,3*A38,0),\" \",IF(LEN(OFFSET(男子様式!$L$18,A38*3,0))=0,,\"(\"),LEFT(OFFSET(男子様式!$L$18,A38*3,0),2),IF(LEN(OFFSET(男子様式!$J$18,A38*3,0))=0,,\")\"))","v":" "},"",{"$f":"IF($C38=\"\",\"\",VLOOKUP(基本登録情報!$C$7,登録データ!$I$3:$L$100,3,FALSE))","v":""},{"$f":"IF($C38=\"\",\"\",VLOOKUP(OFFSET(男子様式!$O$18,3*A38,0),登録データ!AM38:AN84,2,FALSE))","v":""},"",{"$f":"IF(男子様式!$AG129=\"\",\"\",男子様式!$AG129)","v":""},{"$f":"IF(男子様式!$AG130=\"\",\"\",男子様式!$AG130)","v":""},{"$f":"IF(男子様式!$AG131=\"\",\"\",男子様式!$AG131)","v":""}]
[38,{"$f":"IF(男子様式!$C132=\"\",\"\",IF(男子様式!$C132=\"@\",\"@\",男子様式!$C132))","v":""},{"$f":"IF(男子様式!$C132=\"\",\"\",IF($B39=\"@\",\"@\",$B39+100000000))","v":""},{"$f":"IF($C39=\"\",\"\",CONCATENATE(男子様式!$D58,\" \",男子様式!$J58))","v":""},{"$f":"IF($C39=\"\",\"\",男子様式!$G132)","v":""},{"$f":"CONCATENATE(OFFSET(男子様式!$J$18,3*A39,0),\" \",IF(LEN(OFFSET(男子様式!$L$18,A39*3,0))=0,,\"(\"),LEFT(OFFSET(男子様式!$L$18,A39*3,0),2),IF(LEN(OFFSET(男子様式!$J$18,A39*3,0))=0,,\")\"))","v":" "},"",{"$f":"IF($C39=\"\",\"\",VLOOKUP(基本登録情報!$C$7,登録データ!$I$3:$L$100,3,FALSE))","v":""},{"$f":"IF($C39=\"\",\"\",VLOOKUP(OFFSET(男子様式!$O$18,3*A39,0),登録データ!AM39:AN85,2,FALSE))","v":""},"",{"$f":"IF(男子様式!$AG132=\"\",\"\",男子様式!$AG132)","v":""},{"$f":"IF(男子様式!$AG133=\"\",\"\",男子様式!$AG133)","v":""},{"$f":"IF(男子様式!$AG134=\"\",\"\",男子様式!$AG134)","v":""}]
[39,{"$f":"IF(男子様式!$C135=\"\",\"\",IF(男子様式!$C135=\"@\",\"@\",男子様式!$C135))","v":""},{"$f":"IF(男子様式!$C135=\"\",\"\",IF($B40=\"@\",\"@\",$B40+100000000))","v":""},{"$f":"IF($C40=\"\",\"\",CONCATENATE(男子様式!$D59,\" \",男子様式!$J59))","v":""},{"$f":"IF($C40=\"\",\"\",男子様式!$G135)","v":""},{"$f":"CONCATENATE(OFFSET(男子様式!$J$18,3*A40,0),\" \",IF(LEN(OFFSET(男子様式!$L$18,A40*3,0))=0,,\"(\"),LEFT(OFFSET(男子様式!$L$18,A40*3,0),2),IF(LEN(OFFSET(男子様式!$J$18,A40*3,0))=0,,\")\"))","v":" "},"",{"$f":"IF($C40=\"\",\"\",VLOOKUP(基本登録情報!$C$7,登録データ!$I$3:$L$100,3,FALSE))","v":""},{"$f":"IF($C40=\"\",\"\",VLOOKUP(OFFSET(男子様式!$O$18,3*A40,0),登録データ!AM40:AN86,2,FALSE))","v":""},"",{"$f":"IF(男子様式!$AG135=\"\",\"\",男子様式!$AG135)","v":""},{"$f":"IF(男子様式!$AG136=\"\",\"\",男子様式!$AG136)","v":""},{"$f":"IF(男子様式!$AG137=\"\",\"\",男子様式!$AG137)","v":""}]
[40,{"$f":"IF(男子様式!$C138=\"\",\"\",IF(男子様式!$C138=\"@\",\"@\",男子様式!$C138))","v":""},{"$f":"IF(男子様式!$C138=\"\",\"\",IF($B41=\"@\",\"@\",$B41+100000000))","v":""},{"$f":"IF($C41=\"\",\"\",CONCATENATE(男子様式!$D60,\" \",男子様式!$J60))","v":""},{"$f":"IF($C41=\"\",\"\",男子様式!$G138)","v":""},{"$f":"CONCATENATE(OFFSET(男子様式!$J$18,3*A41,0),\" \",IF(LEN(OFFSET(男子様式!$L$18,A41*3,0))=0,,\"(\"),LEFT(OFFSET(男子様式!$L$18,A41*3,0),2),IF(LEN(OFFSET(男子様式!$J$18,A41*3,0))=0,,\")\"))","v":" "},"",{"$f":"IF($C41=\"\",\"\",VLOOKUP(基本登録情報!$C$7,登録データ!$I$3:$L$100,3,FALSE))","v":""},{"$f":"IF($C41=\"\",\"\",VLOOKUP(OFFSET(男子様式!$O$18,3*A41,0),登録データ!AM41:AN87,2,FALSE))","v":""},"",{"$f":"IF(男子様式!$AG138=\"\",\"\",男子様式!$AG138)","v":""},{"$f":"IF(男子様式!$AG139=\"\",\"\",男子様式!$AG139)","v":""},{"$f":"IF(男子様式!$AG140=\"\",\"\",男子様式!$AG140)","v":""}]
[41,{"$f":"IF(男子様式!$C141=\"\",\"\",IF(男子様式!$C141=\"@\",\"@\",男子様式!$C141))","v":""},{"$f":"IF(男子様式!$C141=\"\",\"\",IF($B42=\"@\",\"@\",$B42+100000000))","v":""},{"$f":"IF($C42=\"\",\"\",CONCATENATE(男子様式!$D61,\" \",男子様式!$J61))","v":""},{"$f":"IF($C42=\"\",\"\",男子様式!$G141)","v":""},{"$f":"CONCATENATE(OFFSET(男子様式!$J$18,3*A42,0),\" \",IF(LEN(OFFSET(男子様式!$L$18,A42*3,0))=0,,\"(\"),LEFT(OFFSET(男子様式!$L$18,A42*3,0),2),IF(LEN(OFFSET(男子様式!$J$18,A42*3,0))=0,,\")\"))","v":" "},"",{"$f":"IF($C42=\"\",\"\",VLOOKUP(基本登録情報!$C$7,登録データ!$I$3:$L$100,3,FALSE))","v":""},{"$f":"IF($C42=\"\",\"\",VLOOKUP(OFFSET(男子様式!$O$18,3*A42,0),登録データ!AM42:AN88,2,FALSE))","v":""},"",{"$f":"IF(男子様式!$AG141=\"\",\"\",男子様式!$AG141)","v":""},{"$f":"IF(男子様式!$AG142=\"\",\"\",男子様式!$AG142)","v":""},{"$f":"IF(男子様式!$AG143=\"\",\"\",男子様式!$AG143)","v":""}]
[42,{"$f":"IF(男子様式!$C144=\"\",\"\",IF(男子様式!$C144=\"@\",\"@\",男子様式!$C144))","v":""},{"$f":"IF(男子様式!$C144=\"\",\"\",IF($B43=\"@\",\"@\",$B43+100000000))","v":""},{"$f":"IF($C43=\"\",\"\",CONCATENATE(男子様式!$D62,\" \",男子様式!$J62))","v":""},{"$f":"IF($C43=\"\",\"\",男子様式!$G144)","v":""},{"$f":"CONCATENATE(OFFSET(男子様式!$J$18,3*A43,0),\" \",IF(LEN(OFFSET(男子様式!$L$18,A43*3,0))=0,,\"(\"),LEFT(OFFSET(男子様式!$L$18,A43*3,0),2),IF(LEN(OFFSET(男子様式!$J$18,A43*3,0))=0,,\")\"))","v":" "},"",{"$f":"IF($C43=\"\",\"\",VLOOKUP(基本登録情報!$C$7,登録データ!$I$3:$L$100,3,FALSE))","v":""},{"$f":"IF($C43=\"\",\"\",VLOOKUP(OFFSET(男子様式!$O$18,3*A43,0),登録データ!AM43:AN89,2,FALSE))","v":""},"",{"$f":"IF(男子様式!$AG144=\"\",\"\",男子様式!$AG144)","v":""},{"$f":"IF(男子様式!$AG145=\"\",\"\",男子様式!$AG145)","v":""},{"$f":"IF(男子様式!$AG146=\"\",\"\",男子様式!$AG146)","v":""}]
[43,{"$f":"IF(男子様式!$C147=\"\",\"\",IF(男子様式!$C147=\"@\",\"@\",男子様式!$C147))","v":""},{"$f":"IF(男子様式!$C147=\"\",\"\",IF($B44=\"@\",\"@\",$B44+100000000))","v":""},{"$f":"IF($C44=\"\",\"\",CONCATENATE(男子様式!$D63,\" \",男子様式!$J63))","v":""},{"$f":"IF($C44=\"\",\"\",男子様式!$G147)","v":""},{"$f":"CONCATENATE(OFFSET(男子様式!$J$18,3*A44,0),\" \",IF(LEN(OFFSET(男子様式!$L$18,A44*3,0))=0,,\"(\"),LEFT(OFFSET(男子様式!$L$18,A44*3,0),2),IF(LEN(OFFSET(男子様式!$J$18,A44*3,0))=0,,\")\"))","v":" "},"",{"$f":"IF($C44=\"\",\"\",VLOOKUP(基本登録情報!$C$7,登録データ!$I$3:$L$100,3,FALSE))","v":""},{"$f":"IF($C44=\"\",\"\",VLOOKUP(OFFSET(男子様式!$O$18,3*A44,0),登録データ!AM44:AN90,2,FALSE))","v":""},"",{"$f":"IF(男子様式!$AG147=\"\",\"\",男子様式!$AG147)","v":""},{"$f":"IF(男子様式!$AG148=\"\",\"\",男子様式!$AG148)","v":""},{"$f":"IF(男子様式!$AG149=\"\",\"\",男子様式!$AG149)","v":""}]
[44,{"$f":"IF(男子様式!$C150=\"\",\"\",IF(男子様式!$C150=\"@\",\"@\",男子様式!$C150))","v":""},{"$f":"IF(男子様式!$C150=\"\",\"\",IF($B45=\"@\",\"@\",$B45+100000000))","v":""},{"$f":"IF($C45=\"\",\"\",CONCATENATE(男子様式!$D64,\" \",男子様式!$J64))","v":""},{"$f":"IF($C45=\"\",\"\",男子様式!$G150)","v":""},{"$f":"CONCATENATE(OFFSET(男子様式!$J$18,3*A45,0),\" \",IF(LEN(OFFSET(男子様式!$L$18,A45*3,0))=0,,\"(\"),LEFT(OFFSET(男子様式!$L$18,A45*3,0),2),IF(LEN(OFFSET(男子様式!$J$18,A45*3,0))=0,,\")\"))","v":" "},"",{"$f":"IF($C45=\"\",\"\",VLOOKUP(基本登録情報!$C$7,登録データ!$I$3:$L$100,3,FALSE))","v":""},{"$f":"IF($C45=\"\",\"\",VLOOKUP(OFFSET(男子様式!$O$18,3*A45,0),登録データ!AM45:AN91,2,FALSE))","v":""},"",{"$f":"IF(男子様式!$AG150=\"\",\"\",男子様式!$AG150)","v":""},{"$f":"IF(男子様式!$AG151=\"\",\"\",男子様式!$AG151)","v":""},{"$f":"IF(男子様式!$AG152=\"\",\"\",男子様式!$AG152)","v":""}]
[45,{"$f":"IF(男子様式!$C153=\"\",\"\",IF(男子様式!$C153=\"@\",\"@\",男子様式!$C153))","v":""},{"$f":"IF(男子様式!$C153=\"\",\"\",IF($B46=\"@\",\"@\",$B46+100000000))","v":""},{"$f":"IF($C46=\"\",\"\",CONCATENATE(男子様式!$D65,\" \",男子様式!$J65))","v":""},{"$f":"IF($C46=\"\",\"\",男子様式!$G153)","v":""},{"$f":"CONCATENATE(OFFSET(男子様式!$J$18,3*A46,0),\" \",IF(LEN(OFFSET(男子様式!$L$18,A46*3,0))=0,,\"(\"),LEFT(OFFSET(男子様式!$L$18,A46*3,0),2),IF(LEN(OFFSET(男子様式!$J$18,A46*3,0))=0,,\")\"))","v":" "},"",{"$f":"IF($C46=\"\",\"\",VLOOKUP(基本登録情報!$C$7,登録データ!$I$3:$L$100,3,FALSE))","v":""},{"$f":"IF($C46=\"\",\"\",VLOOKUP(OFFSET(男子様式!$O$18,3*A46,0),登録データ!AM46:AN92,2,FALSE))","v":""},"",{"$f":"IF(男子様式!$AG153=\"\",\"\",男子様式!$AG153)","v":""},{"$f":"IF(男子様式!$AG154=\"\",\"\",男子様式!$AG154)","v":""},{"$f":"IF(男子様式!$AG155=\"\",\"\",男子様式!$AG155)","v":""}]
[46,{"$f":"IF(男子様式!$C156=\"\",\"\",IF(男子様式!$C156=\"@\",\"@\",男子様式!$C156))","v":""},{"$f":"IF(男子様式!$C156=\"\",\"\",IF($B47=\"@\",\"@\",$B47+100000000))","v":""},{"$f":"IF($C47=\"\",\"\",CONCATENATE(男子様式!$D66,\" \",男子様式!$J66))","v":""},{"$f":"IF($C47=\"\",\"\",男子様式!$G156)","v":""},{"$f":"CONCATENATE(OFFSET(男子様式!$J$18,3*A47,0),\" \",IF(LEN(OFFSET(男子様式!$L$18,A47*3,0))=0,,\"(\"),LEFT(OFFSET(男子様式!$L$18,A47*3,0),2),IF(LEN(OFFSET(男子様式!$J$18,A47*3,0))=0,,\")\"))","v":" "},"",{"$f":"IF($C47=\"\",\"\",VLOOKUP(基本登録情報!$C$7,登録データ!$I$3:$L$100,3,FALSE))","v":""},{"$f":"IF($C47=\"\",\"\",VLOOKUP(OFFSET(男子様式!$O$18,3*A47,0),登録データ!AM47:AN93,2,FALSE))","v":""},"",{"$f":"IF(男子様式!$AG156=\"\",\"\",男子様式!$AG156)","v":""},{"$f":"IF(男子様式!$AG157=\"\",\"\",男子様式!$AG157)","v":""},{"$f":"IF(男子様式!$AG158=\"\",\"\",男子様式!$AG158)","v":""}]
[47,{"$f":"IF(男子様式!$C159=\"\",\"\",IF(男子様式!$C159=\"@\",\"@\",男子様式!$C159))","v":""},{"$f":"IF(男子様式!$C159=\"\",\"\",IF($B48=\"@\",\"@\",$B48+100000000))","v":""},{"$f":"IF($C48=\"\",\"\",CONCATENATE(男子様式!$D67,\" \",男子様式!$J67))","v":""},{"$f":"IF($C48=\"\",\"\",男子様式!$G159)","v":""},{"$f":"CONCATENATE(OFFSET(男子様式!$J$18,3*A48,0),\" \",IF(LEN(OFFSET(男子様式!$L$18,A48*3,0))=0,,\"(\"),LEFT(OFFSET(男子様式!$L$18,A48*3,0),2),IF(LEN(OFFSET(男子様式!$J$18,A48*3,0))=0,,\")\"))","v":" "},"",{"$f":"IF($C48=\"\",\"\",VLOOKUP(基本登録情報!$C$7,登録データ!$I$3:$L$100,3,FALSE))","v":""},{"$f":"IF($C48=\"\",\"\",VLOOKUP(OFFSET(男子様式!$O$18,3*A48,0),登録データ!AM48:AN94,2,FALSE))","v":""},"",{"$f":"IF(男子様式!$AG159=\"\",\"\",男子様式!$AG159)","v":""},{"$f":"IF(男子様式!$AG160=\"\",\"\",男子様式!$AG160)","v":""},{"$f":"IF(男子様式!$AG161=\"\",\"\",男子様式!$AG161)","v":""}]
[48,{"$f":"IF(男子様式!$C162=\"\",\"\",IF(男子様式!$C162=\"@\",\"@\",男子様式!$C162))","v":""},{"$f":"IF(男子様式!$C162=\"\",\"\",IF($B49=\"@\",\"@\",$B49+100000000))","v":""},{"$f":"IF($C49=\"\",\"\",CONCATENATE(男子様式!$D68,\" \",男子様式!$J68))","v":""},{"$f":"IF($C49=\"\",\"\",男子様式!$G162)","v":""},{"$f":"CONCATENATE(OFFSET(男子様式!$J$18,3*A49,0),\" \",IF(LEN(OFFSET(男子様式!$L$18,A49*3,0))=0,,\"(\"),LEFT(OFFSET(男子様式!$L$18,A49*3,0),2),IF(LEN(OFFSET(男子様式!$J$18,A49*3,0))=0,,\")\"))","v":" "},"",{"$f":"IF($C49=\"\",\"\",VLOOKUP(基本登録情報!$C$7,登録データ!$I$3:$L$100,3,FALSE))","v":""},{"$f":"IF($C49=\"\",\"\",VLOOKUP(OFFSET(男子様式!$O$18,3*A49,0),登録データ!AM49:AN95,2,FALSE))","v":""},"",{"$f":"IF(男子様式!$AG162=\"\",\"\",男子様式!$AG162)","v":""},{"$f":"IF(男子様式!$AG163=\"\",\"\",男子様式!$AG163)","v":""},{"$f":"IF(男子様式!$AG164=\"\",\"\",男子様式!$AG164)","v":""}]
[49,{"$f":"IF(男子様式!$C165=\"\",\"\",IF(男子様式!$C165=\"@\",\"@\",男子様式!$C165))","v":""},{"$f":"IF(男子様式!$C165=\"\",\"\",IF($B50=\"@\",\"@\",$B50+100000000))","v":""},{"$f":"IF($C50=\"\",\"\",CONCATENATE(男子様式!$D69,\" \",男子様式!$J69))","v":""},{"$f":"IF($C50=\"\",\"\",男子様式!$G165)","v":""},{"$f":"CONCATENATE(OFFSET(男子様式!$J$18,3*A50,0),\" \",IF(LEN(OFFSET(男子様式!$L$18,A50*3,0))=0,,\"(\"),LEFT(OFFSET(男子様式!$L$18,A50*3,0),2),IF(LEN(OFFSET(男子様式!$J$18,A50*3,0))=0,,\")\"))","v":" "},"",{"$f":"IF($C50=\"\",\"\",VLOOKUP(基本登録情報!$C$7,登録データ!$I$3:$L$100,3,FALSE))","v":""},{"$f":"IF($C50=\"\",\"\",VLOOKUP(OFFSET(男子様式!$O$18,3*A50,0),登録データ!AM50:AN96,2,FALSE))","v":""},"",{"$f":"IF(男子様式!$AG165=\"\",\"\",男子様式!$AG165)","v":""},{"$f":"IF(男子様式!$AG166=\"\",\"\",男子様式!$AG166)","v":""},{"$f":"IF(男子様式!$AG167=\"\",\"\",男子様式!$AG167)","v":""}]
[50,{"$f":"IF(男子様式!$C168=\"\",\"\",IF(男子様式!$C168=\"@\",\"@\",男子様式!$C168))","v":""},{"$f":"IF(男子様式!$C168=\"\",\"\",IF($B51=\"@\",\"@\",$B51+100000000))","v":""},{"$f":"IF($C51=\"\",\"\",CONCATENATE(男子様式!$D70,\" \",男子様式!$J70))","v":""},{"$f":"IF($C51=\"\",\"\",男子様式!$G168)","v":""},{"$f":"CONCATENATE(OFFSET(男子様式!$J$18,3*A51,0),\" \",IF(LEN(OFFSET(男子様式!$L$18,A51*3,0))=0,,\"(\"),LEFT(OFFSET(男子様式!$L$18,A51*3,0),2),IF(LEN(OFFSET(男子様式!$J$18,A51*3,0))=0,,\")\"))","v":" "},"",{"$f":"IF($C51=\"\",\"\",VLOOKUP(基本登録情報!$C$7,登録データ!$I$3:$L$100,3,FALSE))","v":""},{"$f":"IF($C51=\"\",\"\",VLOOKUP(OFFSET(男子様式!$O$18,3*A51,0),登録データ!AM51:AN97,2,FALSE))","v":""},"",{"$f":"IF(男子様式!$AG168=\"\",\"\",男子様式!$AG168)","v":""},{"$f":"IF(男子様式!$AG169=\"\",\"\",男子様式!$AG169)","v":""},{"$f":"IF(男子様式!$AG170=\"\",\"\",男子様式!$AG170)","v":""}]
[51,{"$f":"IF(男子様式!$C171=\"\",\"\",IF(男子様式!$C171=\"@\",\"@\",男子様式!$C171))","v":""},{"$f":"IF(男子様式!$C171=\"\",\"\",IF($B52=\"@\",\"@\",$B52+100000000))","v":""},{"$f":"IF($C52=\"\",\"\",CONCATENATE(男子様式!$D71,\" \",男子様式!$J71))","v":""},{"$f":"IF($C52=\"\",\"\",男子様式!$G171)","v":""},{"$f":"CONCATENATE(OFFSET(男子様式!$J$18,3*A52,0),\" \",IF(LEN(OFFSET(男子様式!$L$18,A52*3,0))=0,,\"(\"),LEFT(OFFSET(男子様式!$L$18,A52*3,0),2),IF(LEN(OFFSET(男子様式!$J$18,A52*3,0))=0,,\")\"))","v":" "},"",{"$f":"IF($C52=\"\",\"\",VLOOKUP(基本登録情報!$C$7,登録データ!$I$3:$L$100,3,FALSE))","v":""},{"$f":"IF($C52=\"\",\"\",VLOOKUP(OFFSET(男子様式!$O$18,3*A52,0),登録データ!AM52:AN98,2,FALSE))","v":""},"",{"$f":"IF(男子様式!$AG171=\"\",\"\",男子様式!$AG171)","v":""},{"$f":"IF(男子様式!$AG172=\"\",\"\",男子様式!$AG172)","v":""},{"$f":"IF(男子様式!$AG173=\"\",\"\",男子様式!$AG173)","v":""}]
[52,{"$f":"IF(男子様式!$C174=\"\",\"\",IF(男子様式!$C174=\"@\",\"@\",男子様式!$C174))","v":""},{"$f":"IF(男子様式!$C174=\"\",\"\",IF($B53=\"@\",\"@\",$B53+100000000))","v":""},{"$f":"IF($C53=\"\",\"\",CONCATENATE(男子様式!$D72,\" \",男子様式!$J72))","v":""},{"$f":"IF($C53=\"\",\"\",男子様式!$G174)","v":""},{"$f":"CONCATENATE(OFFSET(男子様式!$J$18,3*A53,0),\" \",IF(LEN(OFFSET(男子様式!$L$18,A53*3,0))=0,,\"(\"),LEFT(OFFSET(男子様式!$L$18,A53*3,0),2),IF(LEN(OFFSET(男子様式!$J$18,A53*3,0))=0,,\")\"))","v":" "},"",{"$f":"IF($C53=\"\",\"\",VLOOKUP(基本登録情報!$C$7,登録データ!$I$3:$L$100,3,FALSE))","v":""},{"$f":"IF($C53=\"\",\"\",VLOOKUP(OFFSET(男子様式!$O$18,3*A53,0),登録データ!AM53:AN99,2,FALSE))","v":""},"",{"$f":"IF(男子様式!$AG174=\"\",\"\",男子様式!$AG174)","v":""},{"$f":"IF(男子様式!$AG175=\"\",\"\",男子様式!$AG175)","v":""},{"$f":"IF(男子様式!$AG176=\"\",\"\",男子様式!$AG176)","v":""}]
[53,{"$f":"IF(男子様式!$C177=\"\",\"\",IF(男子様式!$C177=\"@\",\"@\",男子様式!$C177))","v":""},{"$f":"IF(男子様式!$C177=\"\",\"\",IF($B54=\"@\",\"@\",$B54+100000000))","v":""},{"$f":"IF($C54=\"\",\"\",CONCATENATE(男子様式!$D73,\" \",男子様式!$J73))","v":""},{"$f":"IF($C54=\"\",\"\",男子様式!$G177)","v":""},{"$f":"CONCATENATE(OFFSET(男子様式!$J$18,3*A54,0),\" \",IF(LEN(OFFSET(男子様式!$L$18,A54*3,0))=0,,\"(\"),LEFT(OFFSET(男子様式!$L$18,A54*3,0),2),IF(LEN(OFFSET(男子様式!$J$18,A54*3,0))=0,,\")\"))","v":" "},"",{"$f":"IF($C54=\"\",\"\",VLOOKUP(基本登録情報!$C$7,登録データ!$I$3:$L$100,3,FALSE))","v":""},{"$f":"IF($C54=\"\",\"\",VLOOKUP(OFFSET(男子様式!$O$18,3*A54,0),登録データ!AM54:AN100,2,FALSE))","v":""},"",{"$f":"IF(男子様式!$AG177=\"\",\"\",男子様式!$AG177)","v":""},{"$f":"IF(男子様式!$AG178=\"\",\"\",男子様式!$AG178)","v":""},{"$f":"IF(男子様式!$AG179=\"\",\"\",男子様式!$AG179)","v":""}]
[54,{"$f":"IF(男子様式!$C180=\"\",\"\",IF(男子様式!$C180=\"@\",\"@\",男子様式!$C180))","v":""},{"$f":"IF(男子様式!$C180=\"\",\"\",IF($B55=\"@\",\"@\",$B55+100000000))","v":""},{"$f":"IF($C55=\"\",\"\",CONCATENATE(男子様式!$D74,\" \",男子様式!$J74))","v":""},{"$f":"IF($C55=\"\",\"\",男子様式!$G180)","v":""},{"$f":"CONCATENATE(OFFSET(男子様式!$J$18,3*A55,0),\" \",IF(LEN(OFFSET(男子様式!$L$18,A55*3,0))=0,,\"(\"),LEFT(OFFSET(男子様式!$L$18,A55*3,0),2),IF(LEN(OFFSET(男子様式!$J$18,A55*3,0))=0,,\")\"))","v":" "},"",{"$f":"IF($C55=\"\",\"\",VLOOKUP(基本登録情報!$C$7,登録データ!$I$3:$L$100,3,FALSE))","v":""},{"$f":"IF($C55=\"\",\"\",VLOOKUP(OFFSET(男子様式!$O$18,3*A55,0),登録データ!AM55:AN101,2,FALSE))","v":""},"",{"$f":"IF(男子様式!$AG180=\"\",\"\",男子様式!$AG180)","v":""},{"$f":"IF(男子様式!$AG181=\"\",\"\",男子様式!$AG181)","v":""},{"$f":"IF(男子様式!$AG182=\"\",\"\",男子様式!$AG182)","v":""}]
[55,{"$f":"IF(男子様式!$C183=\"\",\"\",IF(男子様式!$C183=\"@\",\"@\",男子様式!$C183))","v":""},{"$f":"IF(男子様式!$C183=\"\",\"\",IF($B56=\"@\",\"@\",$B56+100000000))","v":""},{"$f":"IF($C56=\"\",\"\",CONCATENATE(男子様式!$D75,\" \",男子様式!$J75))","v":""},{"$f":"IF($C56=\"\",\"\",男子様式!$G183)","v":""},{"$f":"CONCATENATE(OFFSET(男子様式!$J$18,3*A56,0),\" \",IF(LEN(OFFSET(男子様式!$L$18,A56*3,0))=0,,\"(\"),LEFT(OFFSET(男子様式!$L$18,A56*3,0),2),IF(LEN(OFFSET(男子様式!$J$18,A56*3,0))=0,,\")\"))","v":" "},"",{"$f":"IF($C56=\"\",\"\",VLOOKUP(基本登録情報!$C$7,登録データ!$I$3:$L$100,3,FALSE))","v":""},{"$f":"IF($C56=\"\",\"\",VLOOKUP(OFFSET(男子様式!$O$18,3*A56,0),登録データ!AM56:AN102,2,FALSE))","v":""},"",{"$f":"IF(男子様式!$AG183=\"\",\"\",男子様式!$AG183)","v":""},{"$f":"IF(男子様式!$AG184=\"\",\"\",男子様式!$AG184)","v":""},{"$f":"IF(男子様式!$AG185=\"\",\"\",男子様式!$AG185)","v":""}]
[56,{"$f":"IF(男子様式!$C186=\"\",\"\",IF(男子様式!$C186=\"@\",\"@\",男子様式!$C186))","v":""},{"$f":"IF(男子様式!$C186=\"\",\"\",IF($B57=\"@\",\"@\",$B57+100000000))","v":""},{"$f":"IF($C57=\"\",\"\",CONCATENATE(男子様式!$D76,\" \",男子様式!$J76))","v":""},{"$f":"IF($C57=\"\",\"\",男子様式!$G186)","v":""},{"$f":"CONCATENATE(OFFSET(男子様式!$J$18,3*A57,0),\" \",IF(LEN(OFFSET(男子様式!$L$18,A57*3,0))=0,,\"(\"),LEFT(OFFSET(男子様式!$L$18,A57*3,0),2),IF(LEN(OFFSET(男子様式!$J$18,A57*3,0))=0,,\")\"))","v":" "},"",{"$f":"IF($C57=\"\",\"\",VLOOKUP(基本登録情報!$C$7,登録データ!$I$3:$L$100,3,FALSE))","v":""},{"$f":"IF($C57=\"\",\"\",VLOOKUP(OFFSET(男子様式!$O$18,3*A57,0),登録データ!AM57:AN103,2,FALSE))","v":""},"",{"$f":"IF(男子様式!$AG186=\"\",\"\",男子様式!$AG186)","v":""},{"$f":"IF(男子様式!$AG187=\"\",\"\",男子様式!$AG187)","v":""},{"$f":"IF(男子様式!$AG188=\"\",\"\",男子様式!$AG188)","v":""}]
[57,{"$f":"IF(男子様式!$C189=\"\",\"\",IF(男子様式!$C189=\"@\",\"@\",男子様式!$C189))","v":""},{"$f":"IF(男子様式!$C189=\"\",\"\",IF($B58=\"@\",\"@\",$B58+100000000))","v":""},{"$f":"IF($C58=\"\",\"\",CONCATENATE(男子様式!$D77,\" \",男子様式!$J77))","v":""},{"$f":"IF($C58=\"\",\"\",男子様式!$G189)","v":""},{"$f":"CONCATENATE(OFFSET(男子様式!$J$18,3*A58,0),\" \",IF(LEN(OFFSET(男子様式!$L$18,A58*3,0))=0,,\"(\"),LEFT(OFFSET(男子様式!$L$18,A58*3,0),2),IF(LEN(OFFSET(男子様式!$J$18,A58*3,0))=0,,\")\"))","v":" "},"",{"$f":"IF($C58=\"\",\"\",VLOOKUP(基本登録情報!$C$7,登録データ!$I$3:$L$100,3,FALSE))","v":""},{"$f":"IF($C58=\"\",\"\",VLOOKUP(OFFSET(男子様式!$O$18,3*A58,0),登録データ!AM58:AN104,2,FALSE))","v":""},"",{"$f":"IF(男子様式!$AG189=\"\",\"\",男子様式!$AG189)","v":""},{"$f":"IF(男子様式!$AG190=\"\",\"\",男子様式!$AG190)","v":""},{"$f":"IF(男子様式!$AG191=\"\",\"\",男子様式!$AG191)","v":""}]
[58,{"$f":"IF(男子様式!$C192=\"\",\"\",IF(男子様式!$C192=\"@\",\"@\",男子様式!$C192))","v":""},{"$f":"IF(男子様式!$C192=\"\",\"\",IF($B59=\"@\",\"@\",$B59+100000000))","v":""},{"$f":"IF($C59=\"\",\"\",CONCATENATE(男子様式!$D78,\" \",男子様式!$J78))","v":""},{"$f":"IF($C59=\"\",\"\",男子様式!$G192)","v":""},{"$f":"CONCATENATE(OFFSET(男子様式!$J$18,3*A59,0),\" \",IF(LEN(OFFSET(男子様式!$L$18,A59*3,0))=0,,\"(\"),LEFT(OFFSET(男子様式!$L$18,A59*3,0),2),IF(LEN(OFFSET(男子様式!$J$18,A59*3,0))=0,,\")\"))","v":" "},"",{"$f":"IF($C59=\"\",\"\",VLOOKUP(基本登録情報!$C$7,登録データ!$I$3:$L$100,3,FALSE))","v":""},{"$f":"IF($C59=\"\",\"\",VLOOKUP(OFFSET(男子様式!$O$18,3*A59,0),登録データ!AM59:AN105,2,FALSE))","v":""},"",{"$f":"IF(男子様式!$AG192=\"\",\"\",男子様式!$AG192)","v":""},{"$f":"IF(男子様式!$AG193=\"\",\"\",男子様式!$AG193)","v":""},{"$f":"IF(男子様式!$AG194=\"\",\"\",男子様式!$AG194)","v":""}]
[59,{"$f":"IF(男子様式!$C195=\"\",\"\",IF(男子様式!$C195=\"@\",\"@\",男子様式!$C195))","v":""},{"$f":"IF(男子様式!$C195=\"\",\"\",IF($B60=\"@\",\"@\",$B60+100000000))","v":""},{"$f":"IF($C60=\"\",\"\",CONCATENATE(男子様式!$D79,\" \",男子様式!$J79))","v":""},{"$f":"IF($C60=\"\",\"\",男子様式!$G195)","v":""},{"$f":"CONCATENATE(OFFSET(男子様式!$J$18,3*A60,0),\" \",IF(LEN(OFFSET(男子様式!$L$18,A60*3,0))=0,,\"(\"),LEFT(OFFSET(男子様式!$L$18,A60*3,0),2),IF(LEN(OFFSET(男子様式!$J$18,A60*3,0))=0,,\")\"))","v":" "},"",{"$f":"IF($C60=\"\",\"\",VLOOKUP(基本登録情報!$C$7,登録データ!$I$3:$L$100,3,FALSE))","v":""},{"$f":"IF($C60=\"\",\"\",VLOOKUP(OFFSET(男子様式!$O$18,3*A60,0),登録データ!AM60:AN106,2,FALSE))","v":""},"",{"$f":"IF(男子様式!$AG195=\"\",\"\",男子様式!$AG195)","v":""},{"$f":"IF(男子様式!$AG196=\"\",\"\",男子様式!$AG196)","v":""},{"$f":"IF(男子様式!$AG197=\"\",\"\",男子様式!$AG197)","v":""}]
[60,{"$f":"IF(男子様式!$C198=\"\",\"\",IF(男子様式!$C198=\"@\",\"@\",男子様式!$C198))","v":""},{"$f":"IF(男子様式!$C198=\"\",\"\",IF($B61=\"@\",\"@\",$B61+100000000))","v":""},{"$f":"IF($C61=\"\",\"\",CONCATENATE(男子様式!$D80,\" \",男子様式!$J80))","v":""},{"$f":"IF($C61=\"\",\"\",男子様式!$G198)","v":""},{"$f":"CONCATENATE(OFFSET(男子様式!$J$18,3*A61,0),\" \",IF(LEN(OFFSET(男子様式!$L$18,A61*3,0))=0,,\"(\"),LEFT(OFFSET(男子様式!$L$18,A61*3,0),2),IF(LEN(OFFSET(男子様式!$J$18,A61*3,0))=0,,\")\"))","v":" "},"",{"$f":"IF($C61=\"\",\"\",VLOOKUP(基本登録情報!$C$7,登録データ!$I$3:$L$100,3,FALSE))","v":""},{"$f":"IF($C61=\"\",\"\",VLOOKUP(OFFSET(男子様式!$O$18,3*A61,0),登録データ!AM61:AN107,2,FALSE))","v":""},"",{"$f":"IF(男子様式!$AG198=\"\",\"\",男子様式!$AG198)","v":""},{"$f":"IF(男子様式!$AG199=\"\",\"\",男子様式!$AG199)","v":""},{"$f":"IF(男子様式!$AG200=\"\",\"\",男子様式!$AG200)","v":""}]
[61,{"$f":"IF(男子様式!$C201=\"\",\"\",IF(男子様式!$C201=\"@\",\"@\",男子様式!$C201))","v":""},{"$f":"IF(男子様式!$C201=\"\",\"\",IF($B62=\"@\",\"@\",$B62+100000000))","v":""},{"$f":"IF($C62=\"\",\"\",CONCATENATE(男子様式!$D81,\" \",男子様式!$J81))","v":""},{"$f":"IF($C62=\"\",\"\",男子様式!$G201)","v":""},{"$f":"CONCATENATE(OFFSET(男子様式!$J$18,3*A62,0),\" \",IF(LEN(OFFSET(男子様式!$L$18,A62*3,0))=0,,\"(\"),LEFT(OFFSET(男子様式!$L$18,A62*3,0),2),IF(LEN(OFFSET(男子様式!$J$18,A62*3,0))=0,,\")\"))","v":" "},"",{"$f":"IF($C62=\"\",\"\",VLOOKUP(基本登録情報!$C$7,登録データ!$I$3:$L$100,3,FALSE))","v":""},{"$f":"IF($C62=\"\",\"\",VLOOKUP(OFFSET(男子様式!$O$18,3*A62,0),登録データ!AM62:AN108,2,FALSE))","v":""},"",{"$f":"IF(男子様式!$AG201=\"\",\"\",男子様式!$AG201)","v":""},{"$f":"IF(男子様式!$AG202=\"\",\"\",男子様式!$AG202)","v":""},{"$f":"IF(男子様式!$AG203=\"\",\"\",男子様式!$AG203)","v":""}]
[62,{"$f":"IF(男子様式!$C204=\"\",\"\",IF(男子様式!$C204=\"@\",\"@\",男子様式!$C204))","v":""},{"$f":"IF(男子様式!$C204=\"\",\"\",IF($B63=\"@\",\"@\",$B63+100000000))","v":""},{"$f":"IF($C63=\"\",\"\",CONCATENATE(男子様式!$D82,\" \",男子様式!$J82))","v":""},{"$f":"IF($C63=\"\",\"\",男子様式!$G204)","v":""},{"$f":"CONCATENATE(OFFSET(男子様式!$J$18,3*A63,0),\" \",IF(LEN(OFFSET(男子様式!$L$18,A63*3,0))=0,,\"(\"),LEFT(OFFSET(男子様式!$L$18,A63*3,0),2),IF(LEN(OFFSET(男子様式!$J$18,A63*3,0))=0,,\")\"))","v":" "},"",{"$f":"IF($C63=\"\",\"\",VLOOKUP(基本登録情報!$C$7,登録データ!$I$3:$L$100,3,FALSE))","v":""},{"$f":"IF($C63=\"\",\"\",VLOOKUP(OFFSET(男子様式!$O$18,3*A63,0),登録データ!AM63:AN109,2,FALSE))","v":""},"",{"$f":"IF(男子様式!$AG204=\"\",\"\",男子様式!$AG204)","v":""},{"$f":"IF(男子様式!$AG205=\"\",\"\",男子様式!$AG205)","v":""},{"$f":"IF(男子様式!$AG206=\"\",\"\",男子様式!$AG206)","v":""}]
[63,{"$f":"IF(男子様式!$C207=\"\",\"\",IF(男子様式!$C207=\"@\",\"@\",男子様式!$C207))","v":""},{"$f":"IF(男子様式!$C207=\"\",\"\",IF($B64=\"@\",\"@\",$B64+100000000))","v":""},{"$f":"IF($C64=\"\",\"\",CONCATENATE(男子様式!$D83,\" \",男子様式!$J83))","v":""},{"$f":"IF($C64=\"\",\"\",男子様式!$G207)","v":""},{"$f":"CONCATENATE(OFFSET(男子様式!$J$18,3*A64,0),\" \",IF(LEN(OFFSET(男子様式!$L$18,A64*3,0))=0,,\"(\"),LEFT(OFFSET(男子様式!$L$18,A64*3,0),2),IF(LEN(OFFSET(男子様式!$J$18,A64*3,0))=0,,\")\"))","v":" "},"",{"$f":"IF($C64=\"\",\"\",VLOOKUP(基本登録情報!$C$7,登録データ!$I$3:$L$100,3,FALSE))","v":""},{"$f":"IF($C64=\"\",\"\",VLOOKUP(OFFSET(男子様式!$O$18,3*A64,0),登録データ!AM64:AN110,2,FALSE))","v":""},"",{"$f":"IF(男子様式!$AG207=\"\",\"\",男子様式!$AG207)","v":""},{"$f":"IF(男子様式!$AG208=\"\",\"\",男子様式!$AG208)","v":""},{"$f":"IF(男子様式!$AG209=\"\",\"\",男子様式!$AG209)","v":""}]
[64,{"$f":"IF(男子様式!$C210=\"\",\"\",IF(男子様式!$C210=\"@\",\"@\",男子様式!$C210))","v":""},{"$f":"IF(男子様式!$C210=\"\",\"\",IF($B65=\"@\",\"@\",$B65+100000000))","v":""},{"$f":"IF($C65=\"\",\"\",CONCATENATE(男子様式!$D84,\" \",男子様式!$J84))","v":""},{"$f":"IF($C65=\"\",\"\",男子様式!$G210)","v":""},{"$f":"CONCATENATE(OFFSET(男子様式!$J$18,3*A65,0),\" \",IF(LEN(OFFSET(男子様式!$L$18,A65*3,0))=0,,\"(\"),LEFT(OFFSET(男子様式!$L$18,A65*3,0),2),IF(LEN(OFFSET(男子様式!$J$18,A65*3,0))=0,,\")\"))","v":" "},"",{"$f":"IF($C65=\"\",\"\",VLOOKUP(基本登録情報!$C$7,登録データ!$I$3:$L$100,3,FALSE))","v":""},{"$f":"IF($C65=\"\",\"\",VLOOKUP(OFFSET(男子様式!$O$18,3*A65,0),登録データ!AM65:AN111,2,FALSE))","v":""},"",{"$f":"IF(男子様式!$AG210=\"\",\"\",男子様式!$AG210)","v":""},{"$f":"IF(男子様式!$AG211=\"\",\"\",男子様式!$AG211)","v":""},{"$f":"IF(男子様式!$AG212=\"\",\"\",男子様式!$AG212)","v":""}]
[65,{"$f":"IF(男子様式!$C213=\"\",\"\",IF(男子様式!$C213=\"@\",\"@\",男子様式!$C213))","v":""},{"$f":"IF(男子様式!$C213=\"\",\"\",IF($B66=\"@\",\"@\",$B66+100000000))","v":""},{"$f":"IF($C66=\"\",\"\",CONCATENATE(男子様式!$D85,\" \",男子様式!$J85))","v":""},{"$f":"IF($C66=\"\",\"\",男子様式!$G213)","v":""},{"$f":"CONCATENATE(OFFSET(男子様式!$J$18,3*A66,0),\" \",IF(LEN(OFFSET(男子様式!$L$18,A66*3,0))=0,,\"(\"),LEFT(OFFSET(男子様式!$L$18,A66*3,0),2),IF(LEN(OFFSET(男子様式!$J$18,A66*3,0))=0,,\")\"))","v":" "},"",{"$f":"IF($C66=\"\",\"\",VLOOKUP(基本登録情報!$C$7,登録データ!$I$3:$L$100,3,FALSE))","v":""},{"$f":"IF($C66=\"\",\"\",VLOOKUP(OFFSET(男子様式!$O$18,3*A66,0),登録データ!AM66:AN112,2,FALSE))","v":""},"",{"$f":"IF(男子様式!$AG213=\"\",\"\",男子様式!$AG213)","v":""},{"$f":"IF(男子様式!$AG214=\"\",\"\",男子様式!$AG214)","v":""},{"$f":"IF(男子様式!$AG215=\"\",\"\",男子様式!$AG215)","v":""}]
[66,{"$f":"IF(男子様式!$C216=\"\",\"\",IF(男子様式!$C216=\"@\",\"@\",男子様式!$C216))","v":""},{"$f":"IF(男子様式!$C216=\"\",\"\",IF($B67=\"@\",\"@\",$B67+100000000))","v":""},{"$f":"IF($C67=\"\",\"\",CONCATENATE(男子様式!$D86,\" \",男子様式!$J86))","v":""},{"$f":"IF($C67=\"\",\"\",男子様式!$G216)","v":""},{"$f":"CONCATENATE(OFFSET(男子様式!$J$18,3*A67,0),\" \",IF(LEN(OFFSET(男子様式!$L$18,A67*3,0))=0,,\"(\"),LEFT(OFFSET(男子様式!$L$18,A67*3,0),2),IF(LEN(OFFSET(男子様式!$J$18,A67*3,0))=0,,\")\"))","v":" "},{"$f":"IF($C67=\"\",\"\",1)","v":""},{"$f":"IF($C67=\"\",\"\",VLOOKUP(基本登録情報!$C$7,登録データ!$I$3:$L$100,3,FALSE))","v":""},{"$f":"IF($C67=\"\",\"\",VLOOKUP(OFFSET(男子様式!$O$18,3*A67,0),登録データ!AM67:AN113,2,FALSE))","v":""},{"$f":"IF($C67=\"\",\"\",IF($C67=\"@\",\"@\",VALUE(RIGHT($C67,4))))","v":""},{"$f":"IF(男子様式!$AG216=\"\",\"\",男子様式!$AG216)","v":""},{"$f":"IF(男子様式!$AG217=\"\",\"\",男子様式!$AG217)","v":""},{"$f":"IF(男子様式!$AG218=\"\",\"\",男子様式!$AG218)","v":""}]
[67,{"$f":"IF(男子様式!$C219=\"\",\"\",IF(男子様式!$C219=\"@\",\"@\",男子様式!$C219))","v":""},{"$f":"IF(男子様式!$C219=\"\",\"\",IF($B68=\"@\",\"@\",$B68+100000000))","v":""},{"$f":"IF($C68=\"\",\"\",CONCATENATE(男子様式!$D87,\" \",男子様式!$J87))","v":""},{"$f":"IF($C68=\"\",\"\",男子様式!$G219)","v":""},{"$f":"CONCATENATE(OFFSET(男子様式!$J$18,3*A68,0),\" \",IF(LEN(OFFSET(男子様式!$L$18,A68*3,0))=0,,\"(\"),LEFT(OFFSET(男子様式!$L$18,A68*3,0),2),IF(LEN(OFFSET(男子様式!$J$18,A68*3,0))=0,,\")\"))","v":" "},"",{"$f":"IF($C68=\"\",\"\",VLOOKUP(基本登録情報!$C$7,登録データ!$I$3:$L$100,3,FALSE))","v":""},{"$f":"IF($C68=\"\",\"\",VLOOKUP(OFFSET(男子様式!$O$18,3*A68,0),登録データ!AM68:AN114,2,FALSE))","v":""},"",{"$f":"IF(男子様式!$AG219=\"\",\"\",男子様式!$AG219)","v":""},{"$f":"IF(男子様式!$AG220=\"\",\"\",男子様式!$AG220)","v":""},{"$f":"IF(男子様式!$AG221=\"\",\"\",男子様式!$AG221)","v":""}]
[68,{"$f":"IF(男子様式!$C222=\"\",\"\",IF(男子様式!$C222=\"@\",\"@\",男子様式!$C222))","v":""},{"$f":"IF(男子様式!$C222=\"\",\"\",IF($B69=\"@\",\"@\",$B69+100000000))","v":""},{"$f":"IF($C69=\"\",\"\",CONCATENATE(男子様式!$D88,\" \",男子様式!$J88))","v":""},{"$f":"IF($C69=\"\",\"\",男子様式!$G222)","v":""},{"$f":"CONCATENATE(OFFSET(男子様式!$J$18,3*A69,0),\" \",IF(LEN(OFFSET(男子様式!$L$18,A69*3,0))=0,,\"(\"),LEFT(OFFSET(男子様式!$L$18,A69*3,0),2),IF(LEN(OFFSET(男子様式!$J$18,A69*3,0))=0,,\")\"))","v":" "},"",{"$f":"IF($C69=\"\",\"\",VLOOKUP(基本登録情報!$C$7,登録データ!$I$3:$L$100,3,FALSE))","v":""},{"$f":"IF($C69=\"\",\"\",VLOOKUP(OFFSET(男子様式!$O$18,3*A69,0),登録データ!AM69:AN115,2,FALSE))","v":""},"",{"$f":"IF(男子様式!$AG222=\"\",\"\",男子様式!$AG222)","v":""},{"$f":"IF(男子様式!$AG223=\"\",\"\",男子様式!$AG223)","v":""},{"$f":"IF(男子様式!$AG224=\"\",\"\",男子様式!$AG224)","v":""}]
[69,{"$f":"IF(男子様式!$C225=\"\",\"\",IF(男子様式!$C225=\"@\",\"@\",男子様式!$C225))","v":""},{"$f":"IF(男子様式!$C225=\"\",\"\",IF($B70=\"@\",\"@\",$B70+100000000))","v":""},{"$f":"IF($C70=\"\",\"\",CONCATENATE(男子様式!$D89,\" \",男子様式!$J89))","v":""},{"$f":"IF($C70=\"\",\"\",男子様式!$G225)","v":""},{"$f":"CONCATENATE(OFFSET(男子様式!$J$18,3*A70,0),\" \",IF(LEN(OFFSET(男子様式!$L$18,A70*3,0))=0,,\"(\"),LEFT(OFFSET(男子様式!$L$18,A70*3,0),2),IF(LEN(OFFSET(男子様式!$J$18,A70*3,0))=0,,\")\"))","v":" "},"",{"$f":"IF($C70=\"\",\"\",VLOOKUP(基本登録情報!$C$7,登録データ!$I$3:$L$100,3,FALSE))","v":""},{"$f":"IF($C70=\"\",\"\",VLOOKUP(OFFSET(男子様式!$O$18,3*A70,0),登録データ!AM70:AN116,2,FALSE))","v":""},"",{"$f":"IF(男子様式!$AG225=\"\",\"\",男子様式!$AG225)","v":""},{"$f":"IF(男子様式!$AG226=\"\",\"\",男子様式!$AG226)","v":""},{"$f":"IF(男子様式!$AG227=\"\",\"\",男子様式!$AG227)","v":""}]
[70,{"$f":"IF(男子様式!$C228=\"\",\"\",IF(男子様式!$C228=\"@\",\"@\",男子様式!$C228))","v":""},{"$f":"IF(男子様式!$C228=\"\",\"\",IF($B71=\"@\",\"@\",$B71+100000000))","v":""},{"$f":"IF($C71=\"\",\"\",CONCATENATE(男子様式!$D90,\" \",男子様式!$J90))","v":""},{"$f":"IF($C71=\"\",\"\",男子様式!$G228)","v":""},{"$f":"CONCATENATE(OFFSET(男子様式!$J$18,3*A71,0),\" \",IF(LEN(OFFSET(男子様式!$L$18,A71*3,0))=0,,\"(\"),LEFT(OFFSET(男子様式!$L$18,A71*3,0),2),IF(LEN(OFFSET(男子様式!$J$18,A71*3,0))=0,,\")\"))","v":" "},"",{"$f":"IF($C71=\"\",\"\",VLOOKUP(基本登録情報!$C$7,登録データ!$I$3:$L$100,3,FALSE))","v":""},{"$f":"IF($C71=\"\",\"\",VLOOKUP(OFFSET(男子様式!$O$18,3*A71,0),登録データ!AM71:AN117,2,FALSE))","v":""},"",{"$f":"IF(男子様式!$AG228=\"\",\"\",男子様式!$AG228)","v":""},{"$f":"IF(男子様式!$AG229=\"\",\"\",男子様式!$AG229)","v":""},{"$f":"IF(男子様式!$AG230=\"\",\"\",男子様式!$AG230)","v":""}]
[71,{"$f":"IF(男子様式!$C231=\"\",\"\",IF(男子様式!$C231=\"@\",\"@\",男子様式!$C231))","v":""},{"$f":"IF(男子様式!$C231=\"\",\"\",IF($B72=\"@\",\"@\",$B72+100000000))","v":""},{"$f":"IF($C72=\"\",\"\",CONCATENATE(男子様式!$D91,\" \",男子様式!$J91))","v":""},{"$f":"IF($C72=\"\",\"\",男子様式!$G231)","v":""},{"$f":"CONCATENATE(OFFSET(男子様式!$J$18,3*A72,0),\" \",IF(LEN(OFFSET(男子様式!$L$18,A72*3,0))=0,,\"(\"),LEFT(OFFSET(男子様式!$L$18,A72*3,0),2),IF(LEN(OFFSET(男子様式!$J$18,A72*3,0))=0,,\")\"))","v":" "},"",{"$f":"IF($C72=\"\",\"\",VLOOKUP(基本登録情報!$C$7,登録データ!$I$3:$L$100,3,FALSE))","v":""},{"$f":"IF($C72=\"\",\"\",VLOOKUP(OFFSET(男子様式!$O$18,3*A72,0),登録データ!AM72:AN118,2,FALSE))","v":""},"",{"$f":"IF(男子様式!$AG231=\"\",\"\",男子様式!$AG231)","v":""},{"$f":"IF(男子様式!$AG232=\"\",\"\",男子様式!$AG232)","v":""},{"$f":"IF(男子様式!$AG233=\"\",\"\",男子様式!$AG233)","v":""}]
[72,{"$f":"IF(男子様式!$C234=\"\",\"\",IF(男子様式!$C234=\"@\",\"@\",男子様式!$C234))","v":""},{"$f":"IF(男子様式!$C234=\"\",\"\",IF($B73=\"@\",\"@\",$B73+100000000))","v":""},{"$f":"IF($C73=\"\",\"\",CONCATENATE(男子様式!$D92,\" \",男子様式!$J92))","v":""},{"$f":"IF($C73=\"\",\"\",男子様式!$G234)","v":""},{"$f":"CONCATENATE(OFFSET(男子様式!$J$18,3*A73,0),\" \",IF(LEN(OFFSET(男子様式!$L$18,A73*3,0))=0,,\"(\"),LEFT(OFFSET(男子様式!$L$18,A73*3,0),2),IF(LEN(OFFSET(男子様式!$J$18,A73*3,0))=0,,\")\"))","v":" "},"",{"$f":"IF($C73=\"\",\"\",VLOOKUP(基本登録情報!$C$7,登録データ!$I$3:$L$100,3,FALSE))","v":""},{"$f":"IF($C73=\"\",\"\",VLOOKUP(OFFSET(男子様式!$O$18,3*A73,0),登録データ!AM73:AN119,2,FALSE))","v":""},"",{"$f":"IF(男子様式!$AG234=\"\",\"\",男子様式!$AG234)","v":""},{"$f":"IF(男子様式!$AG235=\"\",\"\",男子様式!$AG235)","v":""},{"$f":"IF(男子様式!$AG236=\"\",\"\",男子様式!$AG236)","v":""}]
[73,{"$f":"IF(男子様式!$C237=\"\",\"\",IF(男子様式!$C237=\"@\",\"@\",男子様式!$C237))","v":""},{"$f":"IF(男子様式!$C237=\"\",\"\",IF($B74=\"@\",\"@\",$B74+100000000))","v":""},{"$f":"IF($C74=\"\",\"\",CONCATENATE(男子様式!$D93,\" \",男子様式!$J93))","v":""},{"$f":"IF($C74=\"\",\"\",男子様式!$G237)","v":""},{"$f":"CONCATENATE(OFFSET(男子様式!$J$18,3*A74,0),\" \",IF(LEN(OFFSET(男子様式!$L$18,A74*3,0))=0,,\"(\"),LEFT(OFFSET(男子様式!$L$18,A74*3,0),2),IF(LEN(OFFSET(男子様式!$J$18,A74*3,0))=0,,\")\"))","v":" "},"",{"$f":"IF($C74=\"\",\"\",VLOOKUP(基本登録情報!$C$7,登録データ!$I$3:$L$100,3,FALSE))","v":""},{"$f":"IF($C74=\"\",\"\",VLOOKUP(OFFSET(男子様式!$O$18,3*A74,0),登録データ!AM74:AN120,2,FALSE))","v":""},"",{"$f":"IF(男子様式!$AG237=\"\",\"\",男子様式!$AG237)","v":""},{"$f":"IF(男子様式!$AG238=\"\",\"\",男子様式!$AG238)","v":""},{"$f":"IF(男子様式!$AG239=\"\",\"\",男子様式!$AG239)","v":""}]
[74,{"$f":"IF(男子様式!$C240=\"\",\"\",IF(男子様式!$C240=\"@\",\"@\",男子様式!$C240))","v":""},{"$f":"IF(男子様式!$C240=\"\",\"\",IF($B75=\"@\",\"@\",$B75+100000000))","v":""},{"$f":"IF($C75=\"\",\"\",CONCATENATE(男子様式!$D94,\" \",男子様式!$J94))","v":""},{"$f":"IF($C75=\"\",\"\",男子様式!$G240)","v":""},{"$f":"CONCATENATE(OFFSET(男子様式!$J$18,3*A75,0),\" \",IF(LEN(OFFSET(男子様式!$L$18,A75*3,0))=0,,\"(\"),LEFT(OFFSET(男子様式!$L$18,A75*3,0),2),IF(LEN(OFFSET(男子様式!$J$18,A75*3,0))=0,,\")\"))","v":" "},"",{"$f":"IF($C75=\"\",\"\",VLOOKUP(基本登録情報!$C$7,登録データ!$I$3:$L$100,3,FALSE))","v":""},{"$f":"IF($C75=\"\",\"\",VLOOKUP(OFFSET(男子様式!$O$18,3*A75,0),登録データ!AM75:AN121,2,FALSE))","v":""},"",{"$f":"IF(男子様式!$AG240=\"\",\"\",男子様式!$AG240)","v":""},{"$f":"IF(男子様式!$AG241=\"\",\"\",男子様式!$AG241)","v":""},{"$f":"IF(男子様式!$AG242=\"\",\"\",男子様式!$AG242)","v":""}]
[75,{"$f":"IF(男子様式!$C243=\"\",\"\",IF(男子様式!$C243=\"@\",\"@\",男子様式!$C243))","v":""},{"$f":"IF(男子様式!$C243=\"\",\"\",IF($B76=\"@\",\"@\",$B76+100000000))","v":""},{"$f":"IF($C76=\"\",\"\",CONCATENATE(男子様式!$D95,\" \",男子様式!$J95))","v":""},{"$f":"IF($C76=\"\",\"\",男子様式!$G243)","v":""},{"$f":"CONCATENATE(OFFSET(男子様式!$J$18,3*A76,0),\" \",IF(LEN(OFFSET(男子様式!$L$18,A76*3,0))=0,,\"(\"),LEFT(OFFSET(男子様式!$L$18,A76*3,0),2),IF(LEN(OFFSET(男子様式!$J$18,A76*3,0))=0,,\")\"))","v":" "},"",{"$f":"IF($C76=\"\",\"\",VLOOKUP(基本登録情報!$C$7,登録データ!$I$3:$L$100,3,FALSE))","v":""},{"$f":"IF($C76=\"\",\"\",VLOOKUP(OFFSET(男子様式!$O$18,3*A76,0),登録データ!AM76:AN122,2,FALSE))","v":""},"",{"$f":"IF(男子様式!$AG243=\"\",\"\",男子様式!$AG243)","v":""},{"$f":"IF(男子様式!$AG244=\"\",\"\",男子様式!$AG244)","v":""},{"$f":"IF(男子様式!$AG245=\"\",\"\",男子様式!$AG245)","v":""}]
[76,{"$f":"IF(男子様式!$C246=\"\",\"\",IF(男子様式!$C246=\"@\",\"@\",男子様式!$C246))","v":""},{"$f":"IF(男子様式!$C246=\"\",\"\",IF($B77=\"@\",\"@\",$B77+100000000))","v":""},{"$f":"IF($C77=\"\",\"\",CONCATENATE(男子様式!$D96,\" \",男子様式!$J96))","v":""},{"$f":"IF($C77=\"\",\"\",男子様式!$G246)","v":""},{"$f":"CONCATENATE(OFFSET(男子様式!$J$18,3*A77,0),\" \",IF(LEN(OFFSET(男子様式!$L$18,A77*3,0))=0,,\"(\"),LEFT(OFFSET(男子様式!$L$18,A77*3,0),2),IF(LEN(OFFSET(男子様式!$J$18,A77*3,0))=0,,\")\"))","v":" "},"",{"$f":"IF($C77=\"\",\"\",VLOOKUP(基本登録情報!$C$7,登録データ!$I$3:$L$100,3,FALSE))","v":""},{"$f":"IF($C77=\"\",\"\",VLOOKUP(OFFSET(男子様式!$O$18,3*A77,0),登録データ!AM77:AN123,2,FALSE))","v":""},"",{"$f":"IF(男子様式!$AG246=\"\",\"\",男子様式!$AG246)","v":""},{"$f":"IF(男子様式!$AG247=\"\",\"\",男子様式!$AG247)","v":""},{"$f":"IF(男子様式!$AG248=\"\",\"\",男子様式!$AG248)","v":""}]
[77,{"$f":"IF(男子様式!$C249=\"\",\"\",IF(男子様式!$C249=\"@\",\"@\",男子様式!$C249))","v":""},{"$f":"IF(男子様式!$C249=\"\",\"\",IF($B78=\"@\",\"@\",$B78+100000000))","v":""},{"$f":"IF($C78=\"\",\"\",CONCATENATE(男子様式!$D97,\" \",男子様式!$J97))","v":""},{"$f":"IF($C78=\"\",\"\",男子様式!$G249)","v":""},{"$f":"CONCATENATE(OFFSET(男子様式!$J$18,3*A78,0),\" \",IF(LEN(OFFSET(男子様式!$L$18,A78*3,0))=0,,\"(\"),LEFT(OFFSET(男子様式!$L$18,A78*3,0),2),IF(LEN(OFFSET(男子様式!$J$18,A78*3,0))=0,,\")\"))","v":" "},"",{"$f":"IF($C78=\"\",\"\",VLOOKUP(基本登録情報!$C$7,登録データ!$I$3:$L$100,3,FALSE))","v":""},{"$f":"IF($C78=\"\",\"\",VLOOKUP(OFFSET(男子様式!$O$18,3*A78,0),登録データ!AM78:AN124,2,FALSE))","v":""},"",{"$f":"IF(男子様式!$AG249=\"\",\"\",男子様式!$AG249)","v":""},{"$f":"IF(男子様式!$AG250=\"\",\"\",男子様式!$AG250)","v":""},{"$f":"IF(男子様式!$AG251=\"\",\"\",男子様式!$AG251)","v":""}]
[78,{"$f":"IF(男子様式!$C252=\"\",\"\",IF(男子様式!$C252=\"@\",\"@\",男子様式!$C252))","v":""},{"$f":"IF(男子様式!$C252=\"\",\"\",IF($B79=\"@\",\"@\",$B79+100000000))","v":""},{"$f":"IF($C79=\"\",\"\",CONCATENATE(男子様式!$D98,\" \",男子様式!$J98))","v":""},{"$f":"IF($C79=\"\",\"\",男子様式!$G252)","v":""},{"$f":"CONCATENATE(OFFSET(男子様式!$J$18,3*A79,0),\" \",IF(LEN(OFFSET(男子様式!$L$18,A79*3,0))=0,,\"(\"),LEFT(OFFSET(男子様式!$L$18,A79*3,0),2),IF(LEN(OFFSET(男子様式!$J$18,A79*3,0))=0,,\")\"))","v":" "},"",{"$f":"IF($C79=\"\",\"\",VLOOKUP(基本登録情報!$C$7,登録データ!$I$3:$L$100,3,FALSE))","v":""},{"$f":"IF($C79=\"\",\"\",VLOOKUP(OFFSET(男子様式!$O$18,3*A79,0),登録データ!AM79:AN125,2,FALSE))","v":""},"",{"$f":"IF(男子様式!$AG252=\"\",\"\",男子様式!$AG252)","v":""},{"$f":"IF(男子様式!$AG253=\"\",\"\",男子様式!$AG253)","v":""},{"$f":"IF(男子様式!$AG254=\"\",\"\",男子様式!$AG254)","v":""}]
[79,{"$f":"IF(男子様式!$C255=\"\",\"\",IF(男子様式!$C255=\"@\",\"@\",男子様式!$C255))","v":""},{"$f":"IF(男子様式!$C255=\"\",\"\",IF($B80=\"@\",\"@\",$B80+100000000))","v":""},{"$f":"IF($C80=\"\",\"\",CONCATENATE(男子様式!$D99,\" \",男子様式!$J99))","v":""},{"$f":"IF($C80=\"\",\"\",男子様式!$G255)","v":""},{"$f":"CONCATENATE(OFFSET(男子様式!$J$18,3*A80,0),\" \",IF(LEN(OFFSET(男子様式!$L$18,A80*3,0))=0,,\"(\"),LEFT(OFFSET(男子様式!$L$18,A80*3,0),2),IF(LEN(OFFSET(男子様式!$J$18,A80*3,0))=0,,\")\"))","v":" "},"",{"$f":"IF($C80=\"\",\"\",VLOOKUP(基本登録情報!$C$7,登録データ!$I$3:$L$100,3,FALSE))","v":""},{"$f":"IF($C80=\"\",\"\",VLOOKUP(OFFSET(男子様式!$O$18,3*A80,0),登録データ!AM80:AN126,2,FALSE))","v":""},"",{"$f":"IF(男子様式!$AG255=\"\",\"\",男子様式!$AG255)","v":""},{"$f":"IF(男子様式!$AG256=\"\",\"\",男子様式!$AG256)","v":""},{"$f":"IF(男子様式!$AG257=\"\",\"\",男子様式!$AG257)","v":""}]
[80,{"$f":"IF(男子様式!$C258=\"\",\"\",IF(男子様式!$C258=\"@\",\"@\",男子様式!$C258))","v":""},{"$f":"IF(男子様式!$C258=\"\",\"\",IF($B81=\"@\",\"@\",$B81+100000000))","v":""},{"$f":"IF($C81=\"\",\"\",CONCATENATE(男子様式!$D100,\" \",男子様式!$J100))","v":""},{"$f":"IF($C81=\"\",\"\",男子様式!$G258)","v":""},{"$f":"CONCATENATE(OFFSET(男子様式!$J$18,3*A81,0),\" \",IF(LEN(OFFSET(男子様式!$L$18,A81*3,0))=0,,\"(\"),LEFT(OFFSET(男子様式!$L$18,A81*3,0),2),IF(LEN(OFFSET(男子様式!$J$18,A81*3,0))=0,,\")\"))","v":" "},"",{"$f":"IF($C81=\"\",\"\",VLOOKUP(基本登録情報!$C$7,登録データ!$I$3:$L$100,3,FALSE))","v":""},{"$f":"IF($C81=\"\",\"\",VLOOKUP(OFFSET(男子様式!$O$18,3*A81,0),登録データ!AM81:AN127,2,FALSE))","v":""},"",{"$f":"IF(男子様式!$AG258=\"\",\"\",男子様式!$AG258)","v":""},{"$f":"IF(男子様式!$AG259=\"\",\"\",男子様式!$AG259)","v":""},{"$f":"IF(男子様式!$AG260=\"\",\"\",男子様式!$AG260)","v":""}]
[81,{"$f":"IF(男子様式!$C261=\"\",\"\",IF(男子様式!$C261=\"@\",\"@\",男子様式!$C261))","v":""},{"$f":"IF(男子様式!$C261=\"\",\"\",IF($B82=\"@\",\"@\",$B82+100000000))","v":""},{"$f":"IF($C82=\"\",\"\",CONCATENATE(男子様式!$D101,\" \",男子様式!$J101))","v":""},{"$f":"IF($C82=\"\",\"\",男子様式!$G261)","v":""},{"$f":"CONCATENATE(OFFSET(男子様式!$J$18,3*A82,0),\" \",IF(LEN(OFFSET(男子様式!$L$18,A82*3,0))=0,,\"(\"),LEFT(OFFSET(男子様式!$L$18,A82*3,0),2),IF(LEN(OFFSET(男子様式!$J$18,A82*3,0))=0,,\")\"))","v":" "},"",{"$f":"IF($C82=\"\",\"\",VLOOKUP(基本登録情報!$C$7,登録データ!$I$3:$L$100,3,FALSE))","v":""},{"$f":"IF($C82=\"\",\"\",VLOOKUP(OFFSET(男子様式!$O$18,3*A82,0),登録データ!AM82:AN128,2,FALSE))","v":""},"",{"$f":"IF(男子様式!$AG261=\"\",\"\",男子様式!$AG261)","v":""},{"$f":"IF(男子様式!$AG262=\"\",\"\",男子様式!$AG262)","v":""},{"$f":"IF(男子様式!$AG263=\"\",\"\",男子様式!$AG263)","v":""}]
[82,{"$f":"IF(男子様式!$C264=\"\",\"\",IF(男子様式!$C264=\"@\",\"@\",男子様式!$C264))","v":""},{"$f":"IF(男子様式!$C264=\"\",\"\",IF($B83=\"@\",\"@\",$B83+100000000))","v":""},{"$f":"IF($C83=\"\",\"\",CONCATENATE(男子様式!$D102,\" \",男子様式!$J102))","v":""},{"$f":"IF($C83=\"\",\"\",男子様式!$G264)","v":""},{"$f":"CONCATENATE(OFFSET(男子様式!$J$18,3*A83,0),\" \",IF(LEN(OFFSET(男子様式!$L$18,A83*3,0))=0,,\"(\"),LEFT(OFFSET(男子様式!$L$18,A83*3,0),2),IF(LEN(OFFSET(男子様式!$J$18,A83*3,0))=0,,\")\"))","v":" "},"",{"$f":"IF($C83=\"\",\"\",VLOOKUP(基本登録情報!$C$7,登録データ!$I$3:$L$100,3,FALSE))","v":""},{"$f":"IF($C83=\"\",\"\",VLOOKUP(OFFSET(男子様式!$O$18,3*A83,0),登録データ!AM83:AN129,2,FALSE))","v":""},"",{"$f":"IF(男子様式!$AG264=\"\",\"\",男子様式!$AG264)","v":""},{"$f":"IF(男子様式!$AG265=\"\",\"\",男子様式!$AG265)","v":""},{"$f":"IF(男子様式!$AG266=\"\",\"\",男子様式!$AG266)","v":""}]
[83,{"$f":"IF(男子様式!$C267=\"\",\"\",IF(男子様式!$C267=\"@\",\"@\",男子様式!$C267))","v":""},{"$f":"IF(男子様式!$C267=\"\",\"\",IF($B84=\"@\",\"@\",$B84+100000000))","v":""},{"$f":"IF($C84=\"\",\"\",CONCATENATE(男子様式!$D103,\" \",男子様式!$J103))","v":""},{"$f":"IF($C84=\"\",\"\",男子様式!$G267)","v":""},{"$f":"CONCATENATE(OFFSET(男子様式!$J$18,3*A84,0),\" \",IF(LEN(OFFSET(男子様式!$L$18,A84*3,0))=0,,\"(\"),LEFT(OFFSET(男子様式!$L$18,A84*3,0),2),IF(LEN(OFFSET(男子様式!$J$18,A84*3,0))=0,,\")\"))","v":" "},"",{"$f":"IF($C84=\"\",\"\",VLOOKUP(基本登録情報!$C$7,登録データ!$I$3:$L$100,3,FALSE))","v":""},{"$f":"IF($C84=\"\",\"\",VLOOKUP(OFFSET(男子様式!$O$18,3*A84,0),登録データ!AM84:AN130,2,FALSE))","v":""},"",{"$f":"IF(男子様式!$AG267=\"\",\"\",男子様式!$AG267)","v":""},{"$f":"IF(男子様式!$AG268=\"\",\"\",男子様式!$AG268)","v":""},{"$f":"IF(男子様式!$AG269=\"\",\"\",男子様式!$AG269)","v":""}]
[84,{"$f":"IF(男子様式!$C270=\"\",\"\",IF(男子様式!$C270=\"@\",\"@\",男子様式!$C270))","v":""},{"$f":"IF(男子様式!$C270=\"\",\"\",IF($B85=\"@\",\"@\",$B85+100000000))","v":""},{"$f":"IF($C85=\"\",\"\",CONCATENATE(男子様式!$D104,\" \",男子様式!$J104))","v":""},{"$f":"IF($C85=\"\",\"\",男子様式!$G270)","v":""},{"$f":"CONCATENATE(OFFSET(男子様式!$J$18,3*A85,0),\" \",IF(LEN(OFFSET(男子様式!$L$18,A85*3,0))=0,,\"(\"),LEFT(OFFSET(男子様式!$L$18,A85*3,0),2),IF(LEN(OFFSET(男子様式!$J$18,A85*3,0))=0,,\")\"))","v":" "},"",{"$f":"IF($C85=\"\",\"\",VLOOKUP(基本登録情報!$C$7,登録データ!$I$3:$L$100,3,FALSE))","v":""},{"$f":"IF($C85=\"\",\"\",VLOOKUP(OFFSET(男子様式!$O$18,3*A85,0),登録データ!AM85:AN131,2,FALSE))","v":""},"",{"$f":"IF(男子様式!$AG270=\"\",\"\",男子様式!$AG270)","v":""},{"$f":"IF(男子様式!$AG271=\"\",\"\",男子様式!$AG271)","v":""},{"$f":"IF(男子様式!$AG272=\"\",\"\",男子様式!$AG272)","v":""}]
[85,{"$f":"IF(男子様式!$C273=\"\",\"\",IF(男子様式!$C273=\"@\",\"@\",男子様式!$C273))","v":""},{"$f":"IF(男子様式!$C273=\"\",\"\",IF($B86=\"@\",\"@\",$B86+100000000))","v":""},{"$f":"IF($C86=\"\",\"\",CONCATENATE(男子様式!$D105,\" \",男子様式!$J105))","v":""},{"$f":"IF($C86=\"\",\"\",男子様式!$G273)","v":""},{"$f":"CONCATENATE(OFFSET(男子様式!$J$18,3*A86,0),\" \",IF(LEN(OFFSET(男子様式!$L$18,A86*3,0))=0,,\"(\"),LEFT(OFFSET(男子様式!$L$18,A86*3,0),2),IF(LEN(OFFSET(男子様式!$J$18,A86*3,0))=0,,\")\"))","v":" "},"",{"$f":"IF($C86=\"\",\"\",VLOOKUP(基本登録情報!$C$7,登録データ!$I$3:$L$100,3,FALSE))","v":""},{"$f":"IF($C86=\"\",\"\",VLOOKUP(OFFSET(男子様式!$O$18,3*A86,0),登録データ!AM86:AN132,2,FALSE))","v":""},"",{"$f":"IF(男子様式!$AG273=\"\",\"\",男子様式!$AG273)","v":""},{"$f":"IF(男子様式!$AG274=\"\",\"\",男子様式!$AG274)","v":""},{"$f":"IF(男子様式!$AG275=\"\",\"\",男子様式!$AG275)","v":""}]
[86,{"$f":"IF(男子様式!$C276=\"\",\"\",IF(男子様式!$C276=\"@\",\"@\",男子様式!$C276))","v":""},{"$f":"IF(男子様式!$C276=\"\",\"\",IF($B87=\"@\",\"@\",$B87+100000000))","v":""},{"$f":"IF($C87=\"\",\"\",CONCATENATE(男子様式!$D106,\" \",男子様式!$J106))","v":""},{"$f":"IF($C87=\"\",\"\",男子様式!$G276)","v":""},{"$f":"CONCATENATE(OFFSET(男子様式!$J$18,3*A87,0),\" \",IF(LEN(OFFSET(男子様式!$L$18,A87*3,0))=0,,\"(\"),LEFT(OFFSET(男子様式!$L$18,A87*3,0),2),IF(LEN(OFFSET(男子様式!$J$18,A87*3,0))=0,,\")\"))","v":" "},"",{"$f":"IF($C87=\"\",\"\",VLOOKUP(基本登録情報!$C$7,登録データ!$I$3:$L$100,3,FALSE))","v":""},{"$f":"IF($C87=\"\",\"\",VLOOKUP(OFFSET(男子様式!$O$18,3*A87,0),登録データ!AM87:AN133,2,FALSE))","v":""},"",{"$f":"IF(男子様式!$AG276=\"\",\"\",男子様式!$AG276)","v":""},{"$f":"IF(男子様式!$AG277=\"\",\"\",男子様式!$AG277)","v":""},{"$f":"IF(男子様式!$AG278=\"\",\"\",男子様式!$AG278)","v":""}]
[87,{"$f":"IF(男子様式!$C279=\"\",\"\",IF(男子様式!$C279=\"@\",\"@\",男子様式!$C279))","v":""},{"$f":"IF(男子様式!$C279=\"\",\"\",IF($B88=\"@\",\"@\",$B88+100000000))","v":""},{"$f":"IF($C88=\"\",\"\",CONCATENATE(男子様式!$D107,\" \",男子様式!$J107))","v":""},{"$f":"IF($C88=\"\",\"\",男子様式!$G279)","v":""},{"$f":"CONCATENATE(OFFSET(男子様式!$J$18,3*A88,0),\" \",IF(LEN(OFFSET(男子様式!$L$18,A88*3,0))=0,,\"(\"),LEFT(OFFSET(男子様式!$L$18,A88*3,0),2),IF(LEN(OFFSET(男子様式!$J$18,A88*3,0))=0,,\")\"))","v":" "},"",{"$f":"IF($C88=\"\",\"\",VLOOKUP(基本登録情報!$C$7,登録データ!$I$3:$L$100,3,FALSE))","v":""},{"$f":"IF($C88=\"\",\"\",VLOOKUP(OFFSET(男子様式!$O$18,3*A88,0),登録データ!AM88:AN134,2,FALSE))","v":""},"",{"$f":"IF(男子様式!$AG279=\"\",\"\",男子様式!$AG279)","v":""},{"$f":"IF(男子様式!$AG280=\"\",\"\",男子様式!$AG280)","v":""},{"$f":"IF(男子様式!$AG281=\"\",\"\",男子様式!$AG281)","v":""}]
[88,{"$f":"IF(男子様式!$C282=\"\",\"\",IF(男子様式!$C282=\"@\",\"@\",男子様式!$C282))","v":""},{"$f":"IF(男子様式!$C282=\"\",\"\",IF($B89=\"@\",\"@\",$B89+100000000))","v":""},{"$f":"IF($C89=\"\",\"\",CONCATENATE(男子様式!$D108,\" \",男子様式!$J108))","v":""},{"$f":"IF($C89=\"\",\"\",男子様式!$G282)","v":""},{"$f":"CONCATENATE(OFFSET(男子様式!$J$18,3*A89,0),\" \",IF(LEN(OFFSET(男子様式!$L$18,A89*3,0))=0,,\"(\"),LEFT(OFFSET(男子様式!$L$18,A89*3,0),2),IF(LEN(OFFSET(男子様式!$J$18,A89*3,0))=0,,\")\"))","v":" "},"",{"$f":"IF($C89=\"\",\"\",VLOOKUP(基本登録情報!$C$7,登録データ!$I$3:$L$100,3,FALSE))","v":""},{"$f":"IF($C89=\"\",\"\",VLOOKUP(OFFSET(男子様式!$O$18,3*A89,0),登録データ!AM89:AN135,2,FALSE))","v":""},"",{"$f":"IF(男子様式!$AG282=\"\",\"\",男子様式!$AG282)","v":""},{"$f":"IF(男子様式!$AG283=\"\",\"\",男子様式!$AG283)","v":""},{"$f":"IF(男子様式!$AG284=\"\",\"\",男子様式!$AG284)","v":""}]
[89,{"$f":"IF(男子様式!$C285=\"\",\"\",IF(男子様式!$C285=\"@\",\"@\",男子様式!$C285))","v":""},{"$f":"IF(男子様式!$C285=\"\",\"\",IF($B90=\"@\",\"@\",$B90+100000000))","v":""},{"$f":"IF($C90=\"\",\"\",CONCATENATE(男子様式!$D109,\" \",男子様式!$J109))","v":""},{"$f":"IF($C90=\"\",\"\",男子様式!$G285)","v":""},{"$f":"CONCATENATE(OFFSET(男子様式!$J$18,3*A90,0),\" \",IF(LEN(OFFSET(男子様式!$L$18,A90*3,0))=0,,\"(\"),LEFT(OFFSET(男子様式!$L$18,A90*3,0),2),IF(LEN(OFFSET(男子様式!$J$18,A90*3,0))=0,,\")\"))","v":" "},"",{"$f":"IF($C90=\"\",\"\",VLOOKUP(基本登録情報!$C$7,登録データ!$I$3:$L$100,3,FALSE))","v":""},{"$f":"IF($C90=\"\",\"\",VLOOKUP(OFFSET(男子様式!$O$18,3*A90,0),登録データ!AM90:AN136,2,FALSE))","v":""},"",{"$f":"IF(男子様式!$AG285=\"\",\"\",男子様式!$AG285)","v":""},{"$f":"IF(男子様式!$AG286=\"\",\"\",男子様式!$AG286)","v":""},{"$f":"IF(男子様式!$AG287=\"\",\"\",男子様式!$AG287)","v":""}]
[90,{"$f":"IF(男子様式!$C288=\"\",\"\",IF(男子様式!$C288=\"@\",\"@\",男子様式!$C288))","v":""},{"$f":"IF(男子様式!$C288=\"\",\"\",IF($B91=\"@\",\"@\",$B91+100000000))","v":""},{"$f":"IF($C91=\"\",\"\",CONCATENATE(男子様式!$D110,\" \",男子様式!$J110))","v":""},{"$f":"IF($C91=\"\",\"\",男子様式!$G288)","v":""},{"$f":"CONCATENATE(OFFSET(男子様式!$J$18,3*A91,0),\" \",IF(LEN(OFFSET(男子様式!$L$18,A91*3,0))=0,,\"(\"),LEFT(OFFSET(男子様式!$L$18,A91*3,0),2),IF(LEN(OFFSET(男子様式!$J$18,A91*3,0))=0,,\")\"))","v":" "},"",{"$f":"IF($C91=\"\",\"\",VLOOKUP(基本登録情報!$C$7,登録データ!$I$3:$L$100,3,FALSE))","v":""},{"$f":"IF($C91=\"\",\"\",VLOOKUP(OFFSET(男子様式!$O$18,3*A91,0),登録データ!AM91:AN137,2,FALSE))","v":""},"",{"$f":"IF(男子様式!$AG288=\"\",\"\",男子様式!$AG288)","v":""},{"$f":"IF(男子様式!$AG289=\"\",\"\",男子様式!$AG289)","v":""},{"$f":"IF(男子様式!$AG290=\"\",\"\",男子様式!$AG290)","v":""}]
[91,{"$f":"IF(男子様式!$C291=\"\",\"\",IF(男子様式!$C291=\"@\",\"@\",男子様式!$C291))","v":""},{"$f":"IF(男子様式!$C291=\"\",\"\",IF($B92=\"@\",\"@\",$B92+100000000))","v":""},{"$f":"IF($C92=\"\",\"\",CONCATENATE(男子様式!$D111,\" \",男子様式!$J111))","v":""},{"$f":"IF($C92=\"\",\"\",男子様式!$G291)","v":""},{"$f":"CONCATENATE(OFFSET(男子様式!$J$18,3*A92,0),\" \",IF(LEN(OFFSET(男子様式!$L$18,A92*3,0))=0,,\"(\"),LEFT(OFFSET(男子様式!$L$18,A92*3,0),2),IF(LEN(OFFSET(男子様式!$J$18,A92*3,0))=0,,\")\"))","v":" "},"",{"$f":"IF($C92=\"\",\"\",VLOOKUP(基本登録情報!$C$7,登録データ!$I$3:$L$100,3,FALSE))","v":""},{"$f":"IF($C92=\"\",\"\",VLOOKUP(OFFSET(男子様式!$O$18,3*A92,0),登録データ!AM92:AN138,2,FALSE))","v":""},"",{"$f":"IF(男子様式!$AG291=\"\",\"\",男子様式!$AG291)","v":""},{"$f":"IF(男子様式!$AG292=\"\",\"\",男子様式!$AG292)","v":""},{"$f":"IF(男子様式!$AG293=\"\",\"\",男子様式!$AG293)","v":""}]
[92,{"$f":"IF(男子様式!$C294=\"\",\"\",IF(男子様式!$C294=\"@\",\"@\",男子様式!$C294))","v":""},{"$f":"IF(男子様式!$C294=\"\",\"\",IF($B93=\"@\",\"@\",$B93+100000000))","v":""},{"$f":"IF($C93=\"\",\"\",CONCATENATE(男子様式!$D112,\" \",男子様式!$J112))","v":""},{"$f":"IF($C93=\"\",\"\",男子様式!$G294)","v":""},{"$f":"CONCATENATE(OFFSET(男子様式!$J$18,3*A93,0),\" \",IF(LEN(OFFSET(男子様式!$L$18,A93*3,0))=0,,\"(\"),LEFT(OFFSET(男子様式!$L$18,A93*3,0),2),IF(LEN(OFFSET(男子様式!$J$18,A93*3,0))=0,,\")\"))","v":" "},"",{"$f":"IF($C93=\"\",\"\",VLOOKUP(基本登録情報!$C$7,登録データ!$I$3:$L$100,3,FALSE))","v":""},{"$f":"IF($C93=\"\",\"\",VLOOKUP(OFFSET(男子様式!$O$18,3*A93,0),登録データ!AM93:AN139,2,FALSE))","v":""},"",{"$f":"IF(男子様式!$AG294=\"\",\"\",男子様式!$AG294)","v":""},{"$f":"IF(男子様式!$AG295=\"\",\"\",男子様式!$AG295)","v":""},{"$f":"IF(男子様式!$AG296=\"\",\"\",男子様式!$AG296)","v":""}]
[93,{"$f":"IF(男子様式!$C297=\"\",\"\",IF(男子様式!$C297=\"@\",\"@\",男子様式!$C297))","v":""},{"$f":"IF(男子様式!$C297=\"\",\"\",IF($B94=\"@\",\"@\",$B94+100000000))","v":""},{"$f":"IF($C94=\"\",\"\",CONCATENATE(男子様式!$D113,\" \",男子様式!$J113))","v":""},{"$f":"IF($C94=\"\",\"\",男子様式!$G297)","v":""},{"$f":"CONCATENATE(OFFSET(男子様式!$J$18,3*A94,0),\" \",IF(LEN(OFFSET(男子様式!$L$18,A94*3,0))=0,,\"(\"),LEFT(OFFSET(男子様式!$L$18,A94*3,0),2),IF(LEN(OFFSET(男子様式!$J$18,A94*3,0))=0,,\")\"))","v":" "},"",{"$f":"IF($C94=\"\",\"\",VLOOKUP(基本登録情報!$C$7,登録データ!$I$3:$L$100,3,FALSE))","v":""},{"$f":"IF($C94=\"\",\"\",VLOOKUP(OFFSET(男子様式!$O$18,3*A94,0),登録データ!AM94:AN140,2,FALSE))","v":""},"",{"$f":"IF(男子様式!$AG297=\"\",\"\",男子様式!$AG297)","v":""},{"$f":"IF(男子様式!$AG298=\"\",\"\",男子様式!$AG298)","v":""},{"$f":"IF(男子様式!$AG299=\"\",\"\",男子様式!$AG299)","v":""}]
[94,{"$f":"IF(男子様式!$C300=\"\",\"\",IF(男子様式!$C300=\"@\",\"@\",男子様式!$C300))","v":""},{"$f":"IF(男子様式!$C300=\"\",\"\",IF($B95=\"@\",\"@\",$B95+100000000))","v":""},{"$f":"IF($C95=\"\",\"\",CONCATENATE(男子様式!$D114,\" \",男子様式!$J114))","v":""},{"$f":"IF($C95=\"\",\"\",男子様式!$G300)","v":""},{"$f":"CONCATENATE(OFFSET(男子様式!$J$18,3*A95,0),\" \",IF(LEN(OFFSET(男子様式!$L$18,A95*3,0))=0,,\"(\"),LEFT(OFFSET(男子様式!$L$18,A95*3,0),2),IF(LEN(OFFSET(男子様式!$J$18,A95*3,0))=0,,\")\"))","v":" "},"",{"$f":"IF($C95=\"\",\"\",VLOOKUP(基本登録情報!$C$7,登録データ!$I$3:$L$100,3,FALSE))","v":""},{"$f":"IF($C95=\"\",\"\",VLOOKUP(OFFSET(男子様式!$O$18,3*A95,0),登録データ!AM95:AN141,2,FALSE))","v":""},"",{"$f":"IF(男子様式!$AG300=\"\",\"\",男子様式!$AG300)","v":""},{"$f":"IF(男子様式!$AG301=\"\",\"\",男子様式!$AG301)","v":""},{"$f":"IF(男子様式!$AG302=\"\",\"\",男子様式!$AG302)","v":""}]
[95,{"$f":"IF(男子様式!$C303=\"\",\"\",IF(男子様式!$C303=\"@\",\"@\",男子様式!$C303))","v":""},{"$f":"IF(男子様式!$C303=\"\",\"\",IF($B96=\"@\",\"@\",$B96+100000000))","v":""},{"$f":"IF($C96=\"\",\"\",CONCATENATE(男子様式!$D115,\" \",男子様式!$J115))","v":""},{"$f":"IF($C96=\"\",\"\",男子様式!$G303)","v":""},{"$f":"CONCATENATE(OFFSET(男子様式!$J$18,3*A96,0),\" \",IF(LEN(OFFSET(男子様式!$L$18,A96*3,0))=0,,\"(\"),LEFT(OFFSET(男子様式!$L$18,A96*3,0),2),IF(LEN(OFFSET(男子様式!$J$18,A96*3,0))=0,,\")\"))","v":" "},"",{"$f":"IF($C96=\"\",\"\",VLOOKUP(基本登録情報!$C$7,登録データ!$I$3:$L$100,3,FALSE))","v":""},{"$f":"IF($C96=\"\",\"\",VLOOKUP(OFFSET(男子様式!$O$18,3*A96,0),登録データ!AM96:AN142,2,FALSE))","v":""},"",{"$f":"IF(男子様式!$AG303=\"\",\"\",男子様式!$AG303)","v":""},{"$f":"IF(男子様式!$AG304=\"\",\"\",男子様式!$AG304)","v":""},{"$f":"IF(男子様式!$AG305=\"\",\"\",男子様式!$AG305)","v":""}]
[96,{"$f":"IF(男子様式!$C306=\"\",\"\",IF(男子様式!$C306=\"@\",\"@\",男子様式!$C306))","v":""},{"$f":"IF(男子様式!$C306=\"\",\"\",IF($B97=\"@\",\"@\",$B97+100000000))","v":""},{"$f":"IF($C97=\"\",\"\",CONCATENATE(男子様式!$D116,\" \",男子様式!$J116))","v":""},{"$f":"IF($C97=\"\",\"\",男子様式!$G306)","v":""},{"$f":"CONCATENATE(OFFSET(男子様式!$J$18,3*A97,0),\" \",IF(LEN(OFFSET(男子様式!$L$18,A97*3,0))=0,,\"(\"),LEFT(OFFSET(男子様式!$L$18,A97*3,0),2),IF(LEN(OFFSET(男子様式!$J$18,A97*3,0))=0,,\")\"))","v":" "},"",{"$f":"IF($C97=\"\",\"\",VLOOKUP(基本登録情報!$C$7,登録データ!$I$3:$L$100,3,FALSE))","v":""},{"$f":"IF($C97=\"\",\"\",VLOOKUP(OFFSET(男子様式!$O$18,3*A97,0),登録データ!AM97:AN143,2,FALSE))","v":""},"",{"$f":"IF(男子様式!$AG306=\"\",\"\",男子様式!$AG306)","v":""},{"$f":"IF(男子様式!$AG307=\"\",\"\",男子様式!$AG307)","v":""},{"$f":"IF(男子様式!$AG308=\"\",\"\",男子様式!$AG308)","v":""}]
[97,{"$f":"IF(男子様式!$C309=\"\",\"\",IF(男子様式!$C309=\"@\",\"@\",男子様式!$C309))","v":""},{"$f":"IF(男子様式!$C309=\"\",\"\",IF($B98=\"@\",\"@\",$B98+100000000))","v":""},{"$f":"IF($C98=\"\",\"\",CONCATENATE(男子様式!$D117,\" \",男子様式!$J117))","v":""},{"$f":"IF($C98=\"\",\"\",男子様式!$G309)","v":""},{"$f":"CONCATENATE(OFFSET(男子様式!$J$18,3*A98,0),\" \",IF(LEN(OFFSET(男子様式!$L$18,A98*3,0))=0,,\"(\"),LEFT(OFFSET(男子様式!$L$18,A98*3,0),2),IF(LEN(OFFSET(男子様式!$J$18,A98*3,0))=0,,\")\"))","v":" "},"",{"$f":"IF($C98=\"\",\"\",VLOOKUP(基本登録情報!$C$7,登録データ!$I$3:$L$100,3,FALSE))","v":""},{"$f":"IF($C98=\"\",\"\",VLOOKUP(OFFSET(男子様式!$O$18,3*A98,0),登録データ!AM98:AN144,2,FALSE))","v":""},"",{"$f":"IF(男子様式!$AG309=\"\",\"\",男子様式!$AG309)","v":""},{"$f":"IF(男子様式!$AG310=\"\",\"\",男子様式!$AG310)","v":""},{"$f":"IF(男子様式!$AG311=\"\",\"\",男子様式!$AG311)","v":""}]
[98,{"$f":"IF(男子様式!$C312=\"\",\"\",IF(男子様式!$C312=\"@\",\"@\",男子様式!$C312))","v":""},{"$f":"IF(男子様式!$C312=\"\",\"\",IF($B99=\"@\",\"@\",$B99+100000000))","v":""},{"$f":"IF($C99=\"\",\"\",CONCATENATE(男子様式!$D118,\" \",男子様式!$J118))","v":""},{"$f":"IF($C99=\"\",\"\",男子様式!$G312)","v":""},{"$f":"CONCATENATE(OFFSET(男子様式!$J$18,3*A99,0),\" \",IF(LEN(OFFSET(男子様式!$L$18,A99*3,0))=0,,\"(\"),LEFT(OFFSET(男子様式!$L$18,A99*3,0),2),IF(LEN(OFFSET(男子様式!$J$18,A99*3,0))=0,,\")\"))","v":" "},"",{"$f":"IF($C99=\"\",\"\",VLOOKUP(基本登録情報!$C$7,登録データ!$I$3:$L$100,3,FALSE))","v":""},{"$f":"IF($C99=\"\",\"\",VLOOKUP(OFFSET(男子様式!$O$18,3*A99,0),登録データ!AM99:AN145,2,FALSE))","v":""},"",{"$f":"IF(男子様式!$AG312=\"\",\"\",男子様式!$AG312)","v":""},{"$f":"IF(男子様式!$AG313=\"\",\"\",男子様式!$AG313)","v":""},{"$f":"IF(男子様式!$AG314=\"\",\"\",男子様式!$AG314)","v":""}]
[99,{"$f":"IF(男子様式!$C315=\"\",\"\",IF(男子様式!$C315=\"@\",\"@\",男子様式!$C315))","v":""},{"$f":"IF(男子様式!$C315=\"\",\"\",IF($B100=\"@\",\"@\",$B100+100000000))","v":""},{"$f":"IF($C100=\"\",\"\",CONCATENATE(男子様式!$D119,\" \",男子様式!$J119))","v":""},{"$f":"IF($C100=\"\",\"\",男子様式!$G315)","v":""},{"$f":"CONCATENATE(OFFSET(男子様式!$J$18,3*A100,0),\" \",IF(LEN(OFFSET(男子様式!$L$18,A100*3,0))=0,,\"(\"),LEFT(OFFSET(男子様式!$L$18,A100*3,0),2),IF(LEN(OFFSET(男子様式!$J$18,A100*3,0))=0,,\")\"))","v":" "},"",{"$f":"IF($C100=\"\",\"\",VLOOKUP(基本登録情報!$C$7,登録データ!$I$3:$L$100,3,FALSE))","v":""},{"$f":"IF($C100=\"\",\"\",VLOOKUP(OFFSET(男子様式!$O$18,3*A100,0),登録データ!AM100:AN146,2,FALSE))","v":""},"",{"$f":"IF(男子様式!$AG315=\"\",\"\",男子様式!$AG315)","v":""},{"$f":"IF(男子様式!$AG316=\"\",\"\",男子様式!$AG316)","v":""},{"$f":"IF(男子様式!$AG317=\"\",\"\",男子様式!$AG317)","v":""}]
[100,{"$f":"IF(男子様式!$C318=\"\",\"\",IF(男子様式!$C318=\"@\",\"@\",男子様式!$C318))","v":""},{"$f":"IF(男子様式!$C318=\"\",\"\",IF($B101=\"@\",\"@\",$B101+100000000))","v":""},{"$f":"IF($C101=\"\",\"\",CONCATENATE(男子様式!$D120,\" \",男子様式!$J120))","v":""},{"$f":"IF($C101=\"\",\"\",男子様式!$G318)","v":""},{"$f":"CONCATENATE(OFFSET(男子様式!$J$18,3*A101,0),\" \",IF(LEN(OFFSET(男子様式!$L$18,A101*3,0))=0,,\"(\"),LEFT(OFFSET(男子様式!$L$18,A101*3,0),2),IF(LEN(OFFSET(男子様式!$J$18,A101*3,0))=0,,\")\"))","v":" "},"",{"$f":"IF($C101=\"\",\"\",VLOOKUP(基本登録情報!$C$7,登録データ!$I$3:$L$100,3,FALSE))","v":""},{"$f":"IF($C101=\"\",\"\",VLOOKUP(OFFSET(男子様式!$O$18,3*A101,0),登録データ!AM101:AN147,2,FALSE))","v":""},"",{"$f":"IF(男子様式!$AG318=\"\",\"\",男子様式!$AG318)","v":""},{"$f":"IF(男子様式!$AG319=\"\",\"\",男子様式!$AG319)","v":""},{"$f":"IF(男子様式!$AG320=\"\",\"\",男子様式!$AG320)","v":""}]
[101,{"$f":"IF(男子様式!$C321=\"\",\"\",IF(男子様式!$C321=\"@\",\"@\",男子様式!$C321))","v":""},{"$f":"IF(男子様式!$C321=\"\",\"\",IF($B102=\"@\",\"@\",$B102+100000000))","v":""},{"$f":"IF($C102=\"\",\"\",CONCATENATE(男子様式!$D121,\" \",男子様式!$J121))","v":""},{"$f":"IF($C102=\"\",\"\",男子様式!$G321)","v":""},{"$f":"CONCATENATE(OFFSET(男子様式!$J$18,3*A102,0),\" \",IF(LEN(OFFSET(男子様式!$L$18,A102*3,0))=0,,\"(\"),LEFT(OFFSET(男子様式!$L$18,A102*3,0),2),IF(LEN(OFFSET(男子様式!$J$18,A102*3,0))=0,,\")\"))","v":" "},"",{"$f":"IF($C102=\"\",\"\",VLOOKUP(基本登録情報!$C$7,登録データ!$I$3:$L$100,3,FALSE))","v":""},{"$f":"IF($C102=\"\",\"\",VLOOKUP(OFFSET(男子様式!$O$18,3*A102,0),登録データ!AM102:AN148,2,FALSE))","v":""},"",{"$f":"IF(男子様式!$AG321=\"\",\"\",男子様式!$AG321)","v":""},{"$f":"IF(男子様式!$AG322=\"\",\"\",男子様式!$AG322)","v":""},{"$f":"IF(男子様式!$AG323=\"\",\"\",男子様式!$AG323)","v":""}]
[102,{"$f":"IF(男子様式!$C324=\"\",\"\",IF(男子様式!$C324=\"@\",\"@\",男子様式!$C324))","v":""},{"$f":"IF(男子様式!$C324=\"\",\"\",IF($B103=\"@\",\"@\",$B103+100000000))","v":""},{"$f":"IF($C103=\"\",\"\",CONCATENATE(男子様式!$D122,\" \",男子様式!$J122))","v":""},{"$f":"IF($C103=\"\",\"\",男子様式!$G324)","v":""},{"$f":"CONCATENATE(OFFSET(男子様式!$J$18,3*A103,0),\" \",IF(LEN(OFFSET(男子様式!$L$18,A103*3,0))=0,,\"(\"),LEFT(OFFSET(男子様式!$L$18,A103*3,0),2),IF(LEN(OFFSET(男子様式!$J$18,A103*3,0))=0,,\")\"))","v":" "},"",{"$f":"IF($C103=\"\",\"\",VLOOKUP(基本登録情報!$C$7,登録データ!$I$3:$L$100,3,FALSE))","v":""},{"$f":"IF($C103=\"\",\"\",VLOOKUP(OFFSET(男子様式!$O$18,3*A103,0),登録データ!AM103:AN149,2,FALSE))","v":""},"",{"$f":"IF(男子様式!$AG324=\"\",\"\",男子様式!$AG324)","v":""},{"$f":"IF(男子様式!$AG325=\"\",\"\",男子様式!$AG325)","v":""},{"$f":"IF(男子様式!$AG326=\"\",\"\",男子様式!$AG326)","v":""}]
[103,{"$f":"IF(男子様式!$C327=\"\",\"\",IF(男子様式!$C327=\"@\",\"@\",男子様式!$C327))","v":""},{"$f":"IF(男子様式!$C327=\"\",\"\",IF($B104=\"@\",\"@\",$B104+100000000))","v":""},{"$f":"IF($C104=\"\",\"\",CONCATENATE(男子様式!$D123,\" \",男子様式!$J123))","v":""},{"$f":"IF($C104=\"\",\"\",男子様式!$G327)","v":""},{"$f":"CONCATENATE(OFFSET(男子様式!$J$18,3*A104,0),\" \",IF(LEN(OFFSET(男子様式!$L$18,A104*3,0))=0,,\"(\"),LEFT(OFFSET(男子様式!$L$18,A104*3,0),2),IF(LEN(OFFSET(男子様式!$J$18,A104*3,0))=0,,\")\"))","v":" "},"",{"$f":"IF($C104=\"\",\"\",VLOOKUP(基本登録情報!$C$7,登録データ!$I$3:$L$100,3,FALSE))","v":""},{"$f":"IF($C104=\"\",\"\",VLOOKUP(OFFSET(男子様式!$O$18,3*A104,0),登録データ!AM104:AN150,2,FALSE))","v":""},"",{"$f":"IF(男子様式!$AG327=\"\",\"\",男子様式!$AG327)","v":""},{"$f":"IF(男子様式!$AG328=\"\",\"\",男子様式!$AG328)","v":""},{"$f":"IF(男子様式!$AG329=\"\",\"\",男子様式!$AG329)","v":""}]
[104,{"$f":"IF(男子様式!$C330=\"\",\"\",IF(男子様式!$C330=\"@\",\"@\",男子様式!$C330))","v":""},{"$f":"IF(男子様式!$C330=\"\",\"\",IF($B105=\"@\",\"@\",$B105+100000000))","v":""},{"$f":"IF($C105=\"\",\"\",CONCATENATE(男子様式!$D124,\" \",男子様式!$J124))","v":""},{"$f":"IF($C105=\"\",\"\",男子様式!$G330)","v":""},{"$f":"CONCATENATE(OFFSET(男子様式!$J$18,3*A105,0),\" \",IF(LEN(OFFSET(男子様式!$L$18,A105*3,0))=0,,\"(\"),LEFT(OFFSET(男子様式!$L$18,A105*3,0),2),IF(LEN(OFFSET(男子様式!$J$18,A105*3,0))=0,,\")\"))","v":" "},"",{"$f":"IF($C105=\"\",\"\",VLOOKUP(基本登録情報!$C$7,登録データ!$I$3:$L$100,3,FALSE))","v":""},{"$f":"IF($C105=\"\",\"\",VLOOKUP(OFFSET(男子様式!$O$18,3*A105,0),登録データ!AM105:AN151,2,FALSE))","v":""},"",{"$f":"IF(男子様式!$AG330=\"\",\"\",男子様式!$AG330)","v":""},{"$f":"IF(男子様式!$AG331=\"\",\"\",男子様式!$AG331)","v":""},{"$f":"IF(男子様式!$AG332=\"\",\"\",男子様式!$AG332)","v":""}]
[105,{"$f":"IF(男子様式!$C333=\"\",\"\",IF(男子様式!$C333=\"@\",\"@\",男子様式!$C333))","v":""},{"$f":"IF(男子様式!$C333=\"\",\"\",IF($B106=\"@\",\"@\",$B106+100000000))","v":""},{"$f":"IF($C106=\"\",\"\",CONCATENATE(男子様式!$D125,\" \",男子様式!$J125))","v":""},{"$f":"IF($C106=\"\",\"\",男子様式!$G333)","v":""},{"$f":"CONCATENATE(OFFSET(男子様式!$J$18,3*A106,0),\" \",IF(LEN(OFFSET(男子様式!$L$18,A106*3,0))=0,,\"(\"),LEFT(OFFSET(男子様式!$L$18,A106*3,0),2),IF(LEN(OFFSET(男子様式!$J$18,A106*3,0))=0,,\")\"))","v":" "},"",{"$f":"IF($C106=\"\",\"\",VLOOKUP(基本登録情報!$C$7,登録データ!$I$3:$L$100,3,FALSE))","v":""},{"$f":"IF($C106=\"\",\"\",VLOOKUP(OFFSET(男子様式!$O$18,3*A106,0),登録データ!AM106:AN152,2,FALSE))","v":""},"",{"$f":"IF(男子様式!$AG333=\"\",\"\",男子様式!$AG333)","v":""},{"$f":"IF(男子様式!$AG334=\"\",\"\",男子様式!$AG334)","v":""},{"$f":"IF(男子様式!$AG335=\"\",\"\",男子様式!$AG335)","v":""}]
[106,{"$f":"IF(男子様式!$C336=\"\",\"\",IF(男子様式!$C336=\"@\",\"@\",男子様式!$C336))","v":""},{"$f":"IF(男子様式!$C336=\"\",\"\",IF($B107=\"@\",\"@\",$B107+100000000))","v":""},{"$f":"IF($C107=\"\",\"\",CONCATENATE(男子様式!$D126,\" \",男子様式!$J126))","v":""},{"$f":"IF($C107=\"\",\"\",男子様式!$G336)","v":""},{"$f":"CONCATENATE(OFFSET(男子様式!$J$18,3*A107,0),\" \",IF(LEN(OFFSET(男子様式!$L$18,A107*3,0))=0,,\"(\"),LEFT(OFFSET(男子様式!$L$18,A107*3,0),2),IF(LEN(OFFSET(男子様式!$J$18,A107*3,0))=0,,\")\"))","v":" "},"",{"$f":"IF($C107=\"\",\"\",VLOOKUP(基本登録情報!$C$7,登録データ!$I$3:$L$100,3,FALSE))","v":""},{"$f":"IF($C107=\"\",\"\",VLOOKUP(OFFSET(男子様式!$O$18,3*A107,0),登録データ!AM107:AN153,2,FALSE))","v":""},"",{"$f":"IF(男子様式!$AG336=\"\",\"\",男子様式!$AG336)","v":""},{"$f":"IF(男子様式!$AG337=\"\",\"\",男子様式!$AG337)","v":""},{"$f":"IF(男子様式!$AG338=\"\",\"\",男子様式!$AG338)","v":""}]
[107,{"$f":"IF(男子様式!$C339=\"\",\"\",IF(男子様式!$C339=\"@\",\"@\",男子様式!$C339))","v":""},{"$f":"IF(男子様式!$C339=\"\",\"\",IF($B108=\"@\",\"@\",$B108+100000000))","v":""},{"$f":"IF($C108=\"\",\"\",CONCATENATE(男子様式!$D127,\" \",男子様式!$J127))","v":""},{"$f":"IF($C108=\"\",\"\",男子様式!$G339)","v":""},{"$f":"CONCATENATE(OFFSET(男子様式!$J$18,3*A108,0),\" \",IF(LEN(OFFSET(男子様式!$L$18,A108*3,0))=0,,\"(\"),LEFT(OFFSET(男子様式!$L$18,A108*3,0),2),IF(LEN(OFFSET(男子様式!$J$18,A108*3,0))=0,,\")\"))","v":" "},"",{"$f":"IF($C108=\"\",\"\",VLOOKUP(基本登録情報!$C$7,登録データ!$I$3:$L$100,3,FALSE))","v":""},{"$f":"IF($C108=\"\",\"\",VLOOKUP(OFFSET(男子様式!$O$18,3*A108,0),登録データ!AM108:AN154,2,FALSE))","v":""},"",{"$f":"IF(男子様式!$AG339=\"\",\"\",男子様式!$AG339)","v":""},{"$f":"IF(男子様式!$AG340=\"\",\"\",男子様式!$AG340)","v":""},{"$f":"IF(男子様式!$AG341=\"\",\"\",男子様式!$AG341)","v":""}]
[108,{"$f":"IF(男子様式!$C342=\"\",\"\",IF(男子様式!$C342=\"@\",\"@\",男子様式!$C342))","v":""},{"$f":"IF(男子様式!$C342=\"\",\"\",IF($B109=\"@\",\"@\",$B109+100000000))","v":""},{"$f":"IF($C109=\"\",\"\",CONCATENATE(男子様式!$D128,\" \",男子様式!$J128))","v":""},{"$f":"IF($C109=\"\",\"\",男子様式!$G342)","v":""},{"$f":"CONCATENATE(OFFSET(男子様式!$J$18,3*A109,0),\" \",IF(LEN(OFFSET(男子様式!$L$18,A109*3,0))=0,,\"(\"),LEFT(OFFSET(男子様式!$L$18,A109*3,0),2),IF(LEN(OFFSET(男子様式!$J$18,A109*3,0))=0,,\")\"))","v":" "},"",{"$f":"IF($C109=\"\",\"\",VLOOKUP(基本登録情報!$C$7,登録データ!$I$3:$L$100,3,FALSE))","v":""},{"$f":"IF($C109=\"\",\"\",VLOOKUP(OFFSET(男子様式!$O$18,3*A109,0),登録データ!AM109:AN155,2,FALSE))","v":""},"",{"$f":"IF(男子様式!$AG342=\"\",\"\",男子様式!$AG342)","v":""},{"$f":"IF(男子様式!$AG343=\"\",\"\",男子様式!$AG343)","v":""},{"$f":"IF(男子様式!$AG344=\"\",\"\",男子様式!$AG344)","v":""}]
[109,{"$f":"IF(男子様式!$C345=\"\",\"\",IF(男子様式!$C345=\"@\",\"@\",男子様式!$C345))","v":""},{"$f":"IF(男子様式!$C345=\"\",\"\",IF($B110=\"@\",\"@\",$B110+100000000))","v":""},{"$f":"IF($C110=\"\",\"\",CONCATENATE(男子様式!$D129,\" \",男子様式!$J129))","v":""},{"$f":"IF($C110=\"\",\"\",男子様式!$G345)","v":""},{"$f":"CONCATENATE(OFFSET(男子様式!$J$18,3*A110,0),\" \",IF(LEN(OFFSET(男子様式!$L$18,A110*3,0))=0,,\"(\"),LEFT(OFFSET(男子様式!$L$18,A110*3,0),2),IF(LEN(OFFSET(男子様式!$J$18,A110*3,0))=0,,\")\"))","v":" "},"",{"$f":"IF($C110=\"\",\"\",VLOOKUP(基本登録情報!$C$7,登録データ!$I$3:$L$100,3,FALSE))","v":""},{"$f":"IF($C110=\"\",\"\",VLOOKUP(OFFSET(男子様式!$O$18,3*A110,0),登録データ!AM110:AN156,2,FALSE))","v":""},"",{"$f":"IF(男子様式!$AG345=\"\",\"\",男子様式!$AG345)","v":""},{"$f":"IF(男子様式!$AG346=\"\",\"\",男子様式!$AG346)","v":""},{"$f":"IF(男子様式!$AG347=\"\",\"\",男子様式!$AG347)","v":""}]
[110,{"$f":"IF(男子様式!$C348=\"\",\"\",IF(男子様式!$C348=\"@\",\"@\",男子様式!$C348))","v":""},{"$f":"IF(男子様式!$C348=\"\",\"\",IF($B111=\"@\",\"@\",$B111+100000000))","v":""},{"$f":"IF($C111=\"\",\"\",CONCATENATE(男子様式!$D130,\" \",男子様式!$J130))","v":""},{"$f":"IF($C111=\"\",\"\",男子様式!$G348)","v":""},{"$f":"CONCATENATE(OFFSET(男子様式!$J$18,3*A111,0),\" \",IF(LEN(OFFSET(男子様式!$L$18,A111*3,0))=0,,\"(\"),LEFT(OFFSET(男子様式!$L$18,A111*3,0),2),IF(LEN(OFFSET(男子様式!$J$18,A111*3,0))=0,,\")\"))","v":" "},"",{"$f":"IF($C111=\"\",\"\",VLOOKUP(基本登録情報!$C$7,登録データ!$I$3:$L$100,3,FALSE))","v":""},{"$f":"IF($C111=\"\",\"\",VLOOKUP(OFFSET(男子様式!$O$18,3*A111,0),登録データ!AM111:AN157,2,FALSE))","v":""},"",{"$f":"IF(男子様式!$AG348=\"\",\"\",男子様式!$AG348)","v":""},{"$f":"IF(男子様式!$AG349=\"\",\"\",男子様式!$AG349)","v":""},{"$f":"IF(男子様式!$AG350=\"\",\"\",男子様式!$AG350)","v":""}]
[111,{"$f":"IF(男子様式!$C351=\"\",\"\",IF(男子様式!$C351=\"@\",\"@\",男子様式!$C351))","v":""},{"$f":"IF(男子様式!$C351=\"\",\"\",IF($B112=\"@\",\"@\",$B112+100000000))","v":""},{"$f":"IF($C112=\"\",\"\",CONCATENATE(男子様式!$D131,\" \",男子様式!$J131))","v":""},{"$f":"IF($C112=\"\",\"\",男子様式!$G351)","v":""},{"$f":"CONCATENATE(OFFSET(男子様式!$J$18,3*A112,0),\" \",IF(LEN(OFFSET(男子様式!$L$18,A112*3,0))=0,,\"(\"),LEFT(OFFSET(男子様式!$L$18,A112*3,0),2),IF(LEN(OFFSET(男子様式!$J$18,A112*3,0))=0,,\")\"))","v":" "},"",{"$f":"IF($C112=\"\",\"\",VLOOKUP(基本登録情報!$C$7,登録データ!$I$3:$L$100,3,FALSE))","v":""},{"$f":"IF($C112=\"\",\"\",VLOOKUP(OFFSET(男子様式!$O$18,3*A112,0),登録データ!AM112:AN158,2,FALSE))","v":""},"",{"$f":"IF(男子様式!$AG351=\"\",\"\",男子様式!$AG351)","v":""},{"$f":"IF(男子様式!$AG352=\"\",\"\",男子様式!$AG352)","v":""},{"$f":"IF(男子様式!$AG353=\"\",\"\",男子様式!$AG353)","v":""}]
[112,{"$f":"IF(男子様式!$C354=\"\",\"\",IF(男子様式!$C354=\"@\",\"@\",男子様式!$C354))","v":""},{"$f":"IF(男子様式!$C354=\"\",\"\",IF($B113=\"@\",\"@\",$B113+100000000))","v":""},{"$f":"IF($C113=\"\",\"\",CONCATENATE(男子様式!$D132,\" \",男子様式!$J132))","v":""},{"$f":"IF($C113=\"\",\"\",男子様式!$G354)","v":""},{"$f":"CONCATENATE(OFFSET(男子様式!$J$18,3*A113,0),\" \",IF(LEN(OFFSET(男子様式!$L$18,A113*3,0))=0,,\"(\"),LEFT(OFFSET(男子様式!$L$18,A113*3,0),2),IF(LEN(OFFSET(男子様式!$J$18,A113*3,0))=0,,\")\"))","v":" "},"",{"$f":"IF($C113=\"\",\"\",VLOOKUP(基本登録情報!$C$7,登録データ!$I$3:$L$100,3,FALSE))","v":""},{"$f":"IF($C113=\"\",\"\",VLOOKUP(OFFSET(男子様式!$O$18,3*A113,0),登録データ!AM113:AN159,2,FALSE))","v":""},"",{"$f":"IF(男子様式!$AG354=\"\",\"\",男子様式!$AG354)","v":""},{"$f":"IF(男子様式!$AG355=\"\",\"\",男子様式!$AG355)","v":""},{"$f":"IF(男子様式!$AG356=\"\",\"\",男子様式!$AG356)","v":""}]
[113,{"$f":"IF(男子様式!$C357=\"\",\"\",IF(男子様式!$C357=\"@\",\"@\",男子様式!$C357))","v":""},{"$f":"IF(男子様式!$C357=\"\",\"\",IF($B114=\"@\",\"@\",$B114+100000000))","v":""},{"$f":"IF($C114=\"\",\"\",CONCATENATE(男子様式!$D133,\" \",男子様式!$J133))","v":""},{"$f":"IF($C114=\"\",\"\",男子様式!$G357)","v":""},{"$f":"CONCATENATE(OFFSET(男子様式!$J$18,3*A114,0),\" \",IF(LEN(OFFSET(男子様式!$L$18,A114*3,0))=0,,\"(\"),LEFT(OFFSET(男子様式!$L$18,A114*3,0),2),IF(LEN(OFFSET(男子様式!$J$18,A114*3,0))=0,,\")\"))","v":" "},"",{"$f":"IF($C114=\"\",\"\",VLOOKUP(基本登録情報!$C$7,登録データ!$I$3:$L$100,3,FALSE))","v":""},{"$f":"IF($C114=\"\",\"\",VLOOKUP(OFFSET(男子様式!$O$18,3*A114,0),登録データ!AM114:AN160,2,FALSE))","v":""},"",{"$f":"IF(男子様式!$AG357=\"\",\"\",男子様式!$AG357)","v":""},{"$f":"IF(男子様式!$AG358=\"\",\"\",男子様式!$AG358)","v":""},{"$f":"IF(男子様式!$AG359=\"\",\"\",男子様式!$AG359)","v":""}]
[114,{"$f":"IF(男子様式!$C360=\"\",\"\",IF(男子様式!$C360=\"@\",\"@\",男子様式!$C360))","v":""},{"$f":"IF(男子様式!$C360=\"\",\"\",IF($B115=\"@\",\"@\",$B115+100000000))","v":""},{"$f":"IF($C115=\"\",\"\",CONCATENATE(男子様式!$D134,\" \",男子様式!$J134))","v":""},{"$f":"IF($C115=\"\",\"\",男子様式!$G360)","v":""},{"$f":"CONCATENATE(OFFSET(男子様式!$J$18,3*A115,0),\" \",IF(LEN(OFFSET(男子様式!$L$18,A115*3,0))=0,,\"(\"),LEFT(OFFSET(男子様式!$L$18,A115*3,0),2),IF(LEN(OFFSET(男子様式!$J$18,A115*3,0))=0,,\")\"))","v":" "},"",{"$f":"IF($C115=\"\",\"\",VLOOKUP(基本登録情報!$C$7,登録データ!$I$3:$L$100,3,FALSE))","v":""},{"$f":"IF($C115=\"\",\"\",VLOOKUP(OFFSET(男子様式!$O$18,3*A115,0),登録データ!AM115:AN161,2,FALSE))","v":""},"",{"$f":"IF(男子様式!$AG360=\"\",\"\",男子様式!$AG360)","v":""},{"$f":"IF(男子様式!$AG361=\"\",\"\",男子様式!$AG361)","v":""},{"$f":"IF(男子様式!$AG362=\"\",\"\",男子様式!$AG362)","v":""}]
[115,{"$f":"IF(男子様式!$C363=\"\",\"\",IF(男子様式!$C363=\"@\",\"@\",男子様式!$C363))","v":""},{"$f":"IF(男子様式!$C363=\"\",\"\",IF($B116=\"@\",\"@\",$B116+100000000))","v":""},{"$f":"IF($C116=\"\",\"\",CONCATENATE(男子様式!$D135,\" \",男子様式!$J135))","v":""},{"$f":"IF($C116=\"\",\"\",男子様式!$G363)","v":""},{"$f":"CONCATENATE(OFFSET(男子様式!$J$18,3*A116,0),\" \",IF(LEN(OFFSET(男子様式!$L$18,A116*3,0))=0,,\"(\"),LEFT(OFFSET(男子様式!$L$18,A116*3,0),2),IF(LEN(OFFSET(男子様式!$J$18,A116*3,0))=0,,\")\"))","v":" "},"",{"$f":"IF($C116=\"\",\"\",VLOOKUP(基本登録情報!$C$7,登録データ!$I$3:$L$100,3,FALSE))","v":""},{"$f":"IF($C116=\"\",\"\",VLOOKUP(OFFSET(男子様式!$O$18,3*A116,0),登録データ!AM116:AN162,2,FALSE))","v":""},"",{"$f":"IF(男子様式!$AG363=\"\",\"\",男子様式!$AG363)","v":""},{"$f":"IF(男子様式!$AG364=\"\",\"\",男子様式!$AG364)","v":""},{"$f":"IF(男子様式!$AG365=\"\",\"\",男子様式!$AG365)","v":""}]
[116,{"$f":"IF(男子様式!$C366=\"\",\"\",IF(男子様式!$C366=\"@\",\"@\",男子様式!$C366))","v":""},{"$f":"IF(男子様式!$C366=\"\",\"\",IF($B117=\"@\",\"@\",$B117+100000000))","v":""},{"$f":"IF($C117=\"\",\"\",CONCATENATE(男子様式!$D136,\" \",男子様式!$J136))","v":""},{"$f":"IF($C117=\"\",\"\",男子様式!$G366)","v":""},{"$f":"CONCATENATE(OFFSET(男子様式!$J$18,3*A117,0),\" \",IF(LEN(OFFSET(男子様式!$L$18,A117*3,0))=0,,\"(\"),LEFT(OFFSET(男子様式!$L$18,A117*3,0),2),IF(LEN(OFFSET(男子様式!$J$18,A117*3,0))=0,,\")\"))","v":" "},"",{"$f":"IF($C117=\"\",\"\",VLOOKUP(基本登録情報!$C$7,登録データ!$I$3:$L$100,3,FALSE))","v":""},{"$f":"IF($C117=\"\",\"\",VLOOKUP(OFFSET(男子様式!$O$18,3*A117,0),登録データ!AM117:AN163,2,FALSE))","v":""},"",{"$f":"IF(男子様式!$AG366=\"\",\"\",男子様式!$AG366)","v":""},{"$f":"IF(男子様式!$AG367=\"\",\"\",男子様式!$AG367)","v":""},{"$f":"IF(男子様式!$AG368=\"\",\"\",男子様式!$AG368)","v":""}]
[117,{"$f":"IF(男子様式!$C369=\"\",\"\",IF(男子様式!$C369=\"@\",\"@\",男子様式!$C369))","v":""},{"$f":"IF(男子様式!$C369=\"\",\"\",IF($B118=\"@\",\"@\",$B118+100000000))","v":""},{"$f":"IF($C118=\"\",\"\",CONCATENATE(男子様式!$D137,\" \",男子様式!$J137))","v":""},{"$f":"IF($C118=\"\",\"\",男子様式!$G369)","v":""},{"$f":"CONCATENATE(OFFSET(男子様式!$J$18,3*A118,0),\" \",IF(LEN(OFFSET(男子様式!$L$18,A118*3,0))=0,,\"(\"),LEFT(OFFSET(男子様式!$L$18,A118*3,0),2),IF(LEN(OFFSET(男子様式!$J$18,A118*3,0))=0,,\")\"))","v":" "},"",{"$f":"IF($C118=\"\",\"\",VLOOKUP(基本登録情報!$C$7,登録データ!$I$3:$L$100,3,FALSE))","v":""},{"$f":"IF($C118=\"\",\"\",VLOOKUP(OFFSET(男子様式!$O$18,3*A118,0),登録データ!AM118:AN164,2,FALSE))","v":""},"",{"$f":"IF(男子様式!$AG369=\"\",\"\",男子様式!$AG369)","v":""},{"$f":"IF(男子様式!$AG370=\"\",\"\",男子様式!$AG370)","v":""},{"$f":"IF(男子様式!$AG371=\"\",\"\",男子様式!$AG371)","v":""}]
[118,{"$f":"IF(男子様式!$C372=\"\",\"\",IF(男子様式!$C372=\"@\",\"@\",男子様式!$C372))","v":""},{"$f":"IF(男子様式!$C372=\"\",\"\",IF($B119=\"@\",\"@\",$B119+100000000))","v":""},{"$f":"IF($C119=\"\",\"\",CONCATENATE(男子様式!$D138,\" \",男子様式!$J138))","v":""},{"$f":"IF($C119=\"\",\"\",男子様式!$G372)","v":""},{"$f":"CONCATENATE(OFFSET(男子様式!$J$18,3*A119,0),\" \",IF(LEN(OFFSET(男子様式!$L$18,A119*3,0))=0,,\"(\"),LEFT(OFFSET(男子様式!$L$18,A119*3,0),2),IF(LEN(OFFSET(男子様式!$J$18,A119*3,0))=0,,\")\"))","v":" "},"",{"$f":"IF($C119=\"\",\"\",VLOOKUP(基本登録情報!$C$7,登録データ!$I$3:$L$100,3,FALSE))","v":""},{"$f":"IF($C119=\"\",\"\",VLOOKUP(OFFSET(男子様式!$O$18,3*A119,0),登録データ!AM119:AN165,2,FALSE))","v":""},"",{"$f":"IF(男子様式!$AG372=\"\",\"\",男子様式!$AG372)","v":""},{"$f":"IF(男子様式!$AG373=\"\",\"\",男子様式!$AG373)","v":""},{"$f":"IF(男子様式!$AG374=\"\",\"\",男子様式!$AG374)","v":""}]
[119,{"$f":"IF(男子様式!$C375=\"\",\"\",IF(男子様式!$C375=\"@\",\"@\",男子様式!$C375))","v":""},{"$f":"IF(男子様式!$C375=\"\",\"\",IF($B120=\"@\",\"@\",$B120+100000000))","v":""},{"$f":"IF($C120=\"\",\"\",CONCATENATE(男子様式!$D139,\" \",男子様式!$J139))","v":""},{"$f":"IF($C120=\"\",\"\",男子様式!$G375)","v":""},{"$f":"CONCATENATE(OFFSET(男子様式!$J$18,3*A120,0),\" \",IF(LEN(OFFSET(男子様式!$L$18,A120*3,0))=0,,\"(\"),LEFT(OFFSET(男子様式!$L$18,A120*3,0),2),IF(LEN(OFFSET(男子様式!$J$18,A120*3,0))=0,,\")\"))","v":" "},"",{"$f":"IF($C120=\"\",\"\",VLOOKUP(基本登録情報!$C$7,登録データ!$I$3:$L$100,3,FALSE))","v":""},{"$f":"IF($C120=\"\",\"\",VLOOKUP(OFFSET(男子様式!$O$18,3*A120,0),登録データ!AM120:AN166,2,FALSE))","v":""},"",{"$f":"IF(男子様式!$AG375=\"\",\"\",男子様式!$AG375)","v":""},{"$f":"IF(男子様式!$AG376=\"\",\"\",男子様式!$AG376)","v":""},{"$f":"IF(男子様式!$AG377=\"\",\"\",男子様式!$AG377)","v":""}]
[120,{"$f":"IF(男子様式!$C378=\"\",\"\",IF(男子様式!$C378=\"@\",\"@\",男子様式!$C378))","v":""},{"$f":"IF(男子様式!$C378=\"\",\"\",IF($B121=\"@\",\"@\",$B121+100000000))","v":""},{"$f":"IF($C121=\"\",\"\",CONCATENATE(男子様式!$D140,\" \",男子様式!$J140))","v":""},{"$f":"IF($C121=\"\",\"\",男子様式!$G378)","v":""},{"$f":"CONCATENATE(OFFSET(男子様式!$J$18,3*A121,0),\" \",IF(LEN(OFFSET(男子様式!$L$18,A121*3,0))=0,,\"(\"),LEFT(OFFSET(男子様式!$L$18,A121*3,0),2),IF(LEN(OFFSET(男子様式!$J$18,A121*3,0))=0,,\")\"))","v":" "},"",{"$f":"IF($C121=\"\",\"\",VLOOKUP(基本登録情報!$C$7,登録データ!$I$3:$L$100,3,FALSE))","v":""},{"$f":"IF($C121=\"\",\"\",VLOOKUP(OFFSET(男子様式!$O$18,3*A121,0),登録データ!AM121:AN167,2,FALSE))","v":""},"",{"$f":"IF(男子様式!$AG378=\"\",\"\",男子様式!$AG378)","v":""},{"$f":"IF(男子様式!$AG379=\"\",\"\",男子様式!$AG379)","v":""},{"$f":"IF(男子様式!$AG380=\"\",\"\",男子様式!$AG380)","v":""}]
[121,{"$f":"IF(男子様式!$C381=\"\",\"\",IF(男子様式!$C381=\"@\",\"@\",男子様式!$C381))","v":""},{"$f":"IF(男子様式!$C381=\"\",\"\",IF($B122=\"@\",\"@\",$B122+100000000))","v":""},{"$f":"IF($C122=\"\",\"\",CONCATENATE(男子様式!$D141,\" \",男子様式!$J141))","v":""},{"$f":"IF($C122=\"\",\"\",男子様式!$G381)","v":""},{"$f":"CONCATENATE(OFFSET(男子様式!$J$18,3*A122,0),\" \",IF(LEN(OFFSET(男子様式!$L$18,A122*3,0))=0,,\"(\"),LEFT(OFFSET(男子様式!$L$18,A122*3,0),2),IF(LEN(OFFSET(男子様式!$J$18,A122*3,0))=0,,\")\"))","v":" "},"",{"$f":"IF($C122=\"\",\"\",VLOOKUP(基本登録情報!$C$7,登録データ!$I$3:$L$100,3,FALSE))","v":""},{"$f":"IF($C122=\"\",\"\",VLOOKUP(OFFSET(男子様式!$O$18,3*A122,0),登録データ!AM122:AN168,2,FALSE))","v":""},"",{"$f":"IF(男子様式!$AG381=\"\",\"\",男子様式!$AG381)","v":""},{"$f":"IF(男子様式!$AG382=\"\",\"\",男子様式!$AG382)","v":""},{"$f":"IF(男子様式!$AG383=\"\",\"\",男子様式!$AG383)","v":""}]
[122,{"$f":"IF(男子様式!$C384=\"\",\"\",IF(男子様式!$C384=\"@\",\"@\",男子様式!$C384))","v":""},{"$f":"IF(男子様式!$C384=\"\",\"\",IF($B123=\"@\",\"@\",$B123+100000000))","v":""},{"$f":"IF($C123=\"\",\"\",CONCATENATE(男子様式!$D142,\" \",男子様式!$J142))","v":""},{"$f":"IF($C123=\"\",\"\",男子様式!$G384)","v":""},{"$f":"CONCATENATE(OFFSET(男子様式!$J$18,3*A123,0),\" \",IF(LEN(OFFSET(男子様式!$L$18,A123*3,0))=0,,\"(\"),LEFT(OFFSET(男子様式!$L$18,A123*3,0),2),IF(LEN(OFFSET(男子様式!$J$18,A123*3,0))=0,,\")\"))","v":" "},"",{"$f":"IF($C123=\"\",\"\",VLOOKUP(基本登録情報!$C$7,登録データ!$I$3:$L$100,3,FALSE))","v":""},{"$f":"IF($C123=\"\",\"\",VLOOKUP(OFFSET(男子様式!$O$18,3*A123,0),登録データ!AM123:AN169,2,FALSE))","v":""},"",{"$f":"IF(男子様式!$AG384=\"\",\"\",男子様式!$AG384)","v":""},{"$f":"IF(男子様式!$AG385=\"\",\"\",男子様式!$AG385)","v":""},{"$f":"IF(男子様式!$AG386=\"\",\"\",男子様式!$AG386)","v":""}]
[123,{"$f":"IF(男子様式!$C387=\"\",\"\",IF(男子様式!$C387=\"@\",\"@\",男子様式!$C387))","v":""},{"$f":"IF(男子様式!$C387=\"\",\"\",IF($B124=\"@\",\"@\",$B124+100000000))","v":""},{"$f":"IF($C124=\"\",\"\",CONCATENATE(男子様式!$D143,\" \",男子様式!$J143))","v":""},{"$f":"IF($C124=\"\",\"\",男子様式!$G387)","v":""},{"$f":"CONCATENATE(OFFSET(男子様式!$J$18,3*A124,0),\" \",IF(LEN(OFFSET(男子様式!$L$18,A124*3,0))=0,,\"(\"),LEFT(OFFSET(男子様式!$L$18,A124*3,0),2),IF(LEN(OFFSET(男子様式!$J$18,A124*3,0))=0,,\")\"))","v":" "},"",{"$f":"IF($C124=\"\",\"\",VLOOKUP(基本登録情報!$C$7,登録データ!$I$3:$L$100,3,FALSE))","v":""},{"$f":"IF($C124=\"\",\"\",VLOOKUP(OFFSET(男子様式!$O$18,3*A124,0),登録データ!AM124:AN170,2,FALSE))","v":""},"",{"$f":"IF(男子様式!$AG387=\"\",\"\",男子様式!$AG387)","v":""},{"$f":"IF(男子様式!$AG388=\"\",\"\",男子様式!$AG388)","v":""},{"$f":"IF(男子様式!$AG389=\"\",\"\",男子様式!$AG389)","v":""}]
[124,{"$f":"IF(男子様式!$C390=\"\",\"\",IF(男子様式!$C390=\"@\",\"@\",男子様式!$C390))","v":""},{"$f":"IF(男子様式!$C390=\"\",\"\",IF($B125=\"@\",\"@\",$B125+100000000))","v":""},{"$f":"IF($C125=\"\",\"\",CONCATENATE(男子様式!$D144,\" \",男子様式!$J144))","v":""},{"$f":"IF($C125=\"\",\"\",男子様式!$G390)","v":""},{"$f":"CONCATENATE(OFFSET(男子様式!$J$18,3*A125,0),\" \",IF(LEN(OFFSET(男子様式!$L$18,A125*3,0))=0,,\"(\"),LEFT(OFFSET(男子様式!$L$18,A125*3,0),2),IF(LEN(OFFSET(男子様式!$J$18,A125*3,0))=0,,\")\"))","v":" "},"",{"$f":"IF($C125=\"\",\"\",VLOOKUP(基本登録情報!$C$7,登録データ!$I$3:$L$100,3,FALSE))","v":""},{"$f":"IF($C125=\"\",\"\",VLOOKUP(OFFSET(男子様式!$O$18,3*A125,0),登録データ!AM125:AN171,2,FALSE))","v":""},"",{"$f":"IF(男子様式!$AG390=\"\",\"\",男子様式!$AG390)","v":""},{"$f":"IF(男子様式!$AG391=\"\",\"\",男子様式!$AG391)","v":""},{"$f":"IF(男子様式!$AG392=\"\",\"\",男子様式!$AG392)","v":""}]
[125,{"$f":"IF(男子様式!$C393=\"\",\"\",IF(男子様式!$C393=\"@\",\"@\",男子様式!$C393))","v":""},{"$f":"IF(男子様式!$C393=\"\",\"\",IF($B126=\"@\",\"@\",$B126+100000000))","v":""},{"$f":"IF($C126=\"\",\"\",CONCATENATE(男子様式!$D145,\" \",男子様式!$J145))","v":""},{"$f":"IF($C126=\"\",\"\",男子様式!$G393)","v":""},{"$f":"CONCATENATE(OFFSET(男子様式!$J$18,3*A126,0),\" \",IF(LEN(OFFSET(男子様式!$L$18,A126*3,0))=0,,\"(\"),LEFT(OFFSET(男子様式!$L$18,A126*3,0),2),IF(LEN(OFFSET(男子様式!$J$18,A126*3,0))=0,,\")\"))","v":" "},"",{"$f":"IF($C126=\"\",\"\",VLOOKUP(基本登録情報!$C$7,登録データ!$I$3:$L$100,3,FALSE))","v":""},{"$f":"IF($C126=\"\",\"\",VLOOKUP(OFFSET(男子様式!$O$18,3*A126,0),登録データ!AM126:AN172,2,FALSE))","v":""},"",{"$f":"IF(男子様式!$AG393=\"\",\"\",男子様式!$AG393)","v":""},{"$f":"IF(男子様式!$AG394=\"\",\"\",男子様式!$AG394)","v":""},{"$f":"IF(男子様式!$AG395=\"\",\"\",男子様式!$AG395)","v":""}]
[126,{"$f":"IF(男子様式!$C396=\"\",\"\",IF(男子様式!$C396=\"@\",\"@\",男子様式!$C396))","v":""},{"$f":"IF(男子様式!$C396=\"\",\"\",IF($B127=\"@\",\"@\",$B127+100000000))","v":""},{"$f":"IF($C127=\"\",\"\",CONCATENATE(男子様式!$D146,\" \",男子様式!$J146))","v":""},{"$f":"IF($C127=\"\",\"\",男子様式!$G396)","v":""},{"$f":"CONCATENATE(OFFSET(男子様式!$J$18,3*A127,0),\" \",IF(LEN(OFFSET(男子様式!$L$18,A127*3,0))=0,,\"(\"),LEFT(OFFSET(男子様式!$L$18,A127*3,0),2),IF(LEN(OFFSET(男子様式!$J$18,A127*3,0))=0,,\")\"))","v":" "},"",{"$f":"IF($C127=\"\",\"\",VLOOKUP(基本登録情報!$C$7,登録データ!$I$3:$L$100,3,FALSE))","v":""},{"$f":"IF($C127=\"\",\"\",VLOOKUP(OFFSET(男子様式!$O$18,3*A127,0),登録データ!AM127:AN173,2,FALSE))","v":""},"",{"$f":"IF(男子様式!$AG396=\"\",\"\",男子様式!$AG396)","v":""},{"$f":"IF(男子様式!$AG397=\"\",\"\",男子様式!$AG397)","v":""},{"$f":"IF(男子様式!$AG398=\"\",\"\",男子様式!$AG398)","v":""}]
[127,{"$f":"IF(男子様式!$C399=\"\",\"\",IF(男子様式!$C399=\"@\",\"@\",男子様式!$C399))","v":""},{"$f":"IF(男子様式!$C399=\"\",\"\",IF($B128=\"@\",\"@\",$B128+100000000))","v":""},{"$f":"IF($C128=\"\",\"\",CONCATENATE(男子様式!$D147,\" \",男子様式!$J147))","v":""},{"$f":"IF($C128=\"\",\"\",男子様式!$G399)","v":""},{"$f":"CONCATENATE(OFFSET(男子様式!$J$18,3*A128,0),\" \",IF(LEN(OFFSET(男子様式!$L$18,A128*3,0))=0,,\"(\"),LEFT(OFFSET(男子様式!$L$18,A128*3,0),2),IF(LEN(OFFSET(男子様式!$J$18,A128*3,0))=0,,\")\"))","v":" "},"",{"$f":"IF($C128=\"\",\"\",VLOOKUP(基本登録情報!$C$7,登録データ!$I$3:$L$100,3,FALSE))","v":""},{"$f":"IF($C128=\"\",\"\",VLOOKUP(OFFSET(男子様式!$O$18,3*A128,0),登録データ!AM128:AN174,2,FALSE))","v":""},"",{"$f":"IF(男子様式!$AG399=\"\",\"\",男子様式!$AG399)","v":""},{"$f":"IF(男子様式!$AG400=\"\",\"\",男子様式!$AG400)","v":""},{"$f":"IF(男子様式!$AG401=\"\",\"\",男子様式!$AG401)","v":""}]
[128,{"$f":"IF(男子様式!$C402=\"\",\"\",IF(男子様式!$C402=\"@\",\"@\",男子様式!$C402))","v":""},{"$f":"IF(男子様式!$C402=\"\",\"\",IF($B129=\"@\",\"@\",$B129+100000000))","v":""},{"$f":"IF($C129=\"\",\"\",CONCATENATE(男子様式!$D148,\" \",男子様式!$J148))","v":""},{"$f":"IF($C129=\"\",\"\",男子様式!$G402)","v":""},{"$f":"CONCATENATE(OFFSET(男子様式!$J$18,3*A129,0),\" \",IF(LEN(OFFSET(男子様式!$L$18,A129*3,0))=0,,\"(\"),LEFT(OFFSET(男子様式!$L$18,A129*3,0),2),IF(LEN(OFFSET(男子様式!$J$18,A129*3,0))=0,,\")\"))","v":" "},"",{"$f":"IF($C129=\"\",\"\",VLOOKUP(基本登録情報!$C$7,登録データ!$I$3:$L$100,3,FALSE))","v":""},{"$f":"IF($C129=\"\",\"\",VLOOKUP(OFFSET(男子様式!$O$18,3*A129,0),登録データ!AM129:AN175,2,FALSE))","v":""},"",{"$f":"IF(男子様式!$AG402=\"\",\"\",男子様式!$AG402)","v":""},{"$f":"IF(男子様式!$AG403=\"\",\"\",男子様式!$AG403)","v":""},{"$f":"IF(男子様式!$AG404=\"\",\"\",男子様式!$AG404)","v":""}]
[129,{"$f":"IF(男子様式!$C405=\"\",\"\",IF(男子様式!$C405=\"@\",\"@\",男子様式!$C405))","v":""},{"$f":"IF(男子様式!$C405=\"\",\"\",IF($B130=\"@\",\"@\",$B130+100000000))","v":""},{"$f":"IF($C130=\"\",\"\",CONCATENATE(男子様式!$D149,\" \",男子様式!$J149))","v":""},{"$f":"IF($C130=\"\",\"\",男子様式!$G405)","v":""},{"$f":"CONCATENATE(OFFSET(男子様式!$J$18,3*A130,0),\" \",IF(LEN(OFFSET(男子様式!$L$18,A130*3,0))=0,,\"(\"),LEFT(OFFSET(男子様式!$L$18,A130*3,0),2),IF(LEN(OFFSET(男子様式!$J$18,A130*3,0))=0,,\")\"))","v":" "},"",{"$f":"IF($C130=\"\",\"\",VLOOKUP(基本登録情報!$C$7,登録データ!$I$3:$L$100,3,FALSE))","v":""},{"$f":"IF($C130=\"\",\"\",VLOOKUP(OFFSET(男子様式!$O$18,3*A130,0),登録データ!AM130:AN176,2,FALSE))","v":""},"",{"$f":"IF(男子様式!$AG405=\"\",\"\",男子様式!$AG405)","v":""},{"$f":"IF(男子様式!$AG406=\"\",\"\",男子様式!$AG406)","v":""},{"$f":"IF(男子様式!$AG407=\"\",\"\",男子様式!$AG407)","v":""}]
[130,{"$f":"IF(男子様式!$C408=\"\",\"\",IF(男子様式!$C408=\"@\",\"@\",男子様式!$C408))","v":""},{"$f":"IF(男子様式!$C408=\"\",\"\",IF($B131=\"@\",\"@\",$B131+100000000))","v":""},{"$f":"IF($C131=\"\",\"\",CONCATENATE(男子様式!$D150,\" \",男子様式!$J150))","v":""},{"$f":"IF($C131=\"\",\"\",男子様式!$G408)","v":""},{"$f":"CONCATENATE(OFFSET(男子様式!$J$18,3*A131,0),\" \",IF(LEN(OFFSET(男子様式!$L$18,A131*3,0))=0,,\"(\"),LEFT(OFFSET(男子様式!$L$18,A131*3,0),2),IF(LEN(OFFSET(男子様式!$J$18,A131*3,0))=0,,\")\"))","v":" "},{"$f":"IF($C131=\"\",\"\",1)","v":""},{"$f":"IF($C131=\"\",\"\",VLOOKUP(基本登録情報!$C$7,登録データ!$I$3:$L$100,3,FALSE))","v":""},{"$f":"IF($C131=\"\",\"\",VLOOKUP(OFFSET(男子様式!$O$18,3*A131,0),登録データ!AM131:AN177,2,FALSE))","v":""},{"$f":"IF($C131=\"\",\"\",IF($C131=\"@\",\"@\",VALUE(RIGHT($C131,4))))","v":""},{"$f":"IF(男子様式!$AG408=\"\",\"\",男子様式!$AG408)","v":""},{"$f":"IF(男子様式!$AG409=\"\",\"\",男子様式!$AG409)","v":""},{"$f":"IF(男子様式!$AG410=\"\",\"\",男子様式!$AG410)","v":""}]
[131,{"$f":"IF(男子様式!$C411=\"\",\"\",IF(男子様式!$C411=\"@\",\"@\",男子様式!$C411))","v":""},{"$f":"IF(男子様式!$C411=\"\",\"\",IF($B132=\"@\",\"@\",$B132+100000000))","v":""},{"$f":"IF($C132=\"\",\"\",CONCATENATE(男子様式!$D151,\" \",男子様式!$J151))","v":""},{"$f":"IF($C132=\"\",\"\",男子様式!$G411)","v":""},{"$f":"CONCATENATE(OFFSET(男子様式!$J$18,3*A132,0),\" \",IF(LEN(OFFSET(男子様式!$L$18,A132*3,0))=0,,\"(\"),LEFT(OFFSET(男子様式!$L$18,A132*3,0),2),IF(LEN(OFFSET(男子様式!$J$18,A132*3,0))=0,,\")\"))","v":" "},"",{"$f":"IF($C132=\"\",\"\",VLOOKUP(基本登録情報!$C$7,登録データ!$I$3:$L$100,3,FALSE))","v":""},{"$f":"IF($C132=\"\",\"\",VLOOKUP(OFFSET(男子様式!$O$18,3*A132,0),登録データ!AM132:AN178,2,FALSE))","v":""},"",{"$f":"IF(男子様式!$AG411=\"\",\"\",男子様式!$AG411)","v":""},{"$f":"IF(男子様式!$AG412=\"\",\"\",男子様式!$AG412)","v":""},{"$f":"IF(男子様式!$AG413=\"\",\"\",男子様式!$AG413)","v":""}]
[132,{"$f":"IF(男子様式!$C414=\"\",\"\",IF(男子様式!$C414=\"@\",\"@\",男子様式!$C414))","v":""},{"$f":"IF(男子様式!$C414=\"\",\"\",IF($B133=\"@\",\"@\",$B133+100000000))","v":""},{"$f":"IF($C133=\"\",\"\",CONCATENATE(男子様式!$D152,\" \",男子様式!$J152))","v":""},{"$f":"IF($C133=\"\",\"\",男子様式!$G414)","v":""},{"$f":"CONCATENATE(OFFSET(男子様式!$J$18,3*A133,0),\" \",IF(LEN(OFFSET(男子様式!$L$18,A133*3,0))=0,,\"(\"),LEFT(OFFSET(男子様式!$L$18,A133*3,0),2),IF(LEN(OFFSET(男子様式!$J$18,A133*3,0))=0,,\")\"))","v":" "},"",{"$f":"IF($C133=\"\",\"\",VLOOKUP(基本登録情報!$C$7,登録データ!$I$3:$L$100,3,FALSE))","v":""},{"$f":"IF($C133=\"\",\"\",VLOOKUP(OFFSET(男子様式!$O$18,3*A133,0),登録データ!AM133:AN179,2,FALSE))","v":""},"",{"$f":"IF(男子様式!$AG414=\"\",\"\",男子様式!$AG414)","v":""},{"$f":"IF(男子様式!$AG415=\"\",\"\",男子様式!$AG415)","v":""},{"$f":"IF(男子様式!$AG416=\"\",\"\",男子様式!$AG416)","v":""}]
[133,{"$f":"IF(男子様式!$C417=\"\",\"\",IF(男子様式!$C417=\"@\",\"@\",男子様式!$C417))","v":""},{"$f":"IF(男子様式!$C417=\"\",\"\",IF($B134=\"@\",\"@\",$B134+100000000))","v":""},{"$f":"IF($C134=\"\",\"\",CONCATENATE(男子様式!$D153,\" \",男子様式!$J153))","v":""},{"$f":"IF($C134=\"\",\"\",男子様式!$G417)","v":""},{"$f":"CONCATENATE(OFFSET(男子様式!$J$18,3*A134,0),\" \",IF(LEN(OFFSET(男子様式!$L$18,A134*3,0))=0,,\"(\"),LEFT(OFFSET(男子様式!$L$18,A134*3,0),2),IF(LEN(OFFSET(男子様式!$J$18,A134*3,0))=0,,\")\"))","v":" "},"",{"$f":"IF($C134=\"\",\"\",VLOOKUP(基本登録情報!$C$7,登録データ!$I$3:$L$100,3,FALSE))","v":""},{"$f":"IF($C134=\"\",\"\",VLOOKUP(OFFSET(男子様式!$O$18,3*A134,0),登録データ!AM134:AN180,2,FALSE))","v":""},"",{"$f":"IF(男子様式!$AG417=\"\",\"\",男子様式!$AG417)","v":""},{"$f":"IF(男子様式!$AG418=\"\",\"\",男子様式!$AG418)","v":""},{"$f":"IF(男子様式!$AG419=\"\",\"\",男子様式!$AG419)","v":""}]
[134,{"$f":"IF(男子様式!$C420=\"\",\"\",IF(男子様式!$C420=\"@\",\"@\",男子様式!$C420))","v":""},{"$f":"IF(男子様式!$C420=\"\",\"\",IF($B135=\"@\",\"@\",$B135+100000000))","v":""},{"$f":"IF($C135=\"\",\"\",CONCATENATE(男子様式!$D154,\" \",男子様式!$J154))","v":""},{"$f":"IF($C135=\"\",\"\",男子様式!$G420)","v":""},{"$f":"CONCATENATE(OFFSET(男子様式!$J$18,3*A135,0),\" \",IF(LEN(OFFSET(男子様式!$L$18,A135*3,0))=0,,\"(\"),LEFT(OFFSET(男子様式!$L$18,A135*3,0),2),IF(LEN(OFFSET(男子様式!$J$18,A135*3,0))=0,,\")\"))","v":" "},"",{"$f":"IF($C135=\"\",\"\",VLOOKUP(基本登録情報!$C$7,登録データ!$I$3:$L$100,3,FALSE))","v":""},{"$f":"IF($C135=\"\",\"\",VLOOKUP(OFFSET(男子様式!$O$18,3*A135,0),登録データ!AM135:AN181,2,FALSE))","v":""},"",{"$f":"IF(男子様式!$AG420=\"\",\"\",男子様式!$AG420)","v":""},{"$f":"IF(男子様式!$AG421=\"\",\"\",男子様式!$AG421)","v":""},{"$f":"IF(男子様式!$AG422=\"\",\"\",男子様式!$AG422)","v":""}]
[135,{"$f":"IF(男子様式!$C423=\"\",\"\",IF(男子様式!$C423=\"@\",\"@\",男子様式!$C423))","v":""},{"$f":"IF(男子様式!$C423=\"\",\"\",IF($B136=\"@\",\"@\",$B136+100000000))","v":""},{"$f":"IF($C136=\"\",\"\",CONCATENATE(男子様式!$D155,\" \",男子様式!$J155))","v":""},{"$f":"IF($C136=\"\",\"\",男子様式!$G423)","v":""},{"$f":"CONCATENATE(OFFSET(男子様式!$J$18,3*A136,0),\" \",IF(LEN(OFFSET(男子様式!$L$18,A136*3,0))=0,,\"(\"),LEFT(OFFSET(男子様式!$L$18,A136*3,0),2),IF(LEN(OFFSET(男子様式!$J$18,A136*3,0))=0,,\")\"))","v":" "},"",{"$f":"IF($C136=\"\",\"\",VLOOKUP(基本登録情報!$C$7,登録データ!$I$3:$L$100,3,FALSE))","v":""},{"$f":"IF($C136=\"\",\"\",VLOOKUP(OFFSET(男子様式!$O$18,3*A136,0),登録データ!AM136:AN182,2,FALSE))","v":""},"",{"$f":"IF(男子様式!$AG423=\"\",\"\",男子様式!$AG423)","v":""},{"$f":"IF(男子様式!$AG424=\"\",\"\",男子様式!$AG424)","v":""},{"$f":"IF(男子様式!$AG425=\"\",\"\",男子様式!$AG425)","v":""}]
[136,{"$f":"IF(男子様式!$C426=\"\",\"\",IF(男子様式!$C426=\"@\",\"@\",男子様式!$C426))","v":""},{"$f":"IF(男子様式!$C426=\"\",\"\",IF($B137=\"@\",\"@\",$B137+100000000))","v":""},{"$f":"IF($C137=\"\",\"\",CONCATENATE(男子様式!$D156,\" \",男子様式!$J156))","v":""},{"$f":"IF($C137=\"\",\"\",男子様式!$G426)","v":""},{"$f":"CONCATENATE(OFFSET(男子様式!$J$18,3*A137,0),\" \",IF(LEN(OFFSET(男子様式!$L$18,A137*3,0))=0,,\"(\"),LEFT(OFFSET(男子様式!$L$18,A137*3,0),2),IF(LEN(OFFSET(男子様式!$J$18,A137*3,0))=0,,\")\"))","v":" "},"",{"$f":"IF($C137=\"\",\"\",VLOOKUP(基本登録情報!$C$7,登録データ!$I$3:$L$100,3,FALSE))","v":""},{"$f":"IF($C137=\"\",\"\",VLOOKUP(OFFSET(男子様式!$O$18,3*A137,0),登録データ!AM137:AN183,2,FALSE))","v":""},"",{"$f":"IF(男子様式!$AG426=\"\",\"\",男子様式!$AG426)","v":""},{"$f":"IF(男子様式!$AG427=\"\",\"\",男子様式!$AG427)","v":""},{"$f":"IF(男子様式!$AG428=\"\",\"\",男子様式!$AG428)","v":""}]
[137,{"$f":"IF(男子様式!$C429=\"\",\"\",IF(男子様式!$C429=\"@\",\"@\",男子様式!$C429))","v":""},{"$f":"IF(男子様式!$C429=\"\",\"\",IF($B138=\"@\",\"@\",$B138+100000000))","v":""},{"$f":"IF($C138=\"\",\"\",CONCATENATE(男子様式!$D157,\" \",男子様式!$J157))","v":""},{"$f":"IF($C138=\"\",\"\",男子様式!$G429)","v":""},{"$f":"CONCATENATE(OFFSET(男子様式!$J$18,3*A138,0),\" \",IF(LEN(OFFSET(男子様式!$L$18,A138*3,0))=0,,\"(\"),LEFT(OFFSET(男子様式!$L$18,A138*3,0),2),IF(LEN(OFFSET(男子様式!$J$18,A138*3,0))=0,,\")\"))","v":" "},"",{"$f":"IF($C138=\"\",\"\",VLOOKUP(基本登録情報!$C$7,登録データ!$I$3:$L$100,3,FALSE))","v":""},{"$f":"IF($C138=\"\",\"\",VLOOKUP(OFFSET(男子様式!$O$18,3*A138,0),登録データ!AM138:AN184,2,FALSE))","v":""},"",{"$f":"IF(男子様式!$AG429=\"\",\"\",男子様式!$AG429)","v":""},{"$f":"IF(男子様式!$AG430=\"\",\"\",男子様式!$AG430)","v":""},{"$f":"IF(男子様式!$AG431=\"\",\"\",男子様式!$AG431)","v":""}]
[138,{"$f":"IF(男子様式!$C432=\"\",\"\",IF(男子様式!$C432=\"@\",\"@\",男子様式!$C432))","v":""},{"$f":"IF(男子様式!$C432=\"\",\"\",IF($B139=\"@\",\"@\",$B139+100000000))","v":""},{"$f":"IF($C139=\"\",\"\",CONCATENATE(男子様式!$D158,\" \",男子様式!$J158))","v":""},{"$f":"IF($C139=\"\",\"\",男子様式!$G432)","v":""},{"$f":"CONCATENATE(OFFSET(男子様式!$J$18,3*A139,0),\" \",IF(LEN(OFFSET(男子様式!$L$18,A139*3,0))=0,,\"(\"),LEFT(OFFSET(男子様式!$L$18,A139*3,0),2),IF(LEN(OFFSET(男子様式!$J$18,A139*3,0))=0,,\")\"))","v":" "},"",{"$f":"IF($C139=\"\",\"\",VLOOKUP(基本登録情報!$C$7,登録データ!$I$3:$L$100,3,FALSE))","v":""},{"$f":"IF($C139=\"\",\"\",VLOOKUP(OFFSET(男子様式!$O$18,3*A139,0),登録データ!AM139:AN185,2,FALSE))","v":""},"",{"$f":"IF(男子様式!$AG432=\"\",\"\",男子様式!$AG432)","v":""},{"$f":"IF(男子様式!$AG433=\"\",\"\",男子様式!$AG433)","v":""},{"$f":"IF(男子様式!$AG434=\"\",\"\",男子様式!$AG434)","v":""}]
[139,{"$f":"IF(男子様式!$C435=\"\",\"\",IF(男子様式!$C435=\"@\",\"@\",男子様式!$C435))","v":""},{"$f":"IF(男子様式!$C435=\"\",\"\",IF($B140=\"@\",\"@\",$B140+100000000))","v":""},{"$f":"IF($C140=\"\",\"\",CONCATENATE(男子様式!$D159,\" \",男子様式!$J159))","v":""},{"$f":"IF($C140=\"\",\"\",男子様式!$G435)","v":""},{"$f":"CONCATENATE(OFFSET(男子様式!$J$18,3*A140,0),\" \",IF(LEN(OFFSET(男子様式!$L$18,A140*3,0))=0,,\"(\"),LEFT(OFFSET(男子様式!$L$18,A140*3,0),2),IF(LEN(OFFSET(男子様式!$J$18,A140*3,0))=0,,\")\"))","v":" "},"",{"$f":"IF($C140=\"\",\"\",VLOOKUP(基本登録情報!$C$7,登録データ!$I$3:$L$100,3,FALSE))","v":""},{"$f":"IF($C140=\"\",\"\",VLOOKUP(OFFSET(男子様式!$O$18,3*A140,0),登録データ!AM140:AN186,2,FALSE))","v":""},"",{"$f":"IF(男子様式!$AG435=\"\",\"\",男子様式!$AG435)","v":""},{"$f":"IF(男子様式!$AG436=\"\",\"\",男子様式!$AG436)","v":""},{"$f":"IF(男子様式!$AG437=\"\",\"\",男子様式!$AG437)","v":""}]
[140,{"$f":"IF(男子様式!$C438=\"\",\"\",IF(男子様式!$C438=\"@\",\"@\",男子様式!$C438))","v":""},{"$f":"IF(男子様式!$C438=\"\",\"\",IF($B141=\"@\",\"@\",$B141+100000000))","v":""},{"$f":"IF($C141=\"\",\"\",CONCATENATE(男子様式!$D160,\" \",男子様式!$J160))","v":""},{"$f":"IF($C141=\"\",\"\",男子様式!$G438)","v":""},{"$f":"CONCATENATE(OFFSET(男子様式!$J$18,3*A141,0),\" \",IF(LEN(OFFSET(男子様式!$L$18,A141*3,0))=0,,\"(\"),LEFT(OFFSET(男子様式!$L$18,A141*3,0),2),IF(LEN(OFFSET(男子様式!$J$18,A141*3,0))=0,,\")\"))","v":" "},"",{"$f":"IF($C141=\"\",\"\",VLOOKUP(基本登録情報!$C$7,登録データ!$I$3:$L$100,3,FALSE))","v":""},{"$f":"IF($C141=\"\",\"\",VLOOKUP(OFFSET(男子様式!$O$18,3*A141,0),登録データ!AM141:AN187,2,FALSE))","v":""},"",{"$f":"IF(男子様式!$AG438=\"\",\"\",男子様式!$AG438)","v":""},{"$f":"IF(男子様式!$AG439=\"\",\"\",男子様式!$AG439)","v":""},{"$f":"IF(男子様式!$AG440=\"\",\"\",男子様式!$AG440)","v":""}]
[141,{"$f":"IF(男子様式!$C441=\"\",\"\",IF(男子様式!$C441=\"@\",\"@\",男子様式!$C441))","v":""},{"$f":"IF(男子様式!$C441=\"\",\"\",IF($B142=\"@\",\"@\",$B142+100000000))","v":""},{"$f":"IF($C142=\"\",\"\",CONCATENATE(男子様式!$D161,\" \",男子様式!$J161))","v":""},{"$f":"IF($C142=\"\",\"\",男子様式!$G441)","v":""},{"$f":"CONCATENATE(OFFSET(男子様式!$J$18,3*A142,0),\" \",IF(LEN(OFFSET(男子様式!$L$18,A142*3,0))=0,,\"(\"),LEFT(OFFSET(男子様式!$L$18,A142*3,0),2),IF(LEN(OFFSET(男子様式!$J$18,A142*3,0))=0,,\")\"))","v":" "},"",{"$f":"IF($C142=\"\",\"\",VLOOKUP(基本登録情報!$C$7,登録データ!$I$3:$L$100,3,FALSE))","v":""},{"$f":"IF($C142=\"\",\"\",VLOOKUP(OFFSET(男子様式!$O$18,3*A142,0),登録データ!AM142:AN188,2,FALSE))","v":""},"",{"$f":"IF(男子様式!$AG441=\"\",\"\",男子様式!$AG441)","v":""},{"$f":"IF(男子様式!$AG442=\"\",\"\",男子様式!$AG442)","v":""},{"$f":"IF(男子様式!$AG443=\"\",\"\",男子様式!$AG443)","v":""}]
[142,{"$f":"IF(男子様式!$C444=\"\",\"\",IF(男子様式!$C444=\"@\",\"@\",男子様式!$C444))","v":""},{"$f":"IF(男子様式!$C444=\"\",\"\",IF($B143=\"@\",\"@\",$B143+100000000))","v":""},{"$f":"IF($C143=\"\",\"\",CONCATENATE(男子様式!$D162,\" \",男子様式!$J162))","v":""},{"$f":"IF($C143=\"\",\"\",男子様式!$G444)","v":""},{"$f":"CONCATENATE(OFFSET(男子様式!$J$18,3*A143,0),\" \",IF(LEN(OFFSET(男子様式!$L$18,A143*3,0))=0,,\"(\"),LEFT(OFFSET(男子様式!$L$18,A143*3,0),2),IF(LEN(OFFSET(男子様式!$J$18,A143*3,0))=0,,\")\"))","v":" "},"",{"$f":"IF($C143=\"\",\"\",VLOOKUP(基本登録情報!$C$7,登録データ!$I$3:$L$100,3,FALSE))","v":""},{"$f":"IF($C143=\"\",\"\",VLOOKUP(OFFSET(男子様式!$O$18,3*A143,0),登録データ!AM143:AN189,2,FALSE))","v":""},"",{"$f":"IF(男子様式!$AG444=\"\",\"\",男子様式!$AG444)","v":""},{"$f":"IF(男子様式!$AG445=\"\",\"\",男子様式!$AG445)","v":""},{"$f":"IF(男子様式!$AG446=\"\",\"\",男子様式!$AG446)","v":""}]
[143,{"$f":"IF(男子様式!$C447=\"\",\"\",IF(男子様式!$C447=\"@\",\"@\",男子様式!$C447))","v":""},{"$f":"IF(男子様式!$C447=\"\",\"\",IF($B144=\"@\",\"@\",$B144+100000000))","v":""},{"$f":"IF($C144=\"\",\"\",CONCATENATE(男子様式!$D163,\" \",男子様式!$J163))","v":""},{"$f":"IF($C144=\"\",\"\",男子様式!$G447)","v":""},{"$f":"CONCATENATE(OFFSET(男子様式!$J$18,3*A144,0),\" \",IF(LEN(OFFSET(男子様式!$L$18,A144*3,0))=0,,\"(\"),LEFT(OFFSET(男子様式!$L$18,A144*3,0),2),IF(LEN(OFFSET(男子様式!$J$18,A144*3,0))=0,,\")\"))","v":" "},"",{"$f":"IF($C144=\"\",\"\",VLOOKUP(基本登録情報!$C$7,登録データ!$I$3:$L$100,3,FALSE))","v":""},{"$f":"IF($C144=\"\",\"\",VLOOKUP(OFFSET(男子様式!$O$18,3*A144,0),登録データ!AM144:AN190,2,FALSE))","v":""},"",{"$f":"IF(男子様式!$AG447=\"\",\"\",男子様式!$AG447)","v":""},{"$f":"IF(男子様式!$AG448=\"\",\"\",男子様式!$AG448)","v":""},{"$f":"IF(男子様式!$AG449=\"\",\"\",男子様式!$AG449)","v":""}]
[144,{"$f":"IF(男子様式!$C450=\"\",\"\",IF(男子様式!$C450=\"@\",\"@\",男子様式!$C450))","v":""},{"$f":"IF(男子様式!$C450=\"\",\"\",IF($B145=\"@\",\"@\",$B145+100000000))","v":""},{"$f":"IF($C145=\"\",\"\",CONCATENATE(男子様式!$D164,\" \",男子様式!$J164))","v":""},{"$f":"IF($C145=\"\",\"\",男子様式!$G450)","v":""},{"$f":"CONCATENATE(OFFSET(男子様式!$J$18,3*A145,0),\" \",IF(LEN(OFFSET(男子様式!$L$18,A145*3,0))=0,,\"(\"),LEFT(OFFSET(男子様式!$L$18,A145*3,0),2),IF(LEN(OFFSET(男子様式!$J$18,A145*3,0))=0,,\")\"))","v":" "},"",{"$f":"IF($C145=\"\",\"\",VLOOKUP(基本登録情報!$C$7,登録データ!$I$3:$L$100,3,FALSE))","v":""},{"$f":"IF($C145=\"\",\"\",VLOOKUP(OFFSET(男子様式!$O$18,3*A145,0),登録データ!AM145:AN191,2,FALSE))","v":""},"",{"$f":"IF(男子様式!$AG450=\"\",\"\",男子様式!$AG450)","v":""},{"$f":"IF(男子様式!$AG451=\"\",\"\",男子様式!$AG451)","v":""},{"$f":"IF(男子様式!$AG452=\"\",\"\",男子様式!$AG452)","v":""}]
[145,{"$f":"IF(男子様式!$C453=\"\",\"\",IF(男子様式!$C453=\"@\",\"@\",男子様式!$C453))","v":""},{"$f":"IF(男子様式!$C453=\"\",\"\",IF($B146=\"@\",\"@\",$B146+100000000))","v":""},{"$f":"IF($C146=\"\",\"\",CONCATENATE(男子様式!$D165,\" \",男子様式!$J165))","v":""},{"$f":"IF($C146=\"\",\"\",男子様式!$G453)","v":""},{"$f":"CONCATENATE(OFFSET(男子様式!$J$18,3*A146,0),\" \",IF(LEN(OFFSET(男子様式!$L$18,A146*3,0))=0,,\"(\"),LEFT(OFFSET(男子様式!$L$18,A146*3,0),2),IF(LEN(OFFSET(男子様式!$J$18,A146*3,0))=0,,\")\"))","v":" "},"",{"$f":"IF($C146=\"\",\"\",VLOOKUP(基本登録情報!$C$7,登録データ!$I$3:$L$100,3,FALSE))","v":""},{"$f":"IF($C146=\"\",\"\",VLOOKUP(OFFSET(男子様式!$O$18,3*A146,0),登録データ!AM146:AN192,2,FALSE))","v":""},"",{"$f":"IF(男子様式!$AG453=\"\",\"\",男子様式!$AG453)","v":""},{"$f":"IF(男子様式!$AG454=\"\",\"\",男子様式!$AG454)","v":""},{"$f":"IF(男子様式!$AG455=\"\",\"\",男子様式!$AG455)","v":""}]
[146,{"$f":"IF(男子様式!$C456=\"\",\"\",IF(男子様式!$C456=\"@\",\"@\",男子様式!$C456))","v":""},{"$f":"IF(男子様式!$C456=\"\",\"\",IF($B147=\"@\",\"@\",$B147+100000000))","v":""},{"$f":"IF($C147=\"\",\"\",CONCATENATE(男子様式!$D166,\" \",男子様式!$J166))","v":""},{"$f":"IF($C147=\"\",\"\",男子様式!$G456)","v":""},{"$f":"CONCATENATE(OFFSET(男子様式!$J$18,3*A147,0),\" \",IF(LEN(OFFSET(男子様式!$L$18,A147*3,0))=0,,\"(\"),LEFT(OFFSET(男子様式!$L$18,A147*3,0),2),IF(LEN(OFFSET(男子様式!$J$18,A147*3,0))=0,,\")\"))","v":" "},"",{"$f":"IF($C147=\"\",\"\",VLOOKUP(基本登録情報!$C$7,登録データ!$I$3:$L$100,3,FALSE))","v":""},{"$f":"IF($C147=\"\",\"\",VLOOKUP(OFFSET(男子様式!$O$18,3*A147,0),登録データ!AM147:AN193,2,FALSE))","v":""},"",{"$f":"IF(男子様式!$AG456=\"\",\"\",男子様式!$AG456)","v":""},{"$f":"IF(男子様式!$AG457=\"\",\"\",男子様式!$AG457)","v":""},{"$f":"IF(男子様式!$AG458=\"\",\"\",男子様式!$AG458)","v":""}]
[147,{"$f":"IF(男子様式!$C459=\"\",\"\",IF(男子様式!$C459=\"@\",\"@\",男子様式!$C459))","v":""},{"$f":"IF(男子様式!$C459=\"\",\"\",IF($B148=\"@\",\"@\",$B148+100000000))","v":""},{"$f":"IF($C148=\"\",\"\",CONCATENATE(男子様式!$D167,\" \",男子様式!$J167))","v":""},{"$f":"IF($C148=\"\",\"\",男子様式!$G459)","v":""},{"$f":"CONCATENATE(OFFSET(男子様式!$J$18,3*A148,0),\" \",IF(LEN(OFFSET(男子様式!$L$18,A148*3,0))=0,,\"(\"),LEFT(OFFSET(男子様式!$L$18,A148*3,0),2),IF(LEN(OFFSET(男子様式!$J$18,A148*3,0))=0,,\")\"))","v":" "},"",{"$f":"IF($C148=\"\",\"\",VLOOKUP(基本登録情報!$C$7,登録データ!$I$3:$L$100,3,FALSE))","v":""},{"$f":"IF($C148=\"\",\"\",VLOOKUP(OFFSET(男子様式!$O$18,3*A148,0),登録データ!AM148:AN194,2,FALSE))","v":""},"",{"$f":"IF(男子様式!$AG459=\"\",\"\",男子様式!$AG459)","v":""},{"$f":"IF(男子様式!$AG460=\"\",\"\",男子様式!$AG460)","v":""},{"$f":"IF(男子様式!$AG461=\"\",\"\",男子様式!$AG461)","v":""}]
[148,{"$f":"IF(男子様式!$C462=\"\",\"\",IF(男子様式!$C462=\"@\",\"@\",男子様式!$C462))","v":""},{"$f":"IF(男子様式!$C462=\"\",\"\",IF($B149=\"@\",\"@\",$B149+100000000))","v":""},{"$f":"IF($C149=\"\",\"\",CONCATENATE(男子様式!$D168,\" \",男子様式!$J168))","v":""},{"$f":"IF($C149=\"\",\"\",男子様式!$G462)","v":""},{"$f":"CONCATENATE(OFFSET(男子様式!$J$18,3*A149,0),\" \",IF(LEN(OFFSET(男子様式!$L$18,A149*3,0))=0,,\"(\"),LEFT(OFFSET(男子様式!$L$18,A149*3,0),2),IF(LEN(OFFSET(男子様式!$J$18,A149*3,0))=0,,\")\"))","v":" "},"",{"$f":"IF($C149=\"\",\"\",VLOOKUP(基本登録情報!$C$7,登録データ!$I$3:$L$100,3,FALSE))","v":""},{"$f":"IF($C149=\"\",\"\",VLOOKUP(OFFSET(男子様式!$O$18,3*A149,0),登録データ!AM149:AN195,2,FALSE))","v":""},"",{"$f":"IF(男子様式!$AG462=\"\",\"\",男子様式!$AG462)","v":""},{"$f":"IF(男子様式!$AG463=\"\",\"\",男子様式!$AG463)","v":""},{"$f":"IF(男子様式!$AG464=\"\",\"\",男子様式!$AG464)","v":""}]
[149,{"$f":"IF(男子様式!$C465=\"\",\"\",IF(男子様式!$C465=\"@\",\"@\",男子様式!$C465))","v":""},{"$f":"IF(男子様式!$C465=\"\",\"\",IF($B150=\"@\",\"@\",$B150+100000000))","v":""},{"$f":"IF($C150=\"\",\"\",CONCATENATE(男子様式!$D169,\" \",男子様式!$J169))","v":""},{"$f":"IF($C150=\"\",\"\",男子様式!$G465)","v":""},{"$f":"CONCATENATE(OFFSET(男子様式!$J$18,3*A150,0),\" \",IF(LEN(OFFSET(男子様式!$L$18,A150*3,0))=0,,\"(\"),LEFT(OFFSET(男子様式!$L$18,A150*3,0),2),IF(LEN(OFFSET(男子様式!$J$18,A150*3,0))=0,,\")\"))","v":" "},"",{"$f":"IF($C150=\"\",\"\",VLOOKUP(基本登録情報!$C$7,登録データ!$I$3:$L$100,3,FALSE))","v":""},{"$f":"IF($C150=\"\",\"\",VLOOKUP(OFFSET(男子様式!$O$18,3*A150,0),登録データ!AM150:AN196,2,FALSE))","v":""},"",{"$f":"IF(男子様式!$AG465=\"\",\"\",男子様式!$AG465)","v":""},{"$f":"IF(男子様式!$AG466=\"\",\"\",男子様式!$AG466)","v":""},{"$f":"IF(男子様式!$AG467=\"\",\"\",男子様式!$AG467)","v":""}]
[150,{"$f":"IF(男子様式!$C468=\"\",\"\",IF(男子様式!$C468=\"@\",\"@\",男子様式!$C468))","v":""},{"$f":"IF(男子様式!$C468=\"\",\"\",IF($B151=\"@\",\"@\",$B151+100000000))","v":""},{"$f":"IF($C151=\"\",\"\",CONCATENATE(男子様式!$D170,\" \",男子様式!$J170))","v":""},{"$f":"IF($C151=\"\",\"\",男子様式!$G468)","v":""},{"$f":"CONCATENATE(OFFSET(男子様式!$J$18,3*A151,0),\" \",IF(LEN(OFFSET(男子様式!$L$18,A151*3,0))=0,,\"(\"),LEFT(OFFSET(男子様式!$L$18,A151*3,0),2),IF(LEN(OFFSET(男子様式!$J$18,A151*3,0))=0,,\")\"))","v":" "},"",{"$f":"IF($C151=\"\",\"\",VLOOKUP(基本登録情報!$C$7,登録データ!$I$3:$L$100,3,FALSE))","v":""},{"$f":"IF($C151=\"\",\"\",VLOOKUP(OFFSET(男子様式!$O$18,3*A151,0),登録データ!AM151:AN197,2,FALSE))","v":""},"",{"$f":"IF(男子様式!$AG468=\"\",\"\",男子様式!$AG468)","v":""},{"$f":"IF(男子様式!$AG469=\"\",\"\",男子様式!$AG469)","v":""},{"$f":"IF(男子様式!$AG470=\"\",\"\",男子様式!$AG470)","v":""}]
[151,{"$f":"IF(男子様式!$C471=\"\",\"\",IF(男子様式!$C471=\"@\",\"@\",男子様式!$C471))","v":""},{"$f":"IF(男子様式!$C471=\"\",\"\",IF($B152=\"@\",\"@\",$B152+100000000))","v":""},{"$f":"IF($C152=\"\",\"\",CONCATENATE(男子様式!$D171,\" \",男子様式!$J171))","v":""},{"$f":"IF($C152=\"\",\"\",男子様式!$G471)","v":""},{"$f":"CONCATENATE(OFFSET(男子様式!$J$18,3*A152,0),\" \",IF(LEN(OFFSET(男子様式!$L$18,A152*3,0))=0,,\"(\"),LEFT(OFFSET(男子様式!$L$18,A152*3,0),2),IF(LEN(OFFSET(男子様式!$J$18,A152*3,0))=0,,\")\"))","v":" "},"",{"$f":"IF($C152=\"\",\"\",VLOOKUP(基本登録情報!$C$7,登録データ!$I$3:$L$100,3,FALSE))","v":""},{"$f":"IF($C152=\"\",\"\",VLOOKUP(OFFSET(男子様式!$O$18,3*A152,0),登録データ!AM152:AN198,2,FALSE))","v":""},"",{"$f":"IF(男子様式!$AG471=\"\",\"\",男子様式!$AG471)","v":""},{"$f":"IF(男子様式!$AG472=\"\",\"\",男子様式!$AG472)","v":""},{"$f":"IF(男子様式!$AG473=\"\",\"\",男子様式!$AG473)","v":""}]
[152,{"$f":"IF(男子様式!$C474=\"\",\"\",IF(男子様式!$C474=\"@\",\"@\",男子様式!$C474))","v":""},{"$f":"IF(男子様式!$C474=\"\",\"\",IF($B153=\"@\",\"@\",$B153+100000000))","v":""},{"$f":"IF($C153=\"\",\"\",CONCATENATE(男子様式!$D172,\" \",男子様式!$J172))","v":""},{"$f":"IF($C153=\"\",\"\",男子様式!$G474)","v":""},{"$f":"CONCATENATE(OFFSET(男子様式!$J$18,3*A153,0),\" \",IF(LEN(OFFSET(男子様式!$L$18,A153*3,0))=0,,\"(\"),LEFT(OFFSET(男子様式!$L$18,A153*3,0),2),IF(LEN(OFFSET(男子様式!$J$18,A153*3,0))=0,,\")\"))","v":" "},"",{"$f":"IF($C153=\"\",\"\",VLOOKUP(基本登録情報!$C$7,登録データ!$I$3:$L$100,3,FALSE))","v":""},{"$f":"IF($C153=\"\",\"\",VLOOKUP(OFFSET(男子様式!$O$18,3*A153,0),登録データ!AM153:AN199,2,FALSE))","v":""},"",{"$f":"IF(男子様式!$AG474=\"\",\"\",男子様式!$AG474)","v":""},{"$f":"IF(男子様式!$AG475=\"\",\"\",男子様式!$AG475)","v":""},{"$f":"IF(男子様式!$AG476=\"\",\"\",男子様式!$AG476)","v":""}]
[153,{"$f":"IF(男子様式!$C477=\"\",\"\",IF(男子様式!$C477=\"@\",\"@\",男子様式!$C477))","v":""},{"$f":"IF(男子様式!$C477=\"\",\"\",IF($B154=\"@\",\"@\",$B154+100000000))","v":""},{"$f":"IF($C154=\"\",\"\",CONCATENATE(男子様式!$D173,\" \",男子様式!$J173))","v":""},{"$f":"IF($C154=\"\",\"\",男子様式!$G477)","v":""},{"$f":"CONCATENATE(OFFSET(男子様式!$J$18,3*A154,0),\" \",IF(LEN(OFFSET(男子様式!$L$18,A154*3,0))=0,,\"(\"),LEFT(OFFSET(男子様式!$L$18,A154*3,0),2),IF(LEN(OFFSET(男子様式!$J$18,A154*3,0))=0,,\")\"))","v":" "},"",{"$f":"IF($C154=\"\",\"\",VLOOKUP(基本登録情報!$C$7,登録データ!$I$3:$L$100,3,FALSE))","v":""},{"$f":"IF($C154=\"\",\"\",VLOOKUP(OFFSET(男子様式!$O$18,3*A154,0),登録データ!AM154:AN200,2,FALSE))","v":""},"",{"$f":"IF(男子様式!$AG477=\"\",\"\",男子様式!$AG477)","v":""},{"$f":"IF(男子様式!$AG478=\"\",\"\",男子様式!$AG478)","v":""},{"$f":"IF(男子様式!$AG479=\"\",\"\",男子様式!$AG479)","v":""}]
[154,{"$f":"IF(男子様式!$C480=\"\",\"\",IF(男子様式!$C480=\"@\",\"@\",男子様式!$C480))","v":""},{"$f":"IF(男子様式!$C480=\"\",\"\",IF($B155=\"@\",\"@\",$B155+100000000))","v":""},{"$f":"IF($C155=\"\",\"\",CONCATENATE(男子様式!$D174,\" \",男子様式!$J174))","v":""},{"$f":"IF($C155=\"\",\"\",男子様式!$G480)","v":""},{"$f":"CONCATENATE(OFFSET(男子様式!$J$18,3*A155,0),\" \",IF(LEN(OFFSET(男子様式!$L$18,A155*3,0))=0,,\"(\"),LEFT(OFFSET(男子様式!$L$18,A155*3,0),2),IF(LEN(OFFSET(男子様式!$J$18,A155*3,0))=0,,\")\"))","v":" "},"",{"$f":"IF($C155=\"\",\"\",VLOOKUP(基本登録情報!$C$7,登録データ!$I$3:$L$100,3,FALSE))","v":""},{"$f":"IF($C155=\"\",\"\",VLOOKUP(OFFSET(男子様式!$O$18,3*A155,0),登録データ!AM155:AN201,2,FALSE))","v":""},"",{"$f":"IF(男子様式!$AG480=\"\",\"\",男子様式!$AG480)","v":""},{"$f":"IF(男子様式!$AG481=\"\",\"\",男子様式!$AG481)","v":""},{"$f":"IF(男子様式!$AG482=\"\",\"\",男子様式!$AG482)","v":""}]
[155,{"$f":"IF(男子様式!$C483=\"\",\"\",IF(男子様式!$C483=\"@\",\"@\",男子様式!$C483))","v":""},{"$f":"IF(男子様式!$C483=\"\",\"\",IF($B156=\"@\",\"@\",$B156+100000000))","v":""},{"$f":"IF($C156=\"\",\"\",CONCATENATE(男子様式!$D175,\" \",男子様式!$J175))","v":""},{"$f":"IF($C156=\"\",\"\",男子様式!$G483)","v":""},{"$f":"CONCATENATE(OFFSET(男子様式!$J$18,3*A156,0),\" \",IF(LEN(OFFSET(男子様式!$L$18,A156*3,0))=0,,\"(\"),LEFT(OFFSET(男子様式!$L$18,A156*3,0),2),IF(LEN(OFFSET(男子様式!$J$18,A156*3,0))=0,,\")\"))","v":" "},"",{"$f":"IF($C156=\"\",\"\",VLOOKUP(基本登録情報!$C$7,登録データ!$I$3:$L$100,3,FALSE))","v":""},{"$f":"IF($C156=\"\",\"\",VLOOKUP(OFFSET(男子様式!$O$18,3*A156,0),登録データ!AM156:AN202,2,FALSE))","v":""},"",{"$f":"IF(男子様式!$AG483=\"\",\"\",男子様式!$AG483)","v":""},{"$f":"IF(男子様式!$AG484=\"\",\"\",男子様式!$AG484)","v":""},{"$f":"IF(男子様式!$AG485=\"\",\"\",男子様式!$AG485)","v":""}]
[156,{"$f":"IF(男子様式!$C486=\"\",\"\",IF(男子様式!$C486=\"@\",\"@\",男子様式!$C486))","v":""},{"$f":"IF(男子様式!$C486=\"\",\"\",IF($B157=\"@\",\"@\",$B157+100000000))","v":""},{"$f":"IF($C157=\"\",\"\",CONCATENATE(男子様式!$D176,\" \",男子様式!$J176))","v":""},{"$f":"IF($C157=\"\",\"\",男子様式!$G486)","v":""},{"$f":"CONCATENATE(OFFSET(男子様式!$J$18,3*A157,0),\" \",IF(LEN(OFFSET(男子様式!$L$18,A157*3,0))=0,,\"(\"),LEFT(OFFSET(男子様式!$L$18,A157*3,0),2),IF(LEN(OFFSET(男子様式!$J$18,A157*3,0))=0,,\")\"))","v":" "},"",{"$f":"IF($C157=\"\",\"\",VLOOKUP(基本登録情報!$C$7,登録データ!$I$3:$L$100,3,FALSE))","v":""},{"$f":"IF($C157=\"\",\"\",VLOOKUP(OFFSET(男子様式!$O$18,3*A157,0),登録データ!AM157:AN203,2,FALSE))","v":""},"",{"$f":"IF(男子様式!$AG486=\"\",\"\",男子様式!$AG486)","v":""},{"$f":"IF(男子様式!$AG487=\"\",\"\",男子様式!$AG487)","v":""},{"$f":"IF(男子様式!$AG488=\"\",\"\",男子様式!$AG488)","v":""}]
[157,{"$f":"IF(男子様式!$C489=\"\",\"\",IF(男子様式!$C489=\"@\",\"@\",男子様式!$C489))","v":""},{"$f":"IF(男子様式!$C489=\"\",\"\",IF($B158=\"@\",\"@\",$B158+100000000))","v":""},{"$f":"IF($C158=\"\",\"\",CONCATENATE(男子様式!$D177,\" \",男子様式!$J177))","v":""},{"$f":"IF($C158=\"\",\"\",男子様式!$G489)","v":""},{"$f":"CONCATENATE(OFFSET(男子様式!$J$18,3*A158,0),\" \",IF(LEN(OFFSET(男子様式!$L$18,A158*3,0))=0,,\"(\"),LEFT(OFFSET(男子様式!$L$18,A158*3,0),2),IF(LEN(OFFSET(男子様式!$J$18,A158*3,0))=0,,\")\"))","v":" "},"",{"$f":"IF($C158=\"\",\"\",VLOOKUP(基本登録情報!$C$7,登録データ!$I$3:$L$100,3,FALSE))","v":""},{"$f":"IF($C158=\"\",\"\",VLOOKUP(OFFSET(男子様式!$O$18,3*A158,0),登録データ!AM158:AN204,2,FALSE))","v":""},"",{"$f":"IF(男子様式!$AG489=\"\",\"\",男子様式!$AG489)","v":""},{"$f":"IF(男子様式!$AG490=\"\",\"\",男子様式!$AG490)","v":""},{"$f":"IF(男子様式!$AG491=\"\",\"\",男子様式!$AG491)","v":""}]
[158,{"$f":"IF(男子様式!$C492=\"\",\"\",IF(男子様式!$C492=\"@\",\"@\",男子様式!$C492))","v":""},{"$f":"IF(男子様式!$C492=\"\",\"\",IF($B159=\"@\",\"@\",$B159+100000000))","v":""},{"$f":"IF($C159=\"\",\"\",CONCATENATE(男子様式!$D178,\" \",男子様式!$J178))","v":""},{"$f":"IF($C159=\"\",\"\",男子様式!$G492)","v":""},{"$f":"CONCATENATE(OFFSET(男子様式!$J$18,3*A159,0),\" \",IF(LEN(OFFSET(男子様式!$L$18,A159*3,0))=0,,\"(\"),LEFT(OFFSET(男子様式!$L$18,A159*3,0),2),IF(LEN(OFFSET(男子様式!$J$18,A159*3,0))=0,,\")\"))","v":" "},"",{"$f":"IF($C159=\"\",\"\",VLOOKUP(基本登録情報!$C$7,登録データ!$I$3:$L$100,3,FALSE))","v":""},{"$f":"IF($C159=\"\",\"\",VLOOKUP(OFFSET(男子様式!$O$18,3*A159,0),登録データ!AM159:AN205,2,FALSE))","v":""},"",{"$f":"IF(男子様式!$AG492=\"\",\"\",男子様式!$AG492)","v":""},{"$f":"IF(男子様式!$AG493=\"\",\"\",男子様式!$AG493)","v":""},{"$f":"IF(男子様式!$AG494=\"\",\"\",男子様式!$AG494)","v":""}]
[159,{"$f":"IF(男子様式!$C495=\"\",\"\",IF(男子様式!$C495=\"@\",\"@\",男子様式!$C495))","v":""},{"$f":"IF(男子様式!$C495=\"\",\"\",IF($B160=\"@\",\"@\",$B160+100000000))","v":""},{"$f":"IF($C160=\"\",\"\",CONCATENATE(男子様式!$D179,\" \",男子様式!$J179))","v":""},{"$f":"IF($C160=\"\",\"\",男子様式!$G495)","v":""},{"$f":"CONCATENATE(OFFSET(男子様式!$J$18,3*A160,0),\" \",IF(LEN(OFFSET(男子様式!$L$18,A160*3,0))=0,,\"(\"),LEFT(OFFSET(男子様式!$L$18,A160*3,0),2),IF(LEN(OFFSET(男子様式!$J$18,A160*3,0))=0,,\")\"))","v":" "},"",{"$f":"IF($C160=\"\",\"\",VLOOKUP(基本登録情報!$C$7,登録データ!$I$3:$L$100,3,FALSE))","v":""},{"$f":"IF($C160=\"\",\"\",VLOOKUP(OFFSET(男子様式!$O$18,3*A160,0),登録データ!AM160:AN206,2,FALSE))","v":""},"",{"$f":"IF(男子様式!$AG495=\"\",\"\",男子様式!$AG495)","v":""},{"$f":"IF(男子様式!$AG496=\"\",\"\",男子様式!$AG496)","v":""},{"$f":"IF(男子様式!$AG497=\"\",\"\",男子様式!$AG497)","v":""}]
[160,{"$f":"IF(男子様式!$C498=\"\",\"\",IF(男子様式!$C498=\"@\",\"@\",男子様式!$C498))","v":""},{"$f":"IF(男子様式!$C498=\"\",\"\",IF($B161=\"@\",\"@\",$B161+100000000))","v":""},{"$f":"IF($C161=\"\",\"\",CONCATENATE(男子様式!$D180,\" \",男子様式!$J180))","v":""},{"$f":"IF($C161=\"\",\"\",男子様式!$G498)","v":""},{"$f":"CONCATENATE(OFFSET(男子様式!$J$18,3*A161,0),\" \",IF(LEN(OFFSET(男子様式!$L$18,A161*3,0))=0,,\"(\"),LEFT(OFFSET(男子様式!$L$18,A161*3,0),2),IF(LEN(OFFSET(男子様式!$J$18,A161*3,0))=0,,\")\"))","v":" "},"",{"$f":"IF($C161=\"\",\"\",VLOOKUP(基本登録情報!$C$7,登録データ!$I$3:$L$100,3,FALSE))","v":""},{"$f":"IF($C161=\"\",\"\",VLOOKUP(OFFSET(男子様式!$O$18,3*A161,0),登録データ!AM161:AN207,2,FALSE))","v":""},"",{"$f":"IF(男子様式!$AG498=\"\",\"\",男子様式!$AG498)","v":""},{"$f":"IF(男子様式!$AG499=\"\",\"\",男子様式!$AG499)","v":""},{"$f":"IF(男子様式!$AG500=\"\",\"\",男子様式!$AG500)","v":""}]
[161,{"$f":"IF(男子様式!$C501=\"\",\"\",IF(男子様式!$C501=\"@\",\"@\",男子様式!$C501))","v":""},{"$f":"IF(男子様式!$C501=\"\",\"\",IF($B162=\"@\",\"@\",$B162+100000000))","v":""},{"$f":"IF($C162=\"\",\"\",CONCATENATE(男子様式!$D181,\" \",男子様式!$J181))","v":""},{"$f":"IF($C162=\"\",\"\",男子様式!$G501)","v":""},{"$f":"CONCATENATE(OFFSET(男子様式!$J$18,3*A162,0),\" \",IF(LEN(OFFSET(男子様式!$L$18,A162*3,0))=0,,\"(\"),LEFT(OFFSET(男子様式!$L$18,A162*3,0),2),IF(LEN(OFFSET(男子様式!$J$18,A162*3,0))=0,,\")\"))","v":" "},"",{"$f":"IF($C162=\"\",\"\",VLOOKUP(基本登録情報!$C$7,登録データ!$I$3:$L$100,3,FALSE))","v":""},{"$f":"IF($C162=\"\",\"\",VLOOKUP(OFFSET(男子様式!$O$18,3*A162,0),登録データ!AM162:AN208,2,FALSE))","v":""},"",{"$f":"IF(男子様式!$AG501=\"\",\"\",男子様式!$AG501)","v":""},{"$f":"IF(男子様式!$AG502=\"\",\"\",男子様式!$AG502)","v":""},{"$f":"IF(男子様式!$AG503=\"\",\"\",男子様式!$AG503)","v":""}]
[162,{"$f":"IF(男子様式!$C504=\"\",\"\",IF(男子様式!$C504=\"@\",\"@\",男子様式!$C504))","v":""},{"$f":"IF(男子様式!$C504=\"\",\"\",IF($B163=\"@\",\"@\",$B163+100000000))","v":""},{"$f":"IF($C163=\"\",\"\",CONCATENATE(男子様式!$D182,\" \",男子様式!$J182))","v":""},{"$f":"IF($C163=\"\",\"\",男子様式!$G504)","v":""},{"$f":"CONCATENATE(OFFSET(男子様式!$J$18,3*A163,0),\" \",IF(LEN(OFFSET(男子様式!$L$18,A163*3,0))=0,,\"(\"),LEFT(OFFSET(男子様式!$L$18,A163*3,0),2),IF(LEN(OFFSET(男子様式!$J$18,A163*3,0))=0,,\")\"))","v":" "},"",{"$f":"IF($C163=\"\",\"\",VLOOKUP(基本登録情報!$C$7,登録データ!$I$3:$L$100,3,FALSE))","v":""},{"$f":"IF($C163=\"\",\"\",VLOOKUP(OFFSET(男子様式!$O$18,3*A163,0),登録データ!AM163:AN209,2,FALSE))","v":""},"",{"$f":"IF(男子様式!$AG504=\"\",\"\",男子様式!$AG504)","v":""},{"$f":"IF(男子様式!$AG505=\"\",\"\",男子様式!$AG505)","v":""},{"$f":"IF(男子様式!$AG506=\"\",\"\",男子様式!$AG506)","v":""}]
[163,{"$f":"IF(男子様式!$C507=\"\",\"\",IF(男子様式!$C507=\"@\",\"@\",男子様式!$C507))","v":""},{"$f":"IF(男子様式!$C507=\"\",\"\",IF($B164=\"@\",\"@\",$B164+100000000))","v":""},{"$f":"IF($C164=\"\",\"\",CONCATENATE(男子様式!$D183,\" \",男子様式!$J183))","v":""},{"$f":"IF($C164=\"\",\"\",男子様式!$G507)","v":""},{"$f":"CONCATENATE(OFFSET(男子様式!$J$18,3*A164,0),\" \",IF(LEN(OFFSET(男子様式!$L$18,A164*3,0))=0,,\"(\"),LEFT(OFFSET(男子様式!$L$18,A164*3,0),2),IF(LEN(OFFSET(男子様式!$J$18,A164*3,0))=0,,\")\"))","v":" "},"",{"$f":"IF($C164=\"\",\"\",VLOOKUP(基本登録情報!$C$7,登録データ!$I$3:$L$100,3,FALSE))","v":""},{"$f":"IF($C164=\"\",\"\",VLOOKUP(OFFSET(男子様式!$O$18,3*A164,0),登録データ!AM164:AN210,2,FALSE))","v":""},"",{"$f":"IF(男子様式!$AG507=\"\",\"\",男子様式!$AG507)","v":""},{"$f":"IF(男子様式!$AG508=\"\",\"\",男子様式!$AG508)","v":""},{"$f":"IF(男子様式!$AG509=\"\",\"\",男子様式!$AG509)","v":""}]
[164,{"$f":"IF(男子様式!$C510=\"\",\"\",IF(男子様式!$C510=\"@\",\"@\",男子様式!$C510))","v":""},{"$f":"IF(男子様式!$C510=\"\",\"\",IF($B165=\"@\",\"@\",$B165+100000000))","v":""},{"$f":"IF($C165=\"\",\"\",CONCATENATE(男子様式!$D184,\" \",男子様式!$J184))","v":""},{"$f":"IF($C165=\"\",\"\",男子様式!$G510)","v":""},{"$f":"CONCATENATE(OFFSET(男子様式!$J$18,3*A165,0),\" \",IF(LEN(OFFSET(男子様式!$L$18,A165*3,0))=0,,\"(\"),LEFT(OFFSET(男子様式!$L$18,A165*3,0),2),IF(LEN(OFFSET(男子様式!$J$18,A165*3,0))=0,,\")\"))","v":" "},"",{"$f":"IF($C165=\"\",\"\",VLOOKUP(基本登録情報!$C$7,登録データ!$I$3:$L$100,3,FALSE))","v":""},{"$f":"IF($C165=\"\",\"\",VLOOKUP(OFFSET(男子様式!$O$18,3*A165,0),登録データ!AM165:AN211,2,FALSE))","v":""},"",{"$f":"IF(男子様式!$AG510=\"\",\"\",男子様式!$AG510)","v":""},{"$f":"IF(男子様式!$AG511=\"\",\"\",男子様式!$AG511)","v":""},{"$f":"IF(男子様式!$AG512=\"\",\"\",男子様式!$AG512)","v":""}]
[165,{"$f":"IF(男子様式!$C513=\"\",\"\",IF(男子様式!$C513=\"@\",\"@\",男子様式!$C513))","v":""},{"$f":"IF(男子様式!$C513=\"\",\"\",IF($B166=\"@\",\"@\",$B166+100000000))","v":""},{"$f":"IF($C166=\"\",\"\",CONCATENATE(男子様式!$D185,\" \",男子様式!$J185))","v":""},{"$f":"IF($C166=\"\",\"\",男子様式!$G513)","v":""},{"$f":"CONCATENATE(OFFSET(男子様式!$J$18,3*A166,0),\" \",IF(LEN(OFFSET(男子様式!$L$18,A166*3,0))=0,,\"(\"),LEFT(OFFSET(男子様式!$L$18,A166*3,0),2),IF(LEN(OFFSET(男子様式!$J$18,A166*3,0))=0,,\")\"))","v":" "},"",{"$f":"IF($C166=\"\",\"\",VLOOKUP(基本登録情報!$C$7,登録データ!$I$3:$L$100,3,FALSE))","v":""},{"$f":"IF($C166=\"\",\"\",VLOOKUP(OFFSET(男子様式!$O$18,3*A166,0),登録データ!AM166:AN212,2,FALSE))","v":""},"",{"$f":"IF(男子様式!$AG513=\"\",\"\",男子様式!$AG513)","v":""},{"$f":"IF(男子様式!$AG514=\"\",\"\",男子様式!$AG514)","v":""},{"$f":"IF(男子様式!$AG515=\"\",\"\",男子様式!$AG515)","v":""}]
[166,{"$f":"IF(男子様式!$C516=\"\",\"\",IF(男子様式!$C516=\"@\",\"@\",男子様式!$C516))","v":""},{"$f":"IF(男子様式!$C516=\"\",\"\",IF($B167=\"@\",\"@\",$B167+100000000))","v":""},{"$f":"IF($C167=\"\",\"\",CONCATENATE(男子様式!$D186,\" \",男子様式!$J186))","v":""},{"$f":"IF($C167=\"\",\"\",男子様式!$G516)","v":""},{"$f":"CONCATENATE(OFFSET(男子様式!$J$18,3*A167,0),\" \",IF(LEN(OFFSET(男子様式!$L$18,A167*3,0))=0,,\"(\"),LEFT(OFFSET(男子様式!$L$18,A167*3,0),2),IF(LEN(OFFSET(男子様式!$J$18,A167*3,0))=0,,\")\"))","v":" "},"",{"$f":"IF($C167=\"\",\"\",VLOOKUP(基本登録情報!$C$7,登録データ!$I$3:$L$100,3,FALSE))","v":""},{"$f":"IF($C167=\"\",\"\",VLOOKUP(OFFSET(男子様式!$O$18,3*A167,0),登録データ!AM167:AN213,2,FALSE))","v":""},"",{"$f":"IF(男子様式!$AG516=\"\",\"\",男子様式!$AG516)","v":""},{"$f":"IF(男子様式!$AG517=\"\",\"\",男子様式!$AG517)","v":""},{"$f":"IF(男子様式!$AG518=\"\",\"\",男子様式!$AG518)","v":""}]
[167,{"$f":"IF(男子様式!$C519=\"\",\"\",IF(男子様式!$C519=\"@\",\"@\",男子様式!$C519))","v":""},{"$f":"IF(男子様式!$C519=\"\",\"\",IF($B168=\"@\",\"@\",$B168+100000000))","v":""},{"$f":"IF($C168=\"\",\"\",CONCATENATE(男子様式!$D187,\" \",男子様式!$J187))","v":""},{"$f":"IF($C168=\"\",\"\",男子様式!$G519)","v":""},{"$f":"CONCATENATE(OFFSET(男子様式!$J$18,3*A168,0),\" \",IF(LEN(OFFSET(男子様式!$L$18,A168*3,0))=0,,\"(\"),LEFT(OFFSET(男子様式!$L$18,A168*3,0),2),IF(LEN(OFFSET(男子様式!$J$18,A168*3,0))=0,,\")\"))","v":" "},"",{"$f":"IF($C168=\"\",\"\",VLOOKUP(基本登録情報!$C$7,登録データ!$I$3:$L$100,3,FALSE))","v":""},{"$f":"IF($C168=\"\",\"\",VLOOKUP(OFFSET(男子様式!$O$18,3*A168,0),登録データ!AM168:AN214,2,FALSE))","v":""},"",{"$f":"IF(男子様式!$AG519=\"\",\"\",男子様式!$AG519)","v":""},{"$f":"IF(男子様式!$AG520=\"\",\"\",男子様式!$AG520)","v":""},{"$f":"IF(男子様式!$AG521=\"\",\"\",男子様式!$AG521)","v":""}]
[168,{"$f":"IF(男子様式!$C522=\"\",\"\",IF(男子様式!$C522=\"@\",\"@\",男子様式!$C522))","v":""},{"$f":"IF(男子様式!$C522=\"\",\"\",IF($B169=\"@\",\"@\",$B169+100000000))","v":""},{"$f":"IF($C169=\"\",\"\",CONCATENATE(男子様式!$D188,\" \",男子様式!$J188))","v":""},{"$f":"IF($C169=\"\",\"\",男子様式!$G522)","v":""},{"$f":"CONCATENATE(OFFSET(男子様式!$J$18,3*A169,0),\" \",IF(LEN(OFFSET(男子様式!$L$18,A169*3,0))=0,,\"(\"),LEFT(OFFSET(男子様式!$L$18,A169*3,0),2),IF(LEN(OFFSET(男子様式!$J$18,A169*3,0))=0,,\")\"))","v":" "},"",{"$f":"IF($C169=\"\",\"\",VLOOKUP(基本登録情報!$C$7,登録データ!$I$3:$L$100,3,FALSE))","v":""},{"$f":"IF($C169=\"\",\"\",VLOOKUP(OFFSET(男子様式!$O$18,3*A169,0),登録データ!AM169:AN215,2,FALSE))","v":""},"",{"$f":"IF(男子様式!$AG522=\"\",\"\",男子様式!$AG522)","v":""},{"$f":"IF(男子様式!$AG523=\"\",\"\",男子様式!$AG523)","v":""},{"$f":"IF(男子様式!$AG524=\"\",\"\",男子様式!$AG524)","v":""}]
[169,{"$f":"IF(男子様式!$C525=\"\",\"\",IF(男子様式!$C525=\"@\",\"@\",男子様式!$C525))","v":""},{"$f":"IF(男子様式!$C525=\"\",\"\",IF($B170=\"@\",\"@\",$B170+100000000))","v":""},{"$f":"IF($C170=\"\",\"\",CONCATENATE(男子様式!$D189,\" \",男子様式!$J189))","v":""},{"$f":"IF($C170=\"\",\"\",男子様式!$G525)","v":""},{"$f":"CONCATENATE(OFFSET(男子様式!$J$18,3*A170,0),\" \",IF(LEN(OFFSET(男子様式!$L$18,A170*3,0))=0,,\"(\"),LEFT(OFFSET(男子様式!$L$18,A170*3,0),2),IF(LEN(OFFSET(男子様式!$J$18,A170*3,0))=0,,\")\"))","v":" "},"",{"$f":"IF($C170=\"\",\"\",VLOOKUP(基本登録情報!$C$7,登録データ!$I$3:$L$100,3,FALSE))","v":""},{"$f":"IF($C170=\"\",\"\",VLOOKUP(OFFSET(男子様式!$O$18,3*A170,0),登録データ!AM170:AN216,2,FALSE))","v":""},"",{"$f":"IF(男子様式!$AG525=\"\",\"\",男子様式!$AG525)","v":""},{"$f":"IF(男子様式!$AG526=\"\",\"\",男子様式!$AG526)","v":""},{"$f":"IF(男子様式!$AG527=\"\",\"\",男子様式!$AG527)","v":""}]
[170,{"$f":"IF(男子様式!$C528=\"\",\"\",IF(男子様式!$C528=\"@\",\"@\",男子様式!$C528))","v":""},{"$f":"IF(男子様式!$C528=\"\",\"\",IF($B171=\"@\",\"@\",$B171+100000000))","v":""},{"$f":"IF($C171=\"\",\"\",CONCATENATE(男子様式!$D190,\" \",男子様式!$J190))","v":""},{"$f":"IF($C171=\"\",\"\",男子様式!$G528)","v":""},{"$f":"CONCATENATE(OFFSET(男子様式!$J$18,3*A171,0),\" \",IF(LEN(OFFSET(男子様式!$L$18,A171*3,0))=0,,\"(\"),LEFT(OFFSET(男子様式!$L$18,A171*3,0),2),IF(LEN(OFFSET(男子様式!$J$18,A171*3,0))=0,,\")\"))","v":" "},"",{"$f":"IF($C171=\"\",\"\",VLOOKUP(基本登録情報!$C$7,登録データ!$I$3:$L$100,3,FALSE))","v":""},{"$f":"IF($C171=\"\",\"\",VLOOKUP(OFFSET(男子様式!$O$18,3*A171,0),登録データ!AM171:AN217,2,FALSE))","v":""},"",{"$f":"IF(男子様式!$AG528=\"\",\"\",男子様式!$AG528)","v":""},{"$f":"IF(男子様式!$AG529=\"\",\"\",男子様式!$AG529)","v":""},{"$f":"IF(男子様式!$AG530=\"\",\"\",男子様式!$AG530)","v":""}]
[171,{"$f":"IF(男子様式!$C531=\"\",\"\",IF(男子様式!$C531=\"@\",\"@\",男子様式!$C531))","v":""},{"$f":"IF(男子様式!$C531=\"\",\"\",IF($B172=\"@\",\"@\",$B172+100000000))","v":""},{"$f":"IF($C172=\"\",\"\",CONCATENATE(男子様式!$D191,\" \",男子様式!$J191))","v":""},{"$f":"IF($C172=\"\",\"\",男子様式!$G531)","v":""},{"$f":"CONCATENATE(OFFSET(男子様式!$J$18,3*A172,0),\" \",IF(LEN(OFFSET(男子様式!$L$18,A172*3,0))=0,,\"(\"),LEFT(OFFSET(男子様式!$L$18,A172*3,0),2),IF(LEN(OFFSET(男子様式!$J$18,A172*3,0))=0,,\")\"))","v":" "},"",{"$f":"IF($C172=\"\",\"\",VLOOKUP(基本登録情報!$C$7,登録データ!$I$3:$L$100,3,FALSE))","v":""},{"$f":"IF($C172=\"\",\"\",VLOOKUP(OFFSET(男子様式!$O$18,3*A172,0),登録データ!AM172:AN218,2,FALSE))","v":""},"",{"$f":"IF(男子様式!$AG531=\"\",\"\",男子様式!$AG531)","v":""},{"$f":"IF(男子様式!$AG532=\"\",\"\",男子様式!$AG532)","v":""},{"$f":"IF(男子様式!$AG533=\"\",\"\",男子様式!$AG533)","v":""}]
[172,{"$f":"IF(男子様式!$C534=\"\",\"\",IF(男子様式!$C534=\"@\",\"@\",男子様式!$C534))","v":""},{"$f":"IF(男子様式!$C534=\"\",\"\",IF($B173=\"@\",\"@\",$B173+100000000))","v":""},{"$f":"IF($C173=\"\",\"\",CONCATENATE(男子様式!$D192,\" \",男子様式!$J192))","v":""},{"$f":"IF($C173=\"\",\"\",男子様式!$G534)","v":""},{"$f":"CONCATENATE(OFFSET(男子様式!$J$18,3*A173,0),\" \",IF(LEN(OFFSET(男子様式!$L$18,A173*3,0))=0,,\"(\"),LEFT(OFFSET(男子様式!$L$18,A173*3,0),2),IF(LEN(OFFSET(男子様式!$J$18,A173*3,0))=0,,\")\"))","v":" "},"",{"$f":"IF($C173=\"\",\"\",VLOOKUP(基本登録情報!$C$7,登録データ!$I$3:$L$100,3,FALSE))","v":""},{"$f":"IF($C173=\"\",\"\",VLOOKUP(OFFSET(男子様式!$O$18,3*A173,0),登録データ!AM173:AN219,2,FALSE))","v":""},"",{"$f":"IF(男子様式!$AG534=\"\",\"\",男子様式!$AG534)","v":""},{"$f":"IF(男子様式!$AG535=\"\",\"\",男子様式!$AG535)","v":""},{"$f":"IF(男子様式!$AG536=\"\",\"\",男子様式!$AG536)","v":""}]
[173,{"$f":"IF(男子様式!$C537=\"\",\"\",IF(男子様式!$C537=\"@\",\"@\",男子様式!$C537))","v":""},{"$f":"IF(男子様式!$C537=\"\",\"\",IF($B174=\"@\",\"@\",$B174+100000000))","v":""},{"$f":"IF($C174=\"\",\"\",CONCATENATE(男子様式!$D193,\" \",男子様式!$J193))","v":""},{"$f":"IF($C174=\"\",\"\",男子様式!$G537)","v":""},{"$f":"CONCATENATE(OFFSET(男子様式!$J$18,3*A174,0),\" \",IF(LEN(OFFSET(男子様式!$L$18,A174*3,0))=0,,\"(\"),LEFT(OFFSET(男子様式!$L$18,A174*3,0),2),IF(LEN(OFFSET(男子様式!$J$18,A174*3,0))=0,,\")\"))","v":" "},"",{"$f":"IF($C174=\"\",\"\",VLOOKUP(基本登録情報!$C$7,登録データ!$I$3:$L$100,3,FALSE))","v":""},{"$f":"IF($C174=\"\",\"\",VLOOKUP(OFFSET(男子様式!$O$18,3*A174,0),登録データ!AM174:AN220,2,FALSE))","v":""},"",{"$f":"IF(男子様式!$AG537=\"\",\"\",男子様式!$AG537)","v":""},{"$f":"IF(男子様式!$AG538=\"\",\"\",男子様式!$AG538)","v":""},{"$f":"IF(男子様式!$AG539=\"\",\"\",男子様式!$AG539)","v":""}]
[174,{"$f":"IF(男子様式!$C540=\"\",\"\",IF(男子様式!$C540=\"@\",\"@\",男子様式!$C540))","v":""},{"$f":"IF(男子様式!$C540=\"\",\"\",IF($B175=\"@\",\"@\",$B175+100000000))","v":""},{"$f":"IF($C175=\"\",\"\",CONCATENATE(男子様式!$D194,\" \",男子様式!$J194))","v":""},{"$f":"IF($C175=\"\",\"\",男子様式!$G540)","v":""},{"$f":"CONCATENATE(OFFSET(男子様式!$J$18,3*A175,0),\" \",IF(LEN(OFFSET(男子様式!$L$18,A175*3,0))=0,,\"(\"),LEFT(OFFSET(男子様式!$L$18,A175*3,0),2),IF(LEN(OFFSET(男子様式!$J$18,A175*3,0))=0,,\")\"))","v":" "},"",{"$f":"IF($C175=\"\",\"\",VLOOKUP(基本登録情報!$C$7,登録データ!$I$3:$L$100,3,FALSE))","v":""},{"$f":"IF($C175=\"\",\"\",VLOOKUP(OFFSET(男子様式!$O$18,3*A175,0),登録データ!AM175:AN221,2,FALSE))","v":""},"",{"$f":"IF(男子様式!$AG540=\"\",\"\",男子様式!$AG540)","v":""},{"$f":"IF(男子様式!$AG541=\"\",\"\",男子様式!$AG541)","v":""},{"$f":"IF(男子様式!$AG542=\"\",\"\",男子様式!$AG542)","v":""}]
[175,{"$f":"IF(男子様式!$C543=\"\",\"\",IF(男子様式!$C543=\"@\",\"@\",男子様式!$C543))","v":""},{"$f":"IF(男子様式!$C543=\"\",\"\",IF($B176=\"@\",\"@\",$B176+100000000))","v":""},{"$f":"IF($C176=\"\",\"\",CONCATENATE(男子様式!$D195,\" \",男子様式!$J195))","v":""},{"$f":"IF($C176=\"\",\"\",男子様式!$G543)","v":""},{"$f":"CONCATENATE(OFFSET(男子様式!$J$18,3*A176,0),\" \",IF(LEN(OFFSET(男子様式!$L$18,A176*3,0))=0,,\"(\"),LEFT(OFFSET(男子様式!$L$18,A176*3,0),2),IF(LEN(OFFSET(男子様式!$J$18,A176*3,0))=0,,\")\"))","v":" "},"",{"$f":"IF($C176=\"\",\"\",VLOOKUP(基本登録情報!$C$7,登録データ!$I$3:$L$100,3,FALSE))","v":""},{"$f":"IF($C176=\"\",\"\",VLOOKUP(OFFSET(男子様式!$O$18,3*A176,0),登録データ!AM176:AN222,2,FALSE))","v":""},"",{"$f":"IF(男子様式!$AG543=\"\",\"\",男子様式!$AG543)","v":""},{"$f":"IF(男子様式!$AG544=\"\",\"\",男子様式!$AG544)","v":""},{"$f":"IF(男子様式!$AG545=\"\",\"\",男子様式!$AG545)","v":""}]
[176,{"$f":"IF(男子様式!$C546=\"\",\"\",IF(男子様式!$C546=\"@\",\"@\",男子様式!$C546))","v":""},{"$f":"IF(男子様式!$C546=\"\",\"\",IF($B177=\"@\",\"@\",$B177+100000000))","v":""},{"$f":"IF($C177=\"\",\"\",CONCATENATE(男子様式!$D196,\" \",男子様式!$J196))","v":""},{"$f":"IF($C177=\"\",\"\",男子様式!$G546)","v":""},{"$f":"CONCATENATE(OFFSET(男子様式!$J$18,3*A177,0),\" \",IF(LEN(OFFSET(男子様式!$L$18,A177*3,0))=0,,\"(\"),LEFT(OFFSET(男子様式!$L$18,A177*3,0),2),IF(LEN(OFFSET(男子様式!$J$18,A177*3,0))=0,,\")\"))","v":" "},"",{"$f":"IF($C177=\"\",\"\",VLOOKUP(基本登録情報!$C$7,登録データ!$I$3:$L$100,3,FALSE))","v":""},{"$f":"IF($C177=\"\",\"\",VLOOKUP(OFFSET(男子様式!$O$18,3*A177,0),登録データ!AM177:AN223,2,FALSE))","v":""},"",{"$f":"IF(男子様式!$AG546=\"\",\"\",男子様式!$AG546)","v":""},{"$f":"IF(男子様式!$AG547=\"\",\"\",男子様式!$AG547)","v":""},{"$f":"IF(男子様式!$AG548=\"\",\"\",男子様式!$AG548)","v":""}]
[177,{"$f":"IF(男子様式!$C549=\"\",\"\",IF(男子様式!$C549=\"@\",\"@\",男子様式!$C549))","v":""},{"$f":"IF(男子様式!$C549=\"\",\"\",IF($B178=\"@\",\"@\",$B178+100000000))","v":""},{"$f":"IF($C178=\"\",\"\",CONCATENATE(男子様式!$D197,\" \",男子様式!$J197))","v":""},{"$f":"IF($C178=\"\",\"\",男子様式!$G549)","v":""},{"$f":"CONCATENATE(OFFSET(男子様式!$J$18,3*A178,0),\" \",IF(LEN(OFFSET(男子様式!$L$18,A178*3,0))=0,,\"(\"),LEFT(OFFSET(男子様式!$L$18,A178*3,0),2),IF(LEN(OFFSET(男子様式!$J$18,A178*3,0))=0,,\")\"))","v":" "},"",{"$f":"IF($C178=\"\",\"\",VLOOKUP(基本登録情報!$C$7,登録データ!$I$3:$L$100,3,FALSE))","v":""},{"$f":"IF($C178=\"\",\"\",VLOOKUP(OFFSET(男子様式!$O$18,3*A178,0),登録データ!AM178:AN224,2,FALSE))","v":""},"",{"$f":"IF(男子様式!$AG549=\"\",\"\",男子様式!$AG549)","v":""},{"$f":"IF(男子様式!$AG550=\"\",\"\",男子様式!$AG550)","v":""},{"$f":"IF(男子様式!$AG551=\"\",\"\",男子様式!$AG551)","v":""}]
[178,{"$f":"IF(男子様式!$C552=\"\",\"\",IF(男子様式!$C552=\"@\",\"@\",男子様式!$C552))","v":""},{"$f":"IF(男子様式!$C552=\"\",\"\",IF($B179=\"@\",\"@\",$B179+100000000))","v":""},{"$f":"IF($C179=\"\",\"\",CONCATENATE(男子様式!$D198,\" \",男子様式!$J198))","v":""},{"$f":"IF($C179=\"\",\"\",男子様式!$G552)","v":""},{"$f":"CONCATENATE(OFFSET(男子様式!$J$18,3*A179,0),\" \",IF(LEN(OFFSET(男子様式!$L$18,A179*3,0))=0,,\"(\"),LEFT(OFFSET(男子様式!$L$18,A179*3,0),2),IF(LEN(OFFSET(男子様式!$J$18,A179*3,0))=0,,\")\"))","v":" "},"",{"$f":"IF($C179=\"\",\"\",VLOOKUP(基本登録情報!$C$7,登録データ!$I$3:$L$100,3,FALSE))","v":""},{"$f":"IF($C179=\"\",\"\",VLOOKUP(OFFSET(男子様式!$O$18,3*A179,0),登録データ!AM179:AN225,2,FALSE))","v":""},"",{"$f":"IF(男子様式!$AG552=\"\",\"\",男子様式!$AG552)","v":""},{"$f":"IF(男子様式!$AG553=\"\",\"\",男子様式!$AG553)","v":""},{"$f":"IF(男子様式!$AG554=\"\",\"\",男子様式!$AG554)","v":""}]
[179,{"$f":"IF(男子様式!$C555=\"\",\"\",IF(男子様式!$C555=\"@\",\"@\",男子様式!$C555))","v":""},{"$f":"IF(男子様式!$C555=\"\",\"\",IF($B180=\"@\",\"@\",$B180+100000000))","v":""},{"$f":"IF($C180=\"\",\"\",CONCATENATE(男子様式!$D199,\" \",男子様式!$J199))","v":""},{"$f":"IF($C180=\"\",\"\",男子様式!$G555)","v":""},{"$f":"CONCATENATE(OFFSET(男子様式!$J$18,3*A180,0),\" \",IF(LEN(OFFSET(男子様式!$L$18,A180*3,0))=0,,\"(\"),LEFT(OFFSET(男子様式!$L$18,A180*3,0),2),IF(LEN(OFFSET(男子様式!$J$18,A180*3,0))=0,,\")\"))","v":" "},"",{"$f":"IF($C180=\"\",\"\",VLOOKUP(基本登録情報!$C$7,登録データ!$I$3:$L$100,3,FALSE))","v":""},{"$f":"IF($C180=\"\",\"\",VLOOKUP(OFFSET(男子様式!$O$18,3*A180,0),登録データ!AM180:AN226,2,FALSE))","v":""},"",{"$f":"IF(男子様式!$AG555=\"\",\"\",男子様式!$AG555)","v":""},{"$f":"IF(男子様式!$AG556=\"\",\"\",男子様式!$AG556)","v":""},{"$f":"IF(男子様式!$AG557=\"\",\"\",男子様式!$AG557)","v":""}]
[180,{"$f":"IF(男子様式!$C558=\"\",\"\",IF(男子様式!$C558=\"@\",\"@\",男子様式!$C558))","v":""},{"$f":"IF(男子様式!$C558=\"\",\"\",IF($B181=\"@\",\"@\",$B181+100000000))","v":""},{"$f":"IF($C181=\"\",\"\",CONCATENATE(男子様式!$D200,\" \",男子様式!$J200))","v":""},{"$f":"IF($C181=\"\",\"\",男子様式!$G558)","v":""},{"$f":"CONCATENATE(OFFSET(男子様式!$J$18,3*A181,0),\" \",IF(LEN(OFFSET(男子様式!$L$18,A181*3,0))=0,,\"(\"),LEFT(OFFSET(男子様式!$L$18,A181*3,0),2),IF(LEN(OFFSET(男子様式!$J$18,A181*3,0))=0,,\")\"))","v":" "},"",{"$f":"IF($C181=\"\",\"\",VLOOKUP(基本登録情報!$C$7,登録データ!$I$3:$L$100,3,FALSE))","v":""},{"$f":"IF($C181=\"\",\"\",VLOOKUP(OFFSET(男子様式!$O$18,3*A181,0),登録データ!AM181:AN227,2,FALSE))","v":""},"",{"$f":"IF(男子様式!$AG558=\"\",\"\",男子様式!$AG558)","v":""},{"$f":"IF(男子様式!$AG559=\"\",\"\",男子様式!$AG559)","v":""},{"$f":"IF(男子様式!$AG560=\"\",\"\",男子様式!$AG560)","v":""}]
[181,{"$f":"IF(男子様式!$C561=\"\",\"\",IF(男子様式!$C561=\"@\",\"@\",男子様式!$C561))","v":""},{"$f":"IF(男子様式!$C561=\"\",\"\",IF($B182=\"@\",\"@\",$B182+100000000))","v":""},{"$f":"IF($C182=\"\",\"\",CONCATENATE(男子様式!$D201,\" \",男子様式!$J201))","v":""},{"$f":"IF($C182=\"\",\"\",男子様式!$G561)","v":""},{"$f":"CONCATENATE(OFFSET(男子様式!$J$18,3*A182,0),\" \",IF(LEN(OFFSET(男子様式!$L$18,A182*3,0))=0,,\"(\"),LEFT(OFFSET(男子様式!$L$18,A182*3,0),2),IF(LEN(OFFSET(男子様式!$J$18,A182*3,0))=0,,\")\"))","v":" "},"",{"$f":"IF($C182=\"\",\"\",VLOOKUP(基本登録情報!$C$7,登録データ!$I$3:$L$100,3,FALSE))","v":""},{"$f":"IF($C182=\"\",\"\",VLOOKUP(OFFSET(男子様式!$O$18,3*A182,0),登録データ!AM182:AN228,2,FALSE))","v":""},"",{"$f":"IF(男子様式!$AG561=\"\",\"\",男子様式!$AG561)","v":""},{"$f":"IF(男子様式!$AG562=\"\",\"\",男子様式!$AG562)","v":""},{"$f":"IF(男子様式!$AG563=\"\",\"\",男子様式!$AG563)","v":""}]
[182,{"$f":"IF(男子様式!$C564=\"\",\"\",IF(男子様式!$C564=\"@\",\"@\",男子様式!$C564))","v":""},{"$f":"IF(男子様式!$C564=\"\",\"\",IF($B183=\"@\",\"@\",$B183+100000000))","v":""},{"$f":"IF($C183=\"\",\"\",CONCATENATE(男子様式!$D202,\" \",男子様式!$J202))","v":""},{"$f":"IF($C183=\"\",\"\",男子様式!$G564)","v":""},{"$f":"CONCATENATE(OFFSET(男子様式!$J$18,3*A183,0),\" \",IF(LEN(OFFSET(男子様式!$L$18,A183*3,0))=0,,\"(\"),LEFT(OFFSET(男子様式!$L$18,A183*3,0),2),IF(LEN(OFFSET(男子様式!$J$18,A183*3,0))=0,,\")\"))","v":" "},"",{"$f":"IF($C183=\"\",\"\",VLOOKUP(基本登録情報!$C$7,登録データ!$I$3:$L$100,3,FALSE))","v":""},{"$f":"IF($C183=\"\",\"\",VLOOKUP(OFFSET(男子様式!$O$18,3*A183,0),登録データ!AM183:AN229,2,FALSE))","v":""},"",{"$f":"IF(男子様式!$AG564=\"\",\"\",男子様式!$AG564)","v":""},{"$f":"IF(男子様式!$AG565=\"\",\"\",男子様式!$AG565)","v":""},{"$f":"IF(男子様式!$AG566=\"\",\"\",男子様式!$AG566)","v":""}]
[183,{"$f":"IF(男子様式!$C567=\"\",\"\",IF(男子様式!$C567=\"@\",\"@\",男子様式!$C567))","v":""},{"$f":"IF(男子様式!$C567=\"\",\"\",IF($B184=\"@\",\"@\",$B184+100000000))","v":""},{"$f":"IF($C184=\"\",\"\",CONCATENATE(男子様式!$D203,\" \",男子様式!$J203))","v":""},{"$f":"IF($C184=\"\",\"\",男子様式!$G567)","v":""},{"$f":"CONCATENATE(OFFSET(男子様式!$J$18,3*A184,0),\" \",IF(LEN(OFFSET(男子様式!$L$18,A184*3,0))=0,,\"(\"),LEFT(OFFSET(男子様式!$L$18,A184*3,0),2),IF(LEN(OFFSET(男子様式!$J$18,A184*3,0))=0,,\")\"))","v":" "},"",{"$f":"IF($C184=\"\",\"\",VLOOKUP(基本登録情報!$C$7,登録データ!$I$3:$L$100,3,FALSE))","v":""},{"$f":"IF($C184=\"\",\"\",VLOOKUP(OFFSET(男子様式!$O$18,3*A184,0),登録データ!AM184:AN230,2,FALSE))","v":""},"",{"$f":"IF(男子様式!$AG567=\"\",\"\",男子様式!$AG567)","v":""},{"$f":"IF(男子様式!$AG568=\"\",\"\",男子様式!$AG568)","v":""},{"$f":"IF(男子様式!$AG569=\"\",\"\",男子様式!$AG569)","v":""}]
[184,{"$f":"IF(男子様式!$C570=\"\",\"\",IF(男子様式!$C570=\"@\",\"@\",男子様式!$C570))","v":""},{"$f":"IF(男子様式!$C570=\"\",\"\",IF($B185=\"@\",\"@\",$B185+100000000))","v":""},{"$f":"IF($C185=\"\",\"\",CONCATENATE(男子様式!$D204,\" \",男子様式!$J204))","v":""},{"$f":"IF($C185=\"\",\"\",男子様式!$G570)","v":""},{"$f":"CONCATENATE(OFFSET(男子様式!$J$18,3*A185,0),\" \",IF(LEN(OFFSET(男子様式!$L$18,A185*3,0))=0,,\"(\"),LEFT(OFFSET(男子様式!$L$18,A185*3,0),2),IF(LEN(OFFSET(男子様式!$J$18,A185*3,0))=0,,\")\"))","v":" "},"",{"$f":"IF($C185=\"\",\"\",VLOOKUP(基本登録情報!$C$7,登録データ!$I$3:$L$100,3,FALSE))","v":""},{"$f":"IF($C185=\"\",\"\",VLOOKUP(OFFSET(男子様式!$O$18,3*A185,0),登録データ!AM185:AN231,2,FALSE))","v":""},"",{"$f":"IF(男子様式!$AG570=\"\",\"\",男子様式!$AG570)","v":""},{"$f":"IF(男子様式!$AG571=\"\",\"\",男子様式!$AG571)","v":""},{"$f":"IF(男子様式!$AG572=\"\",\"\",男子様式!$AG572)","v":""}]
[185,{"$f":"IF(男子様式!$C573=\"\",\"\",IF(男子様式!$C573=\"@\",\"@\",男子様式!$C573))","v":""},{"$f":"IF(男子様式!$C573=\"\",\"\",IF($B186=\"@\",\"@\",$B186+100000000))","v":""},{"$f":"IF($C186=\"\",\"\",CONCATENATE(男子様式!$D205,\" \",男子様式!$J205))","v":""},{"$f":"IF($C186=\"\",\"\",男子様式!$G573)","v":""},{"$f":"CONCATENATE(OFFSET(男子様式!$J$18,3*A186,0),\" \",IF(LEN(OFFSET(男子様式!$L$18,A186*3,0))=0,,\"(\"),LEFT(OFFSET(男子様式!$L$18,A186*3,0),2),IF(LEN(OFFSET(男子様式!$J$18,A186*3,0))=0,,\")\"))","v":" "},"",{"$f":"IF($C186=\"\",\"\",VLOOKUP(基本登録情報!$C$7,登録データ!$I$3:$L$100,3,FALSE))","v":""},{"$f":"IF($C186=\"\",\"\",VLOOKUP(OFFSET(男子様式!$O$18,3*A186,0),登録データ!AM186:AN232,2,FALSE))","v":""},"",{"$f":"IF(男子様式!$AG573=\"\",\"\",男子様式!$AG573)","v":""},{"$f":"IF(男子様式!$AG574=\"\",\"\",男子様式!$AG574)","v":""},{"$f":"IF(男子様式!$AG575=\"\",\"\",男子様式!$AG575)","v":""}]
[186,{"$f":"IF(男子様式!$C576=\"\",\"\",IF(男子様式!$C576=\"@\",\"@\",男子様式!$C576))","v":""},{"$f":"IF(男子様式!$C576=\"\",\"\",IF($B187=\"@\",\"@\",$B187+100000000))","v":""},{"$f":"IF($C187=\"\",\"\",CONCATENATE(男子様式!$D206,\" \",男子様式!$J206))","v":""},{"$f":"IF($C187=\"\",\"\",男子様式!$G576)","v":""},{"$f":"CONCATENATE(OFFSET(男子様式!$J$18,3*A187,0),\" \",IF(LEN(OFFSET(男子様式!$L$18,A187*3,0))=0,,\"(\"),LEFT(OFFSET(男子様式!$L$18,A187*3,0),2),IF(LEN(OFFSET(男子様式!$J$18,A187*3,0))=0,,\")\"))","v":" "},"",{"$f":"IF($C187=\"\",\"\",VLOOKUP(基本登録情報!$C$7,登録データ!$I$3:$L$100,3,FALSE))","v":""},{"$f":"IF($C187=\"\",\"\",VLOOKUP(OFFSET(男子様式!$O$18,3*A187,0),登録データ!AM187:AN233,2,FALSE))","v":""},"",{"$f":"IF(男子様式!$AG576=\"\",\"\",男子様式!$AG576)","v":""},{"$f":"IF(男子様式!$AG577=\"\",\"\",男子様式!$AG577)","v":""},{"$f":"IF(男子様式!$AG578=\"\",\"\",男子様式!$AG578)","v":""}]
[187,{"$f":"IF(男子様式!$C579=\"\",\"\",IF(男子様式!$C579=\"@\",\"@\",男子様式!$C579))","v":""},{"$f":"IF(男子様式!$C579=\"\",\"\",IF($B188=\"@\",\"@\",$B188+100000000))","v":""},{"$f":"IF($C188=\"\",\"\",CONCATENATE(男子様式!$D207,\" \",男子様式!$J207))","v":""},{"$f":"IF($C188=\"\",\"\",男子様式!$G579)","v":""},{"$f":"CONCATENATE(OFFSET(男子様式!$J$18,3*A188,0),\" \",IF(LEN(OFFSET(男子様式!$L$18,A188*3,0))=0,,\"(\"),LEFT(OFFSET(男子様式!$L$18,A188*3,0),2),IF(LEN(OFFSET(男子様式!$J$18,A188*3,0))=0,,\")\"))","v":" "},"",{"$f":"IF($C188=\"\",\"\",VLOOKUP(基本登録情報!$C$7,登録データ!$I$3:$L$100,3,FALSE))","v":""},{"$f":"IF($C188=\"\",\"\",VLOOKUP(OFFSET(男子様式!$O$18,3*A188,0),登録データ!AM188:AN234,2,FALSE))","v":""},"",{"$f":"IF(男子様式!$AG579=\"\",\"\",男子様式!$AG579)","v":""},{"$f":"IF(男子様式!$AG580=\"\",\"\",男子様式!$AG580)","v":""},{"$f":"IF(男子様式!$AG581=\"\",\"\",男子様式!$AG581)","v":""}]
[188,{"$f":"IF(男子様式!$C582=\"\",\"\",IF(男子様式!$C582=\"@\",\"@\",男子様式!$C582))","v":""},{"$f":"IF(男子様式!$C582=\"\",\"\",IF($B189=\"@\",\"@\",$B189+100000000))","v":""},{"$f":"IF($C189=\"\",\"\",CONCATENATE(男子様式!$D208,\" \",男子様式!$J208))","v":""},{"$f":"IF($C189=\"\",\"\",男子様式!$G582)","v":""},{"$f":"CONCATENATE(OFFSET(男子様式!$J$18,3*A189,0),\" \",IF(LEN(OFFSET(男子様式!$L$18,A189*3,0))=0,,\"(\"),LEFT(OFFSET(男子様式!$L$18,A189*3,0),2),IF(LEN(OFFSET(男子様式!$J$18,A189*3,0))=0,,\")\"))","v":" "},"",{"$f":"IF($C189=\"\",\"\",VLOOKUP(基本登録情報!$C$7,登録データ!$I$3:$L$100,3,FALSE))","v":""},{"$f":"IF($C189=\"\",\"\",VLOOKUP(OFFSET(男子様式!$O$18,3*A189,0),登録データ!AM189:AN235,2,FALSE))","v":""},"",{"$f":"IF(男子様式!$AG582=\"\",\"\",男子様式!$AG582)","v":""},{"$f":"IF(男子様式!$AG583=\"\",\"\",男子様式!$AG583)","v":""},{"$f":"IF(男子様式!$AG584=\"\",\"\",男子様式!$AG584)","v":""}]
[189,{"$f":"IF(男子様式!$C585=\"\",\"\",IF(男子様式!$C585=\"@\",\"@\",男子様式!$C585))","v":""},{"$f":"IF(男子様式!$C585=\"\",\"\",IF($B190=\"@\",\"@\",$B190+100000000))","v":""},{"$f":"IF($C190=\"\",\"\",CONCATENATE(男子様式!$D209,\" \",男子様式!$J209))","v":""},{"$f":"IF($C190=\"\",\"\",男子様式!$G585)","v":""},{"$f":"CONCATENATE(OFFSET(男子様式!$J$18,3*A190,0),\" \",IF(LEN(OFFSET(男子様式!$L$18,A190*3,0))=0,,\"(\"),LEFT(OFFSET(男子様式!$L$18,A190*3,0),2),IF(LEN(OFFSET(男子様式!$J$18,A190*3,0))=0,,\")\"))","v":" "},"",{"$f":"IF($C190=\"\",\"\",VLOOKUP(基本登録情報!$C$7,登録データ!$I$3:$L$100,3,FALSE))","v":""},{"$f":"IF($C190=\"\",\"\",VLOOKUP(OFFSET(男子様式!$O$18,3*A190,0),登録データ!AM190:AN236,2,FALSE))","v":""},"",{"$f":"IF(男子様式!$AG585=\"\",\"\",男子様式!$AG585)","v":""},{"$f":"IF(男子様式!$AG586=\"\",\"\",男子様式!$AG586)","v":""},{"$f":"IF(男子様式!$AG587=\"\",\"\",男子様式!$AG587)","v":""}]
[190,{"$f":"IF(男子様式!$C588=\"\",\"\",IF(男子様式!$C588=\"@\",\"@\",男子様式!$C588))","v":""},{"$f":"IF(男子様式!$C588=\"\",\"\",IF($B191=\"@\",\"@\",$B191+100000000))","v":""},{"$f":"IF($C191=\"\",\"\",CONCATENATE(男子様式!$D210,\" \",男子様式!$J210))","v":""},{"$f":"IF($C191=\"\",\"\",男子様式!$G588)","v":""},{"$f":"CONCATENATE(OFFSET(男子様式!$J$18,3*A191,0),\" \",IF(LEN(OFFSET(男子様式!$L$18,A191*3,0))=0,,\"(\"),LEFT(OFFSET(男子様式!$L$18,A191*3,0),2),IF(LEN(OFFSET(男子様式!$J$18,A191*3,0))=0,,\")\"))","v":" "},"",{"$f":"IF($C191=\"\",\"\",VLOOKUP(基本登録情報!$C$7,登録データ!$I$3:$L$100,3,FALSE))","v":""},{"$f":"IF($C191=\"\",\"\",VLOOKUP(OFFSET(男子様式!$O$18,3*A191,0),登録データ!AM191:AN237,2,FALSE))","v":""},"",{"$f":"IF(男子様式!$AG588=\"\",\"\",男子様式!$AG588)","v":""},{"$f":"IF(男子様式!$AG589=\"\",\"\",男子様式!$AG589)","v":""},{"$f":"IF(男子様式!$AG590=\"\",\"\",男子様式!$AG590)","v":""}]
[191,{"$f":"IF(男子様式!$C591=\"\",\"\",IF(男子様式!$C591=\"@\",\"@\",男子様式!$C591))","v":""},{"$f":"IF(男子様式!$C591=\"\",\"\",IF($B192=\"@\",\"@\",$B192+100000000))","v":""},{"$f":"IF($C192=\"\",\"\",CONCATENATE(男子様式!$D211,\" \",男子様式!$J211))","v":""},{"$f":"IF($C192=\"\",\"\",男子様式!$G591)","v":""},{"$f":"CONCATENATE(OFFSET(男子様式!$J$18,3*A192,0),\" \",IF(LEN(OFFSET(男子様式!$L$18,A192*3,0))=0,,\"(\"),LEFT(OFFSET(男子様式!$L$18,A192*3,0),2),IF(LEN(OFFSET(男子様式!$J$18,A192*3,0))=0,,\")\"))","v":" "},"",{"$f":"IF($C192=\"\",\"\",VLOOKUP(基本登録情報!$C$7,登録データ!$I$3:$L$100,3,FALSE))","v":""},{"$f":"IF($C192=\"\",\"\",VLOOKUP(OFFSET(男子様式!$O$18,3*A192,0),登録データ!AM192:AN238,2,FALSE))","v":""},"",{"$f":"IF(男子様式!$AG591=\"\",\"\",男子様式!$AG591)","v":""},{"$f":"IF(男子様式!$AG592=\"\",\"\",男子様式!$AG592)","v":""},{"$f":"IF(男子様式!$AG593=\"\",\"\",男子様式!$AG593)","v":""}]
[192,{"$f":"IF(男子様式!$C594=\"\",\"\",IF(男子様式!$C594=\"@\",\"@\",男子様式!$C594))","v":""},{"$f":"IF(男子様式!$C594=\"\",\"\",IF($B193=\"@\",\"@\",$B193+100000000))","v":""},{"$f":"IF($C193=\"\",\"\",CONCATENATE(男子様式!$D212,\" \",男子様式!$J212))","v":""},{"$f":"IF($C193=\"\",\"\",男子様式!$G594)","v":""},{"$f":"CONCATENATE(OFFSET(男子様式!$J$18,3*A193,0),\" \",IF(LEN(OFFSET(男子様式!$L$18,A193*3,0))=0,,\"(\"),LEFT(OFFSET(男子様式!$L$18,A193*3,0),2),IF(LEN(OFFSET(男子様式!$J$18,A193*3,0))=0,,\")\"))","v":" "},"",{"$f":"IF($C193=\"\",\"\",VLOOKUP(基本登録情報!$C$7,登録データ!$I$3:$L$100,3,FALSE))","v":""},{"$f":"IF($C193=\"\",\"\",VLOOKUP(OFFSET(男子様式!$O$18,3*A193,0),登録データ!AM193:AN239,2,FALSE))","v":""},"",{"$f":"IF(男子様式!$AG594=\"\",\"\",男子様式!$AG594)","v":""},{"$f":"IF(男子様式!$AG595=\"\",\"\",男子様式!$AG595)","v":""},{"$f":"IF(男子様式!$AG596=\"\",\"\",男子様式!$AG596)","v":""}]
[193,{"$f":"IF(男子様式!$C597=\"\",\"\",IF(男子様式!$C597=\"@\",\"@\",男子様式!$C597))","v":""},{"$f":"IF(男子様式!$C597=\"\",\"\",IF($B194=\"@\",\"@\",$B194+100000000))","v":""},{"$f":"IF($C194=\"\",\"\",CONCATENATE(男子様式!$D213,\" \",男子様式!$J213))","v":""},{"$f":"IF($C194=\"\",\"\",男子様式!$G597)","v":""},{"$f":"CONCATENATE(OFFSET(男子様式!$J$18,3*A194,0),\" \",IF(LEN(OFFSET(男子様式!$L$18,A194*3,0))=0,,\"(\"),LEFT(OFFSET(男子様式!$L$18,A194*3,0),2),IF(LEN(OFFSET(男子様式!$J$18,A194*3,0))=0,,\")\"))","v":" "},"",{"$f":"IF($C194=\"\",\"\",VLOOKUP(基本登録情報!$C$7,登録データ!$I$3:$L$100,3,FALSE))","v":""},{"$f":"IF($C194=\"\",\"\",VLOOKUP(OFFSET(男子様式!$O$18,3*A194,0),登録データ!AM194:AN240,2,FALSE))","v":""},"",{"$f":"IF(男子様式!$AG597=\"\",\"\",男子様式!$AG597)","v":""},{"$f":"IF(男子様式!$AG598=\"\",\"\",男子様式!$AG598)","v":""},{"$f":"IF(男子様式!$AG599=\"\",\"\",男子様式!$AG599)","v":""}]
[194,{"$f":"IF(男子様式!$C600=\"\",\"\",IF(男子様式!$C600=\"@\",\"@\",男子様式!$C600))","v":""},{"$f":"IF(男子様式!$C600=\"\",\"\",IF($B195=\"@\",\"@\",$B195+100000000))","v":""},{"$f":"IF($C195=\"\",\"\",CONCATENATE(男子様式!$D214,\" \",男子様式!$J214))","v":""},{"$f":"IF($C195=\"\",\"\",男子様式!$G600)","v":""},{"$f":"CONCATENATE(OFFSET(男子様式!$J$18,3*A195,0),\" \",IF(LEN(OFFSET(男子様式!$L$18,A195*3,0))=0,,\"(\"),LEFT(OFFSET(男子様式!$L$18,A195*3,0),2),IF(LEN(OFFSET(男子様式!$J$18,A195*3,0))=0,,\")\"))","v":" "},{"$f":"IF($C195=\"\",\"\",1)","v":""},{"$f":"IF($C195=\"\",\"\",VLOOKUP(基本登録情報!$C$7,登録データ!$I$3:$L$100,3,FALSE))","v":""},{"$f":"IF($C195=\"\",\"\",VLOOKUP(OFFSET(男子様式!$O$18,3*A195,0),登録データ!AM195:AN241,2,FALSE))","v":""},{"$f":"IF($C195=\"\",\"\",IF($C195=\"@\",\"@\",VALUE(RIGHT($C195,4))))","v":""},{"$f":"IF(男子様式!$AG600=\"\",\"\",男子様式!$AG600)","v":""},{"$f":"IF(男子様式!$AG601=\"\",\"\",男子様式!$AG601)","v":""},{"$f":"IF(男子様式!$AG602=\"\",\"\",男子様式!$AG602)","v":""}]
[195,{"$f":"IF(男子様式!$C603=\"\",\"\",IF(男子様式!$C603=\"@\",\"@\",男子様式!$C603))","v":""},{"$f":"IF(男子様式!$C603=\"\",\"\",IF($B196=\"@\",\"@\",$B196+100000000))","v":""},{"$f":"IF($C196=\"\",\"\",CONCATENATE(男子様式!$D215,\" \",男子様式!$J215))","v":""},{"$f":"IF($C196=\"\",\"\",男子様式!$G603)","v":""},{"$f":"CONCATENATE(OFFSET(男子様式!$J$18,3*A196,0),\" \",IF(LEN(OFFSET(男子様式!$L$18,A196*3,0))=0,,\"(\"),LEFT(OFFSET(男子様式!$L$18,A196*3,0),2),IF(LEN(OFFSET(男子様式!$J$18,A196*3,0))=0,,\")\"))","v":" "},"",{"$f":"IF($C196=\"\",\"\",VLOOKUP(基本登録情報!$C$7,登録データ!$I$3:$L$100,3,FALSE))","v":""},{"$f":"IF($C196=\"\",\"\",VLOOKUP(OFFSET(男子様式!$O$18,3*A196,0),登録データ!AM196:AN242,2,FALSE))","v":""},"",{"$f":"IF(男子様式!$AG603=\"\",\"\",男子様式!$AG603)","v":""},{"$f":"IF(男子様式!$AG604=\"\",\"\",男子様式!$AG604)","v":""},{"$f":"IF(男子様式!$AG605=\"\",\"\",男子様式!$AG605)","v":""}]
[196,{"$f":"IF(男子様式!$C606=\"\",\"\",IF(男子様式!$C606=\"@\",\"@\",男子様式!$C606))","v":""},{"$f":"IF(男子様式!$C606=\"\",\"\",IF($B197=\"@\",\"@\",$B197+100000000))","v":""},{"$f":"IF($C197=\"\",\"\",CONCATENATE(男子様式!$D216,\" \",男子様式!$J216))","v":""},{"$f":"IF($C197=\"\",\"\",男子様式!$G606)","v":""},{"$f":"CONCATENATE(OFFSET(男子様式!$J$18,3*A197,0),\" \",IF(LEN(OFFSET(男子様式!$L$18,A197*3,0))=0,,\"(\"),LEFT(OFFSET(男子様式!$L$18,A197*3,0),2),IF(LEN(OFFSET(男子様式!$J$18,A197*3,0))=0,,\")\"))","v":" "},"",{"$f":"IF($C197=\"\",\"\",VLOOKUP(基本登録情報!$C$7,登録データ!$I$3:$L$100,3,FALSE))","v":""},{"$f":"IF($C197=\"\",\"\",VLOOKUP(OFFSET(男子様式!$O$18,3*A197,0),登録データ!AM197:AN243,2,FALSE))","v":""},"",{"$f":"IF(男子様式!$AG606=\"\",\"\",男子様式!$AG606)","v":""},{"$f":"IF(男子様式!$AG607=\"\",\"\",男子様式!$AG607)","v":""},{"$f":"IF(男子様式!$AG608=\"\",\"\",男子様式!$AG608)","v":""}]
[197,{"$f":"IF(男子様式!$C609=\"\",\"\",IF(男子様式!$C609=\"@\",\"@\",男子様式!$C609))","v":""},{"$f":"IF(男子様式!$C609=\"\",\"\",IF($B198=\"@\",\"@\",$B198+100000000))","v":""},{"$f":"IF($C198=\"\",\"\",CONCATENATE(男子様式!$D217,\" \",男子様式!$J217))","v":""},{"$f":"IF($C198=\"\",\"\",男子様式!$G609)","v":""},{"$f":"CONCATENATE(OFFSET(男子様式!$J$18,3*A198,0),\" \",IF(LEN(OFFSET(男子様式!$L$18,A198*3,0))=0,,\"(\"),LEFT(OFFSET(男子様式!$L$18,A198*3,0),2),IF(LEN(OFFSET(男子様式!$J$18,A198*3,0))=0,,\")\"))","v":" "},"",{"$f":"IF($C198=\"\",\"\",VLOOKUP(基本登録情報!$C$7,登録データ!$I$3:$L$100,3,FALSE))","v":""},{"$f":"IF($C198=\"\",\"\",VLOOKUP(OFFSET(男子様式!$O$18,3*A198,0),登録データ!AM198:AN244,2,FALSE))","v":""},"",{"$f":"IF(男子様式!$AG609=\"\",\"\",男子様式!$AG609)","v":""},{"$f":"IF(男子様式!$AG610=\"\",\"\",男子様式!$AG610)","v":""},{"$f":"IF(男子様式!$AG611=\"\",\"\",男子様式!$AG611)","v":""}]
[198,{"$f":"IF(男子様式!$C612=\"\",\"\",IF(男子様式!$C612=\"@\",\"@\",男子様式!$C612))","v":""},{"$f":"IF(男子様式!$C612=\"\",\"\",IF($B199=\"@\",\"@\",$B199+100000000))","v":""},{"$f":"IF($C199=\"\",\"\",CONCATENATE(男子様式!$D218,\" \",男子様式!$J218))","v":""},{"$f":"IF($C199=\"\",\"\",男子様式!$G612)","v":""},{"$f":"CONCATENATE(OFFSET(男子様式!$J$18,3*A199,0),\" \",IF(LEN(OFFSET(男子様式!$L$18,A199*3,0))=0,,\"(\"),LEFT(OFFSET(男子様式!$L$18,A199*3,0),2),IF(LEN(OFFSET(男子様式!$J$18,A199*3,0))=0,,\")\"))","v":" "},"",{"$f":"IF($C199=\"\",\"\",VLOOKUP(基本登録情報!$C$7,登録データ!$I$3:$L$100,3,FALSE))","v":""},{"$f":"IF($C199=\"\",\"\",VLOOKUP(OFFSET(男子様式!$O$18,3*A199,0),登録データ!AM199:AN245,2,FALSE))","v":""},"",{"$f":"IF(男子様式!$AG612=\"\",\"\",男子様式!$AG612)","v":""},{"$f":"IF(男子様式!$AG613=\"\",\"\",男子様式!$AG613)","v":""},{"$f":"IF(男子様式!$AG614=\"\",\"\",男子様式!$AG614)","v":""}]
[199,{"$f":"IF(男子様式!$C615=\"\",\"\",IF(男子様式!$C615=\"@\",\"@\",男子様式!$C615))","v":""},{"$f":"IF(男子様式!$C615=\"\",\"\",IF($B200=\"@\",\"@\",$B200+100000000))","v":""},{"$f":"IF($C200=\"\",\"\",CONCATENATE(男子様式!$D219,\" \",男子様式!$J219))","v":""},{"$f":"IF($C200=\"\",\"\",男子様式!$G615)","v":""},{"$f":"CONCATENATE(OFFSET(男子様式!$J$18,3*A200,0),\" \",IF(LEN(OFFSET(男子様式!$L$18,A200*3,0))=0,,\"(\"),LEFT(OFFSET(男子様式!$L$18,A200*3,0),2),IF(LEN(OFFSET(男子様式!$J$18,A200*3,0))=0,,\")\"))","v":" "},"",{"$f":"IF($C200=\"\",\"\",VLOOKUP(基本登録情報!$C$7,登録データ!$I$3:$L$100,3,FALSE))","v":""},{"$f":"IF($C200=\"\",\"\",VLOOKUP(OFFSET(男子様式!$O$18,3*A200,0),登録データ!AM200:AN246,2,FALSE))","v":""},"",{"$f":"IF(男子様式!$AG615=\"\",\"\",男子様式!$AG615)","v":""},{"$f":"IF(男子様式!$AG616=\"\",\"\",男子様式!$AG616)","v":""},{"$f":"IF(男子様式!$AG617=\"\",\"\",男子様式!$AG617)","v":""}]
[200,{"$f":"IF(男子様式!$C618=\"\",\"\",IF(男子様式!$C618=\"@\",\"@\",男子様式!$C618))","v":""},{"$f":"IF(男子様式!$C618=\"\",\"\",IF($B201=\"@\",\"@\",$B201+100000000))","v":""},{"$f":"IF($C201=\"\",\"\",CONCATENATE(男子様式!$D220,\" \",男子様式!$J220))","v":""},{"$f":"IF($C201=\"\",\"\",男子様式!$G618)","v":""},{"$f":"CONCATENATE(OFFSET(男子様式!$J$18,3*A201,0),\" \",IF(LEN(OFFSET(男子様式!$L$18,A201*3,0))=0,,\"(\"),LEFT(OFFSET(男子様式!$L$18,A201*3,0),2),IF(LEN(OFFSET(男子様式!$J$18,A201*3,0))=0,,\")\"))","v":" "},"",{"$f":"IF($C201=\"\",\"\",VLOOKUP(基本登録情報!$C$7,登録データ!$I$3:$L$100,3,FALSE))","v":""},{"$f":"IF($C201=\"\",\"\",VLOOKUP(OFFSET(男子様式!$O$18,3*A201,0),登録データ!AM201:AN247,2,FALSE))","v":""},"",{"$f":"IF(男子様式!$AG618=\"\",\"\",男子様式!$AG618)","v":""},{"$f":"IF(男子様式!$AG619=\"\",\"\",男子様式!$AG619)","v":""},{"$f":"IF(男子様式!$AG620=\"\",\"\",男子様式!$AG620)","v":""}]
[201,null,null,{"$f":"IF($C202=\"\",\"\",CONCATENATE(男子様式!$D221,\" \",男子様式!$J221))","v":""},null,{"$f":"CONCATENATE(OFFSET(男子様式!$J$18,3*A202,0),\" \",IF(LEN(OFFSET(男子様式!$L$18,A202*3,0))=0,,\"(\"),LEFT(OFFSET(男子様式!$L$18,A202*3,0),2),IF(LEN(OFFSET(男子様式!$J$18,A202*3,0))=0,,\")\"))","v":" "},null,{"$f":"IF($C202=\"\",\"\",VLOOKUP(基本登録情報!$C$7,登録データ!$I$3:$L$100,3,FALSE))","v":""},{"$f":"IF($C202=\"\",\"\",VLOOKUP(OFFSET(男子様式!$O$18,3*A202,0),登録データ!AM202:AN248,2,FALSE))","v":""}]
[202,null,null,{"$f":"IF($C203=\"\",\"\",CONCATENATE(男子様式!$D222,\" \",男子様式!$J222))","v":""},null,{"$f":"CONCATENATE(OFFSET(男子様式!$J$18,3*A203,0),\" \",IF(LEN(OFFSET(男子様式!$L$18,A203*3,0))=0,,\"(\"),LEFT(OFFSET(男子様式!$L$18,A203*3,0),2),IF(LEN(OFFSET(男子様式!$J$18,A203*3,0))=0,,\")\"))","v":" "},null,{"$f":"IF($C203=\"\",\"\",VLOOKUP(基本登録情報!$C$7,登録データ!$I$3:$L$100,3,FALSE))","v":""},{"$f":"IF($C203=\"\",\"\",VLOOKUP(OFFSET(男子様式!$O$18,3*A203,0),登録データ!AM203:AN249,2,FALSE))","v":""}]
[203,null,null,{"$f":"IF($C204=\"\",\"\",CONCATENATE(男子様式!$D223,\" \",男子様式!$J223))","v":""},null,{"$f":"CONCATENATE(OFFSET(男子様式!$J$18,3*A204,0),\" \",IF(LEN(OFFSET(男子様式!$L$18,A204*3,0))=0,,\"(\"),LEFT(OFFSET(男子様式!$L$18,A204*3,0),2),IF(LEN(OFFSET(男子様式!$J$18,A204*3,0))=0,,\")\"))","v":" "},null,{"$f":"IF($C204=\"\",\"\",VLOOKUP(基本登録情報!$C$7,登録データ!$I$3:$L$100,3,FALSE))","v":""},{"$f":"IF($C204=\"\",\"\",VLOOKUP(OFFSET(男子様式!$O$18,3*A204,0),登録データ!AM204:AN250,2,FALSE))","v":""}]
[204,null,null,{"$f":"IF($C205=\"\",\"\",CONCATENATE(男子様式!$D224,\" \",男子様式!$J224))","v":""},null,{"$f":"CONCATENATE(OFFSET(男子様式!$J$18,3*A205,0),\" \",IF(LEN(OFFSET(男子様式!$L$18,A205*3,0))=0,,\"(\"),LEFT(OFFSET(男子様式!$L$18,A205*3,0),2),IF(LEN(OFFSET(男子様式!$J$18,A205*3,0))=0,,\")\"))","v":" "},null,{"$f":"IF($C205=\"\",\"\",VLOOKUP(基本登録情報!$C$7,登録データ!$I$3:$L$100,3,FALSE))","v":""},{"$f":"IF($C205=\"\",\"\",VLOOKUP(OFFSET(男子様式!$O$18,3*A205,0),登録データ!AM205:AN251,2,FALSE))","v":""}]
[205,null,null,{"$f":"IF($C206=\"\",\"\",CONCATENATE(男子様式!$D225,\" \",男子様式!$J225))","v":""},null,{"$f":"CONCATENATE(OFFSET(男子様式!$J$18,3*A206,0),\" \",IF(LEN(OFFSET(男子様式!$L$18,A206*3,0))=0,,\"(\"),LEFT(OFFSET(男子様式!$L$18,A206*3,0),2),IF(LEN(OFFSET(男子様式!$J$18,A206*3,0))=0,,\")\"))","v":" "},null,{"$f":"IF($C206=\"\",\"\",VLOOKUP(基本登録情報!$C$7,登録データ!$I$3:$L$100,3,FALSE))","v":""},{"$f":"IF($C206=\"\",\"\",VLOOKUP(OFFSET(男子様式!$O$18,3*A206,0),登録データ!AM206:AN252,2,FALSE))","v":""}]
[206,null,null,{"$f":"IF($C207=\"\",\"\",CONCATENATE(男子様式!$D226,\" \",男子様式!$J226))","v":""},null,{"$f":"CONCATENATE(OFFSET(男子様式!$J$18,3*A207,0),\" \",IF(LEN(OFFSET(男子様式!$L$18,A207*3,0))=0,,\"(\"),LEFT(OFFSET(男子様式!$L$18,A207*3,0),2),IF(LEN(OFFSET(男子様式!$J$18,A207*3,0))=0,,\")\"))","v":" "},null,{"$f":"IF($C207=\"\",\"\",VLOOKUP(基本登録情報!$C$7,登録データ!$I$3:$L$100,3,FALSE))","v":""},{"$f":"IF($C207=\"\",\"\",VLOOKUP(OFFSET(男子様式!$O$18,3*A207,0),登録データ!AM207:AN253,2,FALSE))","v":""}]
[207,null,null,{"$f":"IF($C208=\"\",\"\",CONCATENATE(男子様式!$D227,\" \",男子様式!$J227))","v":""},null,{"$f":"CONCATENATE(OFFSET(男子様式!$J$18,3*A208,0),\" \",IF(LEN(OFFSET(男子様式!$L$18,A208*3,0))=0,,\"(\"),LEFT(OFFSET(男子様式!$L$18,A208*3,0),2),IF(LEN(OFFSET(男子様式!$J$18,A208*3,0))=0,,\")\"))","v":" "},null,{"$f":"IF($C208=\"\",\"\",VLOOKUP(基本登録情報!$C$7,登録データ!$I$3:$L$100,3,FALSE))","v":""},{"$f":"IF($C208=\"\",\"\",VLOOKUP(OFFSET(男子様式!$O$18,3*A208,0),登録データ!AM208:AN254,2,FALSE))","v":""}]
[208,null,null,{"$f":"IF($C209=\"\",\"\",CONCATENATE(男子様式!$D228,\" \",男子様式!$J228))","v":""},null,{"$f":"CONCATENATE(OFFSET(男子様式!$J$18,3*A209,0),\" \",IF(LEN(OFFSET(男子様式!$L$18,A209*3,0))=0,,\"(\"),LEFT(OFFSET(男子様式!$L$18,A209*3,0),2),IF(LEN(OFFSET(男子様式!$J$18,A209*3,0))=0,,\")\"))","v":" "},null,{"$f":"IF($C209=\"\",\"\",VLOOKUP(基本登録情報!$C$7,登録データ!$I$3:$L$100,3,FALSE))","v":""},{"$f":"IF($C209=\"\",\"\",VLOOKUP(OFFSET(男子様式!$O$18,3*A209,0),登録データ!AM209:AN255,2,FALSE))","v":""}]
[209,null,null,{"$f":"IF($C210=\"\",\"\",CONCATENATE(男子様式!$D229,\" \",男子様式!$J229))","v":""},null,{"$f":"CONCATENATE(OFFSET(男子様式!$J$18,3*A210,0),\" \",IF(LEN(OFFSET(男子様式!$L$18,A210*3,0))=0,,\"(\"),LEFT(OFFSET(男子様式!$L$18,A210*3,0),2),IF(LEN(OFFSET(男子様式!$J$18,A210*3,0))=0,,\")\"))","v":" "},null,{"$f":"IF($C210=\"\",\"\",VLOOKUP(基本登録情報!$C$7,登録データ!$I$3:$L$100,3,FALSE))","v":""},{"$f":"IF($C210=\"\",\"\",VLOOKUP(OFFSET(男子様式!$O$18,3*A210,0),登録データ!AM210:AN256,2,FALSE))","v":""}]
[210,null,null,{"$f":"IF($C211=\"\",\"\",CONCATENATE(男子様式!$D230,\" \",男子様式!$J230))","v":""},null,{"$f":"CONCATENATE(OFFSET(男子様式!$J$18,3*A211,0),\" \",IF(LEN(OFFSET(男子様式!$L$18,A211*3,0))=0,,\"(\"),LEFT(OFFSET(男子様式!$L$18,A211*3,0),2),IF(LEN(OFFSET(男子様式!$J$18,A211*3,0))=0,,\")\"))","v":" "},null,{"$f":"IF($C211=\"\",\"\",VLOOKUP(基本登録情報!$C$7,登録データ!$I$3:$L$100,3,FALSE))","v":""},{"$f":"IF($C211=\"\",\"\",VLOOKUP(OFFSET(男子様式!$O$18,3*A211,0),登録データ!AM211:AN257,2,FALSE))","v":""}]
[211,null,null,{"$f":"IF($C212=\"\",\"\",CONCATENATE(男子様式!$D231,\" \",男子様式!$J231))","v":""},null,{"$f":"CONCATENATE(OFFSET(男子様式!$J$18,3*A212,0),\" \",IF(LEN(OFFSET(男子様式!$L$18,A212*3,0))=0,,\"(\"),LEFT(OFFSET(男子様式!$L$18,A212*3,0),2),IF(LEN(OFFSET(男子様式!$J$18,A212*3,0))=0,,\")\"))","v":" "},null,{"$f":"IF($C212=\"\",\"\",VLOOKUP(基本登録情報!$C$7,登録データ!$I$3:$L$100,3,FALSE))","v":""},{"$f":"IF($C212=\"\",\"\",VLOOKUP(OFFSET(男子様式!$O$18,3*A212,0),登録データ!AM212:AN258,2,FALSE))","v":""}]
[212,null,null,{"$f":"IF($C213=\"\",\"\",CONCATENATE(男子様式!$D232,\" \",男子様式!$J232))","v":""},null,{"$f":"CONCATENATE(OFFSET(男子様式!$J$18,3*A213,0),\" \",IF(LEN(OFFSET(男子様式!$L$18,A213*3,0))=0,,\"(\"),LEFT(OFFSET(男子様式!$L$18,A213*3,0),2),IF(LEN(OFFSET(男子様式!$J$18,A213*3,0))=0,,\")\"))","v":" "},null,{"$f":"IF($C213=\"\",\"\",VLOOKUP(基本登録情報!$C$7,登録データ!$I$3:$L$100,3,FALSE))","v":""},{"$f":"IF($C213=\"\",\"\",VLOOKUP(OFFSET(男子様式!$O$18,3*A213,0),登録データ!AM213:AN259,2,FALSE))","v":""}]
[213,null,null,{"$f":"IF($C214=\"\",\"\",CONCATENATE(男子様式!$D233,\" \",男子様式!$J233))","v":""},null,{"$f":"CONCATENATE(OFFSET(男子様式!$J$18,3*A214,0),\" \",IF(LEN(OFFSET(男子様式!$L$18,A214*3,0))=0,,\"(\"),LEFT(OFFSET(男子様式!$L$18,A214*3,0),2),IF(LEN(OFFSET(男子様式!$J$18,A214*3,0))=0,,\")\"))","v":" "},null,{"$f":"IF($C214=\"\",\"\",VLOOKUP(基本登録情報!$C$7,登録データ!$I$3:$L$100,3,FALSE))","v":""},{"$f":"IF($C214=\"\",\"\",VLOOKUP(OFFSET(男子様式!$O$18,3*A214,0),登録データ!AM214:AN260,2,FALSE))","v":""}]
[214,null,null,{"$f":"IF($C215=\"\",\"\",CONCATENATE(男子様式!$D234,\" \",男子様式!$J234))","v":""},null,{"$f":"CONCATENATE(OFFSET(男子様式!$J$18,3*A215,0),\" \",IF(LEN(OFFSET(男子様式!$L$18,A215*3,0))=0,,\"(\"),LEFT(OFFSET(男子様式!$L$18,A215*3,0),2),IF(LEN(OFFSET(男子様式!$J$18,A215*3,0))=0,,\")\"))","v":" "},null,{"$f":"IF($C215=\"\",\"\",VLOOKUP(基本登録情報!$C$7,登録データ!$I$3:$L$100,3,FALSE))","v":""},{"$f":"IF($C215=\"\",\"\",VLOOKUP(OFFSET(男子様式!$O$18,3*A215,0),登録データ!AM215:AN261,2,FALSE))","v":""}]
[215,null,null,{"$f":"IF($C216=\"\",\"\",CONCATENATE(男子様式!$D235,\" \",男子様式!$J235))","v":""},null,{"$f":"CONCATENATE(OFFSET(男子様式!$J$18,3*A216,0),\" \",IF(LEN(OFFSET(男子様式!$L$18,A216*3,0))=0,,\"(\"),LEFT(OFFSET(男子様式!$L$18,A216*3,0),2),IF(LEN(OFFSET(男子様式!$J$18,A216*3,0))=0,,\")\"))","v":" "},null,{"$f":"IF($C216=\"\",\"\",VLOOKUP(基本登録情報!$C$7,登録データ!$I$3:$L$100,3,FALSE))","v":""},{"$f":"IF($C216=\"\",\"\",VLOOKUP(OFFSET(男子様式!$O$18,3*A216,0),登録データ!AM216:AN262,2,FALSE))","v":""}]
[216,null,null,{"$f":"IF($C217=\"\",\"\",CONCATENATE(男子様式!$D236,\" \",男子様式!$J236))","v":""},null,{"$f":"CONCATENATE(OFFSET(男子様式!$J$18,3*A217,0),\" \",IF(LEN(OFFSET(男子様式!$L$18,A217*3,0))=0,,\"(\"),LEFT(OFFSET(男子様式!$L$18,A217*3,0),2),IF(LEN(OFFSET(男子様式!$J$18,A217*3,0))=0,,\")\"))","v":" "},null,{"$f":"IF($C217=\"\",\"\",VLOOKUP(基本登録情報!$C$7,登録データ!$I$3:$L$100,3,FALSE))","v":""},{"$f":"IF($C217=\"\",\"\",VLOOKUP(OFFSET(男子様式!$O$18,3*A217,0),登録データ!AM217:AN263,2,FALSE))","v":""}]
[217,null,null,{"$f":"IF($C218=\"\",\"\",CONCATENATE(男子様式!$D237,\" \",男子様式!$J237))","v":""},null,{"$f":"CONCATENATE(OFFSET(男子様式!$J$18,3*A218,0),\" \",IF(LEN(OFFSET(男子様式!$L$18,A218*3,0))=0,,\"(\"),LEFT(OFFSET(男子様式!$L$18,A218*3,0),2),IF(LEN(OFFSET(男子様式!$J$18,A218*3,0))=0,,\")\"))","v":" "},null,{"$f":"IF($C218=\"\",\"\",VLOOKUP(基本登録情報!$C$7,登録データ!$I$3:$L$100,3,FALSE))","v":""},{"$f":"IF($C218=\"\",\"\",VLOOKUP(OFFSET(男子様式!$O$18,3*A218,0),登録データ!AM218:AN264,2,FALSE))","v":""}]
[218,null,null,{"$f":"IF($C219=\"\",\"\",CONCATENATE(男子様式!$D238,\" \",男子様式!$J238))","v":""},null,{"$f":"CONCATENATE(OFFSET(男子様式!$J$18,3*A219,0),\" \",IF(LEN(OFFSET(男子様式!$L$18,A219*3,0))=0,,\"(\"),LEFT(OFFSET(男子様式!$L$18,A219*3,0),2),IF(LEN(OFFSET(男子様式!$J$18,A219*3,0))=0,,\")\"))","v":" "},null,{"$f":"IF($C219=\"\",\"\",VLOOKUP(基本登録情報!$C$7,登録データ!$I$3:$L$100,3,FALSE))","v":""},{"$f":"IF($C219=\"\",\"\",VLOOKUP(OFFSET(男子様式!$O$18,3*A219,0),登録データ!AM219:AN265,2,FALSE))","v":""}]
[219,null,null,{"$f":"IF($C220=\"\",\"\",CONCATENATE(男子様式!$D239,\" \",男子様式!$J239))","v":""},null,{"$f":"CONCATENATE(OFFSET(男子様式!$J$18,3*A220,0),\" \",IF(LEN(OFFSET(男子様式!$L$18,A220*3,0))=0,,\"(\"),LEFT(OFFSET(男子様式!$L$18,A220*3,0),2),IF(LEN(OFFSET(男子様式!$J$18,A220*3,0))=0,,\")\"))","v":" "},null,{"$f":"IF($C220=\"\",\"\",VLOOKUP(基本登録情報!$C$7,登録データ!$I$3:$L$100,3,FALSE))","v":""},{"$f":"IF($C220=\"\",\"\",VLOOKUP(OFFSET(男子様式!$O$18,3*A220,0),登録データ!AM220:AN266,2,FALSE))","v":""}]
[220,null,null,{"$f":"IF($C221=\"\",\"\",CONCATENATE(男子様式!$D240,\" \",男子様式!$J240))","v":""},null,{"$f":"CONCATENATE(OFFSET(男子様式!$J$18,3*A221,0),\" \",IF(LEN(OFFSET(男子様式!$L$18,A221*3,0))=0,,\"(\"),LEFT(OFFSET(男子様式!$L$18,A221*3,0),2),IF(LEN(OFFSET(男子様式!$J$18,A221*3,0))=0,,\")\"))","v":" "},null,{"$f":"IF($C221=\"\",\"\",VLOOKUP(基本登録情報!$C$7,登録データ!$I$3:$L$100,3,FALSE))","v":""},{"$f":"IF($C221=\"\",\"\",VLOOKUP(OFFSET(男子様式!$O$18,3*A221,0),登録データ!AM221:AN267,2,FALSE))","v":""}]
[221,null,null,{"$f":"IF($C222=\"\",\"\",CONCATENATE(男子様式!$D241,\" \",男子様式!$J241))","v":""},null,{"$f":"CONCATENATE(OFFSET(男子様式!$J$18,3*A222,0),\" \",IF(LEN(OFFSET(男子様式!$L$18,A222*3,0))=0,,\"(\"),LEFT(OFFSET(男子様式!$L$18,A222*3,0),2),IF(LEN(OFFSET(男子様式!$J$18,A222*3,0))=0,,\")\"))","v":" "},null,{"$f":"IF($C222=\"\",\"\",VLOOKUP(基本登録情報!$C$7,登録データ!$I$3:$L$100,3,FALSE))","v":""},{"$f":"IF($C222=\"\",\"\",VLOOKUP(OFFSET(男子様式!$O$18,3*A222,0),登録データ!AM222:AN268,2,FALSE))","v":""}]
[222,null,null,{"$f":"IF($C223=\"\",\"\",CONCATENATE(男子様式!$D242,\" \",男子様式!$J242))","v":""},null,{"$f":"CONCATENATE(OFFSET(男子様式!$J$18,3*A223,0),\" \",IF(LEN(OFFSET(男子様式!$L$18,A223*3,0))=0,,\"(\"),LEFT(OFFSET(男子様式!$L$18,A223*3,0),2),IF(LEN(OFFSET(男子様式!$J$18,A223*3,0))=0,,\")\"))","v":" "},null,{"$f":"IF($C223=\"\",\"\",VLOOKUP(基本登録情報!$C$7,登録データ!$I$3:$L$100,3,FALSE))","v":""},{"$f":"IF($C223=\"\",\"\",VLOOKUP(OFFSET(男子様式!$O$18,3*A223,0),登録データ!AM223:AN269,2,FALSE))","v":""}]
[223,null,null,{"$f":"IF($C224=\"\",\"\",CONCATENATE(男子様式!$D243,\" \",男子様式!$J243))","v":""},null,{"$f":"CONCATENATE(OFFSET(男子様式!$J$18,3*A224,0),\" \",IF(LEN(OFFSET(男子様式!$L$18,A224*3,0))=0,,\"(\"),LEFT(OFFSET(男子様式!$L$18,A224*3,0),2),IF(LEN(OFFSET(男子様式!$J$18,A224*3,0))=0,,\")\"))","v":" "},null,{"$f":"IF($C224=\"\",\"\",VLOOKUP(基本登録情報!$C$7,登録データ!$I$3:$L$100,3,FALSE))","v":""},{"$f":"IF($C224=\"\",\"\",VLOOKUP(OFFSET(男子様式!$O$18,3*A224,0),登録データ!AM224:AN270,2,FALSE))","v":""}]
[224,null,null,{"$f":"IF($C225=\"\",\"\",CONCATENATE(男子様式!$D244,\" \",男子様式!$J244))","v":""},null,{"$f":"CONCATENATE(OFFSET(男子様式!$J$18,3*A225,0),\" \",IF(LEN(OFFSET(男子様式!$L$18,A225*3,0))=0,,\"(\"),LEFT(OFFSET(男子様式!$L$18,A225*3,0),2),IF(LEN(OFFSET(男子様式!$J$18,A225*3,0))=0,,\")\"))","v":" "},null,{"$f":"IF($C225=\"\",\"\",VLOOKUP(基本登録情報!$C$7,登録データ!$I$3:$L$100,3,FALSE))","v":""},{"$f":"IF($C225=\"\",\"\",VLOOKUP(OFFSET(男子様式!$O$18,3*A225,0),登録データ!AM225:AN271,2,FALSE))","v":""}]
[225,null,null,{"$f":"IF($C226=\"\",\"\",CONCATENATE(男子様式!$D245,\" \",男子様式!$J245))","v":""},null,{"$f":"CONCATENATE(OFFSET(男子様式!$J$18,3*A226,0),\" \",IF(LEN(OFFSET(男子様式!$L$18,A226*3,0))=0,,\"(\"),LEFT(OFFSET(男子様式!$L$18,A226*3,0),2),IF(LEN(OFFSET(男子様式!$J$18,A226*3,0))=0,,\")\"))","v":" "},null,{"$f":"IF($C226=\"\",\"\",VLOOKUP(基本登録情報!$C$7,登録データ!$I$3:$L$100,3,FALSE))","v":""},{"$f":"IF($C226=\"\",\"\",VLOOKUP(OFFSET(男子様式!$O$18,3*A226,0),登録データ!AM226:AN272,2,FALSE))","v":""}]
[226,null,null,{"$f":"IF($C227=\"\",\"\",CONCATENATE(男子様式!$D246,\" \",男子様式!$J246))","v":""},null,{"$f":"CONCATENATE(OFFSET(男子様式!$J$18,3*A227,0),\" \",IF(LEN(OFFSET(男子様式!$L$18,A227*3,0))=0,,\"(\"),LEFT(OFFSET(男子様式!$L$18,A227*3,0),2),IF(LEN(OFFSET(男子様式!$J$18,A227*3,0))=0,,\")\"))","v":" "},null,{"$f":"IF($C227=\"\",\"\",VLOOKUP(基本登録情報!$C$7,登録データ!$I$3:$L$100,3,FALSE))","v":""},{"$f":"IF($C227=\"\",\"\",VLOOKUP(OFFSET(男子様式!$O$18,3*A227,0),登録データ!AM227:AN273,2,FALSE))","v":""}]
[null,null,null,{"$f":"IF($C228=\"\",\"\",CONCATENATE(男子様式!$D247,\" \",男子様式!$J247))","v":""},null,{"$f":"CONCATENATE(OFFSET(男子様式!$J$18,3*A228,0),\" \",IF(LEN(OFFSET(男子様式!$L$18,A228*3,0))=0,,\"(\"),LEFT(OFFSET(男子様式!$L$18,A228*3,0),2),IF(LEN(OFFSET(男子様式!$J$18,A228*3,0))=0,,\")\"))","v":" "},null,{"$f":"IF($C228=\"\",\"\",VLOOKUP(基本登録情報!$C$7,登録データ!$I$3:$L$100,3,FALSE))","v":""},{"$f":"IF($C228=\"\",\"\",VLOOKUP(OFFSET(男子様式!$O$18,3*A228,0),登録データ!AM228:AN274,2,FALSE))","v":""}]
[null,null,null,{"$f":"IF($C229=\"\",\"\",CONCATENATE(男子様式!$D248,\" \",男子様式!$J248))","v":""},null,{"$f":"CONCATENATE(OFFSET(男子様式!$J$18,3*A229,0),\" \",IF(LEN(OFFSET(男子様式!$L$18,A229*3,0))=0,,\"(\"),LEFT(OFFSET(男子様式!$L$18,A229*3,0),2),IF(LEN(OFFSET(男子様式!$J$18,A229*3,0))=0,,\")\"))","v":" "},null,{"$f":"IF($C229=\"\",\"\",VLOOKUP(基本登録情報!$C$7,登録データ!$I$3:$L$100,3,FALSE))","v":""},{"$f":"IF($C229=\"\",\"\",VLOOKUP(OFFSET(男子様式!$O$18,3*A229,0),登録データ!AM229:AN275,2,FALSE))","v":""}]
[null,null,null,{"$f":"IF($C230=\"\",\"\",CONCATENATE(男子様式!$D249,\" \",男子様式!$J249))","v":""},null,{"$f":"CONCATENATE(OFFSET(男子様式!$J$18,3*A230,0),\" \",IF(LEN(OFFSET(男子様式!$L$18,A230*3,0))=0,,\"(\"),LEFT(OFFSET(男子様式!$L$18,A230*3,0),2),IF(LEN(OFFSET(男子様式!$J$18,A230*3,0))=0,,\")\"))","v":" "},null,{"$f":"IF($C230=\"\",\"\",VLOOKUP(基本登録情報!$C$7,登録データ!$I$3:$L$100,3,FALSE))","v":""},{"$f":"IF($C230=\"\",\"\",VLOOKUP(OFFSET(男子様式!$O$18,3*A230,0),登録データ!AM230:AN276,2,FALSE))","v":""}]
[null,null,null,{"$f":"IF($C231=\"\",\"\",CONCATENATE(男子様式!$D250,\" \",男子様式!$J250))","v":""},null,{"$f":"CONCATENATE(OFFSET(男子様式!$J$18,3*A231,0),\" \",IF(LEN(OFFSET(男子様式!$L$18,A231*3,0))=0,,\"(\"),LEFT(OFFSET(男子様式!$L$18,A231*3,0),2),IF(LEN(OFFSET(男子様式!$J$18,A231*3,0))=0,,\")\"))","v":" "},null,{"$f":"IF($C231=\"\",\"\",VLOOKUP(基本登録情報!$C$7,登録データ!$I$3:$L$100,3,FALSE))","v":""},{"$f":"IF($C231=\"\",\"\",VLOOKUP(OFFSET(男子様式!$O$18,3*A231,0),登録データ!AM231:AN277,2,FALSE))","v":""}]
[null,null,null,{"$f":"IF($C232=\"\",\"\",CONCATENATE(男子様式!$D251,\" \",男子様式!$J251))","v":""},null,{"$f":"CONCATENATE(OFFSET(男子様式!$J$18,3*A232,0),\" \",IF(LEN(OFFSET(男子様式!$L$18,A232*3,0))=0,,\"(\"),LEFT(OFFSET(男子様式!$L$18,A232*3,0),2),IF(LEN(OFFSET(男子様式!$J$18,A232*3,0))=0,,\")\"))","v":" "},null,{"$f":"IF($C232=\"\",\"\",VLOOKUP(基本登録情報!$C$7,登録データ!$I$3:$L$100,3,FALSE))","v":""},{"$f":"IF($C232=\"\",\"\",VLOOKUP(OFFSET(男子様式!$O$18,3*A232,0),登録データ!AM232:AN278,2,FALSE))","v":""}]
[null,null,null,{"$f":"IF($C233=\"\",\"\",CONCATENATE(男子様式!$D252,\" \",男子様式!$J252))","v":""},null,{"$f":"CONCATENATE(OFFSET(男子様式!$J$18,3*A233,0),\" \",IF(LEN(OFFSET(男子様式!$L$18,A233*3,0))=0,,\"(\"),LEFT(OFFSET(男子様式!$L$18,A233*3,0),2),IF(LEN(OFFSET(男子様式!$J$18,A233*3,0))=0,,\")\"))","v":" "},null,{"$f":"IF($C233=\"\",\"\",VLOOKUP(基本登録情報!$C$7,登録データ!$I$3:$L$100,3,FALSE))","v":""},{"$f":"IF($C233=\"\",\"\",VLOOKUP(OFFSET(男子様式!$O$18,3*A233,0),登録データ!AM233:AN279,2,FALSE))","v":""}]
[null,null,null,{"$f":"IF($C234=\"\",\"\",CONCATENATE(男子様式!$D253,\" \",男子様式!$J253))","v":""},null,{"$f":"CONCATENATE(OFFSET(男子様式!$J$18,3*A234,0),\" \",IF(LEN(OFFSET(男子様式!$L$18,A234*3,0))=0,,\"(\"),LEFT(OFFSET(男子様式!$L$18,A234*3,0),2),IF(LEN(OFFSET(男子様式!$J$18,A234*3,0))=0,,\")\"))","v":" "},null,{"$f":"IF($C234=\"\",\"\",VLOOKUP(基本登録情報!$C$7,登録データ!$I$3:$L$100,3,FALSE))","v":""},{"$f":"IF($C234=\"\",\"\",VLOOKUP(OFFSET(男子様式!$O$18,3*A234,0),登録データ!AM234:AN280,2,FALSE))","v":""}]
[null,null,null,{"$f":"IF($C235=\"\",\"\",CONCATENATE(男子様式!$D254,\" \",男子様式!$J254))","v":""},null,{"$f":"CONCATENATE(OFFSET(男子様式!$J$18,3*A235,0),\" \",IF(LEN(OFFSET(男子様式!$L$18,A235*3,0))=0,,\"(\"),LEFT(OFFSET(男子様式!$L$18,A235*3,0),2),IF(LEN(OFFSET(男子様式!$J$18,A235*3,0))=0,,\")\"))","v":" "},null,{"$f":"IF($C235=\"\",\"\",VLOOKUP(基本登録情報!$C$7,登録データ!$I$3:$L$100,3,FALSE))","v":""},{"$f":"IF($C235=\"\",\"\",VLOOKUP(OFFSET(男子様式!$O$18,3*A235,0),登録データ!AM235:AN281,2,FALSE))","v":""}]
[null,null,null,{"$f":"IF($C236=\"\",\"\",CONCATENATE(男子様式!$D255,\" \",男子様式!$J255))","v":""},null,{"$f":"CONCATENATE(OFFSET(男子様式!$J$18,3*A236,0),\" \",IF(LEN(OFFSET(男子様式!$L$18,A236*3,0))=0,,\"(\"),LEFT(OFFSET(男子様式!$L$18,A236*3,0),2),IF(LEN(OFFSET(男子様式!$J$18,A236*3,0))=0,,\")\"))","v":" "},null,{"$f":"IF($C236=\"\",\"\",VLOOKUP(基本登録情報!$C$7,登録データ!$I$3:$L$100,3,FALSE))","v":""},{"$f":"IF($C236=\"\",\"\",VLOOKUP(OFFSET(男子様式!$O$18,3*A236,0),登録データ!AM236:AN282,2,FALSE))","v":""}]
[null,null,null,{"$f":"IF($C237=\"\",\"\",CONCATENATE(男子様式!$D256,\" \",男子様式!$J256))","v":""},null,{"$f":"CONCATENATE(OFFSET(男子様式!$J$18,3*A237,0),\" \",IF(LEN(OFFSET(男子様式!$L$18,A237*3,0))=0,,\"(\"),LEFT(OFFSET(男子様式!$L$18,A237*3,0),2),IF(LEN(OFFSET(男子様式!$J$18,A237*3,0))=0,,\")\"))","v":" "},null,{"$f":"IF($C237=\"\",\"\",VLOOKUP(基本登録情報!$C$7,登録データ!$I$3:$L$100,3,FALSE))","v":""},{"$f":"IF($C237=\"\",\"\",VLOOKUP(OFFSET(男子様式!$O$18,3*A237,0),登録データ!AM237:AN283,2,FALSE))","v":""}]
[null,null,null,{"$f":"IF($C238=\"\",\"\",CONCATENATE(男子様式!$D257,\" \",男子様式!$J257))","v":""},null,{"$f":"CONCATENATE(OFFSET(男子様式!$J$18,3*A238,0),\" \",IF(LEN(OFFSET(男子様式!$L$18,A238*3,0))=0,,\"(\"),LEFT(OFFSET(男子様式!$L$18,A238*3,0),2),IF(LEN(OFFSET(男子様式!$J$18,A238*3,0))=0,,\")\"))","v":" "},null,{"$f":"IF($C238=\"\",\"\",VLOOKUP(基本登録情報!$C$7,登録データ!$I$3:$L$100,3,FALSE))","v":""},{"$f":"IF($C238=\"\",\"\",VLOOKUP(OFFSET(男子様式!$O$18,3*A238,0),登録データ!AM238:AN284,2,FALSE))","v":""}]
[null,null,null,{"$f":"IF($C239=\"\",\"\",CONCATENATE(男子様式!$D258,\" \",男子様式!$J258))","v":""},null,{"$f":"CONCATENATE(OFFSET(男子様式!$J$18,3*A239,0),\" \",IF(LEN(OFFSET(男子様式!$L$18,A239*3,0))=0,,\"(\"),LEFT(OFFSET(男子様式!$L$18,A239*3,0),2),IF(LEN(OFFSET(男子様式!$J$18,A239*3,0))=0,,\")\"))","v":" "},null,{"$f":"IF($C239=\"\",\"\",VLOOKUP(基本登録情報!$C$7,登録データ!$I$3:$L$100,3,FALSE))","v":""},{"$f":"IF($C239=\"\",\"\",VLOOKUP(OFFSET(男子様式!$O$18,3*A239,0),登録データ!AM239:AN285,2,FALSE))","v":""}]
[null,null,null,{"$f":"IF($C240=\"\",\"\",CONCATENATE(男子様式!$D259,\" \",男子様式!$J259))","v":""},null,{"$f":"CONCATENATE(OFFSET(男子様式!$J$18,3*A240,0),\" \",IF(LEN(OFFSET(男子様式!$L$18,A240*3,0))=0,,\"(\"),LEFT(OFFSET(男子様式!$L$18,A240*3,0),2),IF(LEN(OFFSET(男子様式!$J$18,A240*3,0))=0,,\")\"))","v":" "},null,{"$f":"IF($C240=\"\",\"\",VLOOKUP(基本登録情報!$C$7,登録データ!$I$3:$L$100,3,FALSE))","v":""},{"$f":"IF($C240=\"\",\"\",VLOOKUP(OFFSET(男子様式!$O$18,3*A240,0),登録データ!AM240:AN286,2,FALSE))","v":""}]
[null,null,null,{"$f":"IF($C241=\"\",\"\",CONCATENATE(男子様式!$D260,\" \",男子様式!$J260))","v":""},null,{"$f":"CONCATENATE(OFFSET(男子様式!$J$18,3*A241,0),\" \",IF(LEN(OFFSET(男子様式!$L$18,A241*3,0))=0,,\"(\"),LEFT(OFFSET(男子様式!$L$18,A241*3,0),2),IF(LEN(OFFSET(男子様式!$J$18,A241*3,0))=0,,\")\"))","v":" "},null,{"$f":"IF($C241=\"\",\"\",VLOOKUP(基本登録情報!$C$7,登録データ!$I$3:$L$100,3,FALSE))","v":""},{"$f":"IF($C241=\"\",\"\",VLOOKUP(OFFSET(男子様式!$O$18,3*A241,0),登録データ!AM241:AN287,2,FALSE))","v":""}]
[null,null,null,{"$f":"IF($C242=\"\",\"\",CONCATENATE(男子様式!$D261,\" \",男子様式!$J261))","v":""},null,{"$f":"CONCATENATE(OFFSET(男子様式!$J$18,3*A242,0),\" \",IF(LEN(OFFSET(男子様式!$L$18,A242*3,0))=0,,\"(\"),LEFT(OFFSET(男子様式!$L$18,A242*3,0),2),IF(LEN(OFFSET(男子様式!$J$18,A242*3,0))=0,,\")\"))","v":" "},null,{"$f":"IF($C242=\"\",\"\",VLOOKUP(基本登録情報!$C$7,登録データ!$I$3:$L$100,3,FALSE))","v":""},{"$f":"IF($C242=\"\",\"\",VLOOKUP(OFFSET(男子様式!$O$18,3*A242,0),登録データ!AM242:AN288,2,FALSE))","v":""}]
[null,null,null,{"$f":"IF($C243=\"\",\"\",CONCATENATE(男子様式!$D262,\" \",男子様式!$J262))","v":""},null,{"$f":"CONCATENATE(OFFSET(男子様式!$J$18,3*A243,0),\" \",IF(LEN(OFFSET(男子様式!$L$18,A243*3,0))=0,,\"(\"),LEFT(OFFSET(男子様式!$L$18,A243*3,0),2),IF(LEN(OFFSET(男子様式!$J$18,A243*3,0))=0,,\")\"))","v":" "},null,{"$f":"IF($C243=\"\",\"\",VLOOKUP(基本登録情報!$C$7,登録データ!$I$3:$L$100,3,FALSE))","v":""},{"$f":"IF($C243=\"\",\"\",VLOOKUP(OFFSET(男子様式!$O$18,3*A243,0),登録データ!AM243:AN289,2,FALSE))","v":""}]
[null,null,null,{"$f":"IF($C244=\"\",\"\",CONCATENATE(男子様式!$D263,\" \",男子様式!$J263))","v":""},null,{"$f":"CONCATENATE(OFFSET(男子様式!$J$18,3*A244,0),\" \",IF(LEN(OFFSET(男子様式!$L$18,A244*3,0))=0,,\"(\"),LEFT(OFFSET(男子様式!$L$18,A244*3,0),2),IF(LEN(OFFSET(男子様式!$J$18,A244*3,0))=0,,\")\"))","v":" "},null,{"$f":"IF($C244=\"\",\"\",VLOOKUP(基本登録情報!$C$7,登録データ!$I$3:$L$100,3,FALSE))","v":""},{"$f":"IF($C244=\"\",\"\",VLOOKUP(OFFSET(男子様式!$O$18,3*A244,0),登録データ!AM244:AN290,2,FALSE))","v":""}]
[null,null,null,{"$f":"IF($C245=\"\",\"\",CONCATENATE(男子様式!$D264,\" \",男子様式!$J264))","v":""},null,{"$f":"CONCATENATE(OFFSET(男子様式!$J$18,3*A245,0),\" \",IF(LEN(OFFSET(男子様式!$L$18,A245*3,0))=0,,\"(\"),LEFT(OFFSET(男子様式!$L$18,A245*3,0),2),IF(LEN(OFFSET(男子様式!$J$18,A245*3,0))=0,,\")\"))","v":" "},null,{"$f":"IF($C245=\"\",\"\",VLOOKUP(基本登録情報!$C$7,登録データ!$I$3:$L$100,3,FALSE))","v":""},{"$f":"IF($C245=\"\",\"\",VLOOKUP(OFFSET(男子様式!$O$18,3*A245,0),登録データ!AM245:AN291,2,FALSE))","v":""}]
[null,null,null,{"$f":"IF($C246=\"\",\"\",CONCATENATE(男子様式!$D265,\" \",男子様式!$J265))","v":""},null,{"$f":"CONCATENATE(OFFSET(男子様式!$J$18,3*A246,0),\" \",IF(LEN(OFFSET(男子様式!$L$18,A246*3,0))=0,,\"(\"),LEFT(OFFSET(男子様式!$L$18,A246*3,0),2),IF(LEN(OFFSET(男子様式!$J$18,A246*3,0))=0,,\")\"))","v":" "},null,{"$f":"IF($C246=\"\",\"\",VLOOKUP(基本登録情報!$C$7,登録データ!$I$3:$L$100,3,FALSE))","v":""},{"$f":"IF($C246=\"\",\"\",VLOOKUP(OFFSET(男子様式!$O$18,3*A246,0),登録データ!AM246:AN292,2,FALSE))","v":""}]
[null,null,null,{"$f":"IF($C247=\"\",\"\",CONCATENATE(男子様式!$D266,\" \",男子様式!$J266))","v":""},null,{"$f":"CONCATENATE(OFFSET(男子様式!$J$18,3*A247,0),\" \",IF(LEN(OFFSET(男子様式!$L$18,A247*3,0))=0,,\"(\"),LEFT(OFFSET(男子様式!$L$18,A247*3,0),2),IF(LEN(OFFSET(男子様式!$J$18,A247*3,0))=0,,\")\"))","v":" "},null,{"$f":"IF($C247=\"\",\"\",VLOOKUP(基本登録情報!$C$7,登録データ!$I$3:$L$100,3,FALSE))","v":""},{"$f":"IF($C247=\"\",\"\",VLOOKUP(OFFSET(男子様式!$O$18,3*A247,0),登録データ!AM247:AN293,2,FALSE))","v":""}]
[null,null,null,{"$f":"IF($C248=\"\",\"\",CONCATENATE(男子様式!$D267,\" \",男子様式!$J267))","v":""},null,{"$f":"CONCATENATE(OFFSET(男子様式!$J$18,3*A248,0),\" \",IF(LEN(OFFSET(男子様式!$L$18,A248*3,0))=0,,\"(\"),LEFT(OFFSET(男子様式!$L$18,A248*3,0),2),IF(LEN(OFFSET(男子様式!$J$18,A248*3,0))=0,,\")\"))","v":" "},null,{"$f":"IF($C248=\"\",\"\",VLOOKUP(基本登録情報!$C$7,登録データ!$I$3:$L$100,3,FALSE))","v":""},{"$f":"IF($C248=\"\",\"\",VLOOKUP(OFFSET(男子様式!$O$18,3*A248,0),登録データ!AM248:AN294,2,FALSE))","v":""}]
[null,null,null,{"$f":"IF($C249=\"\",\"\",CONCATENATE(男子様式!$D268,\" \",男子様式!$J268))","v":""},null,{"$f":"CONCATENATE(OFFSET(男子様式!$J$18,3*A249,0),\" \",IF(LEN(OFFSET(男子様式!$L$18,A249*3,0))=0,,\"(\"),LEFT(OFFSET(男子様式!$L$18,A249*3,0),2),IF(LEN(OFFSET(男子様式!$J$18,A249*3,0))=0,,\")\"))","v":" "},null,{"$f":"IF($C249=\"\",\"\",VLOOKUP(基本登録情報!$C$7,登録データ!$I$3:$L$100,3,FALSE))","v":""},{"$f":"IF($C249=\"\",\"\",VLOOKUP(OFFSET(男子様式!$O$18,3*A249,0),登録データ!AM249:AN295,2,FALSE))","v":""}]
[null,null,null,{"$f":"IF($C250=\"\",\"\",CONCATENATE(男子様式!$D269,\" \",男子様式!$J269))","v":""},null,{"$f":"CONCATENATE(OFFSET(男子様式!$J$18,3*A250,0),\" \",IF(LEN(OFFSET(男子様式!$L$18,A250*3,0))=0,,\"(\"),LEFT(OFFSET(男子様式!$L$18,A250*3,0),2),IF(LEN(OFFSET(男子様式!$J$18,A250*3,0))=0,,\")\"))","v":" "},null,{"$f":"IF($C250=\"\",\"\",VLOOKUP(基本登録情報!$C$7,登録データ!$I$3:$L$100,3,FALSE))","v":""},{"$f":"IF($C250=\"\",\"\",VLOOKUP(OFFSET(男子様式!$O$18,3*A250,0),登録データ!AM250:AN296,2,FALSE))","v":""}]
[null,null,null,{"$f":"IF($C251=\"\",\"\",CONCATENATE(男子様式!$D270,\" \",男子様式!$J270))","v":""},null,{"$f":"CONCATENATE(OFFSET(男子様式!$J$18,3*A251,0),\" \",IF(LEN(OFFSET(男子様式!$L$18,A251*3,0))=0,,\"(\"),LEFT(OFFSET(男子様式!$L$18,A251*3,0),2),IF(LEN(OFFSET(男子様式!$J$18,A251*3,0))=0,,\")\"))","v":" "},null,{"$f":"IF($C251=\"\",\"\",VLOOKUP(基本登録情報!$C$7,登録データ!$I$3:$L$100,3,FALSE))","v":""},{"$f":"IF($C251=\"\",\"\",VLOOKUP(OFFSET(男子様式!$O$18,3*A251,0),登録データ!AM251:AN297,2,FALSE))","v":""}]
[null,null,null,{"$f":"IF($C252=\"\",\"\",CONCATENATE(男子様式!$D271,\" \",男子様式!$J271))","v":""},null,{"$f":"CONCATENATE(OFFSET(男子様式!$J$18,3*A252,0),\" \",IF(LEN(OFFSET(男子様式!$L$18,A252*3,0))=0,,\"(\"),LEFT(OFFSET(男子様式!$L$18,A252*3,0),2),IF(LEN(OFFSET(男子様式!$J$18,A252*3,0))=0,,\")\"))","v":" "},null,{"$f":"IF($C252=\"\",\"\",VLOOKUP(基本登録情報!$C$7,登録データ!$I$3:$L$100,3,FALSE))","v":""},{"$f":"IF($C252=\"\",\"\",VLOOKUP(OFFSET(男子様式!$O$18,3*A252,0),登録データ!AM252:AN298,2,FALSE))","v":""}]
[null,null,null,{"$f":"IF($C253=\"\",\"\",CONCATENATE(男子様式!$D272,\" \",男子様式!$J272))","v":""},null,{"$f":"CONCATENATE(OFFSET(男子様式!$J$18,3*A253,0),\" \",IF(LEN(OFFSET(男子様式!$L$18,A253*3,0))=0,,\"(\"),LEFT(OFFSET(男子様式!$L$18,A253*3,0),2),IF(LEN(OFFSET(男子様式!$J$18,A253*3,0))=0,,\")\"))","v":" "},null,{"$f":"IF($C253=\"\",\"\",VLOOKUP(基本登録情報!$C$7,登録データ!$I$3:$L$100,3,FALSE))","v":""},{"$f":"IF($C253=\"\",\"\",VLOOKUP(OFFSET(男子様式!$O$18,3*A253,0),登録データ!AM253:AN299,2,FALSE))","v":""}]
[null,null,null,{"$f":"IF($C254=\"\",\"\",CONCATENATE(男子様式!$D273,\" \",男子様式!$J273))","v":""},null,{"$f":"CONCATENATE(OFFSET(男子様式!$J$18,3*A254,0),\" \",IF(LEN(OFFSET(男子様式!$L$18,A254*3,0))=0,,\"(\"),LEFT(OFFSET(男子様式!$L$18,A254*3,0),2),IF(LEN(OFFSET(男子様式!$J$18,A254*3,0))=0,,\")\"))","v":" "},null,{"$f":"IF($C254=\"\",\"\",VLOOKUP(基本登録情報!$C$7,登録データ!$I$3:$L$100,3,FALSE))","v":""},{"$f":"IF($C254=\"\",\"\",VLOOKUP(OFFSET(男子様式!$O$18,3*A254,0),登録データ!AM254:AN300,2,FALSE))","v":""}]
[null,null,null,{"$f":"IF($C255=\"\",\"\",CONCATENATE(男子様式!$D274,\" \",男子様式!$J274))","v":""},null,{"$f":"CONCATENATE(OFFSET(男子様式!$J$18,3*A255,0),\" \",IF(LEN(OFFSET(男子様式!$L$18,A255*3,0))=0,,\"(\"),LEFT(OFFSET(男子様式!$L$18,A255*3,0),2),IF(LEN(OFFSET(男子様式!$J$18,A255*3,0))=0,,\")\"))","v":" "},null,{"$f":"IF($C255=\"\",\"\",VLOOKUP(基本登録情報!$C$7,登録データ!$I$3:$L$100,3,FALSE))","v":""},{"$f":"IF($C255=\"\",\"\",VLOOKUP(OFFSET(男子様式!$O$18,3*A255,0),登録データ!AM255:AN301,2,FALSE))","v":""}]
[null,null,null,{"$f":"IF($C256=\"\",\"\",CONCATENATE(男子様式!$D275,\" \",男子様式!$J275))","v":""},null,{"$f":"CONCATENATE(OFFSET(男子様式!$J$18,3*A256,0),\" \",IF(LEN(OFFSET(男子様式!$L$18,A256*3,0))=0,,\"(\"),LEFT(OFFSET(男子様式!$L$18,A256*3,0),2),IF(LEN(OFFSET(男子様式!$J$18,A256*3,0))=0,,\")\"))","v":" "},null,{"$f":"IF($C256=\"\",\"\",VLOOKUP(基本登録情報!$C$7,登録データ!$I$3:$L$100,3,FALSE))","v":""},{"$f":"IF($C256=\"\",\"\",VLOOKUP(OFFSET(男子様式!$O$18,3*A256,0),登録データ!AM256:AN302,2,FALSE))","v":""}]
[null,null,null,{"$f":"IF($C257=\"\",\"\",CONCATENATE(男子様式!$D276,\" \",男子様式!$J276))","v":""},null,{"$f":"CONCATENATE(OFFSET(男子様式!$J$18,3*A257,0),\" \",IF(LEN(OFFSET(男子様式!$L$18,A257*3,0))=0,,\"(\"),LEFT(OFFSET(男子様式!$L$18,A257*3,0),2),IF(LEN(OFFSET(男子様式!$J$18,A257*3,0))=0,,\")\"))","v":" "},null,{"$f":"IF($C257=\"\",\"\",VLOOKUP(基本登録情報!$C$7,登録データ!$I$3:$L$100,3,FALSE))","v":""},{"$f":"IF($C257=\"\",\"\",VLOOKUP(OFFSET(男子様式!$O$18,3*A257,0),登録データ!AM257:AN303,2,FALSE))","v":""}]
[null,null,null,{"$f":"IF($C258=\"\",\"\",CONCATENATE(男子様式!$D277,\" \",男子様式!$J277))","v":""},null,{"$f":"CONCATENATE(OFFSET(男子様式!$J$18,3*A258,0),\" \",IF(LEN(OFFSET(男子様式!$L$18,A258*3,0))=0,,\"(\"),LEFT(OFFSET(男子様式!$L$18,A258*3,0),2),IF(LEN(OFFSET(男子様式!$J$18,A258*3,0))=0,,\")\"))","v":" "},null,{"$f":"IF($C258=\"\",\"\",VLOOKUP(基本登録情報!$C$7,登録データ!$I$3:$L$100,3,FALSE))","v":""},{"$f":"IF($C258=\"\",\"\",VLOOKUP(OFFSET(男子様式!$O$18,3*A258,0),登録データ!AM258:AN304,2,FALSE))","v":""}]
[null,null,null,{"$f":"IF($C259=\"\",\"\",CONCATENATE(男子様式!$D278,\" \",男子様式!$J278))","v":""},null,{"$f":"CONCATENATE(OFFSET(男子様式!$J$18,3*A259,0),\" \",IF(LEN(OFFSET(男子様式!$L$18,A259*3,0))=0,,\"(\"),LEFT(OFFSET(男子様式!$L$18,A259*3,0),2),IF(LEN(OFFSET(男子様式!$J$18,A259*3,0))=0,,\")\"))","v":" "},null,{"$f":"IF($C259=\"\",\"\",VLOOKUP(基本登録情報!$C$7,登録データ!$I$3:$L$100,3,FALSE))","v":""},{"$f":"IF($C259=\"\",\"\",VLOOKUP(OFFSET(男子様式!$O$18,3*A259,0),登録データ!AM259:AN305,2,FALSE))","v":""}]
[null,null,null,{"$f":"IF($C260=\"\",\"\",CONCATENATE(男子様式!$D279,\" \",男子様式!$J279))","v":""},null,{"$f":"CONCATENATE(OFFSET(男子様式!$J$18,3*A260,0),\" \",IF(LEN(OFFSET(男子様式!$L$18,A260*3,0))=0,,\"(\"),LEFT(OFFSET(男子様式!$L$18,A260*3,0),2),IF(LEN(OFFSET(男子様式!$J$18,A260*3,0))=0,,\")\"))","v":" "},null,{"$f":"IF($C260=\"\",\"\",VLOOKUP(基本登録情報!$C$7,登録データ!$I$3:$L$100,3,FALSE))","v":""},{"$f":"IF($C260=\"\",\"\",VLOOKUP(OFFSET(男子様式!$O$18,3*A260,0),登録データ!AM260:AN306,2,FALSE))","v":""}]
[null,null,null,{"$f":"IF($C261=\"\",\"\",CONCATENATE(男子様式!$D280,\" \",男子様式!$J280))","v":""},null,{"$f":"CONCATENATE(OFFSET(男子様式!$J$18,3*A261,0),\" \",IF(LEN(OFFSET(男子様式!$L$18,A261*3,0))=0,,\"(\"),LEFT(OFFSET(男子様式!$L$18,A261*3,0),2),IF(LEN(OFFSET(男子様式!$J$18,A261*3,0))=0,,\")\"))","v":" "},null,{"$f":"IF($C261=\"\",\"\",VLOOKUP(基本登録情報!$C$7,登録データ!$I$3:$L$100,3,FALSE))","v":""},{"$f":"IF($C261=\"\",\"\",VLOOKUP(OFFSET(男子様式!$O$18,3*A261,0),登録データ!AM261:AN307,2,FALSE))","v":""}]
[null,null,null,{"$f":"IF($C262=\"\",\"\",CONCATENATE(男子様式!$D281,\" \",男子様式!$J281))","v":""},null,{"$f":"CONCATENATE(OFFSET(男子様式!$J$18,3*A262,0),\" \",IF(LEN(OFFSET(男子様式!$L$18,A262*3,0))=0,,\"(\"),LEFT(OFFSET(男子様式!$L$18,A262*3,0),2),IF(LEN(OFFSET(男子様式!$J$18,A262*3,0))=0,,\")\"))","v":" "},null,{"$f":"IF($C262=\"\",\"\",VLOOKUP(基本登録情報!$C$7,登録データ!$I$3:$L$100,3,FALSE))","v":""},{"$f":"IF($C262=\"\",\"\",VLOOKUP(OFFSET(男子様式!$O$18,3*A262,0),登録データ!AM262:AN308,2,FALSE))","v":""}]
[null,null,null,{"$f":"IF($C263=\"\",\"\",CONCATENATE(男子様式!$D282,\" \",男子様式!$J282))","v":""},null,{"$f":"CONCATENATE(OFFSET(男子様式!$J$18,3*A263,0),\" \",IF(LEN(OFFSET(男子様式!$L$18,A263*3,0))=0,,\"(\"),LEFT(OFFSET(男子様式!$L$18,A263*3,0),2),IF(LEN(OFFSET(男子様式!$J$18,A263*3,0))=0,,\")\"))","v":" "},null,{"$f":"IF($C263=\"\",\"\",VLOOKUP(基本登録情報!$C$7,登録データ!$I$3:$L$100,3,FALSE))","v":""},{"$f":"IF($C263=\"\",\"\",VLOOKUP(OFFSET(男子様式!$O$18,3*A263,0),登録データ!AM263:AN309,2,FALSE))","v":""}]
[null,null,null,{"$f":"IF($C264=\"\",\"\",CONCATENATE(男子様式!$D283,\" \",男子様式!$J283))","v":""},null,{"$f":"CONCATENATE(OFFSET(男子様式!$J$18,3*A264,0),\" \",IF(LEN(OFFSET(男子様式!$L$18,A264*3,0))=0,,\"(\"),LEFT(OFFSET(男子様式!$L$18,A264*3,0),2),IF(LEN(OFFSET(男子様式!$J$18,A264*3,0))=0,,\")\"))","v":" "},null,{"$f":"IF($C264=\"\",\"\",VLOOKUP(基本登録情報!$C$7,登録データ!$I$3:$L$100,3,FALSE))","v":""},{"$f":"IF($C264=\"\",\"\",VLOOKUP(OFFSET(男子様式!$O$18,3*A264,0),登録データ!AM264:AN310,2,FALSE))","v":""}]
[null,null,null,{"$f":"IF($C265=\"\",\"\",CONCATENATE(男子様式!$D284,\" \",男子様式!$J284))","v":""},null,{"$f":"CONCATENATE(OFFSET(男子様式!$J$18,3*A265,0),\" \",IF(LEN(OFFSET(男子様式!$L$18,A265*3,0))=0,,\"(\"),LEFT(OFFSET(男子様式!$L$18,A265*3,0),2),IF(LEN(OFFSET(男子様式!$J$18,A265*3,0))=0,,\")\"))","v":" "},null,{"$f":"IF($C265=\"\",\"\",VLOOKUP(基本登録情報!$C$7,登録データ!$I$3:$L$100,3,FALSE))","v":""},{"$f":"IF($C265=\"\",\"\",VLOOKUP(OFFSET(男子様式!$O$18,3*A265,0),登録データ!AM265:AN311,2,FALSE))","v":""}]
[null,null,null,{"$f":"IF($C266=\"\",\"\",CONCATENATE(男子様式!$D285,\" \",男子様式!$J285))","v":""},null,{"$f":"CONCATENATE(OFFSET(男子様式!$J$18,3*A266,0),\" \",IF(LEN(OFFSET(男子様式!$L$18,A266*3,0))=0,,\"(\"),LEFT(OFFSET(男子様式!$L$18,A266*3,0),2),IF(LEN(OFFSET(男子様式!$J$18,A266*3,0))=0,,\")\"))","v":" "},null,{"$f":"IF($C266=\"\",\"\",VLOOKUP(基本登録情報!$C$7,登録データ!$I$3:$L$100,3,FALSE))","v":""},{"$f":"IF($C266=\"\",\"\",VLOOKUP(OFFSET(男子様式!$O$18,3*A266,0),登録データ!AM266:AN312,2,FALSE))","v":""}]
[null,null,null,{"$f":"IF($C267=\"\",\"\",CONCATENATE(男子様式!$D286,\" \",男子様式!$J286))","v":""},null,{"$f":"CONCATENATE(OFFSET(男子様式!$J$18,3*A267,0),\" \",IF(LEN(OFFSET(男子様式!$L$18,A267*3,0))=0,,\"(\"),LEFT(OFFSET(男子様式!$L$18,A267*3,0),2),IF(LEN(OFFSET(男子様式!$J$18,A267*3,0))=0,,\")\"))","v":" "},null,{"$f":"IF($C267=\"\",\"\",VLOOKUP(基本登録情報!$C$7,登録データ!$I$3:$L$100,3,FALSE))","v":""},{"$f":"IF($C267=\"\",\"\",VLOOKUP(OFFSET(男子様式!$O$18,3*A267,0),登録データ!AM267:AN313,2,FALSE))","v":""}]
[null,null,null,{"$f":"IF($C268=\"\",\"\",CONCATENATE(男子様式!$D287,\" \",男子様式!$J287))","v":""},null,{"$f":"CONCATENATE(OFFSET(男子様式!$J$18,3*A268,0),\" \",IF(LEN(OFFSET(男子様式!$L$18,A268*3,0))=0,,\"(\"),LEFT(OFFSET(男子様式!$L$18,A268*3,0),2),IF(LEN(OFFSET(男子様式!$J$18,A268*3,0))=0,,\")\"))","v":" "},null,{"$f":"IF($C268=\"\",\"\",VLOOKUP(基本登録情報!$C$7,登録データ!$I$3:$L$100,3,FALSE))","v":""},{"$f":"IF($C268=\"\",\"\",VLOOKUP(OFFSET(男子様式!$O$18,3*A268,0),登録データ!AM268:AN314,2,FALSE))","v":""}]
[null,null,null,{"$f":"IF($C269=\"\",\"\",CONCATENATE(男子様式!$D288,\" \",男子様式!$J288))","v":""},null,{"$f":"CONCATENATE(OFFSET(男子様式!$J$18,3*A269,0),\" \",IF(LEN(OFFSET(男子様式!$L$18,A269*3,0))=0,,\"(\"),LEFT(OFFSET(男子様式!$L$18,A269*3,0),2),IF(LEN(OFFSET(男子様式!$J$18,A269*3,0))=0,,\")\"))","v":" "},null,{"$f":"IF($C269=\"\",\"\",VLOOKUP(基本登録情報!$C$7,登録データ!$I$3:$L$100,3,FALSE))","v":""},{"$f":"IF($C269=\"\",\"\",VLOOKUP(OFFSET(男子様式!$O$18,3*A269,0),登録データ!AM269:AN315,2,FALSE))","v":""}]
[null,null,null,{"$f":"IF($C270=\"\",\"\",CONCATENATE(男子様式!$D289,\" \",男子様式!$J289))","v":""},null,{"$f":"CONCATENATE(OFFSET(男子様式!$J$18,3*A270,0),\" \",IF(LEN(OFFSET(男子様式!$L$18,A270*3,0))=0,,\"(\"),LEFT(OFFSET(男子様式!$L$18,A270*3,0),2),IF(LEN(OFFSET(男子様式!$J$18,A270*3,0))=0,,\")\"))","v":" "},null,{"$f":"IF($C270=\"\",\"\",VLOOKUP(基本登録情報!$C$7,登録データ!$I$3:$L$100,3,FALSE))","v":""},{"$f":"IF($C270=\"\",\"\",VLOOKUP(OFFSET(男子様式!$O$18,3*A270,0),登録データ!AM270:AN316,2,FALSE))","v":""}]
[null,null,null,{"$f":"IF($C271=\"\",\"\",CONCATENATE(男子様式!$D290,\" \",男子様式!$J290))","v":""},null,{"$f":"CONCATENATE(OFFSET(男子様式!$J$18,3*A271,0),\" \",IF(LEN(OFFSET(男子様式!$L$18,A271*3,0))=0,,\"(\"),LEFT(OFFSET(男子様式!$L$18,A271*3,0),2),IF(LEN(OFFSET(男子様式!$J$18,A271*3,0))=0,,\")\"))","v":" "},null,{"$f":"IF($C271=\"\",\"\",VLOOKUP(基本登録情報!$C$7,登録データ!$I$3:$L$100,3,FALSE))","v":""},{"$f":"IF($C271=\"\",\"\",VLOOKUP(OFFSET(男子様式!$O$18,3*A271,0),登録データ!AM271:AN317,2,FALSE))","v":""}]
[null,null,null,{"$f":"IF($C272=\"\",\"\",CONCATENATE(男子様式!$D291,\" \",男子様式!$J291))","v":""},null,{"$f":"CONCATENATE(OFFSET(男子様式!$J$18,3*A272,0),\" \",IF(LEN(OFFSET(男子様式!$L$18,A272*3,0))=0,,\"(\"),LEFT(OFFSET(男子様式!$L$18,A272*3,0),2),IF(LEN(OFFSET(男子様式!$J$18,A272*3,0))=0,,\")\"))","v":" "},null,{"$f":"IF($C272=\"\",\"\",VLOOKUP(基本登録情報!$C$7,登録データ!$I$3:$L$100,3,FALSE))","v":""},{"$f":"IF($C272=\"\",\"\",VLOOKUP(OFFSET(男子様式!$O$18,3*A272,0),登録データ!AM272:AN318,2,FALSE))","v":""}]
[null,null,null,{"$f":"IF($C273=\"\",\"\",CONCATENATE(男子様式!$D292,\" \",男子様式!$J292))","v":""},null,{"$f":"CONCATENATE(OFFSET(男子様式!$J$18,3*A273,0),\" \",IF(LEN(OFFSET(男子様式!$L$18,A273*3,0))=0,,\"(\"),LEFT(OFFSET(男子様式!$L$18,A273*3,0),2),IF(LEN(OFFSET(男子様式!$J$18,A273*3,0))=0,,\")\"))","v":" "},null,{"$f":"IF($C273=\"\",\"\",VLOOKUP(基本登録情報!$C$7,登録データ!$I$3:$L$100,3,FALSE))","v":""},{"$f":"IF($C273=\"\",\"\",VLOOKUP(OFFSET(男子様式!$O$18,3*A273,0),登録データ!AM273:AN319,2,FALSE))","v":""}]
[null,null,null,{"$f":"IF($C274=\"\",\"\",CONCATENATE(男子様式!$D293,\" \",男子様式!$J293))","v":""},null,{"$f":"CONCATENATE(OFFSET(男子様式!$J$18,3*A274,0),\" \",IF(LEN(OFFSET(男子様式!$L$18,A274*3,0))=0,,\"(\"),LEFT(OFFSET(男子様式!$L$18,A274*3,0),2),IF(LEN(OFFSET(男子様式!$J$18,A274*3,0))=0,,\")\"))","v":" "},null,{"$f":"IF($C274=\"\",\"\",VLOOKUP(基本登録情報!$C$7,登録データ!$I$3:$L$100,3,FALSE))","v":""},{"$f":"IF($C274=\"\",\"\",VLOOKUP(OFFSET(男子様式!$O$18,3*A274,0),登録データ!AM274:AN320,2,FALSE))","v":""}]
[null,null,null,{"$f":"IF($C275=\"\",\"\",CONCATENATE(男子様式!$D294,\" \",男子様式!$J294))","v":""},null,{"$f":"CONCATENATE(OFFSET(男子様式!$J$18,3*A275,0),\" \",IF(LEN(OFFSET(男子様式!$L$18,A275*3,0))=0,,\"(\"),LEFT(OFFSET(男子様式!$L$18,A275*3,0),2),IF(LEN(OFFSET(男子様式!$J$18,A275*3,0))=0,,\")\"))","v":" "},null,{"$f":"IF($C275=\"\",\"\",VLOOKUP(基本登録情報!$C$7,登録データ!$I$3:$L$100,3,FALSE))","v":""},{"$f":"IF($C275=\"\",\"\",VLOOKUP(OFFSET(男子様式!$O$18,3*A275,0),登録データ!AM275:AN321,2,FALSE))","v":""}]
[null,null,null,{"$f":"IF($C276=\"\",\"\",CONCATENATE(男子様式!$D295,\" \",男子様式!$J295))","v":""},null,{"$f":"CONCATENATE(OFFSET(男子様式!$J$18,3*A276,0),\" \",IF(LEN(OFFSET(男子様式!$L$18,A276*3,0))=0,,\"(\"),LEFT(OFFSET(男子様式!$L$18,A276*3,0),2),IF(LEN(OFFSET(男子様式!$J$18,A276*3,0))=0,,\")\"))","v":" "},null,{"$f":"IF($C276=\"\",\"\",VLOOKUP(基本登録情報!$C$7,登録データ!$I$3:$L$100,3,FALSE))","v":""},{"$f":"IF($C276=\"\",\"\",VLOOKUP(OFFSET(男子様式!$O$18,3*A276,0),登録データ!AM276:AN322,2,FALSE))","v":""}]
[null,null,null,{"$f":"IF($C277=\"\",\"\",CONCATENATE(男子様式!$D296,\" \",男子様式!$J296))","v":""},null,{"$f":"CONCATENATE(OFFSET(男子様式!$J$18,3*A277,0),\" \",IF(LEN(OFFSET(男子様式!$L$18,A277*3,0))=0,,\"(\"),LEFT(OFFSET(男子様式!$L$18,A277*3,0),2),IF(LEN(OFFSET(男子様式!$J$18,A277*3,0))=0,,\")\"))","v":" "},null,{"$f":"IF($C277=\"\",\"\",VLOOKUP(基本登録情報!$C$7,登録データ!$I$3:$L$100,3,FALSE))","v":""},{"$f":"IF($C277=\"\",\"\",VLOOKUP(OFFSET(男子様式!$O$18,3*A277,0),登録データ!AM277:AN323,2,FALSE))","v":""}]
[null,null,null,{"$f":"IF($C278=\"\",\"\",CONCATENATE(男子様式!$D297,\" \",男子様式!$J297))","v":""},null,{"$f":"CONCATENATE(OFFSET(男子様式!$J$18,3*A278,0),\" \",IF(LEN(OFFSET(男子様式!$L$18,A278*3,0))=0,,\"(\"),LEFT(OFFSET(男子様式!$L$18,A278*3,0),2),IF(LEN(OFFSET(男子様式!$J$18,A278*3,0))=0,,\")\"))","v":" "},null,{"$f":"IF($C278=\"\",\"\",VLOOKUP(基本登録情報!$C$7,登録データ!$I$3:$L$100,3,FALSE))","v":""},{"$f":"IF($C278=\"\",\"\",VLOOKUP(OFFSET(男子様式!$O$18,3*A278,0),登録データ!AM278:AN324,2,FALSE))","v":""}]
[null,null,null,{"$f":"IF($C279=\"\",\"\",CONCATENATE(男子様式!$D298,\" \",男子様式!$J298))","v":""},null,{"$f":"CONCATENATE(OFFSET(男子様式!$J$18,3*A279,0),\" \",IF(LEN(OFFSET(男子様式!$L$18,A279*3,0))=0,,\"(\"),LEFT(OFFSET(男子様式!$L$18,A279*3,0),2),IF(LEN(OFFSET(男子様式!$J$18,A279*3,0))=0,,\")\"))","v":" "},null,{"$f":"IF($C279=\"\",\"\",VLOOKUP(基本登録情報!$C$7,登録データ!$I$3:$L$100,3,FALSE))","v":""},{"$f":"IF($C279=\"\",\"\",VLOOKUP(OFFSET(男子様式!$O$18,3*A279,0),登録データ!AM279:AN325,2,FALSE))","v":""}]
[null,null,null,{"$f":"IF($C280=\"\",\"\",CONCATENATE(男子様式!$D299,\" \",男子様式!$J299))","v":""},null,{"$f":"CONCATENATE(OFFSET(男子様式!$J$18,3*A280,0),\" \",IF(LEN(OFFSET(男子様式!$L$18,A280*3,0))=0,,\"(\"),LEFT(OFFSET(男子様式!$L$18,A280*3,0),2),IF(LEN(OFFSET(男子様式!$J$18,A280*3,0))=0,,\")\"))","v":" "},null,{"$f":"IF($C280=\"\",\"\",VLOOKUP(基本登録情報!$C$7,登録データ!$I$3:$L$100,3,FALSE))","v":""},{"$f":"IF($C280=\"\",\"\",VLOOKUP(OFFSET(男子様式!$O$18,3*A280,0),登録データ!AM280:AN326,2,FALSE))","v":""}]
[null,null,null,{"$f":"IF($C281=\"\",\"\",CONCATENATE(男子様式!$D300,\" \",男子様式!$J300))","v":""},null,{"$f":"CONCATENATE(OFFSET(男子様式!$J$18,3*A281,0),\" \",IF(LEN(OFFSET(男子様式!$L$18,A281*3,0))=0,,\"(\"),LEFT(OFFSET(男子様式!$L$18,A281*3,0),2),IF(LEN(OFFSET(男子様式!$J$18,A281*3,0))=0,,\")\"))","v":" "},null,{"$f":"IF($C281=\"\",\"\",VLOOKUP(基本登録情報!$C$7,登録データ!$I$3:$L$100,3,FALSE))","v":""},{"$f":"IF($C281=\"\",\"\",VLOOKUP(OFFSET(男子様式!$O$18,3*A281,0),登録データ!AM281:AN327,2,FALSE))","v":""}]
[null,null,null,{"$f":"IF($C282=\"\",\"\",CONCATENATE(男子様式!$D301,\" \",男子様式!$J301))","v":""},null,{"$f":"CONCATENATE(OFFSET(男子様式!$J$18,3*A282,0),\" \",IF(LEN(OFFSET(男子様式!$L$18,A282*3,0))=0,,\"(\"),LEFT(OFFSET(男子様式!$L$18,A282*3,0),2),IF(LEN(OFFSET(男子様式!$J$18,A282*3,0))=0,,\")\"))","v":" "},null,{"$f":"IF($C282=\"\",\"\",VLOOKUP(基本登録情報!$C$7,登録データ!$I$3:$L$100,3,FALSE))","v":""},{"$f":"IF($C282=\"\",\"\",VLOOKUP(OFFSET(男子様式!$O$18,3*A282,0),登録データ!AM282:AN328,2,FALSE))","v":""}]
[null,null,null,{"$f":"IF($C283=\"\",\"\",CONCATENATE(男子様式!$D302,\" \",男子様式!$J302))","v":""},null,{"$f":"CONCATENATE(OFFSET(男子様式!$J$18,3*A283,0),\" \",IF(LEN(OFFSET(男子様式!$L$18,A283*3,0))=0,,\"(\"),LEFT(OFFSET(男子様式!$L$18,A283*3,0),2),IF(LEN(OFFSET(男子様式!$J$18,A283*3,0))=0,,\")\"))","v":" "},null,{"$f":"IF($C283=\"\",\"\",VLOOKUP(基本登録情報!$C$7,登録データ!$I$3:$L$100,3,FALSE))","v":""},{"$f":"IF($C283=\"\",\"\",VLOOKUP(OFFSET(男子様式!$O$18,3*A283,0),登録データ!AM283:AN329,2,FALSE))","v":""}]
[null,null,null,{"$f":"IF($C284=\"\",\"\",CONCATENATE(男子様式!$D303,\" \",男子様式!$J303))","v":""},null,{"$f":"CONCATENATE(OFFSET(男子様式!$J$18,3*A284,0),\" \",IF(LEN(OFFSET(男子様式!$L$18,A284*3,0))=0,,\"(\"),LEFT(OFFSET(男子様式!$L$18,A284*3,0),2),IF(LEN(OFFSET(男子様式!$J$18,A284*3,0))=0,,\")\"))","v":" "},null,{"$f":"IF($C284=\"\",\"\",VLOOKUP(基本登録情報!$C$7,登録データ!$I$3:$L$100,3,FALSE))","v":""},{"$f":"IF($C284=\"\",\"\",VLOOKUP(OFFSET(男子様式!$O$18,3*A284,0),登録データ!AM284:AN330,2,FALSE))","v":""}]
[null,null,null,{"$f":"IF($C285=\"\",\"\",CONCATENATE(男子様式!$D304,\" \",男子様式!$J304))","v":""},null,{"$f":"CONCATENATE(OFFSET(男子様式!$J$18,3*A285,0),\" \",IF(LEN(OFFSET(男子様式!$L$18,A285*3,0))=0,,\"(\"),LEFT(OFFSET(男子様式!$L$18,A285*3,0),2),IF(LEN(OFFSET(男子様式!$J$18,A285*3,0))=0,,\")\"))","v":" "},null,{"$f":"IF($C285=\"\",\"\",VLOOKUP(基本登録情報!$C$7,登録データ!$I$3:$L$100,3,FALSE))","v":""},{"$f":"IF($C285=\"\",\"\",VLOOKUP(OFFSET(男子様式!$O$18,3*A285,0),登録データ!AM285:AN331,2,FALSE))","v":""}]
[null,null,null,{"$f":"IF($C286=\"\",\"\",CONCATENATE(男子様式!$D305,\" \",男子様式!$J305))","v":""},null,{"$f":"CONCATENATE(OFFSET(男子様式!$J$18,3*A286,0),\" \",IF(LEN(OFFSET(男子様式!$L$18,A286*3,0))=0,,\"(\"),LEFT(OFFSET(男子様式!$L$18,A286*3,0),2),IF(LEN(OFFSET(男子様式!$J$18,A286*3,0))=0,,\")\"))","v":" "},null,{"$f":"IF($C286=\"\",\"\",VLOOKUP(基本登録情報!$C$7,登録データ!$I$3:$L$100,3,FALSE))","v":""},{"$f":"IF($C286=\"\",\"\",VLOOKUP(OFFSET(男子様式!$O$18,3*A286,0),登録データ!AM286:AN332,2,FALSE))","v":""}]
[null,null,null,{"$f":"IF($C287=\"\",\"\",CONCATENATE(男子様式!$D306,\" \",男子様式!$J306))","v":""},null,{"$f":"CONCATENATE(OFFSET(男子様式!$J$18,3*A287,0),\" \",IF(LEN(OFFSET(男子様式!$L$18,A287*3,0))=0,,\"(\"),LEFT(OFFSET(男子様式!$L$18,A287*3,0),2),IF(LEN(OFFSET(男子様式!$J$18,A287*3,0))=0,,\")\"))","v":" "},null,{"$f":"IF($C287=\"\",\"\",VLOOKUP(基本登録情報!$C$7,登録データ!$I$3:$L$100,3,FALSE))","v":""},{"$f":"IF($C287=\"\",\"\",VLOOKUP(OFFSET(男子様式!$O$18,3*A287,0),登録データ!AM287:AN333,2,FALSE))","v":""}]
[null,null,null,{"$f":"IF($C288=\"\",\"\",CONCATENATE(男子様式!$D307,\" \",男子様式!$J307))","v":""},null,{"$f":"CONCATENATE(OFFSET(男子様式!$J$18,3*A288,0),\" \",IF(LEN(OFFSET(男子様式!$L$18,A288*3,0))=0,,\"(\"),LEFT(OFFSET(男子様式!$L$18,A288*3,0),2),IF(LEN(OFFSET(男子様式!$J$18,A288*3,0))=0,,\")\"))","v":" "},null,{"$f":"IF($C288=\"\",\"\",VLOOKUP(基本登録情報!$C$7,登録データ!$I$3:$L$100,3,FALSE))","v":""},{"$f":"IF($C288=\"\",\"\",VLOOKUP(OFFSET(男子様式!$O$18,3*A288,0),登録データ!AM288:AN334,2,FALSE))","v":""}]
[null,null,null,{"$f":"IF($C289=\"\",\"\",CONCATENATE(男子様式!$D308,\" \",男子様式!$J308))","v":""},null,{"$f":"CONCATENATE(OFFSET(男子様式!$J$18,3*A289,0),\" \",IF(LEN(OFFSET(男子様式!$L$18,A289*3,0))=0,,\"(\"),LEFT(OFFSET(男子様式!$L$18,A289*3,0),2),IF(LEN(OFFSET(男子様式!$J$18,A289*3,0))=0,,\")\"))","v":" "},null,{"$f":"IF($C289=\"\",\"\",VLOOKUP(基本登録情報!$C$7,登録データ!$I$3:$L$100,3,FALSE))","v":""},{"$f":"IF($C289=\"\",\"\",VLOOKUP(OFFSET(男子様式!$O$18,3*A289,0),登録データ!AM289:AN335,2,FALSE))","v":""}]
[null,null,null,{"$f":"IF($C290=\"\",\"\",CONCATENATE(男子様式!$D309,\" \",男子様式!$J309))","v":""},null,{"$f":"CONCATENATE(OFFSET(男子様式!$J$18,3*A290,0),\" \",IF(LEN(OFFSET(男子様式!$L$18,A290*3,0))=0,,\"(\"),LEFT(OFFSET(男子様式!$L$18,A290*3,0),2),IF(LEN(OFFSET(男子様式!$J$18,A290*3,0))=0,,\")\"))","v":" "},null,{"$f":"IF($C290=\"\",\"\",VLOOKUP(基本登録情報!$C$7,登録データ!$I$3:$L$100,3,FALSE))","v":""},{"$f":"IF($C290=\"\",\"\",VLOOKUP(OFFSET(男子様式!$O$18,3*A290,0),登録データ!AM290:AN336,2,FALSE))","v":""}]
[null,null,null,{"$f":"IF($C291=\"\",\"\",CONCATENATE(男子様式!$D310,\" \",男子様式!$J310))","v":""},null,{"$f":"CONCATENATE(OFFSET(男子様式!$J$18,3*A291,0),\" \",IF(LEN(OFFSET(男子様式!$L$18,A291*3,0))=0,,\"(\"),LEFT(OFFSET(男子様式!$L$18,A291*3,0),2),IF(LEN(OFFSET(男子様式!$J$18,A291*3,0))=0,,\")\"))","v":" "},null,{"$f":"IF($C291=\"\",\"\",VLOOKUP(基本登録情報!$C$7,登録データ!$I$3:$L$100,3,FALSE))","v":""},{"$f":"IF($C291=\"\",\"\",VLOOKUP(OFFSET(男子様式!$O$18,3*A291,0),登録データ!AM291:AN337,2,FALSE))","v":""}]
[null,null,null,{"$f":"IF($C292=\"\",\"\",CONCATENATE(男子様式!$D311,\" \",男子様式!$J311))","v":""},null,{"$f":"CONCATENATE(OFFSET(男子様式!$J$18,3*A292,0),\" \",IF(LEN(OFFSET(男子様式!$L$18,A292*3,0))=0,,\"(\"),LEFT(OFFSET(男子様式!$L$18,A292*3,0),2),IF(LEN(OFFSET(男子様式!$J$18,A292*3,0))=0,,\")\"))","v":" "},null,{"$f":"IF($C292=\"\",\"\",VLOOKUP(基本登録情報!$C$7,登録データ!$I$3:$L$100,3,FALSE))","v":""},{"$f":"IF($C292=\"\",\"\",VLOOKUP(OFFSET(男子様式!$O$18,3*A292,0),登録データ!AM292:AN338,2,FALSE))","v":""}]
[null,null,null,{"$f":"IF($C293=\"\",\"\",CONCATENATE(男子様式!$D312,\" \",男子様式!$J312))","v":""},null,{"$f":"CONCATENATE(OFFSET(男子様式!$J$18,3*A293,0),\" \",IF(LEN(OFFSET(男子様式!$L$18,A293*3,0))=0,,\"(\"),LEFT(OFFSET(男子様式!$L$18,A293*3,0),2),IF(LEN(OFFSET(男子様式!$J$18,A293*3,0))=0,,\")\"))","v":" "},null,{"$f":"IF($C293=\"\",\"\",VLOOKUP(基本登録情報!$C$7,登録データ!$I$3:$L$100,3,FALSE))","v":""},{"$f":"IF($C293=\"\",\"\",VLOOKUP(OFFSET(男子様式!$O$18,3*A293,0),登録データ!AM293:AN339,2,FALSE))","v":""}]
[null,null,null,{"$f":"IF($C294=\"\",\"\",CONCATENATE(男子様式!$D313,\" \",男子様式!$J313))","v":""},null,{"$f":"CONCATENATE(OFFSET(男子様式!$J$18,3*A294,0),\" \",IF(LEN(OFFSET(男子様式!$L$18,A294*3,0))=0,,\"(\"),LEFT(OFFSET(男子様式!$L$18,A294*3,0),2),IF(LEN(OFFSET(男子様式!$J$18,A294*3,0))=0,,\")\"))","v":" "},null,{"$f":"IF($C294=\"\",\"\",VLOOKUP(基本登録情報!$C$7,登録データ!$I$3:$L$100,3,FALSE))","v":""},{"$f":"IF($C294=\"\",\"\",VLOOKUP(OFFSET(男子様式!$O$18,3*A294,0),登録データ!AM294:AN340,2,FALSE))","v":""}]
[null,null,null,{"$f":"IF($C295=\"\",\"\",CONCATENATE(男子様式!$D314,\" \",男子様式!$J314))","v":""},null,{"$f":"CONCATENATE(OFFSET(男子様式!$J$18,3*A295,0),\" \",IF(LEN(OFFSET(男子様式!$L$18,A295*3,0))=0,,\"(\"),LEFT(OFFSET(男子様式!$L$18,A295*3,0),2),IF(LEN(OFFSET(男子様式!$J$18,A295*3,0))=0,,\")\"))","v":" "},null,{"$f":"IF($C295=\"\",\"\",VLOOKUP(基本登録情報!$C$7,登録データ!$I$3:$L$100,3,FALSE))","v":""}]
[null,null,null,{"$f":"IF($C296=\"\",\"\",CONCATENATE(男子様式!$D315,\" \",男子様式!$J315))","v":""},null,{"$f":"CONCATENATE(OFFSET(男子様式!$J$18,3*A296,0),\" \",IF(LEN(OFFSET(男子様式!$L$18,A296*3,0))=0,,\"(\"),LEFT(OFFSET(男子様式!$L$18,A296*3,0),2),IF(LEN(OFFSET(男子様式!$J$18,A296*3,0))=0,,\")\"))","v":" "},null,{"$f":"IF($C296=\"\",\"\",VLOOKUP(基本登録情報!$C$7,登録データ!$I$3:$L$100,3,FALSE))","v":""}]
[null,null,null,{"$f":"IF($C297=\"\",\"\",CONCATENATE(男子様式!$D316,\" \",男子様式!$J316))","v":""},null,{"$f":"CONCATENATE(OFFSET(男子様式!$J$18,3*A297,0),\" \",IF(LEN(OFFSET(男子様式!$L$18,A297*3,0))=0,,\"(\"),LEFT(OFFSET(男子様式!$L$18,A297*3,0),2),IF(LEN(OFFSET(男子様式!$J$18,A297*3,0))=0,,\")\"))","v":" "},null,{"$f":"IF($C297=\"\",\"\",VLOOKUP(基本登録情報!$C$7,登録データ!$I$3:$L$100,3,FALSE))","v":""}]
[null,null,null,{"$f":"IF($C298=\"\",\"\",CONCATENATE(男子様式!$D317,\" \",男子様式!$J317))","v":""},null,{"$f":"CONCATENATE(OFFSET(男子様式!$J$18,3*A298,0),\" \",IF(LEN(OFFSET(男子様式!$L$18,A298*3,0))=0,,\"(\"),LEFT(OFFSET(男子様式!$L$18,A298*3,0),2),IF(LEN(OFFSET(男子様式!$J$18,A298*3,0))=0,,\")\"))","v":" "},null,{"$f":"IF($C298=\"\",\"\",VLOOKUP(基本登録情報!$C$7,登録データ!$I$3:$L$100,3,FALSE))","v":""}]
[null,null,null,{"$f":"IF($C299=\"\",\"\",CONCATENATE(男子様式!$D318,\" \",男子様式!$J318))","v":""},null,{"$f":"CONCATENATE(OFFSET(男子様式!$J$18,3*A299,0),\" \",IF(LEN(OFFSET(男子様式!$L$18,A299*3,0))=0,,\"(\"),LEFT(OFFSET(男子様式!$L$18,A299*3,0),2),IF(LEN(OFFSET(男子様式!$J$18,A299*3,0))=0,,\")\"))","v":" "},null,{"$f":"IF($C299=\"\",\"\",VLOOKUP(基本登録情報!$C$7,登録データ!$I$3:$L$100,3,FALSE))","v":""}]
[null,null,null,{"$f":"IF($C300=\"\",\"\",CONCATENATE(男子様式!$D319,\" \",男子様式!$J319))","v":""},null,{"$f":"CONCATENATE(OFFSET(男子様式!$J$18,3*A300,0),\" \",IF(LEN(OFFSET(男子様式!$L$18,A300*3,0))=0,,\"(\"),LEFT(OFFSET(男子様式!$L$18,A300*3,0),2),IF(LEN(OFFSET(男子様式!$J$18,A300*3,0))=0,,\")\"))","v":" "},null,{"$f":"IF($C300=\"\",\"\",VLOOKUP(基本登録情報!$C$7,登録データ!$I$3:$L$100,3,FALSE))","v":""}]
[null,null,null,{"$f":"IF($C301=\"\",\"\",CONCATENATE(男子様式!$D320,\" \",男子様式!$J320))","v":""},null,{"$f":"CONCATENATE(OFFSET(男子様式!$J$18,3*A301,0),\" \",IF(LEN(OFFSET(男子様式!$L$18,A301*3,0))=0,,\"(\"),LEFT(OFFSET(男子様式!$L$18,A301*3,0),2),IF(LEN(OFFSET(男子様式!$J$18,A301*3,0))=0,,\")\"))","v":" "},null,{"$f":"IF($C301=\"\",\"\",VLOOKUP(基本登録情報!$C$7,登録データ!$I$3:$L$100,3,FALSE))","v":""}]
[null,null,null,{"$f":"IF($C302=\"\",\"\",CONCATENATE(男子様式!$D321,\" \",男子様式!$J321))","v":""},null,{"$f":"CONCATENATE(OFFSET(男子様式!$J$18,3*A302,0),\" \",IF(LEN(OFFSET(男子様式!$L$18,A302*3,0))=0,,\"(\"),LEFT(OFFSET(男子様式!$L$18,A302*3,0),2),IF(LEN(OFFSET(男子様式!$J$18,A302*3,0))=0,,\")\"))","v":" "},null,{"$f":"IF($C302=\"\",\"\",VLOOKUP(基本登録情報!$C$7,登録データ!$I$3:$L$100,3,FALSE))","v":""}]
[null,null,null,{"$f":"IF($C303=\"\",\"\",CONCATENATE(男子様式!$D322,\" \",男子様式!$J322))","v":""},null,{"$f":"CONCATENATE(OFFSET(男子様式!$J$18,3*A303,0),\" \",IF(LEN(OFFSET(男子様式!$L$18,A303*3,0))=0,,\"(\"),LEFT(OFFSET(男子様式!$L$18,A303*3,0),2),IF(LEN(OFFSET(男子様式!$J$18,A303*3,0))=0,,\")\"))","v":" "},null,{"$f":"IF($C303=\"\",\"\",VLOOKUP(基本登録情報!$C$7,登録データ!$I$3:$L$100,3,FALSE))","v":""}]
[null,null,null,{"$f":"IF($C304=\"\",\"\",CONCATENATE(男子様式!$D323,\" \",男子様式!$J323))","v":""},null,{"$f":"CONCATENATE(OFFSET(男子様式!$J$18,3*A304,0),\" \",IF(LEN(OFFSET(男子様式!$L$18,A304*3,0))=0,,\"(\"),LEFT(OFFSET(男子様式!$L$18,A304*3,0),2),IF(LEN(OFFSET(男子様式!$J$18,A304*3,0))=0,,\")\"))","v":" "},null,{"$f":"IF($C304=\"\",\"\",VLOOKUP(基本登録情報!$C$7,登録データ!$I$3:$L$100,3,FALSE))","v":""}]
[null,null,null,{"$f":"IF($C305=\"\",\"\",CONCATENATE(男子様式!$D324,\" \",男子様式!$J324))","v":""},null,{"$f":"CONCATENATE(OFFSET(男子様式!$J$18,3*A305,0),\" \",IF(LEN(OFFSET(男子様式!$L$18,A305*3,0))=0,,\"(\"),LEFT(OFFSET(男子様式!$L$18,A305*3,0),2),IF(LEN(OFFSET(男子様式!$J$18,A305*3,0))=0,,\")\"))","v":" "},null,{"$f":"IF($C305=\"\",\"\",VLOOKUP(基本登録情報!$C$7,登録データ!$I$3:$L$100,3,FALSE))","v":""}]
[null,null,null,{"$f":"IF($C306=\"\",\"\",CONCATENATE(男子様式!$D325,\" \",男子様式!$J325))","v":""},null,{"$f":"CONCATENATE(OFFSET(男子様式!$J$18,3*A306,0),\" \",IF(LEN(OFFSET(男子様式!$L$18,A306*3,0))=0,,\"(\"),LEFT(OFFSET(男子様式!$L$18,A306*3,0),2),IF(LEN(OFFSET(男子様式!$J$18,A306*3,0))=0,,\")\"))","v":" "},null,{"$f":"IF($C306=\"\",\"\",VLOOKUP(基本登録情報!$C$7,登録データ!$I$3:$L$100,3,FALSE))","v":""}]
[null,null,null,{"$f":"IF($C307=\"\",\"\",CONCATENATE(男子様式!$D326,\" \",男子様式!$J326))","v":""},null,{"$f":"CONCATENATE(OFFSET(男子様式!$J$18,3*A307,0),\" \",IF(LEN(OFFSET(男子様式!$L$18,A307*3,0))=0,,\"(\"),LEFT(OFFSET(男子様式!$L$18,A307*3,0),2),IF(LEN(OFFSET(男子様式!$J$18,A307*3,0))=0,,\")\"))","v":" "},null,{"$f":"IF($C307=\"\",\"\",VLOOKUP(基本登録情報!$C$7,登録データ!$I$3:$L$100,3,FALSE))","v":""}]
[null,null,null,{"$f":"IF($C308=\"\",\"\",CONCATENATE(男子様式!$D327,\" \",男子様式!$J327))","v":""},null,{"$f":"CONCATENATE(OFFSET(男子様式!$J$18,3*A308,0),\" \",IF(LEN(OFFSET(男子様式!$L$18,A308*3,0))=0,,\"(\"),LEFT(OFFSET(男子様式!$L$18,A308*3,0),2),IF(LEN(OFFSET(男子様式!$J$18,A308*3,0))=0,,\")\"))","v":" "},null,{"$f":"IF($C308=\"\",\"\",VLOOKUP(基本登録情報!$C$7,登録データ!$I$3:$L$100,3,FALSE))","v":""}]
[null,null,null,{"$f":"IF($C309=\"\",\"\",CONCATENATE(男子様式!$D328,\" \",男子様式!$J328))","v":""},null,{"$f":"CONCATENATE(OFFSET(男子様式!$J$18,3*A309,0),\" \",IF(LEN(OFFSET(男子様式!$L$18,A309*3,0))=0,,\"(\"),LEFT(OFFSET(男子様式!$L$18,A309*3,0),2),IF(LEN(OFFSET(男子様式!$J$18,A309*3,0))=0,,\")\"))","v":" "},null,{"$f":"IF($C309=\"\",\"\",VLOOKUP(基本登録情報!$C$7,登録データ!$I$3:$L$100,3,FALSE))","v":""}]
[null,null,null,{"$f":"IF($C310=\"\",\"\",CONCATENATE(男子様式!$D329,\" \",男子様式!$J329))","v":""},null,{"$f":"CONCATENATE(OFFSET(男子様式!$J$18,3*A310,0),\" \",IF(LEN(OFFSET(男子様式!$L$18,A310*3,0))=0,,\"(\"),LEFT(OFFSET(男子様式!$L$18,A310*3,0),2),IF(LEN(OFFSET(男子様式!$J$18,A310*3,0))=0,,\")\"))","v":" "},null,{"$f":"IF($C310=\"\",\"\",VLOOKUP(基本登録情報!$C$7,登録データ!$I$3:$L$100,3,FALSE))","v":""}]
[null,null,null,{"$f":"IF($C311=\"\",\"\",CONCATENATE(男子様式!$D330,\" \",男子様式!$J330))","v":""},null,{"$f":"CONCATENATE(OFFSET(男子様式!$J$18,3*A311,0),\" \",IF(LEN(OFFSET(男子様式!$L$18,A311*3,0))=0,,\"(\"),LEFT(OFFSET(男子様式!$L$18,A311*3,0),2),IF(LEN(OFFSET(男子様式!$J$18,A311*3,0))=0,,\")\"))","v":" "},null,{"$f":"IF($C311=\"\",\"\",VLOOKUP(基本登録情報!$C$7,登録データ!$I$3:$L$100,3,FALSE))","v":""}]
[null,null,null,{"$f":"IF($C312=\"\",\"\",CONCATENATE(男子様式!$D331,\" \",男子様式!$J331))","v":""},null,{"$f":"CONCATENATE(OFFSET(男子様式!$J$18,3*A312,0),\" \",IF(LEN(OFFSET(男子様式!$L$18,A312*3,0))=0,,\"(\"),LEFT(OFFSET(男子様式!$L$18,A312*3,0),2),IF(LEN(OFFSET(男子様式!$J$18,A312*3,0))=0,,\")\"))","v":" "},null,{"$f":"IF($C312=\"\",\"\",VLOOKUP(基本登録情報!$C$7,登録データ!$I$3:$L$100,3,FALSE))","v":""}]
[null,null,null,{"$f":"IF($C313=\"\",\"\",CONCATENATE(男子様式!$D332,\" \",男子様式!$J332))","v":""},null,{"$f":"CONCATENATE(OFFSET(男子様式!$J$18,3*A313,0),\" \",IF(LEN(OFFSET(男子様式!$L$18,A313*3,0))=0,,\"(\"),LEFT(OFFSET(男子様式!$L$18,A313*3,0),2),IF(LEN(OFFSET(男子様式!$J$18,A313*3,0))=0,,\")\"))","v":" "},null,{"$f":"IF($C313=\"\",\"\",VLOOKUP(基本登録情報!$C$7,登録データ!$I$3:$L$100,3,FALSE))","v":""}]
[null,null,null,{"$f":"IF($C314=\"\",\"\",CONCATENATE(男子様式!$D333,\" \",男子様式!$J333))","v":""},null,{"$f":"CONCATENATE(OFFSET(男子様式!$J$18,3*A314,0),\" \",IF(LEN(OFFSET(男子様式!$L$18,A314*3,0))=0,,\"(\"),LEFT(OFFSET(男子様式!$L$18,A314*3,0),2),IF(LEN(OFFSET(男子様式!$J$18,A314*3,0))=0,,\")\"))","v":" "},null,{"$f":"IF($C314=\"\",\"\",VLOOKUP(基本登録情報!$C$7,登録データ!$I$3:$L$100,3,FALSE))","v":""}]
[null,null,null,{"$f":"IF($C315=\"\",\"\",CONCATENATE(男子様式!$D334,\" \",男子様式!$J334))","v":""},null,{"$f":"CONCATENATE(OFFSET(男子様式!$J$18,3*A315,0),\" \",IF(LEN(OFFSET(男子様式!$L$18,A315*3,0))=0,,\"(\"),LEFT(OFFSET(男子様式!$L$18,A315*3,0),2),IF(LEN(OFFSET(男子様式!$J$18,A315*3,0))=0,,\")\"))","v":" "},null,{"$f":"IF($C315=\"\",\"\",VLOOKUP(基本登録情報!$C$7,登録データ!$I$3:$L$100,3,FALSE))","v":""}]
[null,null,null,{"$f":"IF($C316=\"\",\"\",CONCATENATE(男子様式!$D335,\" \",男子様式!$J335))","v":""},null,{"$f":"CONCATENATE(OFFSET(男子様式!$J$18,3*A316,0),\" \",IF(LEN(OFFSET(男子様式!$L$18,A316*3,0))=0,,\"(\"),LEFT(OFFSET(男子様式!$L$18,A316*3,0),2),IF(LEN(OFFSET(男子様式!$J$18,A316*3,0))=0,,\")\"))","v":" "},null,{"$f":"IF($C316=\"\",\"\",VLOOKUP(基本登録情報!$C$7,登録データ!$I$3:$L$100,3,FALSE))","v":""}]
[null,null,null,{"$f":"IF($C317=\"\",\"\",CONCATENATE(男子様式!$D336,\" \",男子様式!$J336))","v":""},null,{"$f":"CONCATENATE(OFFSET(男子様式!$J$18,3*A317,0),\" \",IF(LEN(OFFSET(男子様式!$L$18,A317*3,0))=0,,\"(\"),LEFT(OFFSET(男子様式!$L$18,A317*3,0),2),IF(LEN(OFFSET(男子様式!$J$18,A317*3,0))=0,,\")\"))","v":" "},null,{"$f":"IF($C317=\"\",\"\",VLOOKUP(基本登録情報!$C$7,登録データ!$I$3:$L$100,3,FALSE))","v":""}]
[null,null,null,{"$f":"IF($C318=\"\",\"\",CONCATENATE(男子様式!$D337,\" \",男子様式!$J337))","v":""},null,{"$f":"CONCATENATE(OFFSET(男子様式!$J$18,3*A318,0),\" \",IF(LEN(OFFSET(男子様式!$L$18,A318*3,0))=0,,\"(\"),LEFT(OFFSET(男子様式!$L$18,A318*3,0),2),IF(LEN(OFFSET(男子様式!$J$18,A318*3,0))=0,,\")\"))","v":" "},null,{"$f":"IF($C318=\"\",\"\",VLOOKUP(基本登録情報!$C$7,登録データ!$I$3:$L$100,3,FALSE))","v":""}]
[null,null,null,{"$f":"IF($C319=\"\",\"\",CONCATENATE(男子様式!$D338,\" \",男子様式!$J338))","v":""},null,{"$f":"CONCATENATE(OFFSET(男子様式!$J$18,3*A319,0),\" \",IF(LEN(OFFSET(男子様式!$L$18,A319*3,0))=0,,\"(\"),LEFT(OFFSET(男子様式!$L$18,A319*3,0),2),IF(LEN(OFFSET(男子様式!$J$18,A319*3,0))=0,,\")\"))","v":" "},null,{"$f":"IF($C319=\"\",\"\",VLOOKUP(基本登録情報!$C$7,登録データ!$I$3:$L$100,3,FALSE))","v":""}]
[null,null,null,{"$f":"IF($C320=\"\",\"\",CONCATENATE(男子様式!$D339,\" \",男子様式!$J339))","v":""},null,{"$f":"CONCATENATE(OFFSET(男子様式!$J$18,3*A320,0),\" \",IF(LEN(OFFSET(男子様式!$L$18,A320*3,0))=0,,\"(\"),LEFT(OFFSET(男子様式!$L$18,A320*3,0),2),IF(LEN(OFFSET(男子様式!$J$18,A320*3,0))=0,,\")\"))","v":" "},null,{"$f":"IF($C320=\"\",\"\",VLOOKUP(基本登録情報!$C$7,登録データ!$I$3:$L$100,3,FALSE))","v":""}]
[null,null,null,{"$f":"IF($C321=\"\",\"\",CONCATENATE(男子様式!$D340,\" \",男子様式!$J340))","v":""},null,{"$f":"CONCATENATE(OFFSET(男子様式!$J$18,3*A321,0),\" \",IF(LEN(OFFSET(男子様式!$L$18,A321*3,0))=0,,\"(\"),LEFT(OFFSET(男子様式!$L$18,A321*3,0),2),IF(LEN(OFFSET(男子様式!$J$18,A321*3,0))=0,,\")\"))","v":" "},null,{"$f":"IF($C321=\"\",\"\",VLOOKUP(基本登録情報!$C$7,登録データ!$I$3:$L$100,3,FALSE))","v":""}]
[null,null,null,{"$f":"IF($C322=\"\",\"\",CONCATENATE(男子様式!$D341,\" \",男子様式!$J341))","v":""},null,{"$f":"CONCATENATE(OFFSET(男子様式!$J$18,3*A322,0),\" \",IF(LEN(OFFSET(男子様式!$L$18,A322*3,0))=0,,\"(\"),LEFT(OFFSET(男子様式!$L$18,A322*3,0),2),IF(LEN(OFFSET(男子様式!$J$18,A322*3,0))=0,,\")\"))","v":" "},null,{"$f":"IF($C322=\"\",\"\",VLOOKUP(基本登録情報!$C$7,登録データ!$I$3:$L$100,3,FALSE))","v":""}]
[null,null,null,{"$f":"IF($C323=\"\",\"\",CONCATENATE(男子様式!$D342,\" \",男子様式!$J342))","v":""},null,{"$f":"CONCATENATE(OFFSET(男子様式!$J$18,3*A323,0),\" \",IF(LEN(OFFSET(男子様式!$L$18,A323*3,0))=0,,\"(\"),LEFT(OFFSET(男子様式!$L$18,A323*3,0),2),IF(LEN(OFFSET(男子様式!$J$18,A323*3,0))=0,,\")\"))","v":" "},null,{"$f":"IF($C323=\"\",\"\",VLOOKUP(基本登録情報!$C$7,登録データ!$I$3:$L$100,3,FALSE))","v":""}]
[null,null,null,{"$f":"IF($C324=\"\",\"\",CONCATENATE(男子様式!$D343,\" \",男子様式!$J343))","v":""},null,{"$f":"CONCATENATE(OFFSET(男子様式!$J$18,3*A324,0),\" \",IF(LEN(OFFSET(男子様式!$L$18,A324*3,0))=0,,\"(\"),LEFT(OFFSET(男子様式!$L$18,A324*3,0),2),IF(LEN(OFFSET(男子様式!$J$18,A324*3,0))=0,,\")\"))","v":" "},null,{"$f":"IF($C324=\"\",\"\",VLOOKUP(基本登録情報!$C$7,登録データ!$I$3:$L$100,3,FALSE))","v":""}]
[null,null,null,{"$f":"IF($C325=\"\",\"\",CONCATENATE(男子様式!$D344,\" \",男子様式!$J344))","v":""},null,{"$f":"CONCATENATE(OFFSET(男子様式!$J$18,3*A325,0),\" \",IF(LEN(OFFSET(男子様式!$L$18,A325*3,0))=0,,\"(\"),LEFT(OFFSET(男子様式!$L$18,A325*3,0),2),IF(LEN(OFFSET(男子様式!$J$18,A325*3,0))=0,,\")\"))","v":" "},null,{"$f":"IF($C325=\"\",\"\",VLOOKUP(基本登録情報!$C$7,登録データ!$I$3:$L$100,3,FALSE))","v":""}]
[null,null,null,{"$f":"IF($C326=\"\",\"\",CONCATENATE(男子様式!$D345,\" \",男子様式!$J345))","v":""},null,{"$f":"CONCATENATE(OFFSET(男子様式!$J$18,3*A326,0),\" \",IF(LEN(OFFSET(男子様式!$L$18,A326*3,0))=0,,\"(\"),LEFT(OFFSET(男子様式!$L$18,A326*3,0),2),IF(LEN(OFFSET(男子様式!$J$18,A326*3,0))=0,,\")\"))","v":" "},null,{"$f":"IF($C326=\"\",\"\",VLOOKUP(基本登録情報!$C$7,登録データ!$I$3:$L$100,3,FALSE))","v":""}]
[null,null,null,{"$f":"IF($C327=\"\",\"\",CONCATENATE(男子様式!$D346,\" \",男子様式!$J346))","v":""},null,{"$f":"CONCATENATE(OFFSET(男子様式!$J$18,3*A327,0),\" \",IF(LEN(OFFSET(男子様式!$L$18,A327*3,0))=0,,\"(\"),LEFT(OFFSET(男子様式!$L$18,A327*3,0),2),IF(LEN(OFFSET(男子様式!$J$18,A327*3,0))=0,,\")\"))","v":" "},null,{"$f":"IF($C327=\"\",\"\",VLOOKUP(基本登録情報!$C$7,登録データ!$I$3:$L$100,3,FALSE))","v":""}]
[null,null,null,{"$f":"IF($C328=\"\",\"\",CONCATENATE(男子様式!$D347,\" \",男子様式!$J347))","v":""},null,{"$f":"CONCATENATE(OFFSET(男子様式!$J$18,3*A328,0),\" \",IF(LEN(OFFSET(男子様式!$L$18,A328*3,0))=0,,\"(\"),LEFT(OFFSET(男子様式!$L$18,A328*3,0),2),IF(LEN(OFFSET(男子様式!$J$18,A328*3,0))=0,,\")\"))","v":" "},null,{"$f":"IF($C328=\"\",\"\",VLOOKUP(基本登録情報!$C$7,登録データ!$I$3:$L$100,3,FALSE))","v":""}]
[null,null,null,{"$f":"IF($C329=\"\",\"\",CONCATENATE(男子様式!$D348,\" \",男子様式!$J348))","v":""},null,{"$f":"CONCATENATE(OFFSET(男子様式!$J$18,3*A329,0),\" \",IF(LEN(OFFSET(男子様式!$L$18,A329*3,0))=0,,\"(\"),LEFT(OFFSET(男子様式!$L$18,A329*3,0),2),IF(LEN(OFFSET(男子様式!$J$18,A329*3,0))=0,,\")\"))","v":" "},null,{"$f":"IF($C329=\"\",\"\",VLOOKUP(基本登録情報!$C$7,登録データ!$I$3:$L$100,3,FALSE))","v":""}]
[null,null,null,{"$f":"IF($C330=\"\",\"\",CONCATENATE(男子様式!$D349,\" \",男子様式!$J349))","v":""},null,{"$f":"CONCATENATE(OFFSET(男子様式!$J$18,3*A330,0),\" \",IF(LEN(OFFSET(男子様式!$L$18,A330*3,0))=0,,\"(\"),LEFT(OFFSET(男子様式!$L$18,A330*3,0),2),IF(LEN(OFFSET(男子様式!$J$18,A330*3,0))=0,,\")\"))","v":" "},null,{"$f":"IF($C330=\"\",\"\",VLOOKUP(基本登録情報!$C$7,登録データ!$I$3:$L$100,3,FALSE))","v":""}]
[null,null,null,{"$f":"IF($C331=\"\",\"\",CONCATENATE(男子様式!$D350,\" \",男子様式!$J350))","v":""},null,{"$f":"CONCATENATE(OFFSET(男子様式!$J$18,3*A331,0),\" \",IF(LEN(OFFSET(男子様式!$L$18,A331*3,0))=0,,\"(\"),LEFT(OFFSET(男子様式!$L$18,A331*3,0),2),IF(LEN(OFFSET(男子様式!$J$18,A331*3,0))=0,,\")\"))","v":" "},null,{"$f":"IF($C331=\"\",\"\",VLOOKUP(基本登録情報!$C$7,登録データ!$I$3:$L$100,3,FALSE))","v":""}]
[null,null,null,{"$f":"IF($C332=\"\",\"\",CONCATENATE(男子様式!$D351,\" \",男子様式!$J351))","v":""},null,{"$f":"CONCATENATE(OFFSET(男子様式!$J$18,3*A332,0),\" \",IF(LEN(OFFSET(男子様式!$L$18,A332*3,0))=0,,\"(\"),LEFT(OFFSET(男子様式!$L$18,A332*3,0),2),IF(LEN(OFFSET(男子様式!$J$18,A332*3,0))=0,,\")\"))","v":" "},null,{"$f":"IF($C332=\"\",\"\",VLOOKUP(基本登録情報!$C$7,登録データ!$I$3:$L$100,3,FALSE))","v":""}]
[null,null,null,{"$f":"IF($C333=\"\",\"\",CONCATENATE(男子様式!$D352,\" \",男子様式!$J352))","v":""},null,{"$f":"CONCATENATE(OFFSET(男子様式!$J$18,3*A333,0),\" \",IF(LEN(OFFSET(男子様式!$L$18,A333*3,0))=0,,\"(\"),LEFT(OFFSET(男子様式!$L$18,A333*3,0),2),IF(LEN(OFFSET(男子様式!$J$18,A333*3,0))=0,,\")\"))","v":" "},null,{"$f":"IF($C333=\"\",\"\",VLOOKUP(基本登録情報!$C$7,登録データ!$I$3:$L$100,3,FALSE))","v":""}]
[null,null,null,{"$f":"IF($C334=\"\",\"\",CONCATENATE(男子様式!$D353,\" \",男子様式!$J353))","v":""},null,{"$f":"CONCATENATE(OFFSET(男子様式!$J$18,3*A334,0),\" \",IF(LEN(OFFSET(男子様式!$L$18,A334*3,0))=0,,\"(\"),LEFT(OFFSET(男子様式!$L$18,A334*3,0),2),IF(LEN(OFFSET(男子様式!$J$18,A334*3,0))=0,,\")\"))","v":" "},null,{"$f":"IF($C334=\"\",\"\",VLOOKUP(基本登録情報!$C$7,登録データ!$I$3:$L$100,3,FALSE))","v":""}]
[null,null,null,{"$f":"IF($C335=\"\",\"\",CONCATENATE(男子様式!$D354,\" \",男子様式!$J354))","v":""},null,{"$f":"CONCATENATE(OFFSET(男子様式!$J$18,3*A335,0),\" \",IF(LEN(OFFSET(男子様式!$L$18,A335*3,0))=0,,\"(\"),LEFT(OFFSET(男子様式!$L$18,A335*3,0),2),IF(LEN(OFFSET(男子様式!$J$18,A335*3,0))=0,,\")\"))","v":" "},null,{"$f":"IF($C335=\"\",\"\",VLOOKUP(基本登録情報!$C$7,登録データ!$I$3:$L$100,3,FALSE))","v":""}]
[null,null,null,{"$f":"IF($C336=\"\",\"\",CONCATENATE(男子様式!$D355,\" \",男子様式!$J355))","v":""},null,{"$f":"CONCATENATE(OFFSET(男子様式!$J$18,3*A336,0),\" \",IF(LEN(OFFSET(男子様式!$L$18,A336*3,0))=0,,\"(\"),LEFT(OFFSET(男子様式!$L$18,A336*3,0),2),IF(LEN(OFFSET(男子様式!$J$18,A336*3,0))=0,,\")\"))","v":" "},null,{"$f":"IF($C336=\"\",\"\",VLOOKUP(基本登録情報!$C$7,登録データ!$I$3:$L$100,3,FALSE))","v":""}]
[null,null,null,{"$f":"IF($C337=\"\",\"\",CONCATENATE(男子様式!$D356,\" \",男子様式!$J356))","v":""},null,{"$f":"CONCATENATE(OFFSET(男子様式!$J$18,3*A337,0),\" \",IF(LEN(OFFSET(男子様式!$L$18,A337*3,0))=0,,\"(\"),LEFT(OFFSET(男子様式!$L$18,A337*3,0),2),IF(LEN(OFFSET(男子様式!$J$18,A337*3,0))=0,,\")\"))","v":" "},null,{"$f":"IF($C337=\"\",\"\",VLOOKUP(基本登録情報!$C$7,登録データ!$I$3:$L$100,3,FALSE))","v":""}]
[null,null,null,{"$f":"IF($C338=\"\",\"\",CONCATENATE(男子様式!$D357,\" \",男子様式!$J357))","v":""},null,{"$f":"CONCATENATE(OFFSET(男子様式!$J$18,3*A338,0),\" \",IF(LEN(OFFSET(男子様式!$L$18,A338*3,0))=0,,\"(\"),LEFT(OFFSET(男子様式!$L$18,A338*3,0),2),IF(LEN(OFFSET(男子様式!$J$18,A338*3,0))=0,,\")\"))","v":" "},null,{"$f":"IF($C338=\"\",\"\",VLOOKUP(基本登録情報!$C$7,登録データ!$I$3:$L$100,3,FALSE))","v":""}]
[null,null,null,{"$f":"IF($C339=\"\",\"\",CONCATENATE(男子様式!$D358,\" \",男子様式!$J358))","v":""},null,{"$f":"CONCATENATE(OFFSET(男子様式!$J$18,3*A339,0),\" \",IF(LEN(OFFSET(男子様式!$L$18,A339*3,0))=0,,\"(\"),LEFT(OFFSET(男子様式!$L$18,A339*3,0),2),IF(LEN(OFFSET(男子様式!$J$18,A339*3,0))=0,,\")\"))","v":" "},null,{"$f":"IF($C339=\"\",\"\",VLOOKUP(基本登録情報!$C$7,登録データ!$I$3:$L$100,3,FALSE))","v":""}]
[null,null,null,{"$f":"IF($C340=\"\",\"\",CONCATENATE(男子様式!$D359,\" \",男子様式!$J359))","v":""},null,{"$f":"CONCATENATE(OFFSET(男子様式!$J$18,3*A340,0),\" \",IF(LEN(OFFSET(男子様式!$L$18,A340*3,0))=0,,\"(\"),LEFT(OFFSET(男子様式!$L$18,A340*3,0),2),IF(LEN(OFFSET(男子様式!$J$18,A340*3,0))=0,,\")\"))","v":" "},null,{"$f":"IF($C340=\"\",\"\",VLOOKUP(基本登録情報!$C$7,登録データ!$I$3:$L$100,3,FALSE))","v":""}]
[null,null,null,{"$f":"IF($C341=\"\",\"\",CONCATENATE(男子様式!$D360,\" \",男子様式!$J360))","v":""},null,{"$f":"CONCATENATE(OFFSET(男子様式!$J$18,3*A341,0),\" \",IF(LEN(OFFSET(男子様式!$L$18,A341*3,0))=0,,\"(\"),LEFT(OFFSET(男子様式!$L$18,A341*3,0),2),IF(LEN(OFFSET(男子様式!$J$18,A341*3,0))=0,,\")\"))","v":" "},null,{"$f":"IF($C341=\"\",\"\",VLOOKUP(基本登録情報!$C$7,登録データ!$I$3:$L$100,3,FALSE))","v":""}]
[null,null,null,{"$f":"IF($C342=\"\",\"\",CONCATENATE(男子様式!$D361,\" \",男子様式!$J361))","v":""},null,{"$f":"CONCATENATE(OFFSET(男子様式!$J$18,3*A342,0),\" \",IF(LEN(OFFSET(男子様式!$L$18,A342*3,0))=0,,\"(\"),LEFT(OFFSET(男子様式!$L$18,A342*3,0),2),IF(LEN(OFFSET(男子様式!$J$18,A342*3,0))=0,,\")\"))","v":" "},null,{"$f":"IF($C342=\"\",\"\",VLOOKUP(基本登録情報!$C$7,登録データ!$I$3:$L$100,3,FALSE))","v":""}]
[null,null,null,{"$f":"IF($C343=\"\",\"\",CONCATENATE(男子様式!$D362,\" \",男子様式!$J362))","v":""},null,{"$f":"CONCATENATE(OFFSET(男子様式!$J$18,3*A343,0),\" \",IF(LEN(OFFSET(男子様式!$L$18,A343*3,0))=0,,\"(\"),LEFT(OFFSET(男子様式!$L$18,A343*3,0),2),IF(LEN(OFFSET(男子様式!$J$18,A343*3,0))=0,,\")\"))","v":" "},null,{"$f":"IF($C343=\"\",\"\",VLOOKUP(基本登録情報!$C$7,登録データ!$I$3:$L$100,3,FALSE))","v":""}]
[null,null,null,{"$f":"IF($C344=\"\",\"\",CONCATENATE(男子様式!$D363,\" \",男子様式!$J363))","v":""},null,{"$f":"CONCATENATE(OFFSET(男子様式!$J$18,3*A344,0),\" \",IF(LEN(OFFSET(男子様式!$L$18,A344*3,0))=0,,\"(\"),LEFT(OFFSET(男子様式!$L$18,A344*3,0),2),IF(LEN(OFFSET(男子様式!$J$18,A344*3,0))=0,,\")\"))","v":" "},null,{"$f":"IF($C344=\"\",\"\",VLOOKUP(基本登録情報!$C$7,登録データ!$I$3:$L$100,3,FALSE))","v":""}]
[null,null,null,{"$f":"IF($C345=\"\",\"\",CONCATENATE(男子様式!$D364,\" \",男子様式!$J364))","v":""},null,{"$f":"CONCATENATE(OFFSET(男子様式!$J$18,3*A345,0),\" \",IF(LEN(OFFSET(男子様式!$L$18,A345*3,0))=0,,\"(\"),LEFT(OFFSET(男子様式!$L$18,A345*3,0),2),IF(LEN(OFFSET(男子様式!$J$18,A345*3,0))=0,,\")\"))","v":" "},null,{"$f":"IF($C345=\"\",\"\",VLOOKUP(基本登録情報!$C$7,登録データ!$I$3:$L$100,3,FALSE))","v":""}]
[null,null,null,{"$f":"IF($C346=\"\",\"\",CONCATENATE(男子様式!$D365,\" \",男子様式!$J365))","v":""},null,{"$f":"CONCATENATE(OFFSET(男子様式!$J$18,3*A346,0),\" \",IF(LEN(OFFSET(男子様式!$L$18,A346*3,0))=0,,\"(\"),LEFT(OFFSET(男子様式!$L$18,A346*3,0),2),IF(LEN(OFFSET(男子様式!$J$18,A346*3,0))=0,,\")\"))","v":" "},null,{"$f":"IF($C346=\"\",\"\",VLOOKUP(基本登録情報!$C$7,登録データ!$I$3:$L$100,3,FALSE))","v":""}]
[null,null,null,{"$f":"IF($C347=\"\",\"\",CONCATENATE(男子様式!$D366,\" \",男子様式!$J366))","v":""},null,{"$f":"CONCATENATE(OFFSET(男子様式!$J$18,3*A347,0),\" \",IF(LEN(OFFSET(男子様式!$L$18,A347*3,0))=0,,\"(\"),LEFT(OFFSET(男子様式!$L$18,A347*3,0),2),IF(LEN(OFFSET(男子様式!$J$18,A347*3,0))=0,,\")\"))","v":" "},null,{"$f":"IF($C347=\"\",\"\",VLOOKUP(基本登録情報!$C$7,登録データ!$I$3:$L$100,3,FALSE))","v":""}]
[null,null,null,{"$f":"IF($C348=\"\",\"\",CONCATENATE(男子様式!$D367,\" \",男子様式!$J367))","v":""},null,{"$f":"CONCATENATE(OFFSET(男子様式!$J$18,3*A348,0),\" \",IF(LEN(OFFSET(男子様式!$L$18,A348*3,0))=0,,\"(\"),LEFT(OFFSET(男子様式!$L$18,A348*3,0),2),IF(LEN(OFFSET(男子様式!$J$18,A348*3,0))=0,,\")\"))","v":" "},null,{"$f":"IF($C348=\"\",\"\",VLOOKUP(基本登録情報!$C$7,登録データ!$I$3:$L$100,3,FALSE))","v":""}]
[null,null,null,{"$f":"IF($C349=\"\",\"\",CONCATENATE(男子様式!$D368,\" \",男子様式!$J368))","v":""},null,{"$f":"CONCATENATE(OFFSET(男子様式!$J$18,3*A349,0),\" \",IF(LEN(OFFSET(男子様式!$L$18,A349*3,0))=0,,\"(\"),LEFT(OFFSET(男子様式!$L$18,A349*3,0),2),IF(LEN(OFFSET(男子様式!$J$18,A349*3,0))=0,,\")\"))","v":" "},null,{"$f":"IF($C349=\"\",\"\",VLOOKUP(基本登録情報!$C$7,登録データ!$I$3:$L$100,3,FALSE))","v":""}]
[null,null,null,{"$f":"IF($C350=\"\",\"\",CONCATENATE(男子様式!$D369,\" \",男子様式!$J369))","v":""},null,{"$f":"CONCATENATE(OFFSET(男子様式!$J$18,3*A350,0),\" \",IF(LEN(OFFSET(男子様式!$L$18,A350*3,0))=0,,\"(\"),LEFT(OFFSET(男子様式!$L$18,A350*3,0),2),IF(LEN(OFFSET(男子様式!$J$18,A350*3,0))=0,,\")\"))","v":" "},null,{"$f":"IF($C350=\"\",\"\",VLOOKUP(基本登録情報!$C$7,登録データ!$I$3:$L$100,3,FALSE))","v":""}]
[null,null,null,{"$f":"IF($C351=\"\",\"\",CONCATENATE(男子様式!$D370,\" \",男子様式!$J370))","v":""},null,{"$f":"CONCATENATE(OFFSET(男子様式!$J$18,3*A351,0),\" \",IF(LEN(OFFSET(男子様式!$L$18,A351*3,0))=0,,\"(\"),LEFT(OFFSET(男子様式!$L$18,A351*3,0),2),IF(LEN(OFFSET(男子様式!$J$18,A351*3,0))=0,,\")\"))","v":" "},null,{"$f":"IF($C351=\"\",\"\",VLOOKUP(基本登録情報!$C$7,登録データ!$I$3:$L$100,3,FALSE))","v":""}]
[null,null,null,{"$f":"IF($C352=\"\",\"\",CONCATENATE(男子様式!$D371,\" \",男子様式!$J371))","v":""},null,{"$f":"CONCATENATE(OFFSET(男子様式!$J$18,3*A352,0),\" \",IF(LEN(OFFSET(男子様式!$L$18,A352*3,0))=0,,\"(\"),LEFT(OFFSET(男子様式!$L$18,A352*3,0),2),IF(LEN(OFFSET(男子様式!$J$18,A352*3,0))=0,,\")\"))","v":" "},null,{"$f":"IF($C352=\"\",\"\",VLOOKUP(基本登録情報!$C$7,登録データ!$I$3:$L$100,3,FALSE))","v":""}]
[null,null,null,{"$f":"IF($C353=\"\",\"\",CONCATENATE(男子様式!$D372,\" \",男子様式!$J372))","v":""},null,{"$f":"CONCATENATE(OFFSET(男子様式!$J$18,3*A353,0),\" \",IF(LEN(OFFSET(男子様式!$L$18,A353*3,0))=0,,\"(\"),LEFT(OFFSET(男子様式!$L$18,A353*3,0),2),IF(LEN(OFFSET(男子様式!$J$18,A353*3,0))=0,,\")\"))","v":" "},null,{"$f":"IF($C353=\"\",\"\",VLOOKUP(基本登録情報!$C$7,登録データ!$I$3:$L$100,3,FALSE))","v":""}]
[null,null,null,{"$f":"IF($C354=\"\",\"\",CONCATENATE(男子様式!$D373,\" \",男子様式!$J373))","v":""},null,{"$f":"CONCATENATE(OFFSET(男子様式!$J$18,3*A354,0),\" \",IF(LEN(OFFSET(男子様式!$L$18,A354*3,0))=0,,\"(\"),LEFT(OFFSET(男子様式!$L$18,A354*3,0),2),IF(LEN(OFFSET(男子様式!$J$18,A354*3,0))=0,,\")\"))","v":" "},null,{"$f":"IF($C354=\"\",\"\",VLOOKUP(基本登録情報!$C$7,登録データ!$I$3:$L$100,3,FALSE))","v":""}]
[null,null,null,{"$f":"IF($C355=\"\",\"\",CONCATENATE(男子様式!$D374,\" \",男子様式!$J374))","v":""},null,{"$f":"CONCATENATE(OFFSET(男子様式!$J$18,3*A355,0),\" \",IF(LEN(OFFSET(男子様式!$L$18,A355*3,0))=0,,\"(\"),LEFT(OFFSET(男子様式!$L$18,A355*3,0),2),IF(LEN(OFFSET(男子様式!$J$18,A355*3,0))=0,,\")\"))","v":" "},null,{"$f":"IF($C355=\"\",\"\",VLOOKUP(基本登録情報!$C$7,登録データ!$I$3:$L$100,3,FALSE))","v":""}]
[null,null,null,{"$f":"IF($C356=\"\",\"\",CONCATENATE(男子様式!$D375,\" \",男子様式!$J375))","v":""},null,{"$f":"CONCATENATE(OFFSET(男子様式!$J$18,3*A356,0),\" \",IF(LEN(OFFSET(男子様式!$L$18,A356*3,0))=0,,\"(\"),LEFT(OFFSET(男子様式!$L$18,A356*3,0),2),IF(LEN(OFFSET(男子様式!$J$18,A356*3,0))=0,,\")\"))","v":" "},null,{"$f":"IF($C356=\"\",\"\",VLOOKUP(基本登録情報!$C$7,登録データ!$I$3:$L$100,3,FALSE))","v":""}]
[null,null,null,{"$f":"IF($C357=\"\",\"\",CONCATENATE(男子様式!$D376,\" \",男子様式!$J376))","v":""},null,{"$f":"CONCATENATE(OFFSET(男子様式!$J$18,3*A357,0),\" \",IF(LEN(OFFSET(男子様式!$L$18,A357*3,0))=0,,\"(\"),LEFT(OFFSET(男子様式!$L$18,A357*3,0),2),IF(LEN(OFFSET(男子様式!$J$18,A357*3,0))=0,,\")\"))","v":" "},null,{"$f":"IF($C357=\"\",\"\",VLOOKUP(基本登録情報!$C$7,登録データ!$I$3:$L$100,3,FALSE))","v":""}]
[null,null,null,{"$f":"IF($C358=\"\",\"\",CONCATENATE(男子様式!$D377,\" \",男子様式!$J377))","v":""},null,{"$f":"CONCATENATE(OFFSET(男子様式!$J$18,3*A358,0),\" \",IF(LEN(OFFSET(男子様式!$L$18,A358*3,0))=0,,\"(\"),LEFT(OFFSET(男子様式!$L$18,A358*3,0),2),IF(LEN(OFFSET(男子様式!$J$18,A358*3,0))=0,,\")\"))","v":" "},null,{"$f":"IF($C358=\"\",\"\",VLOOKUP(基本登録情報!$C$7,登録データ!$I$3:$L$100,3,FALSE))","v":""}]
[null,null,null,{"$f":"IF($C359=\"\",\"\",CONCATENATE(男子様式!$D378,\" \",男子様式!$J378))","v":""},null,{"$f":"CONCATENATE(OFFSET(男子様式!$J$18,3*A359,0),\" \",IF(LEN(OFFSET(男子様式!$L$18,A359*3,0))=0,,\"(\"),LEFT(OFFSET(男子様式!$L$18,A359*3,0),2),IF(LEN(OFFSET(男子様式!$J$18,A359*3,0))=0,,\")\"))","v":" "},null,{"$f":"IF($C359=\"\",\"\",VLOOKUP(基本登録情報!$C$7,登録データ!$I$3:$L$100,3,FALSE))","v":""}]
[null,null,null,{"$f":"IF($C360=\"\",\"\",CONCATENATE(男子様式!$D379,\" \",男子様式!$J379))","v":""},null,{"$f":"CONCATENATE(OFFSET(男子様式!$J$18,3*A360,0),\" \",IF(LEN(OFFSET(男子様式!$L$18,A360*3,0))=0,,\"(\"),LEFT(OFFSET(男子様式!$L$18,A360*3,0),2),IF(LEN(OFFSET(男子様式!$J$18,A360*3,0))=0,,\")\"))","v":" "},null,{"$f":"IF($C360=\"\",\"\",VLOOKUP(基本登録情報!$C$7,登録データ!$I$3:$L$100,3,FALSE))","v":""}]
[null,null,null,{"$f":"IF($C361=\"\",\"\",CONCATENATE(男子様式!$D380,\" \",男子様式!$J380))","v":""},null,{"$f":"CONCATENATE(OFFSET(男子様式!$J$18,3*A361,0),\" \",IF(LEN(OFFSET(男子様式!$L$18,A361*3,0))=0,,\"(\"),LEFT(OFFSET(男子様式!$L$18,A361*3,0),2),IF(LEN(OFFSET(男子様式!$J$18,A361*3,0))=0,,\")\"))","v":" "},null,{"$f":"IF($C361=\"\",\"\",VLOOKUP(基本登録情報!$C$7,登録データ!$I$3:$L$100,3,FALSE))","v":""}]
[null,null,null,{"$f":"IF($C362=\"\",\"\",CONCATENATE(男子様式!$D381,\" \",男子様式!$J381))","v":""},null,{"$f":"CONCATENATE(OFFSET(男子様式!$J$18,3*A362,0),\" \",IF(LEN(OFFSET(男子様式!$L$18,A362*3,0))=0,,\"(\"),LEFT(OFFSET(男子様式!$L$18,A362*3,0),2),IF(LEN(OFFSET(男子様式!$J$18,A362*3,0))=0,,\")\"))","v":" "},null,{"$f":"IF($C362=\"\",\"\",VLOOKUP(基本登録情報!$C$7,登録データ!$I$3:$L$100,3,FALSE))","v":""}]
[null,null,null,{"$f":"IF($C363=\"\",\"\",CONCATENATE(男子様式!$D382,\" \",男子様式!$J382))","v":""},null,{"$f":"CONCATENATE(OFFSET(男子様式!$J$18,3*A363,0),\" \",IF(LEN(OFFSET(男子様式!$L$18,A363*3,0))=0,,\"(\"),LEFT(OFFSET(男子様式!$L$18,A363*3,0),2),IF(LEN(OFFSET(男子様式!$J$18,A363*3,0))=0,,\")\"))","v":" "},null,{"$f":"IF($C363=\"\",\"\",VLOOKUP(基本登録情報!$C$7,登録データ!$I$3:$L$100,3,FALSE))","v":""}]
[null,null,null,{"$f":"IF($C364=\"\",\"\",CONCATENATE(男子様式!$D383,\" \",男子様式!$J383))","v":""},null,{"$f":"CONCATENATE(OFFSET(男子様式!$J$18,3*A364,0),\" \",IF(LEN(OFFSET(男子様式!$L$18,A364*3,0))=0,,\"(\"),LEFT(OFFSET(男子様式!$L$18,A364*3,0),2),IF(LEN(OFFSET(男子様式!$J$18,A364*3,0))=0,,\")\"))","v":" "},null,{"$f":"IF($C364=\"\",\"\",VLOOKUP(基本登録情報!$C$7,登録データ!$I$3:$L$100,3,FALSE))","v":""}]
[null,null,null,{"$f":"IF($C365=\"\",\"\",CONCATENATE(男子様式!$D384,\" \",男子様式!$J384))","v":""},null,{"$f":"CONCATENATE(OFFSET(男子様式!$J$18,3*A365,0),\" \",IF(LEN(OFFSET(男子様式!$L$18,A365*3,0))=0,,\"(\"),LEFT(OFFSET(男子様式!$L$18,A365*3,0),2),IF(LEN(OFFSET(男子様式!$J$18,A365*3,0))=0,,\")\"))","v":" "},null,{"$f":"IF($C365=\"\",\"\",VLOOKUP(基本登録情報!$C$7,登録データ!$I$3:$L$100,3,FALSE))","v":""}]
[null,null,null,{"$f":"IF($C366=\"\",\"\",CONCATENATE(男子様式!$D385,\" \",男子様式!$J385))","v":""},null,{"$f":"CONCATENATE(OFFSET(男子様式!$J$18,3*A366,0),\" \",IF(LEN(OFFSET(男子様式!$L$18,A366*3,0))=0,,\"(\"),LEFT(OFFSET(男子様式!$L$18,A366*3,0),2),IF(LEN(OFFSET(男子様式!$J$18,A366*3,0))=0,,\")\"))","v":" "},null,{"$f":"IF($C366=\"\",\"\",VLOOKUP(基本登録情報!$C$7,登録データ!$I$3:$L$100,3,FALSE))","v":""}]
[null,null,null,{"$f":"IF($C367=\"\",\"\",CONCATENATE(男子様式!$D386,\" \",男子様式!$J386))","v":""},null,{"$f":"CONCATENATE(OFFSET(男子様式!$J$18,3*A367,0),\" \",IF(LEN(OFFSET(男子様式!$L$18,A367*3,0))=0,,\"(\"),LEFT(OFFSET(男子様式!$L$18,A367*3,0),2),IF(LEN(OFFSET(男子様式!$J$18,A367*3,0))=0,,\")\"))","v":" "},null,{"$f":"IF($C367=\"\",\"\",VLOOKUP(基本登録情報!$C$7,登録データ!$I$3:$L$100,3,FALSE))","v":""}]
[null,null,null,{"$f":"IF($C368=\"\",\"\",CONCATENATE(男子様式!$D387,\" \",男子様式!$J387))","v":""},null,{"$f":"CONCATENATE(OFFSET(男子様式!$J$18,3*A368,0),\" \",IF(LEN(OFFSET(男子様式!$L$18,A368*3,0))=0,,\"(\"),LEFT(OFFSET(男子様式!$L$18,A368*3,0),2),IF(LEN(OFFSET(男子様式!$J$18,A368*3,0))=0,,\")\"))","v":" "},null,{"$f":"IF($C368=\"\",\"\",VLOOKUP(基本登録情報!$C$7,登録データ!$I$3:$L$100,3,FALSE))","v":""}]
[null,null,null,{"$f":"IF($C369=\"\",\"\",CONCATENATE(男子様式!$D388,\" \",男子様式!$J388))","v":""},null,{"$f":"CONCATENATE(OFFSET(男子様式!$J$18,3*A369,0),\" \",IF(LEN(OFFSET(男子様式!$L$18,A369*3,0))=0,,\"(\"),LEFT(OFFSET(男子様式!$L$18,A369*3,0),2),IF(LEN(OFFSET(男子様式!$J$18,A369*3,0))=0,,\")\"))","v":" "},null,{"$f":"IF($C369=\"\",\"\",VLOOKUP(基本登録情報!$C$7,登録データ!$I$3:$L$100,3,FALSE))","v":""}]
[null,null,null,{"$f":"IF($C370=\"\",\"\",CONCATENATE(男子様式!$D389,\" \",男子様式!$J389))","v":""},null,{"$f":"CONCATENATE(OFFSET(男子様式!$J$18,3*A370,0),\" \",IF(LEN(OFFSET(男子様式!$L$18,A370*3,0))=0,,\"(\"),LEFT(OFFSET(男子様式!$L$18,A370*3,0),2),IF(LEN(OFFSET(男子様式!$J$18,A370*3,0))=0,,\")\"))","v":" "},null,{"$f":"IF($C370=\"\",\"\",VLOOKUP(基本登録情報!$C$7,登録データ!$I$3:$L$100,3,FALSE))","v":""}]
[null,null,null,{"$f":"IF($C371=\"\",\"\",CONCATENATE(男子様式!$D390,\" \",男子様式!$J390))","v":""},null,{"$f":"CONCATENATE(OFFSET(男子様式!$J$18,3*A371,0),\" \",IF(LEN(OFFSET(男子様式!$L$18,A371*3,0))=0,,\"(\"),LEFT(OFFSET(男子様式!$L$18,A371*3,0),2),IF(LEN(OFFSET(男子様式!$J$18,A371*3,0))=0,,\")\"))","v":" "},null,{"$f":"IF($C371=\"\",\"\",VLOOKUP(基本登録情報!$C$7,登録データ!$I$3:$L$100,3,FALSE))","v":""}]
[null,null,null,{"$f":"IF($C372=\"\",\"\",CONCATENATE(男子様式!$D391,\" \",男子様式!$J391))","v":""},null,{"$f":"CONCATENATE(OFFSET(男子様式!$J$18,3*A372,0),\" \",IF(LEN(OFFSET(男子様式!$L$18,A372*3,0))=0,,\"(\"),LEFT(OFFSET(男子様式!$L$18,A372*3,0),2),IF(LEN(OFFSET(男子様式!$J$18,A372*3,0))=0,,\")\"))","v":" "},null,{"$f":"IF($C372=\"\",\"\",VLOOKUP(基本登録情報!$C$7,登録データ!$I$3:$L$100,3,FALSE))","v":""}]
[null,null,null,{"$f":"IF($C373=\"\",\"\",CONCATENATE(男子様式!$D392,\" \",男子様式!$J392))","v":""},null,{"$f":"CONCATENATE(OFFSET(男子様式!$J$18,3*A373,0),\" \",IF(LEN(OFFSET(男子様式!$L$18,A373*3,0))=0,,\"(\"),LEFT(OFFSET(男子様式!$L$18,A373*3,0),2),IF(LEN(OFFSET(男子様式!$J$18,A373*3,0))=0,,\")\"))","v":" "},null,{"$f":"IF($C373=\"\",\"\",VLOOKUP(基本登録情報!$C$7,登録データ!$I$3:$L$100,3,FALSE))","v":""}]
[null,null,null,{"$f":"IF($C374=\"\",\"\",CONCATENATE(男子様式!$D393,\" \",男子様式!$J393))","v":""},null,{"$f":"CONCATENATE(OFFSET(男子様式!$J$18,3*A374,0),\" \",IF(LEN(OFFSET(男子様式!$L$18,A374*3,0))=0,,\"(\"),LEFT(OFFSET(男子様式!$L$18,A374*3,0),2),IF(LEN(OFFSET(男子様式!$J$18,A374*3,0))=0,,\")\"))","v":" "},null,{"$f":"IF($C374=\"\",\"\",VLOOKUP(基本登録情報!$C$7,登録データ!$I$3:$L$100,3,FALSE))","v":""}]
[null,null,null,{"$f":"IF($C375=\"\",\"\",CONCATENATE(男子様式!$D394,\" \",男子様式!$J394))","v":""},null,{"$f":"CONCATENATE(OFFSET(男子様式!$J$18,3*A375,0),\" \",IF(LEN(OFFSET(男子様式!$L$18,A375*3,0))=0,,\"(\"),LEFT(OFFSET(男子様式!$L$18,A375*3,0),2),IF(LEN(OFFSET(男子様式!$J$18,A375*3,0))=0,,\")\"))","v":" "},null,{"$f":"IF($C375=\"\",\"\",VLOOKUP(基本登録情報!$C$7,登録データ!$I$3:$L$100,3,FALSE))","v":""}]
[null,null,null,{"$f":"IF($C376=\"\",\"\",CONCATENATE(男子様式!$D395,\" \",男子様式!$J395))","v":""},null,{"$f":"CONCATENATE(OFFSET(男子様式!$J$18,3*A376,0),\" \",IF(LEN(OFFSET(男子様式!$L$18,A376*3,0))=0,,\"(\"),LEFT(OFFSET(男子様式!$L$18,A376*3,0),2),IF(LEN(OFFSET(男子様式!$J$18,A376*3,0))=0,,\")\"))","v":" "},null,{"$f":"IF($C376=\"\",\"\",VLOOKUP(基本登録情報!$C$7,登録データ!$I$3:$L$100,3,FALSE))","v":""}]
[null,null,null,{"$f":"IF($C377=\"\",\"\",CONCATENATE(男子様式!$D396,\" \",男子様式!$J396))","v":""},null,{"$f":"CONCATENATE(OFFSET(男子様式!$J$18,3*A377,0),\" \",IF(LEN(OFFSET(男子様式!$L$18,A377*3,0))=0,,\"(\"),LEFT(OFFSET(男子様式!$L$18,A377*3,0),2),IF(LEN(OFFSET(男子様式!$J$18,A377*3,0))=0,,\")\"))","v":" "},null,{"$f":"IF($C377=\"\",\"\",VLOOKUP(基本登録情報!$C$7,登録データ!$I$3:$L$100,3,FALSE))","v":""}]
[null,null,null,{"$f":"IF($C378=\"\",\"\",CONCATENATE(男子様式!$D397,\" \",男子様式!$J397))","v":""},null,{"$f":"CONCATENATE(OFFSET(男子様式!$J$18,3*A378,0),\" \",IF(LEN(OFFSET(男子様式!$L$18,A378*3,0))=0,,\"(\"),LEFT(OFFSET(男子様式!$L$18,A378*3,0),2),IF(LEN(OFFSET(男子様式!$J$18,A378*3,0))=0,,\")\"))","v":" "},null,{"$f":"IF($C378=\"\",\"\",VLOOKUP(基本登録情報!$C$7,登録データ!$I$3:$L$100,3,FALSE))","v":""}]
[null,null,null,{"$f":"IF($C379=\"\",\"\",CONCATENATE(男子様式!$D398,\" \",男子様式!$J398))","v":""},null,{"$f":"CONCATENATE(OFFSET(男子様式!$J$18,3*A379,0),\" \",IF(LEN(OFFSET(男子様式!$L$18,A379*3,0))=0,,\"(\"),LEFT(OFFSET(男子様式!$L$18,A379*3,0),2),IF(LEN(OFFSET(男子様式!$J$18,A379*3,0))=0,,\")\"))","v":" "},null,{"$f":"IF($C379=\"\",\"\",VLOOKUP(基本登録情報!$C$7,登録データ!$I$3:$L$100,3,FALSE))","v":""}]
[null,null,null,{"$f":"IF($C380=\"\",\"\",CONCATENATE(男子様式!$D399,\" \",男子様式!$J399))","v":""},null,{"$f":"CONCATENATE(OFFSET(男子様式!$J$18,3*A380,0),\" \",IF(LEN(OFFSET(男子様式!$L$18,A380*3,0))=0,,\"(\"),LEFT(OFFSET(男子様式!$L$18,A380*3,0),2),IF(LEN(OFFSET(男子様式!$J$18,A380*3,0))=0,,\")\"))","v":" "},null,{"$f":"IF($C380=\"\",\"\",VLOOKUP(基本登録情報!$C$7,登録データ!$I$3:$L$100,3,FALSE))","v":""}]
[null,null,null,{"$f":"IF($C381=\"\",\"\",CONCATENATE(男子様式!$D400,\" \",男子様式!$J400))","v":""},null,{"$f":"CONCATENATE(OFFSET(男子様式!$J$18,3*A381,0),\" \",IF(LEN(OFFSET(男子様式!$L$18,A381*3,0))=0,,\"(\"),LEFT(OFFSET(男子様式!$L$18,A381*3,0),2),IF(LEN(OFFSET(男子様式!$J$18,A381*3,0))=0,,\")\"))","v":" "},null,{"$f":"IF($C381=\"\",\"\",VLOOKUP(基本登録情報!$C$7,登録データ!$I$3:$L$100,3,FALSE))","v":""}]
[null,null,null,{"$f":"IF($C382=\"\",\"\",CONCATENATE(男子様式!$D401,\" \",男子様式!$J401))","v":""},null,{"$f":"CONCATENATE(OFFSET(男子様式!$J$18,3*A382,0),\" \",IF(LEN(OFFSET(男子様式!$L$18,A382*3,0))=0,,\"(\"),LEFT(OFFSET(男子様式!$L$18,A382*3,0),2),IF(LEN(OFFSET(男子様式!$J$18,A382*3,0))=0,,\")\"))","v":" "},null,{"$f":"IF($C382=\"\",\"\",VLOOKUP(基本登録情報!$C$7,登録データ!$I$3:$L$100,3,FALSE))","v":""}]
[null,null,null,{"$f":"IF($C383=\"\",\"\",CONCATENATE(男子様式!$D402,\" \",男子様式!$J402))","v":""},null,{"$f":"CONCATENATE(OFFSET(男子様式!$J$18,3*A383,0),\" \",IF(LEN(OFFSET(男子様式!$L$18,A383*3,0))=0,,\"(\"),LEFT(OFFSET(男子様式!$L$18,A383*3,0),2),IF(LEN(OFFSET(男子様式!$J$18,A383*3,0))=0,,\")\"))","v":" "},null,{"$f":"IF($C383=\"\",\"\",VLOOKUP(基本登録情報!$C$7,登録データ!$I$3:$L$100,3,FALSE))","v":""}]
[null,null,null,{"$f":"IF($C384=\"\",\"\",CONCATENATE(男子様式!$D403,\" \",男子様式!$J403))","v":""},null,{"$f":"CONCATENATE(OFFSET(男子様式!$J$18,3*A384,0),\" \",IF(LEN(OFFSET(男子様式!$L$18,A384*3,0))=0,,\"(\"),LEFT(OFFSET(男子様式!$L$18,A384*3,0),2),IF(LEN(OFFSET(男子様式!$J$18,A384*3,0))=0,,\")\"))","v":" "},null,{"$f":"IF($C384=\"\",\"\",VLOOKUP(基本登録情報!$C$7,登録データ!$I$3:$L$100,3,FALSE))","v":""}]
[null,null,null,{"$f":"IF($C385=\"\",\"\",CONCATENATE(男子様式!$D404,\" \",男子様式!$J404))","v":""},null,{"$f":"CONCATENATE(OFFSET(男子様式!$J$18,3*A385,0),\" \",IF(LEN(OFFSET(男子様式!$L$18,A385*3,0))=0,,\"(\"),LEFT(OFFSET(男子様式!$L$18,A385*3,0),2),IF(LEN(OFFSET(男子様式!$J$18,A385*3,0))=0,,\")\"))","v":" "},null,{"$f":"IF($C385=\"\",\"\",VLOOKUP(基本登録情報!$C$7,登録データ!$I$3:$L$100,3,FALSE))","v":""}]
[null,null,null,{"$f":"IF($C386=\"\",\"\",CONCATENATE(男子様式!$D405,\" \",男子様式!$J405))","v":""},null,{"$f":"CONCATENATE(OFFSET(男子様式!$J$18,3*A386,0),\" \",IF(LEN(OFFSET(男子様式!$L$18,A386*3,0))=0,,\"(\"),LEFT(OFFSET(男子様式!$L$18,A386*3,0),2),IF(LEN(OFFSET(男子様式!$J$18,A386*3,0))=0,,\")\"))","v":" "},null,{"$f":"IF($C386=\"\",\"\",VLOOKUP(基本登録情報!$C$7,登録データ!$I$3:$L$100,3,FALSE))","v":""}]
[null,null,null,{"$f":"IF($C387=\"\",\"\",CONCATENATE(男子様式!$D406,\" \",男子様式!$J406))","v":""},null,{"$f":"CONCATENATE(OFFSET(男子様式!$J$18,3*A387,0),\" \",IF(LEN(OFFSET(男子様式!$L$18,A387*3,0))=0,,\"(\"),LEFT(OFFSET(男子様式!$L$18,A387*3,0),2),IF(LEN(OFFSET(男子様式!$J$18,A387*3,0))=0,,\")\"))","v":" "},null,{"$f":"IF($C387=\"\",\"\",VLOOKUP(基本登録情報!$C$7,登録データ!$I$3:$L$100,3,FALSE))","v":""}]
[null,null,null,{"$f":"IF($C388=\"\",\"\",CONCATENATE(男子様式!$D407,\" \",男子様式!$J407))","v":""},null,{"$f":"CONCATENATE(OFFSET(男子様式!$J$18,3*A388,0),\" \",IF(LEN(OFFSET(男子様式!$L$18,A388*3,0))=0,,\"(\"),LEFT(OFFSET(男子様式!$L$18,A388*3,0),2),IF(LEN(OFFSET(男子様式!$J$18,A388*3,0))=0,,\")\"))","v":" "},null,{"$f":"IF($C388=\"\",\"\",VLOOKUP(基本登録情報!$C$7,登録データ!$I$3:$L$100,3,FALSE))","v":""}]
[null,null,null,{"$f":"IF($C389=\"\",\"\",CONCATENATE(男子様式!$D408,\" \",男子様式!$J408))","v":""},null,{"$f":"CONCATENATE(OFFSET(男子様式!$J$18,3*A389,0),\" \",IF(LEN(OFFSET(男子様式!$L$18,A389*3,0))=0,,\"(\"),LEFT(OFFSET(男子様式!$L$18,A389*3,0),2),IF(LEN(OFFSET(男子様式!$J$18,A389*3,0))=0,,\")\"))","v":" "},null,{"$f":"IF($C389=\"\",\"\",VLOOKUP(基本登録情報!$C$7,登録データ!$I$3:$L$100,3,FALSE))","v":""}]
[null,null,null,{"$f":"IF($C390=\"\",\"\",CONCATENATE(男子様式!$D409,\" \",男子様式!$J409))","v":""},null,{"$f":"CONCATENATE(OFFSET(男子様式!$J$18,3*A390,0),\" \",IF(LEN(OFFSET(男子様式!$L$18,A390*3,0))=0,,\"(\"),LEFT(OFFSET(男子様式!$L$18,A390*3,0),2),IF(LEN(OFFSET(男子様式!$J$18,A390*3,0))=0,,\")\"))","v":" "},null,{"$f":"IF($C390=\"\",\"\",VLOOKUP(基本登録情報!$C$7,登録データ!$I$3:$L$100,3,FALSE))","v":""}]
[null,null,null,{"$f":"IF($C391=\"\",\"\",CONCATENATE(男子様式!$D410,\" \",男子様式!$J410))","v":""},null,{"$f":"CONCATENATE(OFFSET(男子様式!$J$18,3*A391,0),\" \",IF(LEN(OFFSET(男子様式!$L$18,A391*3,0))=0,,\"(\"),LEFT(OFFSET(男子様式!$L$18,A391*3,0),2),IF(LEN(OFFSET(男子様式!$J$18,A391*3,0))=0,,\")\"))","v":" "},null,{"$f":"IF($C391=\"\",\"\",VLOOKUP(基本登録情報!$C$7,登録データ!$I$3:$L$100,3,FALSE))","v":""}]
[null,null,null,{"$f":"IF($C392=\"\",\"\",CONCATENATE(男子様式!$D411,\" \",男子様式!$J411))","v":""},null,{"$f":"CONCATENATE(OFFSET(男子様式!$J$18,3*A392,0),\" \",IF(LEN(OFFSET(男子様式!$L$18,A392*3,0))=0,,\"(\"),LEFT(OFFSET(男子様式!$L$18,A392*3,0),2),IF(LEN(OFFSET(男子様式!$J$18,A392*3,0))=0,,\")\"))","v":" "},null,{"$f":"IF($C392=\"\",\"\",VLOOKUP(基本登録情報!$C$7,登録データ!$I$3:$L$100,3,FALSE))","v":""}]
[null,null,null,{"$f":"IF($C393=\"\",\"\",CONCATENATE(男子様式!$D412,\" \",男子様式!$J412))","v":""},null,{"$f":"CONCATENATE(OFFSET(男子様式!$J$18,3*A393,0),\" \",IF(LEN(OFFSET(男子様式!$L$18,A393*3,0))=0,,\"(\"),LEFT(OFFSET(男子様式!$L$18,A393*3,0),2),IF(LEN(OFFSET(男子様式!$J$18,A393*3,0))=0,,\")\"))","v":" "},null,{"$f":"IF($C393=\"\",\"\",VLOOKUP(基本登録情報!$C$7,登録データ!$I$3:$L$100,3,FALSE))","v":""}]
[null,null,null,{"$f":"IF($C394=\"\",\"\",CONCATENATE(男子様式!$D413,\" \",男子様式!$J413))","v":""},null,{"$f":"CONCATENATE(OFFSET(男子様式!$J$18,3*A394,0),\" \",IF(LEN(OFFSET(男子様式!$L$18,A394*3,0))=0,,\"(\"),LEFT(OFFSET(男子様式!$L$18,A394*3,0),2),IF(LEN(OFFSET(男子様式!$J$18,A394*3,0))=0,,\")\"))","v":" "},null,{"$f":"IF($C394=\"\",\"\",VLOOKUP(基本登録情報!$C$7,登録データ!$I$3:$L$100,3,FALSE))","v":""}]
[null,null,null,{"$f":"IF($C395=\"\",\"\",CONCATENATE(男子様式!$D414,\" \",男子様式!$J414))","v":""},null,{"$f":"CONCATENATE(OFFSET(男子様式!$J$18,3*A395,0),\" \",IF(LEN(OFFSET(男子様式!$L$18,A395*3,0))=0,,\"(\"),LEFT(OFFSET(男子様式!$L$18,A395*3,0),2),IF(LEN(OFFSET(男子様式!$J$18,A395*3,0))=0,,\")\"))","v":" "},null,{"$f":"IF($C395=\"\",\"\",VLOOKUP(基本登録情報!$C$7,登録データ!$I$3:$L$100,3,FALSE))","v":""}]
[null,null,null,{"$f":"IF($C396=\"\",\"\",CONCATENATE(男子様式!$D415,\" \",男子様式!$J415))","v":""},null,{"$f":"CONCATENATE(OFFSET(男子様式!$J$18,3*A396,0),\" \",IF(LEN(OFFSET(男子様式!$L$18,A396*3,0))=0,,\"(\"),LEFT(OFFSET(男子様式!$L$18,A396*3,0),2),IF(LEN(OFFSET(男子様式!$J$18,A396*3,0))=0,,\")\"))","v":" "},null,{"$f":"IF($C396=\"\",\"\",VLOOKUP(基本登録情報!$C$7,登録データ!$I$3:$L$100,3,FALSE))","v":""}]
[null,null,null,{"$f":"IF($C397=\"\",\"\",CONCATENATE(男子様式!$D416,\" \",男子様式!$J416))","v":""},null,{"$f":"CONCATENATE(OFFSET(男子様式!$J$18,3*A397,0),\" \",IF(LEN(OFFSET(男子様式!$L$18,A397*3,0))=0,,\"(\"),LEFT(OFFSET(男子様式!$L$18,A397*3,0),2),IF(LEN(OFFSET(男子様式!$J$18,A397*3,0))=0,,\")\"))","v":" "},null,{"$f":"IF($C397=\"\",\"\",VLOOKUP(基本登録情報!$C$7,登録データ!$I$3:$L$100,3,FALSE))","v":""}]
[null,null,null,{"$f":"IF($C398=\"\",\"\",CONCATENATE(男子様式!$D417,\" \",男子様式!$J417))","v":""},null,{"$f":"CONCATENATE(OFFSET(男子様式!$J$18,3*A398,0),\" \",IF(LEN(OFFSET(男子様式!$L$18,A398*3,0))=0,,\"(\"),LEFT(OFFSET(男子様式!$L$18,A398*3,0),2),IF(LEN(OFFSET(男子様式!$J$18,A398*3,0))=0,,\")\"))","v":" "},null,{"$f":"IF($C398=\"\",\"\",VLOOKUP(基本登録情報!$C$7,登録データ!$I$3:$L$100,3,FALSE))","v":""}]
[null,null,null,{"$f":"IF($C399=\"\",\"\",CONCATENATE(男子様式!$D418,\" \",男子様式!$J418))","v":""},null,{"$f":"CONCATENATE(OFFSET(男子様式!$J$18,3*A399,0),\" \",IF(LEN(OFFSET(男子様式!$L$18,A399*3,0))=0,,\"(\"),LEFT(OFFSET(男子様式!$L$18,A399*3,0),2),IF(LEN(OFFSET(男子様式!$J$18,A399*3,0))=0,,\")\"))","v":" "},null,{"$f":"IF($C399=\"\",\"\",VLOOKUP(基本登録情報!$C$7,登録データ!$I$3:$L$100,3,FALSE))","v":""}]
[null,null,null,{"$f":"IF($C400=\"\",\"\",CONCATENATE(男子様式!$D419,\" \",男子様式!$J419))","v":""},null,{"$f":"CONCATENATE(OFFSET(男子様式!$J$18,3*A400,0),\" \",IF(LEN(OFFSET(男子様式!$L$18,A400*3,0))=0,,\"(\"),LEFT(OFFSET(男子様式!$L$18,A400*3,0),2),IF(LEN(OFFSET(男子様式!$J$18,A400*3,0))=0,,\")\"))","v":" "},null,{"$f":"IF($C400=\"\",\"\",VLOOKUP(基本登録情報!$C$7,登録データ!$I$3:$L$100,3,FALSE))","v":""}]
[null,null,null,{"$f":"IF($C401=\"\",\"\",CONCATENATE(男子様式!$D420,\" \",男子様式!$J420))","v":""},null,{"$f":"CONCATENATE(OFFSET(男子様式!$J$18,3*A401,0),\" \",IF(LEN(OFFSET(男子様式!$L$18,A401*3,0))=0,,\"(\"),LEFT(OFFSET(男子様式!$L$18,A401*3,0),2),IF(LEN(OFFSET(男子様式!$J$18,A401*3,0))=0,,\")\"))","v":" "},null,{"$f":"IF($C401=\"\",\"\",VLOOKUP(基本登録情報!$C$7,登録データ!$I$3:$L$100,3,FALSE))","v":""}]
[null,null,null,{"$f":"IF($C402=\"\",\"\",CONCATENATE(男子様式!$D421,\" \",男子様式!$J421))","v":""},null,{"$f":"CONCATENATE(OFFSET(男子様式!$J$18,3*A402,0),\" \",IF(LEN(OFFSET(男子様式!$L$18,A402*3,0))=0,,\"(\"),LEFT(OFFSET(男子様式!$L$18,A402*3,0),2),IF(LEN(OFFSET(男子様式!$J$18,A402*3,0))=0,,\")\"))","v":" "},null,{"$f":"IF($C402=\"\",\"\",VLOOKUP(基本登録情報!$C$7,登録データ!$I$3:$L$100,3,FALSE))","v":""}]
[null,null,null,{"$f":"IF($C403=\"\",\"\",CONCATENATE(男子様式!$D422,\" \",男子様式!$J422))","v":""},null,{"$f":"CONCATENATE(OFFSET(男子様式!$J$18,3*A403,0),\" \",IF(LEN(OFFSET(男子様式!$L$18,A403*3,0))=0,,\"(\"),LEFT(OFFSET(男子様式!$L$18,A403*3,0),2),IF(LEN(OFFSET(男子様式!$J$18,A403*3,0))=0,,\")\"))","v":" "},null,{"$f":"IF($C403=\"\",\"\",VLOOKUP(基本登録情報!$C$7,登録データ!$I$3:$L$100,3,FALSE))","v":""}]
[null,null,null,{"$f":"IF($C404=\"\",\"\",CONCATENATE(男子様式!$D423,\" \",男子様式!$J423))","v":""},null,{"$f":"CONCATENATE(OFFSET(男子様式!$J$18,3*A404,0),\" \",IF(LEN(OFFSET(男子様式!$L$18,A404*3,0))=0,,\"(\"),LEFT(OFFSET(男子様式!$L$18,A404*3,0),2),IF(LEN(OFFSET(男子様式!$J$18,A404*3,0))=0,,\")\"))","v":" "},null,{"$f":"IF($C404=\"\",\"\",VLOOKUP(基本登録情報!$C$7,登録データ!$I$3:$L$100,3,FALSE))","v":""}]
[null,null,null,{"$f":"IF($C405=\"\",\"\",CONCATENATE(男子様式!$D424,\" \",男子様式!$J424))","v":""},null,{"$f":"CONCATENATE(OFFSET(男子様式!$J$18,3*A405,0),\" \",IF(LEN(OFFSET(男子様式!$L$18,A405*3,0))=0,,\"(\"),LEFT(OFFSET(男子様式!$L$18,A405*3,0),2),IF(LEN(OFFSET(男子様式!$J$18,A405*3,0))=0,,\")\"))","v":" "},null,{"$f":"IF($C405=\"\",\"\",VLOOKUP(基本登録情報!$C$7,登録データ!$I$3:$L$100,3,FALSE))","v":""}]
[null,null,null,{"$f":"IF($C406=\"\",\"\",CONCATENATE(男子様式!$D425,\" \",男子様式!$J425))","v":""},null,{"$f":"CONCATENATE(OFFSET(男子様式!$J$18,3*A406,0),\" \",IF(LEN(OFFSET(男子様式!$L$18,A406*3,0))=0,,\"(\"),LEFT(OFFSET(男子様式!$L$18,A406*3,0),2),IF(LEN(OFFSET(男子様式!$J$18,A406*3,0))=0,,\")\"))","v":" "},null,{"$f":"IF($C406=\"\",\"\",VLOOKUP(基本登録情報!$C$7,登録データ!$I$3:$L$100,3,FALSE))","v":""}]
[null,null,null,{"$f":"IF($C407=\"\",\"\",CONCATENATE(男子様式!$D426,\" \",男子様式!$J426))","v":""},null,{"$f":"CONCATENATE(OFFSET(男子様式!$J$18,3*A407,0),\" \",IF(LEN(OFFSET(男子様式!$L$18,A407*3,0))=0,,\"(\"),LEFT(OFFSET(男子様式!$L$18,A407*3,0),2),IF(LEN(OFFSET(男子様式!$J$18,A407*3,0))=0,,\")\"))","v":" "},null,{"$f":"IF($C407=\"\",\"\",VLOOKUP(基本登録情報!$C$7,登録データ!$I$3:$L$100,3,FALSE))","v":""}]
[null,null,null,{"$f":"IF($C408=\"\",\"\",CONCATENATE(男子様式!$D427,\" \",男子様式!$J427))","v":""},null,{"$f":"CONCATENATE(OFFSET(男子様式!$J$18,3*A408,0),\" \",IF(LEN(OFFSET(男子様式!$L$18,A408*3,0))=0,,\"(\"),LEFT(OFFSET(男子様式!$L$18,A408*3,0),2),IF(LEN(OFFSET(男子様式!$J$18,A408*3,0))=0,,\")\"))","v":" "},null,{"$f":"IF($C408=\"\",\"\",VLOOKUP(基本登録情報!$C$7,登録データ!$I$3:$L$100,3,FALSE))","v":""}]
[null,null,null,{"$f":"IF($C409=\"\",\"\",CONCATENATE(男子様式!$D428,\" \",男子様式!$J428))","v":""},null,{"$f":"CONCATENATE(OFFSET(男子様式!$J$18,3*A409,0),\" \",IF(LEN(OFFSET(男子様式!$L$18,A409*3,0))=0,,\"(\"),LEFT(OFFSET(男子様式!$L$18,A409*3,0),2),IF(LEN(OFFSET(男子様式!$J$18,A409*3,0))=0,,\")\"))","v":" "},null,{"$f":"IF($C409=\"\",\"\",VLOOKUP(基本登録情報!$C$7,登録データ!$I$3:$L$100,3,FALSE))","v":""}]
[null,null,null,{"$f":"IF($C410=\"\",\"\",CONCATENATE(男子様式!$D429,\" \",男子様式!$J429))","v":""},null,{"$f":"CONCATENATE(OFFSET(男子様式!$J$18,3*A410,0),\" \",IF(LEN(OFFSET(男子様式!$L$18,A410*3,0))=0,,\"(\"),LEFT(OFFSET(男子様式!$L$18,A410*3,0),2),IF(LEN(OFFSET(男子様式!$J$18,A410*3,0))=0,,\")\"))","v":" "},null,{"$f":"IF($C410=\"\",\"\",VLOOKUP(基本登録情報!$C$7,登録データ!$I$3:$L$100,3,FALSE))","v":""}]
[null,null,null,{"$f":"IF($C411=\"\",\"\",CONCATENATE(男子様式!$D430,\" \",男子様式!$J430))","v":""},null,{"$f":"CONCATENATE(OFFSET(男子様式!$J$18,3*A411,0),\" \",IF(LEN(OFFSET(男子様式!$L$18,A411*3,0))=0,,\"(\"),LEFT(OFFSET(男子様式!$L$18,A411*3,0),2),IF(LEN(OFFSET(男子様式!$J$18,A411*3,0))=0,,\")\"))","v":" "},null,{"$f":"IF($C411=\"\",\"\",VLOOKUP(基本登録情報!$C$7,登録データ!$I$3:$L$100,3,FALSE))","v":""}]
[null,null,null,{"$f":"IF($C412=\"\",\"\",CONCATENATE(男子様式!$D431,\" \",男子様式!$J431))","v":""},null,{"$f":"CONCATENATE(OFFSET(男子様式!$J$18,3*A412,0),\" \",IF(LEN(OFFSET(男子様式!$L$18,A412*3,0))=0,,\"(\"),LEFT(OFFSET(男子様式!$L$18,A412*3,0),2),IF(LEN(OFFSET(男子様式!$J$18,A412*3,0))=0,,\")\"))","v":" "},null,{"$f":"IF($C412=\"\",\"\",VLOOKUP(基本登録情報!$C$7,登録データ!$I$3:$L$100,3,FALSE))","v":""}]
[null,null,null,{"$f":"IF($C413=\"\",\"\",CONCATENATE(男子様式!$D432,\" \",男子様式!$J432))","v":""},null,{"$f":"CONCATENATE(OFFSET(男子様式!$J$18,3*A413,0),\" \",IF(LEN(OFFSET(男子様式!$L$18,A413*3,0))=0,,\"(\"),LEFT(OFFSET(男子様式!$L$18,A413*3,0),2),IF(LEN(OFFSET(男子様式!$J$18,A413*3,0))=0,,\")\"))","v":" "},null,{"$f":"IF($C413=\"\",\"\",VLOOKUP(基本登録情報!$C$7,登録データ!$I$3:$L$100,3,FALSE))","v":""}]
[null,null,null,{"$f":"IF($C414=\"\",\"\",CONCATENATE(男子様式!$D433,\" \",男子様式!$J433))","v":""},null,{"$f":"CONCATENATE(OFFSET(男子様式!$J$18,3*A414,0),\" \",IF(LEN(OFFSET(男子様式!$L$18,A414*3,0))=0,,\"(\"),LEFT(OFFSET(男子様式!$L$18,A414*3,0),2),IF(LEN(OFFSET(男子様式!$J$18,A414*3,0))=0,,\")\"))","v":" "},null,{"$f":"IF($C414=\"\",\"\",VLOOKUP(基本登録情報!$C$7,登録データ!$I$3:$L$100,3,FALSE))","v":""}]
[null,null,null,{"$f":"IF($C415=\"\",\"\",CONCATENATE(男子様式!$D434,\" \",男子様式!$J434))","v":""},null,{"$f":"CONCATENATE(OFFSET(男子様式!$J$18,3*A415,0),\" \",IF(LEN(OFFSET(男子様式!$L$18,A415*3,0))=0,,\"(\"),LEFT(OFFSET(男子様式!$L$18,A415*3,0),2),IF(LEN(OFFSET(男子様式!$J$18,A415*3,0))=0,,\")\"))","v":" "},null,{"$f":"IF($C415=\"\",\"\",VLOOKUP(基本登録情報!$C$7,登録データ!$I$3:$L$100,3,FALSE))","v":""}]
[null,null,null,{"$f":"IF($C416=\"\",\"\",CONCATENATE(男子様式!$D435,\" \",男子様式!$J435))","v":""},null,{"$f":"CONCATENATE(OFFSET(男子様式!$J$18,3*A416,0),\" \",IF(LEN(OFFSET(男子様式!$L$18,A416*3,0))=0,,\"(\"),LEFT(OFFSET(男子様式!$L$18,A416*3,0),2),IF(LEN(OFFSET(男子様式!$J$18,A416*3,0))=0,,\")\"))","v":" "},null,{"$f":"IF($C416=\"\",\"\",VLOOKUP(基本登録情報!$C$7,登録データ!$I$3:$L$100,3,FALSE))","v":""}]
[null,null,null,{"$f":"IF($C417=\"\",\"\",CONCATENATE(男子様式!$D436,\" \",男子様式!$J436))","v":""},null,{"$f":"CONCATENATE(OFFSET(男子様式!$J$18,3*A417,0),\" \",IF(LEN(OFFSET(男子様式!$L$18,A417*3,0))=0,,\"(\"),LEFT(OFFSET(男子様式!$L$18,A417*3,0),2),IF(LEN(OFFSET(男子様式!$J$18,A417*3,0))=0,,\")\"))","v":" "},null,{"$f":"IF($C417=\"\",\"\",VLOOKUP(基本登録情報!$C$7,登録データ!$I$3:$L$100,3,FALSE))","v":""}]
[null,null,null,{"$f":"IF($C418=\"\",\"\",CONCATENATE(男子様式!$D437,\" \",男子様式!$J437))","v":""},null,{"$f":"CONCATENATE(OFFSET(男子様式!$J$18,3*A418,0),\" \",IF(LEN(OFFSET(男子様式!$L$18,A418*3,0))=0,,\"(\"),LEFT(OFFSET(男子様式!$L$18,A418*3,0),2),IF(LEN(OFFSET(男子様式!$J$18,A418*3,0))=0,,\")\"))","v":" "},null,{"$f":"IF($C418=\"\",\"\",VLOOKUP(基本登録情報!$C$7,登録データ!$I$3:$L$100,3,FALSE))","v":""}]
[null,null,null,{"$f":"IF($C419=\"\",\"\",CONCATENATE(男子様式!$D438,\" \",男子様式!$J438))","v":""},null,{"$f":"CONCATENATE(OFFSET(男子様式!$J$18,3*A419,0),\" \",IF(LEN(OFFSET(男子様式!$L$18,A419*3,0))=0,,\"(\"),LEFT(OFFSET(男子様式!$L$18,A419*3,0),2),IF(LEN(OFFSET(男子様式!$J$18,A419*3,0))=0,,\")\"))","v":" "},null,{"$f":"IF($C419=\"\",\"\",VLOOKUP(基本登録情報!$C$7,登録データ!$I$3:$L$100,3,FALSE))","v":""}]
[null,null,null,{"$f":"IF($C420=\"\",\"\",CONCATENATE(男子様式!$D439,\" \",男子様式!$J439))","v":""},null,{"$f":"CONCATENATE(OFFSET(男子様式!$J$18,3*A420,0),\" \",IF(LEN(OFFSET(男子様式!$L$18,A420*3,0))=0,,\"(\"),LEFT(OFFSET(男子様式!$L$18,A420*3,0),2),IF(LEN(OFFSET(男子様式!$J$18,A420*3,0))=0,,\")\"))","v":" "},null,{"$f":"IF($C420=\"\",\"\",VLOOKUP(基本登録情報!$C$7,登録データ!$I$3:$L$100,3,FALSE))","v":""}]
[null,null,null,{"$f":"IF($C421=\"\",\"\",CONCATENATE(男子様式!$D440,\" \",男子様式!$J440))","v":""},null,{"$f":"CONCATENATE(OFFSET(男子様式!$J$18,3*A421,0),\" \",IF(LEN(OFFSET(男子様式!$L$18,A421*3,0))=0,,\"(\"),LEFT(OFFSET(男子様式!$L$18,A421*3,0),2),IF(LEN(OFFSET(男子様式!$J$18,A421*3,0))=0,,\")\"))","v":" "},null,{"$f":"IF($C421=\"\",\"\",VLOOKUP(基本登録情報!$C$7,登録データ!$I$3:$L$100,3,FALSE))","v":""}]
[null,null,null,{"$f":"IF($C422=\"\",\"\",CONCATENATE(男子様式!$D441,\" \",男子様式!$J441))","v":""},null,{"$f":"CONCATENATE(OFFSET(男子様式!$J$18,3*A422,0),\" \",IF(LEN(OFFSET(男子様式!$L$18,A422*3,0))=0,,\"(\"),LEFT(OFFSET(男子様式!$L$18,A422*3,0),2),IF(LEN(OFFSET(男子様式!$J$18,A422*3,0))=0,,\")\"))","v":" "},null,{"$f":"IF($C422=\"\",\"\",VLOOKUP(基本登録情報!$C$7,登録データ!$I$3:$L$100,3,FALSE))","v":""}]
[null,null,null,{"$f":"IF($C423=\"\",\"\",CONCATENATE(男子様式!$D442,\" \",男子様式!$J442))","v":""},null,{"$f":"CONCATENATE(OFFSET(男子様式!$J$18,3*A423,0),\" \",IF(LEN(OFFSET(男子様式!$L$18,A423*3,0))=0,,\"(\"),LEFT(OFFSET(男子様式!$L$18,A423*3,0),2),IF(LEN(OFFSET(男子様式!$J$18,A423*3,0))=0,,\")\"))","v":" "},null,{"$f":"IF($C423=\"\",\"\",VLOOKUP(基本登録情報!$C$7,登録データ!$I$3:$L$100,3,FALSE))","v":""}]
[null,null,null,{"$f":"IF($C424=\"\",\"\",CONCATENATE(男子様式!$D443,\" \",男子様式!$J443))","v":""},null,{"$f":"CONCATENATE(OFFSET(男子様式!$J$18,3*A424,0),\" \",IF(LEN(OFFSET(男子様式!$L$18,A424*3,0))=0,,\"(\"),LEFT(OFFSET(男子様式!$L$18,A424*3,0),2),IF(LEN(OFFSET(男子様式!$J$18,A424*3,0))=0,,\")\"))","v":" "},null,{"$f":"IF($C424=\"\",\"\",VLOOKUP(基本登録情報!$C$7,登録データ!$I$3:$L$100,3,FALSE))","v":""}]
[null,null,null,{"$f":"IF($C425=\"\",\"\",CONCATENATE(男子様式!$D444,\" \",男子様式!$J444))","v":""},null,{"$f":"CONCATENATE(OFFSET(男子様式!$J$18,3*A425,0),\" \",IF(LEN(OFFSET(男子様式!$L$18,A425*3,0))=0,,\"(\"),LEFT(OFFSET(男子様式!$L$18,A425*3,0),2),IF(LEN(OFFSET(男子様式!$J$18,A425*3,0))=0,,\")\"))","v":" "},null,{"$f":"IF($C425=\"\",\"\",VLOOKUP(基本登録情報!$C$7,登録データ!$I$3:$L$100,3,FALSE))","v":""}]
[null,null,null,{"$f":"IF($C426=\"\",\"\",CONCATENATE(男子様式!$D445,\" \",男子様式!$J445))","v":""},null,{"$f":"CONCATENATE(OFFSET(男子様式!$J$18,3*A426,0),\" \",IF(LEN(OFFSET(男子様式!$L$18,A426*3,0))=0,,\"(\"),LEFT(OFFSET(男子様式!$L$18,A426*3,0),2),IF(LEN(OFFSET(男子様式!$J$18,A426*3,0))=0,,\")\"))","v":" "},null,{"$f":"IF($C426=\"\",\"\",VLOOKUP(基本登録情報!$C$7,登録データ!$I$3:$L$100,3,FALSE))","v":""}]
[null,null,null,{"$f":"IF($C427=\"\",\"\",CONCATENATE(男子様式!$D446,\" \",男子様式!$J446))","v":""},null,{"$f":"CONCATENATE(OFFSET(男子様式!$J$18,3*A427,0),\" \",IF(LEN(OFFSET(男子様式!$L$18,A427*3,0))=0,,\"(\"),LEFT(OFFSET(男子様式!$L$18,A427*3,0),2),IF(LEN(OFFSET(男子様式!$J$18,A427*3,0))=0,,\")\"))","v":" "},null,{"$f":"IF($C427=\"\",\"\",VLOOKUP(基本登録情報!$C$7,登録データ!$I$3:$L$100,3,FALSE))","v":""}]
[null,null,null,{"$f":"IF($C428=\"\",\"\",CONCATENATE(男子様式!$D447,\" \",男子様式!$J447))","v":""},null,{"$f":"CONCATENATE(OFFSET(男子様式!$J$18,3*A428,0),\" \",IF(LEN(OFFSET(男子様式!$L$18,A428*3,0))=0,,\"(\"),LEFT(OFFSET(男子様式!$L$18,A428*3,0),2),IF(LEN(OFFSET(男子様式!$J$18,A428*3,0))=0,,\")\"))","v":" "},null,{"$f":"IF($C428=\"\",\"\",VLOOKUP(基本登録情報!$C$7,登録データ!$I$3:$L$100,3,FALSE))","v":""}]
[null,null,null,{"$f":"IF($C429=\"\",\"\",CONCATENATE(男子様式!$D448,\" \",男子様式!$J448))","v":""},null,{"$f":"CONCATENATE(OFFSET(男子様式!$J$18,3*A429,0),\" \",IF(LEN(OFFSET(男子様式!$L$18,A429*3,0))=0,,\"(\"),LEFT(OFFSET(男子様式!$L$18,A429*3,0),2),IF(LEN(OFFSET(男子様式!$J$18,A429*3,0))=0,,\")\"))","v":" "},null,{"$f":"IF($C429=\"\",\"\",VLOOKUP(基本登録情報!$C$7,登録データ!$I$3:$L$100,3,FALSE))","v":""}]
[null,null,null,{"$f":"IF($C430=\"\",\"\",CONCATENATE(男子様式!$D449,\" \",男子様式!$J449))","v":""},null,{"$f":"CONCATENATE(OFFSET(男子様式!$J$18,3*A430,0),\" \",IF(LEN(OFFSET(男子様式!$L$18,A430*3,0))=0,,\"(\"),LEFT(OFFSET(男子様式!$L$18,A430*3,0),2),IF(LEN(OFFSET(男子様式!$J$18,A430*3,0))=0,,\")\"))","v":" "},null,{"$f":"IF($C430=\"\",\"\",VLOOKUP(基本登録情報!$C$7,登録データ!$I$3:$L$100,3,FALSE))","v":""}]
[null,null,null,{"$f":"IF($C431=\"\",\"\",CONCATENATE(男子様式!$D450,\" \",男子様式!$J450))","v":""},null,{"$f":"CONCATENATE(OFFSET(男子様式!$J$18,3*A431,0),\" \",IF(LEN(OFFSET(男子様式!$L$18,A431*3,0))=0,,\"(\"),LEFT(OFFSET(男子様式!$L$18,A431*3,0),2),IF(LEN(OFFSET(男子様式!$J$18,A431*3,0))=0,,\")\"))","v":" "},null,{"$f":"IF($C431=\"\",\"\",VLOOKUP(基本登録情報!$C$7,登録データ!$I$3:$L$100,3,FALSE))","v":""}]
[null,null,null,{"$f":"IF($C432=\"\",\"\",CONCATENATE(男子様式!$D451,\" \",男子様式!$J451))","v":""},null,{"$f":"CONCATENATE(OFFSET(男子様式!$J$18,3*A432,0),\" \",IF(LEN(OFFSET(男子様式!$L$18,A432*3,0))=0,,\"(\"),LEFT(OFFSET(男子様式!$L$18,A432*3,0),2),IF(LEN(OFFSET(男子様式!$J$18,A432*3,0))=0,,\")\"))","v":" "},null,{"$f":"IF($C432=\"\",\"\",VLOOKUP(基本登録情報!$C$7,登録データ!$I$3:$L$100,3,FALSE))","v":""}]
[null,null,null,{"$f":"IF($C433=\"\",\"\",CONCATENATE(男子様式!$D452,\" \",男子様式!$J452))","v":""},null,{"$f":"CONCATENATE(OFFSET(男子様式!$J$18,3*A433,0),\" \",IF(LEN(OFFSET(男子様式!$L$18,A433*3,0))=0,,\"(\"),LEFT(OFFSET(男子様式!$L$18,A433*3,0),2),IF(LEN(OFFSET(男子様式!$J$18,A433*3,0))=0,,\")\"))","v":" "},null,{"$f":"IF($C433=\"\",\"\",VLOOKUP(基本登録情報!$C$7,登録データ!$I$3:$L$100,3,FALSE))","v":""}]
[null,null,null,{"$f":"IF($C434=\"\",\"\",CONCATENATE(男子様式!$D453,\" \",男子様式!$J453))","v":""},null,{"$f":"CONCATENATE(OFFSET(男子様式!$J$18,3*A434,0),\" \",IF(LEN(OFFSET(男子様式!$L$18,A434*3,0))=0,,\"(\"),LEFT(OFFSET(男子様式!$L$18,A434*3,0),2),IF(LEN(OFFSET(男子様式!$J$18,A434*3,0))=0,,\")\"))","v":" "},null,{"$f":"IF($C434=\"\",\"\",VLOOKUP(基本登録情報!$C$7,登録データ!$I$3:$L$100,3,FALSE))","v":""}]
[null,null,null,{"$f":"IF($C435=\"\",\"\",CONCATENATE(男子様式!$D454,\" \",男子様式!$J454))","v":""},null,{"$f":"CONCATENATE(OFFSET(男子様式!$J$18,3*A435,0),\" \",IF(LEN(OFFSET(男子様式!$L$18,A435*3,0))=0,,\"(\"),LEFT(OFFSET(男子様式!$L$18,A435*3,0),2),IF(LEN(OFFSET(男子様式!$J$18,A435*3,0))=0,,\")\"))","v":" "},null,{"$f":"IF($C435=\"\",\"\",VLOOKUP(基本登録情報!$C$7,登録データ!$I$3:$L$100,3,FALSE))","v":""}]
[null,null,null,{"$f":"IF($C436=\"\",\"\",CONCATENATE(男子様式!$D455,\" \",男子様式!$J455))","v":""},null,{"$f":"CONCATENATE(OFFSET(男子様式!$J$18,3*A436,0),\" \",IF(LEN(OFFSET(男子様式!$L$18,A436*3,0))=0,,\"(\"),LEFT(OFFSET(男子様式!$L$18,A436*3,0),2),IF(LEN(OFFSET(男子様式!$J$18,A436*3,0))=0,,\")\"))","v":" "},null,{"$f":"IF($C436=\"\",\"\",VLOOKUP(基本登録情報!$C$7,登録データ!$I$3:$L$100,3,FALSE))","v":""}]
[null,null,null,{"$f":"IF($C437=\"\",\"\",CONCATENATE(男子様式!$D456,\" \",男子様式!$J456))","v":""},null,{"$f":"CONCATENATE(OFFSET(男子様式!$J$18,3*A437,0),\" \",IF(LEN(OFFSET(男子様式!$L$18,A437*3,0))=0,,\"(\"),LEFT(OFFSET(男子様式!$L$18,A437*3,0),2),IF(LEN(OFFSET(男子様式!$J$18,A437*3,0))=0,,\")\"))","v":" "},null,{"$f":"IF($C437=\"\",\"\",VLOOKUP(基本登録情報!$C$7,登録データ!$I$3:$L$100,3,FALSE))","v":""}]
[null,null,null,{"$f":"IF($C438=\"\",\"\",CONCATENATE(男子様式!$D457,\" \",男子様式!$J457))","v":""},null,{"$f":"CONCATENATE(OFFSET(男子様式!$J$18,3*A438,0),\" \",IF(LEN(OFFSET(男子様式!$L$18,A438*3,0))=0,,\"(\"),LEFT(OFFSET(男子様式!$L$18,A438*3,0),2),IF(LEN(OFFSET(男子様式!$J$18,A438*3,0))=0,,\")\"))","v":" "},null,{"$f":"IF($C438=\"\",\"\",VLOOKUP(基本登録情報!$C$7,登録データ!$I$3:$L$100,3,FALSE))","v":""}]
[null,null,null,{"$f":"IF($C439=\"\",\"\",CONCATENATE(男子様式!$D458,\" \",男子様式!$J458))","v":""},null,{"$f":"CONCATENATE(OFFSET(男子様式!$J$18,3*A439,0),\" \",IF(LEN(OFFSET(男子様式!$L$18,A439*3,0))=0,,\"(\"),LEFT(OFFSET(男子様式!$L$18,A439*3,0),2),IF(LEN(OFFSET(男子様式!$J$18,A439*3,0))=0,,\")\"))","v":" "},null,{"$f":"IF($C439=\"\",\"\",VLOOKUP(基本登録情報!$C$7,登録データ!$I$3:$L$100,3,FALSE))","v":""}]
[null,null,null,{"$f":"IF($C440=\"\",\"\",CONCATENATE(男子様式!$D459,\" \",男子様式!$J459))","v":""},null,{"$f":"CONCATENATE(OFFSET(男子様式!$J$18,3*A440,0),\" \",IF(LEN(OFFSET(男子様式!$L$18,A440*3,0))=0,,\"(\"),LEFT(OFFSET(男子様式!$L$18,A440*3,0),2),IF(LEN(OFFSET(男子様式!$J$18,A440*3,0))=0,,\")\"))","v":" "},null,{"$f":"IF($C440=\"\",\"\",VLOOKUP(基本登録情報!$C$7,登録データ!$I$3:$L$100,3,FALSE))","v":""}]
[null,null,null,{"$f":"IF($C441=\"\",\"\",CONCATENATE(男子様式!$D460,\" \",男子様式!$J460))","v":""},null,{"$f":"CONCATENATE(OFFSET(男子様式!$J$18,3*A441,0),\" \",IF(LEN(OFFSET(男子様式!$L$18,A441*3,0))=0,,\"(\"),LEFT(OFFSET(男子様式!$L$18,A441*3,0),2),IF(LEN(OFFSET(男子様式!$J$18,A441*3,0))=0,,\")\"))","v":" "},null,{"$f":"IF($C441=\"\",\"\",VLOOKUP(基本登録情報!$C$7,登録データ!$I$3:$L$100,3,FALSE))","v":""}]
[null,null,null,{"$f":"IF($C442=\"\",\"\",CONCATENATE(男子様式!$D461,\" \",男子様式!$J461))","v":""},null,{"$f":"CONCATENATE(OFFSET(男子様式!$J$18,3*A442,0),\" \",IF(LEN(OFFSET(男子様式!$L$18,A442*3,0))=0,,\"(\"),LEFT(OFFSET(男子様式!$L$18,A442*3,0),2),IF(LEN(OFFSET(男子様式!$J$18,A442*3,0))=0,,\")\"))","v":" "},null,{"$f":"IF($C442=\"\",\"\",VLOOKUP(基本登録情報!$C$7,登録データ!$I$3:$L$100,3,FALSE))","v":""}]
[null,null,null,{"$f":"IF($C443=\"\",\"\",CONCATENATE(男子様式!$D462,\" \",男子様式!$J462))","v":""},null,{"$f":"CONCATENATE(OFFSET(男子様式!$J$18,3*A443,0),\" \",IF(LEN(OFFSET(男子様式!$L$18,A443*3,0))=0,,\"(\"),LEFT(OFFSET(男子様式!$L$18,A443*3,0),2),IF(LEN(OFFSET(男子様式!$J$18,A443*3,0))=0,,\")\"))","v":" "},null,{"$f":"IF($C443=\"\",\"\",VLOOKUP(基本登録情報!$C$7,登録データ!$I$3:$L$100,3,FALSE))","v":""}]
[null,null,null,{"$f":"IF($C444=\"\",\"\",CONCATENATE(男子様式!$D463,\" \",男子様式!$J463))","v":""},null,{"$f":"CONCATENATE(OFFSET(男子様式!$J$18,3*A444,0),\" \",IF(LEN(OFFSET(男子様式!$L$18,A444*3,0))=0,,\"(\"),LEFT(OFFSET(男子様式!$L$18,A444*3,0),2),IF(LEN(OFFSET(男子様式!$J$18,A444*3,0))=0,,\")\"))","v":" "},null,{"$f":"IF($C444=\"\",\"\",VLOOKUP(基本登録情報!$C$7,登録データ!$I$3:$L$100,3,FALSE))","v":""}]
[null,null,null,{"$f":"IF($C445=\"\",\"\",CONCATENATE(男子様式!$D464,\" \",男子様式!$J464))","v":""},null,{"$f":"CONCATENATE(OFFSET(男子様式!$J$18,3*A445,0),\" \",IF(LEN(OFFSET(男子様式!$L$18,A445*3,0))=0,,\"(\"),LEFT(OFFSET(男子様式!$L$18,A445*3,0),2),IF(LEN(OFFSET(男子様式!$J$18,A445*3,0))=0,,\")\"))","v":" "},null,{"$f":"IF($C445=\"\",\"\",VLOOKUP(基本登録情報!$C$7,登録データ!$I$3:$L$100,3,FALSE))","v":""}]
[null,null,null,{"$f":"IF($C446=\"\",\"\",CONCATENATE(男子様式!$D465,\" \",男子様式!$J465))","v":""},null,{"$f":"CONCATENATE(OFFSET(男子様式!$J$18,3*A446,0),\" \",IF(LEN(OFFSET(男子様式!$L$18,A446*3,0))=0,,\"(\"),LEFT(OFFSET(男子様式!$L$18,A446*3,0),2),IF(LEN(OFFSET(男子様式!$J$18,A446*3,0))=0,,\")\"))","v":" "},null,{"$f":"IF($C446=\"\",\"\",VLOOKUP(基本登録情報!$C$7,登録データ!$I$3:$L$100,3,FALSE))","v":""}]
[null,null,null,{"$f":"IF($C447=\"\",\"\",CONCATENATE(男子様式!$D466,\" \",男子様式!$J466))","v":""},null,{"$f":"CONCATENATE(OFFSET(男子様式!$J$18,3*A447,0),\" \",IF(LEN(OFFSET(男子様式!$L$18,A447*3,0))=0,,\"(\"),LEFT(OFFSET(男子様式!$L$18,A447*3,0),2),IF(LEN(OFFSET(男子様式!$J$18,A447*3,0))=0,,\")\"))","v":" "},null,{"$f":"IF($C447=\"\",\"\",VLOOKUP(基本登録情報!$C$7,登録データ!$I$3:$L$100,3,FALSE))","v":""}]
[null,null,null,{"$f":"IF($C448=\"\",\"\",CONCATENATE(男子様式!$D467,\" \",男子様式!$J467))","v":""},null,{"$f":"CONCATENATE(OFFSET(男子様式!$J$18,3*A448,0),\" \",IF(LEN(OFFSET(男子様式!$L$18,A448*3,0))=0,,\"(\"),LEFT(OFFSET(男子様式!$L$18,A448*3,0),2),IF(LEN(OFFSET(男子様式!$J$18,A448*3,0))=0,,\")\"))","v":" "},null,{"$f":"IF($C448=\"\",\"\",VLOOKUP(基本登録情報!$C$7,登録データ!$I$3:$L$100,3,FALSE))","v":""}]
[null,null,null,{"$f":"IF($C449=\"\",\"\",CONCATENATE(男子様式!$D468,\" \",男子様式!$J468))","v":""},null,{"$f":"CONCATENATE(OFFSET(男子様式!$J$18,3*A449,0),\" \",IF(LEN(OFFSET(男子様式!$L$18,A449*3,0))=0,,\"(\"),LEFT(OFFSET(男子様式!$L$18,A449*3,0),2),IF(LEN(OFFSET(男子様式!$J$18,A449*3,0))=0,,\")\"))","v":" "},null,{"$f":"IF($C449=\"\",\"\",VLOOKUP(基本登録情報!$C$7,登録データ!$I$3:$L$100,3,FALSE))","v":""}]
[null,null,null,{"$f":"IF($C450=\"\",\"\",CONCATENATE(男子様式!$D469,\" \",男子様式!$J469))","v":""},null,{"$f":"CONCATENATE(OFFSET(男子様式!$J$18,3*A450,0),\" \",IF(LEN(OFFSET(男子様式!$L$18,A450*3,0))=0,,\"(\"),LEFT(OFFSET(男子様式!$L$18,A450*3,0),2),IF(LEN(OFFSET(男子様式!$J$18,A450*3,0))=0,,\")\"))","v":" "},null,{"$f":"IF($C450=\"\",\"\",VLOOKUP(基本登録情報!$C$7,登録データ!$I$3:$L$100,3,FALSE))","v":""}]
[null,null,null,{"$f":"IF($C451=\"\",\"\",CONCATENATE(男子様式!$D470,\" \",男子様式!$J470))","v":""},null,{"$f":"CONCATENATE(OFFSET(男子様式!$J$18,3*A451,0),\" \",IF(LEN(OFFSET(男子様式!$L$18,A451*3,0))=0,,\"(\"),LEFT(OFFSET(男子様式!$L$18,A451*3,0),2),IF(LEN(OFFSET(男子様式!$J$18,A451*3,0))=0,,\")\"))","v":" "},null,{"$f":"IF($C451=\"\",\"\",VLOOKUP(基本登録情報!$C$7,登録データ!$I$3:$L$100,3,FALSE))","v":""}]
[null,null,null,{"$f":"IF($C452=\"\",\"\",CONCATENATE(男子様式!$D471,\" \",男子様式!$J471))","v":""},null,{"$f":"CONCATENATE(OFFSET(男子様式!$J$18,3*A452,0),\" \",IF(LEN(OFFSET(男子様式!$L$18,A452*3,0))=0,,\"(\"),LEFT(OFFSET(男子様式!$L$18,A452*3,0),2),IF(LEN(OFFSET(男子様式!$J$18,A452*3,0))=0,,\")\"))","v":" "},null,{"$f":"IF($C452=\"\",\"\",VLOOKUP(基本登録情報!$C$7,登録データ!$I$3:$L$100,3,FALSE))","v":""}]
[null,null,null,{"$f":"IF($C453=\"\",\"\",CONCATENATE(男子様式!$D472,\" \",男子様式!$J472))","v":""},null,{"$f":"CONCATENATE(OFFSET(男子様式!$J$18,3*A453,0),\" \",IF(LEN(OFFSET(男子様式!$L$18,A453*3,0))=0,,\"(\"),LEFT(OFFSET(男子様式!$L$18,A453*3,0),2),IF(LEN(OFFSET(男子様式!$J$18,A453*3,0))=0,,\")\"))","v":" "},null,{"$f":"IF($C453=\"\",\"\",VLOOKUP(基本登録情報!$C$7,登録データ!$I$3:$L$100,3,FALSE))","v":""}]
[null,null,null,{"$f":"IF($C454=\"\",\"\",CONCATENATE(男子様式!$D473,\" \",男子様式!$J473))","v":""},null,{"$f":"CONCATENATE(OFFSET(男子様式!$J$18,3*A454,0),\" \",IF(LEN(OFFSET(男子様式!$L$18,A454*3,0))=0,,\"(\"),LEFT(OFFSET(男子様式!$L$18,A454*3,0),2),IF(LEN(OFFSET(男子様式!$J$18,A454*3,0))=0,,\")\"))","v":" "},null,{"$f":"IF($C454=\"\",\"\",VLOOKUP(基本登録情報!$C$7,登録データ!$I$3:$L$100,3,FALSE))","v":""}]
[null,null,null,{"$f":"IF($C455=\"\",\"\",CONCATENATE(男子様式!$D474,\" \",男子様式!$J474))","v":""},null,{"$f":"CONCATENATE(OFFSET(男子様式!$J$18,3*A455,0),\" \",IF(LEN(OFFSET(男子様式!$L$18,A455*3,0))=0,,\"(\"),LEFT(OFFSET(男子様式!$L$18,A455*3,0),2),IF(LEN(OFFSET(男子様式!$J$18,A455*3,0))=0,,\")\"))","v":" "},null,{"$f":"IF($C455=\"\",\"\",VLOOKUP(基本登録情報!$C$7,登録データ!$I$3:$L$100,3,FALSE))","v":""}]
[null,null,null,{"$f":"IF($C456=\"\",\"\",CONCATENATE(男子様式!$D475,\" \",男子様式!$J475))","v":""},null,{"$f":"CONCATENATE(OFFSET(男子様式!$J$18,3*A456,0),\" \",IF(LEN(OFFSET(男子様式!$L$18,A456*3,0))=0,,\"(\"),LEFT(OFFSET(男子様式!$L$18,A456*3,0),2),IF(LEN(OFFSET(男子様式!$J$18,A456*3,0))=0,,\")\"))","v":" "},null,{"$f":"IF($C456=\"\",\"\",VLOOKUP(基本登録情報!$C$7,登録データ!$I$3:$L$100,3,FALSE))","v":""}]
[null,null,null,{"$f":"IF($C457=\"\",\"\",CONCATENATE(男子様式!$D476,\" \",男子様式!$J476))","v":""},null,{"$f":"CONCATENATE(OFFSET(男子様式!$J$18,3*A457,0),\" \",IF(LEN(OFFSET(男子様式!$L$18,A457*3,0))=0,,\"(\"),LEFT(OFFSET(男子様式!$L$18,A457*3,0),2),IF(LEN(OFFSET(男子様式!$J$18,A457*3,0))=0,,\")\"))","v":" "},null,{"$f":"IF($C457=\"\",\"\",VLOOKUP(基本登録情報!$C$7,登録データ!$I$3:$L$100,3,FALSE))","v":""}]
[null,null,null,{"$f":"IF($C458=\"\",\"\",CONCATENATE(男子様式!$D477,\" \",男子様式!$J477))","v":""},null,{"$f":"CONCATENATE(OFFSET(男子様式!$J$18,3*A458,0),\" \",IF(LEN(OFFSET(男子様式!$L$18,A458*3,0))=0,,\"(\"),LEFT(OFFSET(男子様式!$L$18,A458*3,0),2),IF(LEN(OFFSET(男子様式!$J$18,A458*3,0))=0,,\")\"))","v":" "},null,{"$f":"IF($C458=\"\",\"\",VLOOKUP(基本登録情報!$C$7,登録データ!$I$3:$L$100,3,FALSE))","v":""}]
[null,null,null,{"$f":"IF($C459=\"\",\"\",CONCATENATE(男子様式!$D478,\" \",男子様式!$J478))","v":""},null,{"$f":"CONCATENATE(OFFSET(男子様式!$J$18,3*A459,0),\" \",IF(LEN(OFFSET(男子様式!$L$18,A459*3,0))=0,,\"(\"),LEFT(OFFSET(男子様式!$L$18,A459*3,0),2),IF(LEN(OFFSET(男子様式!$J$18,A459*3,0))=0,,\")\"))","v":" "},null,{"$f":"IF($C459=\"\",\"\",VLOOKUP(基本登録情報!$C$7,登録データ!$I$3:$L$100,3,FALSE))","v":""}]
[null,null,null,{"$f":"IF($C460=\"\",\"\",CONCATENATE(男子様式!$D479,\" \",男子様式!$J479))","v":""},null,{"$f":"CONCATENATE(OFFSET(男子様式!$J$18,3*A460,0),\" \",IF(LEN(OFFSET(男子様式!$L$18,A460*3,0))=0,,\"(\"),LEFT(OFFSET(男子様式!$L$18,A460*3,0),2),IF(LEN(OFFSET(男子様式!$J$18,A460*3,0))=0,,\")\"))","v":" "},null,{"$f":"IF($C460=\"\",\"\",VLOOKUP(基本登録情報!$C$7,登録データ!$I$3:$L$100,3,FALSE))","v":""}]
[null,null,null,{"$f":"IF($C461=\"\",\"\",CONCATENATE(男子様式!$D480,\" \",男子様式!$J480))","v":""},null,{"$f":"CONCATENATE(OFFSET(男子様式!$J$18,3*A461,0),\" \",IF(LEN(OFFSET(男子様式!$L$18,A461*3,0))=0,,\"(\"),LEFT(OFFSET(男子様式!$L$18,A461*3,0),2),IF(LEN(OFFSET(男子様式!$J$18,A461*3,0))=0,,\")\"))","v":" "},null,{"$f":"IF($C461=\"\",\"\",VLOOKUP(基本登録情報!$C$7,登録データ!$I$3:$L$100,3,FALSE))","v":""}]
[null,null,null,{"$f":"IF($C462=\"\",\"\",CONCATENATE(男子様式!$D481,\" \",男子様式!$J481))","v":""},null,{"$f":"CONCATENATE(OFFSET(男子様式!$J$18,3*A462,0),\" \",IF(LEN(OFFSET(男子様式!$L$18,A462*3,0))=0,,\"(\"),LEFT(OFFSET(男子様式!$L$18,A462*3,0),2),IF(LEN(OFFSET(男子様式!$J$18,A462*3,0))=0,,\")\"))","v":" "},null,{"$f":"IF($C462=\"\",\"\",VLOOKUP(基本登録情報!$C$7,登録データ!$I$3:$L$100,3,FALSE))","v":""}]
[null,null,null,{"$f":"IF($C463=\"\",\"\",CONCATENATE(男子様式!$D482,\" \",男子様式!$J482))","v":""},null,{"$f":"CONCATENATE(OFFSET(男子様式!$J$18,3*A463,0),\" \",IF(LEN(OFFSET(男子様式!$L$18,A463*3,0))=0,,\"(\"),LEFT(OFFSET(男子様式!$L$18,A463*3,0),2),IF(LEN(OFFSET(男子様式!$J$18,A463*3,0))=0,,\")\"))","v":" "},null,{"$f":"IF($C463=\"\",\"\",VLOOKUP(基本登録情報!$C$7,登録データ!$I$3:$L$100,3,FALSE))","v":""}]
[null,null,null,{"$f":"IF($C464=\"\",\"\",CONCATENATE(男子様式!$D483,\" \",男子様式!$J483))","v":""},null,{"$f":"CONCATENATE(OFFSET(男子様式!$J$18,3*A464,0),\" \",IF(LEN(OFFSET(男子様式!$L$18,A464*3,0))=0,,\"(\"),LEFT(OFFSET(男子様式!$L$18,A464*3,0),2),IF(LEN(OFFSET(男子様式!$J$18,A464*3,0))=0,,\")\"))","v":" "},null,{"$f":"IF($C464=\"\",\"\",VLOOKUP(基本登録情報!$C$7,登録データ!$I$3:$L$100,3,FALSE))","v":""}]
[null,null,null,{"$f":"IF($C465=\"\",\"\",CONCATENATE(男子様式!$D484,\" \",男子様式!$J484))","v":""},null,{"$f":"CONCATENATE(OFFSET(男子様式!$J$18,3*A465,0),\" \",IF(LEN(OFFSET(男子様式!$L$18,A465*3,0))=0,,\"(\"),LEFT(OFFSET(男子様式!$L$18,A465*3,0),2),IF(LEN(OFFSET(男子様式!$J$18,A465*3,0))=0,,\")\"))","v":" "},null,{"$f":"IF($C465=\"\",\"\",VLOOKUP(基本登録情報!$C$7,登録データ!$I$3:$L$100,3,FALSE))","v":""}]
[null,null,null,{"$f":"IF($C466=\"\",\"\",CONCATENATE(男子様式!$D485,\" \",男子様式!$J485))","v":""},null,{"$f":"CONCATENATE(OFFSET(男子様式!$J$18,3*A466,0),\" \",IF(LEN(OFFSET(男子様式!$L$18,A466*3,0))=0,,\"(\"),LEFT(OFFSET(男子様式!$L$18,A466*3,0),2),IF(LEN(OFFSET(男子様式!$J$18,A466*3,0))=0,,\")\"))","v":" "},null,{"$f":"IF($C466=\"\",\"\",VLOOKUP(基本登録情報!$C$7,登録データ!$I$3:$L$100,3,FALSE))","v":""}]
[null,null,null,{"$f":"IF($C467=\"\",\"\",CONCATENATE(男子様式!$D486,\" \",男子様式!$J486))","v":""},null,{"$f":"CONCATENATE(OFFSET(男子様式!$J$18,3*A467,0),\" \",IF(LEN(OFFSET(男子様式!$L$18,A467*3,0))=0,,\"(\"),LEFT(OFFSET(男子様式!$L$18,A467*3,0),2),IF(LEN(OFFSET(男子様式!$J$18,A467*3,0))=0,,\")\"))","v":" "},null,{"$f":"IF($C467=\"\",\"\",VLOOKUP(基本登録情報!$C$7,登録データ!$I$3:$L$100,3,FALSE))","v":""}]
[null,null,null,{"$f":"IF($C468=\"\",\"\",CONCATENATE(男子様式!$D487,\" \",男子様式!$J487))","v":""},null,{"$f":"CONCATENATE(OFFSET(男子様式!$J$18,3*A468,0),\" \",IF(LEN(OFFSET(男子様式!$L$18,A468*3,0))=0,,\"(\"),LEFT(OFFSET(男子様式!$L$18,A468*3,0),2),IF(LEN(OFFSET(男子様式!$J$18,A468*3,0))=0,,\")\"))","v":" "},null,{"$f":"IF($C468=\"\",\"\",VLOOKUP(基本登録情報!$C$7,登録データ!$I$3:$L$100,3,FALSE))","v":""}]
[null,null,null,{"$f":"IF($C469=\"\",\"\",CONCATENATE(男子様式!$D488,\" \",男子様式!$J488))","v":""},null,{"$f":"CONCATENATE(OFFSET(男子様式!$J$18,3*A469,0),\" \",IF(LEN(OFFSET(男子様式!$L$18,A469*3,0))=0,,\"(\"),LEFT(OFFSET(男子様式!$L$18,A469*3,0),2),IF(LEN(OFFSET(男子様式!$J$18,A469*3,0))=0,,\")\"))","v":" "},null,{"$f":"IF($C469=\"\",\"\",VLOOKUP(基本登録情報!$C$7,登録データ!$I$3:$L$100,3,FALSE))","v":""}]
[null,null,null,{"$f":"IF($C470=\"\",\"\",CONCATENATE(男子様式!$D489,\" \",男子様式!$J489))","v":""},null,{"$f":"CONCATENATE(OFFSET(男子様式!$J$18,3*A470,0),\" \",IF(LEN(OFFSET(男子様式!$L$18,A470*3,0))=0,,\"(\"),LEFT(OFFSET(男子様式!$L$18,A470*3,0),2),IF(LEN(OFFSET(男子様式!$J$18,A470*3,0))=0,,\")\"))","v":" "},null,{"$f":"IF($C470=\"\",\"\",VLOOKUP(基本登録情報!$C$7,登録データ!$I$3:$L$100,3,FALSE))","v":""}]
[null,null,null,{"$f":"IF($C471=\"\",\"\",CONCATENATE(男子様式!$D490,\" \",男子様式!$J490))","v":""},null,{"$f":"CONCATENATE(OFFSET(男子様式!$J$18,3*A471,0),\" \",IF(LEN(OFFSET(男子様式!$L$18,A471*3,0))=0,,\"(\"),LEFT(OFFSET(男子様式!$L$18,A471*3,0),2),IF(LEN(OFFSET(男子様式!$J$18,A471*3,0))=0,,\")\"))","v":" "},null,{"$f":"IF($C471=\"\",\"\",VLOOKUP(基本登録情報!$C$7,登録データ!$I$3:$L$100,3,FALSE))","v":""}]
[null,null,null,{"$f":"IF($C472=\"\",\"\",CONCATENATE(男子様式!$D491,\" \",男子様式!$J491))","v":""},null,{"$f":"CONCATENATE(OFFSET(男子様式!$J$18,3*A472,0),\" \",IF(LEN(OFFSET(男子様式!$L$18,A472*3,0))=0,,\"(\"),LEFT(OFFSET(男子様式!$L$18,A472*3,0),2),IF(LEN(OFFSET(男子様式!$J$18,A472*3,0))=0,,\")\"))","v":" "},null,{"$f":"IF($C472=\"\",\"\",VLOOKUP(基本登録情報!$C$7,登録データ!$I$3:$L$100,3,FALSE))","v":""}]
[null,null,null,{"$f":"IF($C473=\"\",\"\",CONCATENATE(男子様式!$D492,\" \",男子様式!$J492))","v":""},null,{"$f":"CONCATENATE(OFFSET(男子様式!$J$18,3*A473,0),\" \",IF(LEN(OFFSET(男子様式!$L$18,A473*3,0))=0,,\"(\"),LEFT(OFFSET(男子様式!$L$18,A473*3,0),2),IF(LEN(OFFSET(男子様式!$J$18,A473*3,0))=0,,\")\"))","v":" "},null,{"$f":"IF($C473=\"\",\"\",VLOOKUP(基本登録情報!$C$7,登録データ!$I$3:$L$100,3,FALSE))","v":""}]
[null,null,null,{"$f":"IF($C474=\"\",\"\",CONCATENATE(男子様式!$D493,\" \",男子様式!$J493))","v":""},null,{"$f":"CONCATENATE(OFFSET(男子様式!$J$18,3*A474,0),\" \",IF(LEN(OFFSET(男子様式!$L$18,A474*3,0))=0,,\"(\"),LEFT(OFFSET(男子様式!$L$18,A474*3,0),2),IF(LEN(OFFSET(男子様式!$J$18,A474*3,0))=0,,\")\"))","v":" "},null,{"$f":"IF($C474=\"\",\"\",VLOOKUP(基本登録情報!$C$7,登録データ!$I$3:$L$100,3,FALSE))","v":""}]
[null,null,null,{"$f":"IF($C475=\"\",\"\",CONCATENATE(男子様式!$D494,\" \",男子様式!$J494))","v":""},null,{"$f":"CONCATENATE(OFFSET(男子様式!$J$18,3*A475,0),\" \",IF(LEN(OFFSET(男子様式!$L$18,A475*3,0))=0,,\"(\"),LEFT(OFFSET(男子様式!$L$18,A475*3,0),2),IF(LEN(OFFSET(男子様式!$J$18,A475*3,0))=0,,\")\"))","v":" "},null,{"$f":"IF($C475=\"\",\"\",VLOOKUP(基本登録情報!$C$7,登録データ!$I$3:$L$100,3,FALSE))","v":""}]
[null,null,null,{"$f":"IF($C476=\"\",\"\",CONCATENATE(男子様式!$D495,\" \",男子様式!$J495))","v":""},null,{"$f":"CONCATENATE(OFFSET(男子様式!$J$18,3*A476,0),\" \",IF(LEN(OFFSET(男子様式!$L$18,A476*3,0))=0,,\"(\"),LEFT(OFFSET(男子様式!$L$18,A476*3,0),2),IF(LEN(OFFSET(男子様式!$J$18,A476*3,0))=0,,\")\"))","v":" "},null,{"$f":"IF($C476=\"\",\"\",VLOOKUP(基本登録情報!$C$7,登録データ!$I$3:$L$100,3,FALSE))","v":""}]
[null,null,null,{"$f":"IF($C477=\"\",\"\",CONCATENATE(男子様式!$D496,\" \",男子様式!$J496))","v":""},null,{"$f":"CONCATENATE(OFFSET(男子様式!$J$18,3*A477,0),\" \",IF(LEN(OFFSET(男子様式!$L$18,A477*3,0))=0,,\"(\"),LEFT(OFFSET(男子様式!$L$18,A477*3,0),2),IF(LEN(OFFSET(男子様式!$J$18,A477*3,0))=0,,\")\"))","v":" "},null,{"$f":"IF($C477=\"\",\"\",VLOOKUP(基本登録情報!$C$7,登録データ!$I$3:$L$100,3,FALSE))","v":""}]
[null,null,null,{"$f":"IF($C478=\"\",\"\",CONCATENATE(男子様式!$D497,\" \",男子様式!$J497))","v":""},null,{"$f":"CONCATENATE(OFFSET(男子様式!$J$18,3*A478,0),\" \",IF(LEN(OFFSET(男子様式!$L$18,A478*3,0))=0,,\"(\"),LEFT(OFFSET(男子様式!$L$18,A478*3,0),2),IF(LEN(OFFSET(男子様式!$J$18,A478*3,0))=0,,\")\"))","v":" "},null,{"$f":"IF($C478=\"\",\"\",VLOOKUP(基本登録情報!$C$7,登録データ!$I$3:$L$100,3,FALSE))","v":""}]
[null,null,null,{"$f":"IF($C479=\"\",\"\",CONCATENATE(男子様式!$D498,\" \",男子様式!$J498))","v":""},null,{"$f":"CONCATENATE(OFFSET(男子様式!$J$18,3*A479,0),\" \",IF(LEN(OFFSET(男子様式!$L$18,A479*3,0))=0,,\"(\"),LEFT(OFFSET(男子様式!$L$18,A479*3,0),2),IF(LEN(OFFSET(男子様式!$J$18,A479*3,0))=0,,\")\"))","v":" "},null,{"$f":"IF($C479=\"\",\"\",VLOOKUP(基本登録情報!$C$7,登録データ!$I$3:$L$100,3,FALSE))","v":""}]
[null,null,null,{"$f":"IF($C480=\"\",\"\",CONCATENATE(男子様式!$D499,\" \",男子様式!$J499))","v":""},null,{"$f":"CONCATENATE(OFFSET(男子様式!$J$18,3*A480,0),\" \",IF(LEN(OFFSET(男子様式!$L$18,A480*3,0))=0,,\"(\"),LEFT(OFFSET(男子様式!$L$18,A480*3,0),2),IF(LEN(OFFSET(男子様式!$J$18,A480*3,0))=0,,\")\"))","v":" "},null,{"$f":"IF($C480=\"\",\"\",VLOOKUP(基本登録情報!$C$7,登録データ!$I$3:$L$100,3,FALSE))","v":""}]
[null,null,null,{"$f":"IF($C481=\"\",\"\",CONCATENATE(男子様式!$D500,\" \",男子様式!$J500))","v":""},null,{"$f":"CONCATENATE(OFFSET(男子様式!$J$18,3*A481,0),\" \",IF(LEN(OFFSET(男子様式!$L$18,A481*3,0))=0,,\"(\"),LEFT(OFFSET(男子様式!$L$18,A481*3,0),2),IF(LEN(OFFSET(男子様式!$J$18,A481*3,0))=0,,\")\"))","v":" "},null,{"$f":"IF($C481=\"\",\"\",VLOOKUP(基本登録情報!$C$7,登録データ!$I$3:$L$100,3,FALSE))","v":""}]
[null,null,null,{"$f":"IF($C482=\"\",\"\",CONCATENATE(男子様式!$D501,\" \",男子様式!$J501))","v":""},null,{"$f":"CONCATENATE(OFFSET(男子様式!$J$18,3*A482,0),\" \",IF(LEN(OFFSET(男子様式!$L$18,A482*3,0))=0,,\"(\"),LEFT(OFFSET(男子様式!$L$18,A482*3,0),2),IF(LEN(OFFSET(男子様式!$J$18,A482*3,0))=0,,\")\"))","v":" "},null,{"$f":"IF($C482=\"\",\"\",VLOOKUP(基本登録情報!$C$7,登録データ!$I$3:$L$100,3,FALSE))","v":""}]
[null,null,null,{"$f":"IF($C483=\"\",\"\",CONCATENATE(男子様式!$D502,\" \",男子様式!$J502))","v":""},null,{"$f":"CONCATENATE(OFFSET(男子様式!$J$18,3*A483,0),\" \",IF(LEN(OFFSET(男子様式!$L$18,A483*3,0))=0,,\"(\"),LEFT(OFFSET(男子様式!$L$18,A483*3,0),2),IF(LEN(OFFSET(男子様式!$J$18,A483*3,0))=0,,\")\"))","v":" "},null,{"$f":"IF($C483=\"\",\"\",VLOOKUP(基本登録情報!$C$7,登録データ!$I$3:$L$100,3,FALSE))","v":""}]
[null,null,null,{"$f":"IF($C484=\"\",\"\",CONCATENATE(男子様式!$D503,\" \",男子様式!$J503))","v":""},null,{"$f":"CONCATENATE(OFFSET(男子様式!$J$18,3*A484,0),\" \",IF(LEN(OFFSET(男子様式!$L$18,A484*3,0))=0,,\"(\"),LEFT(OFFSET(男子様式!$L$18,A484*3,0),2),IF(LEN(OFFSET(男子様式!$J$18,A484*3,0))=0,,\")\"))","v":" "},null,{"$f":"IF($C484=\"\",\"\",VLOOKUP(基本登録情報!$C$7,登録データ!$I$3:$L$100,3,FALSE))","v":""}]
[null,null,null,{"$f":"IF($C485=\"\",\"\",CONCATENATE(男子様式!$D504,\" \",男子様式!$J504))","v":""},null,{"$f":"CONCATENATE(OFFSET(男子様式!$J$18,3*A485,0),\" \",IF(LEN(OFFSET(男子様式!$L$18,A485*3,0))=0,,\"(\"),LEFT(OFFSET(男子様式!$L$18,A485*3,0),2),IF(LEN(OFFSET(男子様式!$J$18,A485*3,0))=0,,\")\"))","v":" "},null,{"$f":"IF($C485=\"\",\"\",VLOOKUP(基本登録情報!$C$7,登録データ!$I$3:$L$100,3,FALSE))","v":""}]
[null,null,null,{"$f":"IF($C486=\"\",\"\",CONCATENATE(男子様式!$D505,\" \",男子様式!$J505))","v":""},null,{"$f":"CONCATENATE(OFFSET(男子様式!$J$18,3*A486,0),\" \",IF(LEN(OFFSET(男子様式!$L$18,A486*3,0))=0,,\"(\"),LEFT(OFFSET(男子様式!$L$18,A486*3,0),2),IF(LEN(OFFSET(男子様式!$J$18,A486*3,0))=0,,\")\"))","v":" "},null,{"$f":"IF($C486=\"\",\"\",VLOOKUP(基本登録情報!$C$7,登録データ!$I$3:$L$100,3,FALSE))","v":""}]
[null,null,null,{"$f":"IF($C487=\"\",\"\",CONCATENATE(男子様式!$D506,\" \",男子様式!$J506))","v":""},null,{"$f":"CONCATENATE(OFFSET(男子様式!$J$18,3*A487,0),\" \",IF(LEN(OFFSET(男子様式!$L$18,A487*3,0))=0,,\"(\"),LEFT(OFFSET(男子様式!$L$18,A487*3,0),2),IF(LEN(OFFSET(男子様式!$J$18,A487*3,0))=0,,\")\"))","v":" "},null,{"$f":"IF($C487=\"\",\"\",VLOOKUP(基本登録情報!$C$7,登録データ!$I$3:$L$100,3,FALSE))","v":""}]
[null,null,null,{"$f":"IF($C488=\"\",\"\",CONCATENATE(男子様式!$D507,\" \",男子様式!$J507))","v":""},null,{"$f":"CONCATENATE(OFFSET(男子様式!$J$18,3*A488,0),\" \",IF(LEN(OFFSET(男子様式!$L$18,A488*3,0))=0,,\"(\"),LEFT(OFFSET(男子様式!$L$18,A488*3,0),2),IF(LEN(OFFSET(男子様式!$J$18,A488*3,0))=0,,\")\"))","v":" "},null,{"$f":"IF($C488=\"\",\"\",VLOOKUP(基本登録情報!$C$7,登録データ!$I$3:$L$100,3,FALSE))","v":""}]
[null,null,null,{"$f":"IF($C489=\"\",\"\",CONCATENATE(男子様式!$D508,\" \",男子様式!$J508))","v":""},null,{"$f":"CONCATENATE(OFFSET(男子様式!$J$18,3*A489,0),\" \",IF(LEN(OFFSET(男子様式!$L$18,A489*3,0))=0,,\"(\"),LEFT(OFFSET(男子様式!$L$18,A489*3,0),2),IF(LEN(OFFSET(男子様式!$J$18,A489*3,0))=0,,\")\"))","v":" "},null,{"$f":"IF($C489=\"\",\"\",VLOOKUP(基本登録情報!$C$7,登録データ!$I$3:$L$100,3,FALSE))","v":""}]
[null,null,null,{"$f":"IF($C490=\"\",\"\",CONCATENATE(男子様式!$D509,\" \",男子様式!$J509))","v":""},null,{"$f":"CONCATENATE(OFFSET(男子様式!$J$18,3*A490,0),\" \",IF(LEN(OFFSET(男子様式!$L$18,A490*3,0))=0,,\"(\"),LEFT(OFFSET(男子様式!$L$18,A490*3,0),2),IF(LEN(OFFSET(男子様式!$J$18,A490*3,0))=0,,\")\"))","v":" "},null,{"$f":"IF($C490=\"\",\"\",VLOOKUP(基本登録情報!$C$7,登録データ!$I$3:$L$100,3,FALSE))","v":""}]
[null,null,null,{"$f":"IF($C491=\"\",\"\",CONCATENATE(男子様式!$D510,\" \",男子様式!$J510))","v":""},null,{"$f":"CONCATENATE(OFFSET(男子様式!$J$18,3*A491,0),\" \",IF(LEN(OFFSET(男子様式!$L$18,A491*3,0))=0,,\"(\"),LEFT(OFFSET(男子様式!$L$18,A491*3,0),2),IF(LEN(OFFSET(男子様式!$J$18,A491*3,0))=0,,\")\"))","v":" "},null,{"$f":"IF($C491=\"\",\"\",VLOOKUP(基本登録情報!$C$7,登録データ!$I$3:$L$100,3,FALSE))","v":""}]
[null,null,null,{"$f":"IF($C492=\"\",\"\",CONCATENATE(男子様式!$D511,\" \",男子様式!$J511))","v":""},null,{"$f":"CONCATENATE(OFFSET(男子様式!$J$18,3*A492,0),\" \",IF(LEN(OFFSET(男子様式!$L$18,A492*3,0))=0,,\"(\"),LEFT(OFFSET(男子様式!$L$18,A492*3,0),2),IF(LEN(OFFSET(男子様式!$J$18,A492*3,0))=0,,\")\"))","v":" "},null,{"$f":"IF($C492=\"\",\"\",VLOOKUP(基本登録情報!$C$7,登録データ!$I$3:$L$100,3,FALSE))","v":""}]
[null,null,null,{"$f":"IF($C493=\"\",\"\",CONCATENATE(男子様式!$D512,\" \",男子様式!$J512))","v":""},null,{"$f":"CONCATENATE(OFFSET(男子様式!$J$18,3*A493,0),\" \",IF(LEN(OFFSET(男子様式!$L$18,A493*3,0))=0,,\"(\"),LEFT(OFFSET(男子様式!$L$18,A493*3,0),2),IF(LEN(OFFSET(男子様式!$J$18,A493*3,0))=0,,\")\"))","v":" "},null,{"$f":"IF($C493=\"\",\"\",VLOOKUP(基本登録情報!$C$7,登録データ!$I$3:$L$100,3,FALSE))","v":""}]
[null,null,null,{"$f":"IF($C494=\"\",\"\",CONCATENATE(男子様式!$D513,\" \",男子様式!$J513))","v":""},null,{"$f":"CONCATENATE(OFFSET(男子様式!$J$18,3*A494,0),\" \",IF(LEN(OFFSET(男子様式!$L$18,A494*3,0))=0,,\"(\"),LEFT(OFFSET(男子様式!$L$18,A494*3,0),2),IF(LEN(OFFSET(男子様式!$J$18,A494*3,0))=0,,\")\"))","v":" "},null,{"$f":"IF($C494=\"\",\"\",VLOOKUP(基本登録情報!$C$7,登録データ!$I$3:$L$100,3,FALSE))","v":""}]
[null,null,null,{"$f":"IF($C495=\"\",\"\",CONCATENATE(男子様式!$D514,\" \",男子様式!$J514))","v":""},null,{"$f":"CONCATENATE(OFFSET(男子様式!$J$18,3*A495,0),\" \",IF(LEN(OFFSET(男子様式!$L$18,A495*3,0))=0,,\"(\"),LEFT(OFFSET(男子様式!$L$18,A495*3,0),2),IF(LEN(OFFSET(男子様式!$J$18,A495*3,0))=0,,\")\"))","v":" "},null,{"$f":"IF($C495=\"\",\"\",VLOOKUP(基本登録情報!$C$7,登録データ!$I$3:$L$100,3,FALSE))","v":""}]
[null,null,null,{"$f":"IF($C496=\"\",\"\",CONCATENATE(男子様式!$D515,\" \",男子様式!$J515))","v":""},null,{"$f":"CONCATENATE(OFFSET(男子様式!$J$18,3*A496,0),\" \",IF(LEN(OFFSET(男子様式!$L$18,A496*3,0))=0,,\"(\"),LEFT(OFFSET(男子様式!$L$18,A496*3,0),2),IF(LEN(OFFSET(男子様式!$J$18,A496*3,0))=0,,\")\"))","v":" "},null,{"$f":"IF($C496=\"\",\"\",VLOOKUP(基本登録情報!$C$7,登録データ!$I$3:$L$100,3,FALSE))","v":""}]
[null,null,null,{"$f":"IF($C497=\"\",\"\",CONCATENATE(男子様式!$D516,\" \",男子様式!$J516))","v":""},null,{"$f":"CONCATENATE(OFFSET(男子様式!$J$18,3*A497,0),\" \",IF(LEN(OFFSET(男子様式!$L$18,A497*3,0))=0,,\"(\"),LEFT(OFFSET(男子様式!$L$18,A497*3,0),2),IF(LEN(OFFSET(男子様式!$J$18,A497*3,0))=0,,\")\"))","v":" "},null,{"$f":"IF($C497=\"\",\"\",VLOOKUP(基本登録情報!$C$7,登録データ!$I$3:$L$100,3,FALSE))","v":""}]
[null,null,null,{"$f":"IF($C498=\"\",\"\",CONCATENATE(男子様式!$D517,\" \",男子様式!$J517))","v":""},null,{"$f":"CONCATENATE(OFFSET(男子様式!$J$18,3*A498,0),\" \",IF(LEN(OFFSET(男子様式!$L$18,A498*3,0))=0,,\"(\"),LEFT(OFFSET(男子様式!$L$18,A498*3,0),2),IF(LEN(OFFSET(男子様式!$J$18,A498*3,0))=0,,\")\"))","v":" "},null,{"$f":"IF($C498=\"\",\"\",VLOOKUP(基本登録情報!$C$7,登録データ!$I$3:$L$100,3,FALSE))","v":""}]
[null,null,null,{"$f":"IF($C499=\"\",\"\",CONCATENATE(男子様式!$D518,\" \",男子様式!$J518))","v":""},null,{"$f":"CONCATENATE(OFFSET(男子様式!$J$18,3*A499,0),\" \",IF(LEN(OFFSET(男子様式!$L$18,A499*3,0))=0,,\"(\"),LEFT(OFFSET(男子様式!$L$18,A499*3,0),2),IF(LEN(OFFSET(男子様式!$J$18,A499*3,0))=0,,\")\"))","v":" "},null,{"$f":"IF($C499=\"\",\"\",VLOOKUP(基本登録情報!$C$7,登録データ!$I$3:$L$100,3,FALSE))","v":""}]
[null,null,null,{"$f":"IF($C500=\"\",\"\",CONCATENATE(男子様式!$D519,\" \",男子様式!$J519))","v":""},null,{"$f":"CONCATENATE(OFFSET(男子様式!$J$18,3*A500,0),\" \",IF(LEN(OFFSET(男子様式!$L$18,A500*3,0))=0,,\"(\"),LEFT(OFFSET(男子様式!$L$18,A500*3,0),2),IF(LEN(OFFSET(男子様式!$J$18,A500*3,0))=0,,\")\"))","v":" "},null,{"$f":"IF($C500=\"\",\"\",VLOOKUP(基本登録情報!$C$7,登録データ!$I$3:$L$100,3,FALSE))","v":""}]
[null,null,null,{"$f":"IF($C501=\"\",\"\",CONCATENATE(男子様式!$D520,\" \",男子様式!$J520))","v":""},null,{"$f":"CONCATENATE(OFFSET(男子様式!$J$18,3*A501,0),\" \",IF(LEN(OFFSET(男子様式!$L$18,A501*3,0))=0,,\"(\"),LEFT(OFFSET(男子様式!$L$18,A501*3,0),2),IF(LEN(OFFSET(男子様式!$J$18,A501*3,0))=0,,\")\"))","v":" "},null,{"$f":"IF($C501=\"\",\"\",VLOOKUP(基本登録情報!$C$7,登録データ!$I$3:$L$100,3,FALSE))","v":""}]
[null,null,null,{"$f":"IF($C502=\"\",\"\",CONCATENATE(男子様式!$D521,\" \",男子様式!$J521))","v":""},null,{"$f":"CONCATENATE(OFFSET(男子様式!$J$18,3*A502,0),\" \",IF(LEN(OFFSET(男子様式!$L$18,A502*3,0))=0,,\"(\"),LEFT(OFFSET(男子様式!$L$18,A502*3,0),2),IF(LEN(OFFSET(男子様式!$J$18,A502*3,0))=0,,\")\"))","v":" "},null,{"$f":"IF($C502=\"\",\"\",VLOOKUP(基本登録情報!$C$7,登録データ!$I$3:$L$100,3,FALSE))","v":""}]
[null,null,null,{"$f":"IF($C503=\"\",\"\",CONCATENATE(男子様式!$D522,\" \",男子様式!$J522))","v":""},null,{"$f":"CONCATENATE(OFFSET(男子様式!$J$18,3*A503,0),\" \",IF(LEN(OFFSET(男子様式!$L$18,A503*3,0))=0,,\"(\"),LEFT(OFFSET(男子様式!$L$18,A503*3,0),2),IF(LEN(OFFSET(男子様式!$J$18,A503*3,0))=0,,\")\"))","v":" "},null,{"$f":"IF($C503=\"\",\"\",VLOOKUP(基本登録情報!$C$7,登録データ!$I$3:$L$100,3,FALSE))","v":""}]
[null,null,null,{"$f":"IF($C504=\"\",\"\",CONCATENATE(男子様式!$D523,\" \",男子様式!$J523))","v":""},null,{"$f":"CONCATENATE(OFFSET(男子様式!$J$18,3*A504,0),\" \",IF(LEN(OFFSET(男子様式!$L$18,A504*3,0))=0,,\"(\"),LEFT(OFFSET(男子様式!$L$18,A504*3,0),2),IF(LEN(OFFSET(男子様式!$J$18,A504*3,0))=0,,\")\"))","v":" "},null,{"$f":"IF($C504=\"\",\"\",VLOOKUP(基本登録情報!$C$7,登録データ!$I$3:$L$100,3,FALSE))","v":""}]
[null,null,null,{"$f":"IF($C505=\"\",\"\",CONCATENATE(男子様式!$D524,\" \",男子様式!$J524))","v":""},null,{"$f":"CONCATENATE(OFFSET(男子様式!$J$18,3*A505,0),\" \",IF(LEN(OFFSET(男子様式!$L$18,A505*3,0))=0,,\"(\"),LEFT(OFFSET(男子様式!$L$18,A505*3,0),2),IF(LEN(OFFSET(男子様式!$J$18,A505*3,0))=0,,\")\"))","v":" "},null,{"$f":"IF($C505=\"\",\"\",VLOOKUP(基本登録情報!$C$7,登録データ!$I$3:$L$100,3,FALSE))","v":""}]
[null,null,null,{"$f":"IF($C506=\"\",\"\",CONCATENATE(男子様式!$D525,\" \",男子様式!$J525))","v":""},null,{"$f":"CONCATENATE(OFFSET(男子様式!$J$18,3*A506,0),\" \",IF(LEN(OFFSET(男子様式!$L$18,A506*3,0))=0,,\"(\"),LEFT(OFFSET(男子様式!$L$18,A506*3,0),2),IF(LEN(OFFSET(男子様式!$J$18,A506*3,0))=0,,\")\"))","v":" "},null,{"$f":"IF($C506=\"\",\"\",VLOOKUP(基本登録情報!$C$7,登録データ!$I$3:$L$100,3,FALSE))","v":""}]
[null,null,null,{"$f":"IF($C507=\"\",\"\",CONCATENATE(男子様式!$D526,\" \",男子様式!$J526))","v":""},null,{"$f":"CONCATENATE(OFFSET(男子様式!$J$18,3*A507,0),\" \",IF(LEN(OFFSET(男子様式!$L$18,A507*3,0))=0,,\"(\"),LEFT(OFFSET(男子様式!$L$18,A507*3,0),2),IF(LEN(OFFSET(男子様式!$J$18,A507*3,0))=0,,\")\"))","v":" "},null,{"$f":"IF($C507=\"\",\"\",VLOOKUP(基本登録情報!$C$7,登録データ!$I$3:$L$100,3,FALSE))","v":""}]
[null,null,null,{"$f":"IF($C508=\"\",\"\",CONCATENATE(男子様式!$D527,\" \",男子様式!$J527))","v":""},null,{"$f":"CONCATENATE(OFFSET(男子様式!$J$18,3*A508,0),\" \",IF(LEN(OFFSET(男子様式!$L$18,A508*3,0))=0,,\"(\"),LEFT(OFFSET(男子様式!$L$18,A508*3,0),2),IF(LEN(OFFSET(男子様式!$J$18,A508*3,0))=0,,\")\"))","v":" "},null,{"$f":"IF($C508=\"\",\"\",VLOOKUP(基本登録情報!$C$7,登録データ!$I$3:$L$100,3,FALSE))","v":""}]
[null,null,null,{"$f":"IF($C509=\"\",\"\",CONCATENATE(男子様式!$D528,\" \",男子様式!$J528))","v":""},null,{"$f":"CONCATENATE(OFFSET(男子様式!$J$18,3*A509,0),\" \",IF(LEN(OFFSET(男子様式!$L$18,A509*3,0))=0,,\"(\"),LEFT(OFFSET(男子様式!$L$18,A509*3,0),2),IF(LEN(OFFSET(男子様式!$J$18,A509*3,0))=0,,\")\"))","v":" "},null,{"$f":"IF($C509=\"\",\"\",VLOOKUP(基本登録情報!$C$7,登録データ!$I$3:$L$100,3,FALSE))","v":""}]
[null,null,null,{"$f":"IF($C510=\"\",\"\",CONCATENATE(男子様式!$D529,\" \",男子様式!$J529))","v":""},null,{"$f":"CONCATENATE(OFFSET(男子様式!$J$18,3*A510,0),\" \",IF(LEN(OFFSET(男子様式!$L$18,A510*3,0))=0,,\"(\"),LEFT(OFFSET(男子様式!$L$18,A510*3,0),2),IF(LEN(OFFSET(男子様式!$J$18,A510*3,0))=0,,\")\"))","v":" "},null,{"$f":"IF($C510=\"\",\"\",VLOOKUP(基本登録情報!$C$7,登録データ!$I$3:$L$100,3,FALSE))","v":""}]
[null,null,null,{"$f":"IF($C511=\"\",\"\",CONCATENATE(男子様式!$D530,\" \",男子様式!$J530))","v":""},null,{"$f":"CONCATENATE(OFFSET(男子様式!$J$18,3*A511,0),\" \",IF(LEN(OFFSET(男子様式!$L$18,A511*3,0))=0,,\"(\"),LEFT(OFFSET(男子様式!$L$18,A511*3,0),2),IF(LEN(OFFSET(男子様式!$J$18,A511*3,0))=0,,\")\"))","v":" "},null,{"$f":"IF($C511=\"\",\"\",VLOOKUP(基本登録情報!$C$7,登録データ!$I$3:$L$100,3,FALSE))","v":""}]
[null,null,null,{"$f":"IF($C512=\"\",\"\",CONCATENATE(男子様式!$D531,\" \",男子様式!$J531))","v":""},null,{"$f":"CONCATENATE(OFFSET(男子様式!$J$18,3*A512,0),\" \",IF(LEN(OFFSET(男子様式!$L$18,A512*3,0))=0,,\"(\"),LEFT(OFFSET(男子様式!$L$18,A512*3,0),2),IF(LEN(OFFSET(男子様式!$J$18,A512*3,0))=0,,\")\"))","v":" "},null,{"$f":"IF($C512=\"\",\"\",VLOOKUP(基本登録情報!$C$7,登録データ!$I$3:$L$100,3,FALSE))","v":""}]
[null,null,null,{"$f":"IF($C513=\"\",\"\",CONCATENATE(男子様式!$D532,\" \",男子様式!$J532))","v":""},null,{"$f":"CONCATENATE(OFFSET(男子様式!$J$18,3*A513,0),\" \",IF(LEN(OFFSET(男子様式!$L$18,A513*3,0))=0,,\"(\"),LEFT(OFFSET(男子様式!$L$18,A513*3,0),2),IF(LEN(OFFSET(男子様式!$J$18,A513*3,0))=0,,\")\"))","v":" "},null,{"$f":"IF($C513=\"\",\"\",VLOOKUP(基本登録情報!$C$7,登録データ!$I$3:$L$100,3,FALSE))","v":""}]
[null,null,null,{"$f":"IF($C514=\"\",\"\",CONCATENATE(男子様式!$D533,\" \",男子様式!$J533))","v":""},null,{"$f":"CONCATENATE(OFFSET(男子様式!$J$18,3*A514,0),\" \",IF(LEN(OFFSET(男子様式!$L$18,A514*3,0))=0,,\"(\"),LEFT(OFFSET(男子様式!$L$18,A514*3,0),2),IF(LEN(OFFSET(男子様式!$J$18,A514*3,0))=0,,\")\"))","v":" "},null,{"$f":"IF($C514=\"\",\"\",VLOOKUP(基本登録情報!$C$7,登録データ!$I$3:$L$100,3,FALSE))","v":""}]
[null,null,null,{"$f":"IF($C515=\"\",\"\",CONCATENATE(男子様式!$D534,\" \",男子様式!$J534))","v":""},null,{"$f":"CONCATENATE(OFFSET(男子様式!$J$18,3*A515,0),\" \",IF(LEN(OFFSET(男子様式!$L$18,A515*3,0))=0,,\"(\"),LEFT(OFFSET(男子様式!$L$18,A515*3,0),2),IF(LEN(OFFSET(男子様式!$J$18,A515*3,0))=0,,\")\"))","v":" "},null,{"$f":"IF($C515=\"\",\"\",VLOOKUP(基本登録情報!$C$7,登録データ!$I$3:$L$100,3,FALSE))","v":""}]
[null,null,null,{"$f":"IF($C516=\"\",\"\",CONCATENATE(男子様式!$D535,\" \",男子様式!$J535))","v":""},null,{"$f":"CONCATENATE(OFFSET(男子様式!$J$18,3*A516,0),\" \",IF(LEN(OFFSET(男子様式!$L$18,A516*3,0))=0,,\"(\"),LEFT(OFFSET(男子様式!$L$18,A516*3,0),2),IF(LEN(OFFSET(男子様式!$J$18,A516*3,0))=0,,\")\"))","v":" "},null,{"$f":"IF($C516=\"\",\"\",VLOOKUP(基本登録情報!$C$7,登録データ!$I$3:$L$100,3,FALSE))","v":""}]
[null,null,null,{"$f":"IF($C517=\"\",\"\",CONCATENATE(男子様式!$D536,\" \",男子様式!$J536))","v":""},null,{"$f":"CONCATENATE(OFFSET(男子様式!$J$18,3*A517,0),\" \",IF(LEN(OFFSET(男子様式!$L$18,A517*3,0))=0,,\"(\"),LEFT(OFFSET(男子様式!$L$18,A517*3,0),2),IF(LEN(OFFSET(男子様式!$J$18,A517*3,0))=0,,\")\"))","v":" "},null,{"$f":"IF($C517=\"\",\"\",VLOOKUP(基本登録情報!$C$7,登録データ!$I$3:$L$100,3,FALSE))","v":""}]
[null,null,null,{"$f":"IF($C518=\"\",\"\",CONCATENATE(男子様式!$D537,\" \",男子様式!$J537))","v":""},null,{"$f":"CONCATENATE(OFFSET(男子様式!$J$18,3*A518,0),\" \",IF(LEN(OFFSET(男子様式!$L$18,A518*3,0))=0,,\"(\"),LEFT(OFFSET(男子様式!$L$18,A518*3,0),2),IF(LEN(OFFSET(男子様式!$J$18,A518*3,0))=0,,\")\"))","v":" "},null,{"$f":"IF($C518=\"\",\"\",VLOOKUP(基本登録情報!$C$7,登録データ!$I$3:$L$100,3,FALSE))","v":""}]
[null,null,null,{"$f":"IF($C519=\"\",\"\",CONCATENATE(男子様式!$D538,\" \",男子様式!$J538))","v":""},null,{"$f":"CONCATENATE(OFFSET(男子様式!$J$18,3*A519,0),\" \",IF(LEN(OFFSET(男子様式!$L$18,A519*3,0))=0,,\"(\"),LEFT(OFFSET(男子様式!$L$18,A519*3,0),2),IF(LEN(OFFSET(男子様式!$J$18,A519*3,0))=0,,\")\"))","v":" "},null,{"$f":"IF($C519=\"\",\"\",VLOOKUP(基本登録情報!$C$7,登録データ!$I$3:$L$100,3,FALSE))","v":""}]
[null,null,null,{"$f":"IF($C520=\"\",\"\",CONCATENATE(男子様式!$D539,\" \",男子様式!$J539))","v":""},null,{"$f":"CONCATENATE(OFFSET(男子様式!$J$18,3*A520,0),\" \",IF(LEN(OFFSET(男子様式!$L$18,A520*3,0))=0,,\"(\"),LEFT(OFFSET(男子様式!$L$18,A520*3,0),2),IF(LEN(OFFSET(男子様式!$J$18,A520*3,0))=0,,\")\"))","v":" "},null,{"$f":"IF($C520=\"\",\"\",VLOOKUP(基本登録情報!$C$7,登録データ!$I$3:$L$100,3,FALSE))","v":""}]
[null,null,null,{"$f":"IF($C521=\"\",\"\",CONCATENATE(男子様式!$D540,\" \",男子様式!$J540))","v":""},null,{"$f":"CONCATENATE(OFFSET(男子様式!$J$18,3*A521,0),\" \",IF(LEN(OFFSET(男子様式!$L$18,A521*3,0))=0,,\"(\"),LEFT(OFFSET(男子様式!$L$18,A521*3,0),2),IF(LEN(OFFSET(男子様式!$J$18,A521*3,0))=0,,\")\"))","v":" "},null,{"$f":"IF($C521=\"\",\"\",VLOOKUP(基本登録情報!$C$7,登録データ!$I$3:$L$100,3,FALSE))","v":""}]
[null,null,null,{"$f":"IF($C522=\"\",\"\",CONCATENATE(男子様式!$D541,\" \",男子様式!$J541))","v":""},null,{"$f":"CONCATENATE(OFFSET(男子様式!$J$18,3*A522,0),\" \",IF(LEN(OFFSET(男子様式!$L$18,A522*3,0))=0,,\"(\"),LEFT(OFFSET(男子様式!$L$18,A522*3,0),2),IF(LEN(OFFSET(男子様式!$J$18,A522*3,0))=0,,\")\"))","v":" "},null,{"$f":"IF($C522=\"\",\"\",VLOOKUP(基本登録情報!$C$7,登録データ!$I$3:$L$100,3,FALSE))","v":""}]
[null,null,null,{"$f":"IF($C523=\"\",\"\",CONCATENATE(男子様式!$D542,\" \",男子様式!$J542))","v":""},null,{"$f":"CONCATENATE(OFFSET(男子様式!$J$18,3*A523,0),\" \",IF(LEN(OFFSET(男子様式!$L$18,A523*3,0))=0,,\"(\"),LEFT(OFFSET(男子様式!$L$18,A523*3,0),2),IF(LEN(OFFSET(男子様式!$J$18,A523*3,0))=0,,\")\"))","v":" "},null,{"$f":"IF($C523=\"\",\"\",VLOOKUP(基本登録情報!$C$7,登録データ!$I$3:$L$100,3,FALSE))","v":""}]
[null,null,null,{"$f":"IF($C524=\"\",\"\",CONCATENATE(男子様式!$D543,\" \",男子様式!$J543))","v":""},null,{"$f":"CONCATENATE(OFFSET(男子様式!$J$18,3*A524,0),\" \",IF(LEN(OFFSET(男子様式!$L$18,A524*3,0))=0,,\"(\"),LEFT(OFFSET(男子様式!$L$18,A524*3,0),2),IF(LEN(OFFSET(男子様式!$J$18,A524*3,0))=0,,\")\"))","v":" "},null,{"$f":"IF($C524=\"\",\"\",VLOOKUP(基本登録情報!$C$7,登録データ!$I$3:$L$100,3,FALSE))","v":""}]
[null,null,null,{"$f":"IF($C525=\"\",\"\",CONCATENATE(男子様式!$D544,\" \",男子様式!$J544))","v":""},null,{"$f":"CONCATENATE(OFFSET(男子様式!$J$18,3*A525,0),\" \",IF(LEN(OFFSET(男子様式!$L$18,A525*3,0))=0,,\"(\"),LEFT(OFFSET(男子様式!$L$18,A525*3,0),2),IF(LEN(OFFSET(男子様式!$J$18,A525*3,0))=0,,\")\"))","v":" "},null,{"$f":"IF($C525=\"\",\"\",VLOOKUP(基本登録情報!$C$7,登録データ!$I$3:$L$100,3,FALSE))","v":""}]
[null,null,null,{"$f":"IF($C526=\"\",\"\",CONCATENATE(男子様式!$D545,\" \",男子様式!$J545))","v":""},null,{"$f":"CONCATENATE(OFFSET(男子様式!$J$18,3*A526,0),\" \",IF(LEN(OFFSET(男子様式!$L$18,A526*3,0))=0,,\"(\"),LEFT(OFFSET(男子様式!$L$18,A526*3,0),2),IF(LEN(OFFSET(男子様式!$J$18,A526*3,0))=0,,\")\"))","v":" "},null,{"$f":"IF($C526=\"\",\"\",VLOOKUP(基本登録情報!$C$7,登録データ!$I$3:$L$100,3,FALSE))","v":""}]
[null,null,null,{"$f":"IF($C527=\"\",\"\",CONCATENATE(男子様式!$D546,\" \",男子様式!$J546))","v":""},null,{"$f":"CONCATENATE(OFFSET(男子様式!$J$18,3*A527,0),\" \",IF(LEN(OFFSET(男子様式!$L$18,A527*3,0))=0,,\"(\"),LEFT(OFFSET(男子様式!$L$18,A527*3,0),2),IF(LEN(OFFSET(男子様式!$J$18,A527*3,0))=0,,\")\"))","v":" "},null,{"$f":"IF($C527=\"\",\"\",VLOOKUP(基本登録情報!$C$7,登録データ!$I$3:$L$100,3,FALSE))","v":""}]
[null,null,null,{"$f":"IF($C528=\"\",\"\",CONCATENATE(男子様式!$D547,\" \",男子様式!$J547))","v":""},null,{"$f":"CONCATENATE(OFFSET(男子様式!$J$18,3*A528,0),\" \",IF(LEN(OFFSET(男子様式!$L$18,A528*3,0))=0,,\"(\"),LEFT(OFFSET(男子様式!$L$18,A528*3,0),2),IF(LEN(OFFSET(男子様式!$J$18,A528*3,0))=0,,\")\"))","v":" "},null,{"$f":"IF($C528=\"\",\"\",VLOOKUP(基本登録情報!$C$7,登録データ!$I$3:$L$100,3,FALSE))","v":""}]
[null,null,null,{"$f":"IF($C529=\"\",\"\",CONCATENATE(男子様式!$D548,\" \",男子様式!$J548))","v":""},null,{"$f":"CONCATENATE(OFFSET(男子様式!$J$18,3*A529,0),\" \",IF(LEN(OFFSET(男子様式!$L$18,A529*3,0))=0,,\"(\"),LEFT(OFFSET(男子様式!$L$18,A529*3,0),2),IF(LEN(OFFSET(男子様式!$J$18,A529*3,0))=0,,\")\"))","v":" "},null,{"$f":"IF($C529=\"\",\"\",VLOOKUP(基本登録情報!$C$7,登録データ!$I$3:$L$100,3,FALSE))","v":""}]
[null,null,null,{"$f":"IF($C530=\"\",\"\",CONCATENATE(男子様式!$D549,\" \",男子様式!$J549))","v":""},null,{"$f":"CONCATENATE(OFFSET(男子様式!$J$18,3*A530,0),\" \",IF(LEN(OFFSET(男子様式!$L$18,A530*3,0))=0,,\"(\"),LEFT(OFFSET(男子様式!$L$18,A530*3,0),2),IF(LEN(OFFSET(男子様式!$J$18,A530*3,0))=0,,\")\"))","v":" "},null,{"$f":"IF($C530=\"\",\"\",VLOOKUP(基本登録情報!$C$7,登録データ!$I$3:$L$100,3,FALSE))","v":""}]
[null,null,null,{"$f":"IF($C531=\"\",\"\",CONCATENATE(男子様式!$D550,\" \",男子様式!$J550))","v":""},null,{"$f":"CONCATENATE(OFFSET(男子様式!$J$18,3*A531,0),\" \",IF(LEN(OFFSET(男子様式!$L$18,A531*3,0))=0,,\"(\"),LEFT(OFFSET(男子様式!$L$18,A531*3,0),2),IF(LEN(OFFSET(男子様式!$J$18,A531*3,0))=0,,\")\"))","v":" "},null,{"$f":"IF($C531=\"\",\"\",VLOOKUP(基本登録情報!$C$7,登録データ!$I$3:$L$100,3,FALSE))","v":""}]
[null,null,null,{"$f":"IF($C532=\"\",\"\",CONCATENATE(男子様式!$D551,\" \",男子様式!$J551))","v":""},null,{"$f":"CONCATENATE(OFFSET(男子様式!$J$18,3*A532,0),\" \",IF(LEN(OFFSET(男子様式!$L$18,A532*3,0))=0,,\"(\"),LEFT(OFFSET(男子様式!$L$18,A532*3,0),2),IF(LEN(OFFSET(男子様式!$J$18,A532*3,0))=0,,\")\"))","v":" "},null,{"$f":"IF($C532=\"\",\"\",VLOOKUP(基本登録情報!$C$7,登録データ!$I$3:$L$100,3,FALSE))","v":""}]
[null,null,null,{"$f":"IF($C533=\"\",\"\",CONCATENATE(男子様式!$D552,\" \",男子様式!$J552))","v":""},null,{"$f":"CONCATENATE(OFFSET(男子様式!$J$18,3*A533,0),\" \",IF(LEN(OFFSET(男子様式!$L$18,A533*3,0))=0,,\"(\"),LEFT(OFFSET(男子様式!$L$18,A533*3,0),2),IF(LEN(OFFSET(男子様式!$J$18,A533*3,0))=0,,\")\"))","v":" "},null,{"$f":"IF($C533=\"\",\"\",VLOOKUP(基本登録情報!$C$7,登録データ!$I$3:$L$100,3,FALSE))","v":""}]
[null,null,null,{"$f":"IF($C534=\"\",\"\",CONCATENATE(男子様式!$D553,\" \",男子様式!$J553))","v":""},null,{"$f":"CONCATENATE(OFFSET(男子様式!$J$18,3*A534,0),\" \",IF(LEN(OFFSET(男子様式!$L$18,A534*3,0))=0,,\"(\"),LEFT(OFFSET(男子様式!$L$18,A534*3,0),2),IF(LEN(OFFSET(男子様式!$J$18,A534*3,0))=0,,\")\"))","v":" "},null,{"$f":"IF($C534=\"\",\"\",VLOOKUP(基本登録情報!$C$7,登録データ!$I$3:$L$100,3,FALSE))","v":""}]
[null,null,null,{"$f":"IF($C535=\"\",\"\",CONCATENATE(男子様式!$D554,\" \",男子様式!$J554))","v":""},null,{"$f":"CONCATENATE(OFFSET(男子様式!$J$18,3*A535,0),\" \",IF(LEN(OFFSET(男子様式!$L$18,A535*3,0))=0,,\"(\"),LEFT(OFFSET(男子様式!$L$18,A535*3,0),2),IF(LEN(OFFSET(男子様式!$J$18,A535*3,0))=0,,\")\"))","v":" "},null,{"$f":"IF($C535=\"\",\"\",VLOOKUP(基本登録情報!$C$7,登録データ!$I$3:$L$100,3,FALSE))","v":""}]
[null,null,null,{"$f":"IF($C536=\"\",\"\",CONCATENATE(男子様式!$D555,\" \",男子様式!$J555))","v":""},null,{"$f":"CONCATENATE(OFFSET(男子様式!$J$18,3*A536,0),\" \",IF(LEN(OFFSET(男子様式!$L$18,A536*3,0))=0,,\"(\"),LEFT(OFFSET(男子様式!$L$18,A536*3,0),2),IF(LEN(OFFSET(男子様式!$J$18,A536*3,0))=0,,\")\"))","v":" "},null,{"$f":"IF($C536=\"\",\"\",VLOOKUP(基本登録情報!$C$7,登録データ!$I$3:$L$100,3,FALSE))","v":""}]
[null,null,null,{"$f":"IF($C537=\"\",\"\",CONCATENATE(男子様式!$D556,\" \",男子様式!$J556))","v":""},null,{"$f":"CONCATENATE(OFFSET(男子様式!$J$18,3*A537,0),\" \",IF(LEN(OFFSET(男子様式!$L$18,A537*3,0))=0,,\"(\"),LEFT(OFFSET(男子様式!$L$18,A537*3,0),2),IF(LEN(OFFSET(男子様式!$J$18,A537*3,0))=0,,\")\"))","v":" "},null,{"$f":"IF($C537=\"\",\"\",VLOOKUP(基本登録情報!$C$7,登録データ!$I$3:$L$100,3,FALSE))","v":""}]
[null,null,null,{"$f":"IF($C538=\"\",\"\",CONCATENATE(男子様式!$D557,\" \",男子様式!$J557))","v":""},null,{"$f":"CONCATENATE(OFFSET(男子様式!$J$18,3*A538,0),\" \",IF(LEN(OFFSET(男子様式!$L$18,A538*3,0))=0,,\"(\"),LEFT(OFFSET(男子様式!$L$18,A538*3,0),2),IF(LEN(OFFSET(男子様式!$J$18,A538*3,0))=0,,\")\"))","v":" "},null,{"$f":"IF($C538=\"\",\"\",VLOOKUP(基本登録情報!$C$7,登録データ!$I$3:$L$100,3,FALSE))","v":""}]
[null,null,null,{"$f":"IF($C539=\"\",\"\",CONCATENATE(男子様式!$D558,\" \",男子様式!$J558))","v":""},null,{"$f":"CONCATENATE(OFFSET(男子様式!$J$18,3*A539,0),\" \",IF(LEN(OFFSET(男子様式!$L$18,A539*3,0))=0,,\"(\"),LEFT(OFFSET(男子様式!$L$18,A539*3,0),2),IF(LEN(OFFSET(男子様式!$J$18,A539*3,0))=0,,\")\"))","v":" "},null,{"$f":"IF($C539=\"\",\"\",VLOOKUP(基本登録情報!$C$7,登録データ!$I$3:$L$100,3,FALSE))","v":""}]
[null,null,null,{"$f":"IF($C540=\"\",\"\",CONCATENATE(男子様式!$D559,\" \",男子様式!$J559))","v":""},null,{"$f":"CONCATENATE(OFFSET(男子様式!$J$18,3*A540,0),\" \",IF(LEN(OFFSET(男子様式!$L$18,A540*3,0))=0,,\"(\"),LEFT(OFFSET(男子様式!$L$18,A540*3,0),2),IF(LEN(OFFSET(男子様式!$J$18,A540*3,0))=0,,\")\"))","v":" "},null,{"$f":"IF($C540=\"\",\"\",VLOOKUP(基本登録情報!$C$7,登録データ!$I$3:$L$100,3,FALSE))","v":""}]
[null,null,null,{"$f":"IF($C541=\"\",\"\",CONCATENATE(男子様式!$D560,\" \",男子様式!$J560))","v":""},null,{"$f":"CONCATENATE(OFFSET(男子様式!$J$18,3*A541,0),\" \",IF(LEN(OFFSET(男子様式!$L$18,A541*3,0))=0,,\"(\"),LEFT(OFFSET(男子様式!$L$18,A541*3,0),2),IF(LEN(OFFSET(男子様式!$J$18,A541*3,0))=0,,\")\"))","v":" "},null,{"$f":"IF($C541=\"\",\"\",VLOOKUP(基本登録情報!$C$7,登録データ!$I$3:$L$100,3,FALSE))","v":""}]
[null,null,null,{"$f":"IF($C542=\"\",\"\",CONCATENATE(男子様式!$D561,\" \",男子様式!$J561))","v":""},null,{"$f":"CONCATENATE(OFFSET(男子様式!$J$18,3*A542,0),\" \",IF(LEN(OFFSET(男子様式!$L$18,A542*3,0))=0,,\"(\"),LEFT(OFFSET(男子様式!$L$18,A542*3,0),2),IF(LEN(OFFSET(男子様式!$J$18,A542*3,0))=0,,\")\"))","v":" "},null,{"$f":"IF($C542=\"\",\"\",VLOOKUP(基本登録情報!$C$7,登録データ!$I$3:$L$100,3,FALSE))","v":""}]
[null,null,null,{"$f":"IF($C543=\"\",\"\",CONCATENATE(男子様式!$D562,\" \",男子様式!$J562))","v":""},null,{"$f":"CONCATENATE(OFFSET(男子様式!$J$18,3*A543,0),\" \",IF(LEN(OFFSET(男子様式!$L$18,A543*3,0))=0,,\"(\"),LEFT(OFFSET(男子様式!$L$18,A543*3,0),2),IF(LEN(OFFSET(男子様式!$J$18,A543*3,0))=0,,\")\"))","v":" "},null,{"$f":"IF($C543=\"\",\"\",VLOOKUP(基本登録情報!$C$7,登録データ!$I$3:$L$100,3,FALSE))","v":""}]
[null,null,null,{"$f":"IF($C544=\"\",\"\",CONCATENATE(男子様式!$D563,\" \",男子様式!$J563))","v":""},null,{"$f":"CONCATENATE(OFFSET(男子様式!$J$18,3*A544,0),\" \",IF(LEN(OFFSET(男子様式!$L$18,A544*3,0))=0,,\"(\"),LEFT(OFFSET(男子様式!$L$18,A544*3,0),2),IF(LEN(OFFSET(男子様式!$J$18,A544*3,0))=0,,\")\"))","v":" "},null,{"$f":"IF($C544=\"\",\"\",VLOOKUP(基本登録情報!$C$7,登録データ!$I$3:$L$100,3,FALSE))","v":""}]
[null,null,null,{"$f":"IF($C545=\"\",\"\",CONCATENATE(男子様式!$D564,\" \",男子様式!$J564))","v":""},null,{"$f":"CONCATENATE(OFFSET(男子様式!$J$18,3*A545,0),\" \",IF(LEN(OFFSET(男子様式!$L$18,A545*3,0))=0,,\"(\"),LEFT(OFFSET(男子様式!$L$18,A545*3,0),2),IF(LEN(OFFSET(男子様式!$J$18,A545*3,0))=0,,\")\"))","v":" "},null,{"$f":"IF($C545=\"\",\"\",VLOOKUP(基本登録情報!$C$7,登録データ!$I$3:$L$100,3,FALSE))","v":""}]
[null,null,null,{"$f":"IF($C546=\"\",\"\",CONCATENATE(男子様式!$D565,\" \",男子様式!$J565))","v":""},null,{"$f":"CONCATENATE(OFFSET(男子様式!$J$18,3*A546,0),\" \",IF(LEN(OFFSET(男子様式!$L$18,A546*3,0))=0,,\"(\"),LEFT(OFFSET(男子様式!$L$18,A546*3,0),2),IF(LEN(OFFSET(男子様式!$J$18,A546*3,0))=0,,\")\"))","v":" "},null,{"$f":"IF($C546=\"\",\"\",VLOOKUP(基本登録情報!$C$7,登録データ!$I$3:$L$100,3,FALSE))","v":""}]
[null,null,null,{"$f":"IF($C547=\"\",\"\",CONCATENATE(男子様式!$D566,\" \",男子様式!$J566))","v":""},null,{"$f":"CONCATENATE(OFFSET(男子様式!$J$18,3*A547,0),\" \",IF(LEN(OFFSET(男子様式!$L$18,A547*3,0))=0,,\"(\"),LEFT(OFFSET(男子様式!$L$18,A547*3,0),2),IF(LEN(OFFSET(男子様式!$J$18,A547*3,0))=0,,\")\"))","v":" "},null,{"$f":"IF($C547=\"\",\"\",VLOOKUP(基本登録情報!$C$7,登録データ!$I$3:$L$100,3,FALSE))","v":""}]
[null,null,null,{"$f":"IF($C548=\"\",\"\",CONCATENATE(男子様式!$D567,\" \",男子様式!$J567))","v":""},null,{"$f":"CONCATENATE(OFFSET(男子様式!$J$18,3*A548,0),\" \",IF(LEN(OFFSET(男子様式!$L$18,A548*3,0))=0,,\"(\"),LEFT(OFFSET(男子様式!$L$18,A548*3,0),2),IF(LEN(OFFSET(男子様式!$J$18,A548*3,0))=0,,\")\"))","v":" "},null,{"$f":"IF($C548=\"\",\"\",VLOOKUP(基本登録情報!$C$7,登録データ!$I$3:$L$100,3,FALSE))","v":""}]
[null,null,null,{"$f":"IF($C549=\"\",\"\",CONCATENATE(男子様式!$D568,\" \",男子様式!$J568))","v":""},null,{"$f":"CONCATENATE(OFFSET(男子様式!$J$18,3*A549,0),\" \",IF(LEN(OFFSET(男子様式!$L$18,A549*3,0))=0,,\"(\"),LEFT(OFFSET(男子様式!$L$18,A549*3,0),2),IF(LEN(OFFSET(男子様式!$J$18,A549*3,0))=0,,\")\"))","v":" "},null,{"$f":"IF($C549=\"\",\"\",VLOOKUP(基本登録情報!$C$7,登録データ!$I$3:$L$100,3,FALSE))","v":""}]
[null,null,null,{"$f":"IF($C550=\"\",\"\",CONCATENATE(男子様式!$D569,\" \",男子様式!$J569))","v":""},null,{"$f":"CONCATENATE(OFFSET(男子様式!$J$18,3*A550,0),\" \",IF(LEN(OFFSET(男子様式!$L$18,A550*3,0))=0,,\"(\"),LEFT(OFFSET(男子様式!$L$18,A550*3,0),2),IF(LEN(OFFSET(男子様式!$J$18,A550*3,0))=0,,\")\"))","v":" "},null,{"$f":"IF($C550=\"\",\"\",VLOOKUP(基本登録情報!$C$7,登録データ!$I$3:$L$100,3,FALSE))","v":""}]
[null,null,null,{"$f":"IF($C551=\"\",\"\",CONCATENATE(男子様式!$D570,\" \",男子様式!$J570))","v":""},null,{"$f":"CONCATENATE(OFFSET(男子様式!$J$18,3*A551,0),\" \",IF(LEN(OFFSET(男子様式!$L$18,A551*3,0))=0,,\"(\"),LEFT(OFFSET(男子様式!$L$18,A551*3,0),2),IF(LEN(OFFSET(男子様式!$J$18,A551*3,0))=0,,\")\"))","v":" "},null,{"$f":"IF($C551=\"\",\"\",VLOOKUP(基本登録情報!$C$7,登録データ!$I$3:$L$100,3,FALSE))","v":""}]
[null,null,null,{"$f":"IF($C552=\"\",\"\",CONCATENATE(男子様式!$D571,\" \",男子様式!$J571))","v":""},null,{"$f":"CONCATENATE(OFFSET(男子様式!$J$18,3*A552,0),\" \",IF(LEN(OFFSET(男子様式!$L$18,A552*3,0))=0,,\"(\"),LEFT(OFFSET(男子様式!$L$18,A552*3,0),2),IF(LEN(OFFSET(男子様式!$J$18,A552*3,0))=0,,\")\"))","v":" "},null,{"$f":"IF($C552=\"\",\"\",VLOOKUP(基本登録情報!$C$7,登録データ!$I$3:$L$100,3,FALSE))","v":""}]
[null,null,null,{"$f":"IF($C553=\"\",\"\",CONCATENATE(男子様式!$D572,\" \",男子様式!$J572))","v":""},null,{"$f":"CONCATENATE(OFFSET(男子様式!$J$18,3*A553,0),\" \",IF(LEN(OFFSET(男子様式!$L$18,A553*3,0))=0,,\"(\"),LEFT(OFFSET(男子様式!$L$18,A553*3,0),2),IF(LEN(OFFSET(男子様式!$J$18,A553*3,0))=0,,\")\"))","v":" "},null,{"$f":"IF($C553=\"\",\"\",VLOOKUP(基本登録情報!$C$7,登録データ!$I$3:$L$100,3,FALSE))","v":""}]
[null,null,null,{"$f":"IF($C554=\"\",\"\",CONCATENATE(男子様式!$D573,\" \",男子様式!$J573))","v":""},null,{"$f":"CONCATENATE(OFFSET(男子様式!$J$18,3*A554,0),\" \",IF(LEN(OFFSET(男子様式!$L$18,A554*3,0))=0,,\"(\"),LEFT(OFFSET(男子様式!$L$18,A554*3,0),2),IF(LEN(OFFSET(男子様式!$J$18,A554*3,0))=0,,\")\"))","v":" "},null,{"$f":"IF($C554=\"\",\"\",VLOOKUP(基本登録情報!$C$7,登録データ!$I$3:$L$100,3,FALSE))","v":""}]
[null,null,null,{"$f":"IF($C555=\"\",\"\",CONCATENATE(男子様式!$D574,\" \",男子様式!$J574))","v":""},null,{"$f":"CONCATENATE(OFFSET(男子様式!$J$18,3*A555,0),\" \",IF(LEN(OFFSET(男子様式!$L$18,A555*3,0))=0,,\"(\"),LEFT(OFFSET(男子様式!$L$18,A555*3,0),2),IF(LEN(OFFSET(男子様式!$J$18,A555*3,0))=0,,\")\"))","v":" "},null,{"$f":"IF($C555=\"\",\"\",VLOOKUP(基本登録情報!$C$7,登録データ!$I$3:$L$100,3,FALSE))","v":""}]
[null,null,null,{"$f":"IF($C556=\"\",\"\",CONCATENATE(男子様式!$D575,\" \",男子様式!$J575))","v":""},null,{"$f":"CONCATENATE(OFFSET(男子様式!$J$18,3*A556,0),\" \",IF(LEN(OFFSET(男子様式!$L$18,A556*3,0))=0,,\"(\"),LEFT(OFFSET(男子様式!$L$18,A556*3,0),2),IF(LEN(OFFSET(男子様式!$J$18,A556*3,0))=0,,\")\"))","v":" "},null,{"$f":"IF($C556=\"\",\"\",VLOOKUP(基本登録情報!$C$7,登録データ!$I$3:$L$100,3,FALSE))","v":""}]
[null,null,null,{"$f":"IF($C557=\"\",\"\",CONCATENATE(男子様式!$D576,\" \",男子様式!$J576))","v":""},null,{"$f":"CONCATENATE(OFFSET(男子様式!$J$18,3*A557,0),\" \",IF(LEN(OFFSET(男子様式!$L$18,A557*3,0))=0,,\"(\"),LEFT(OFFSET(男子様式!$L$18,A557*3,0),2),IF(LEN(OFFSET(男子様式!$J$18,A557*3,0))=0,,\")\"))","v":" "},null,{"$f":"IF($C557=\"\",\"\",VLOOKUP(基本登録情報!$C$7,登録データ!$I$3:$L$100,3,FALSE))","v":""}]
[null,null,null,{"$f":"IF($C558=\"\",\"\",CONCATENATE(男子様式!$D577,\" \",男子様式!$J577))","v":""},null,{"$f":"CONCATENATE(OFFSET(男子様式!$J$18,3*A558,0),\" \",IF(LEN(OFFSET(男子様式!$L$18,A558*3,0))=0,,\"(\"),LEFT(OFFSET(男子様式!$L$18,A558*3,0),2),IF(LEN(OFFSET(男子様式!$J$18,A558*3,0))=0,,\")\"))","v":" "},null,{"$f":"IF($C558=\"\",\"\",VLOOKUP(基本登録情報!$C$7,登録データ!$I$3:$L$100,3,FALSE))","v":""}]
[null,null,null,{"$f":"IF($C559=\"\",\"\",CONCATENATE(男子様式!$D578,\" \",男子様式!$J578))","v":""},null,{"$f":"CONCATENATE(OFFSET(男子様式!$J$18,3*A559,0),\" \",IF(LEN(OFFSET(男子様式!$L$18,A559*3,0))=0,,\"(\"),LEFT(OFFSET(男子様式!$L$18,A559*3,0),2),IF(LEN(OFFSET(男子様式!$J$18,A559*3,0))=0,,\")\"))","v":" "},null,{"$f":"IF($C559=\"\",\"\",VLOOKUP(基本登録情報!$C$7,登録データ!$I$3:$L$100,3,FALSE))","v":""}]
[null,null,null,{"$f":"IF($C560=\"\",\"\",CONCATENATE(男子様式!$D579,\" \",男子様式!$J579))","v":""},null,{"$f":"CONCATENATE(OFFSET(男子様式!$J$18,3*A560,0),\" \",IF(LEN(OFFSET(男子様式!$L$18,A560*3,0))=0,,\"(\"),LEFT(OFFSET(男子様式!$L$18,A560*3,0),2),IF(LEN(OFFSET(男子様式!$J$18,A560*3,0))=0,,\")\"))","v":" "},null,{"$f":"IF($C560=\"\",\"\",VLOOKUP(基本登録情報!$C$7,登録データ!$I$3:$L$100,3,FALSE))","v":""}]
[null,null,null,{"$f":"IF($C561=\"\",\"\",CONCATENATE(男子様式!$D580,\" \",男子様式!$J580))","v":""},null,{"$f":"CONCATENATE(OFFSET(男子様式!$J$18,3*A561,0),\" \",IF(LEN(OFFSET(男子様式!$L$18,A561*3,0))=0,,\"(\"),LEFT(OFFSET(男子様式!$L$18,A561*3,0),2),IF(LEN(OFFSET(男子様式!$J$18,A561*3,0))=0,,\")\"))","v":" "},null,{"$f":"IF($C561=\"\",\"\",VLOOKUP(基本登録情報!$C$7,登録データ!$I$3:$L$100,3,FALSE))","v":""}]
[null,null,null,{"$f":"IF($C562=\"\",\"\",CONCATENATE(男子様式!$D581,\" \",男子様式!$J581))","v":""},null,{"$f":"CONCATENATE(OFFSET(男子様式!$J$18,3*A562,0),\" \",IF(LEN(OFFSET(男子様式!$L$18,A562*3,0))=0,,\"(\"),LEFT(OFFSET(男子様式!$L$18,A562*3,0),2),IF(LEN(OFFSET(男子様式!$J$18,A562*3,0))=0,,\")\"))","v":" "},null,{"$f":"IF($C562=\"\",\"\",VLOOKUP(基本登録情報!$C$7,登録データ!$I$3:$L$100,3,FALSE))","v":""}]
[null,null,null,{"$f":"IF($C563=\"\",\"\",CONCATENATE(男子様式!$D582,\" \",男子様式!$J582))","v":""},null,{"$f":"CONCATENATE(OFFSET(男子様式!$J$18,3*A563,0),\" \",IF(LEN(OFFSET(男子様式!$L$18,A563*3,0))=0,,\"(\"),LEFT(OFFSET(男子様式!$L$18,A563*3,0),2),IF(LEN(OFFSET(男子様式!$J$18,A563*3,0))=0,,\")\"))","v":" "},null,{"$f":"IF($C563=\"\",\"\",VLOOKUP(基本登録情報!$C$7,登録データ!$I$3:$L$100,3,FALSE))","v":""}]
[null,null,null,{"$f":"IF($C564=\"\",\"\",CONCATENATE(男子様式!$D583,\" \",男子様式!$J583))","v":""},null,{"$f":"CONCATENATE(OFFSET(男子様式!$J$18,3*A564,0),\" \",IF(LEN(OFFSET(男子様式!$L$18,A564*3,0))=0,,\"(\"),LEFT(OFFSET(男子様式!$L$18,A564*3,0),2),IF(LEN(OFFSET(男子様式!$J$18,A564*3,0))=0,,\")\"))","v":" "},null,{"$f":"IF($C564=\"\",\"\",VLOOKUP(基本登録情報!$C$7,登録データ!$I$3:$L$100,3,FALSE))","v":""}]
[null,null,null,{"$f":"IF($C565=\"\",\"\",CONCATENATE(男子様式!$D584,\" \",男子様式!$J584))","v":""},null,{"$f":"CONCATENATE(OFFSET(男子様式!$J$18,3*A565,0),\" \",IF(LEN(OFFSET(男子様式!$L$18,A565*3,0))=0,,\"(\"),LEFT(OFFSET(男子様式!$L$18,A565*3,0),2),IF(LEN(OFFSET(男子様式!$J$18,A565*3,0))=0,,\")\"))","v":" "},null,{"$f":"IF($C565=\"\",\"\",VLOOKUP(基本登録情報!$C$7,登録データ!$I$3:$L$100,3,FALSE))","v":""}]
[null,null,null,{"$f":"IF($C566=\"\",\"\",CONCATENATE(男子様式!$D585,\" \",男子様式!$J585))","v":""},null,{"$f":"CONCATENATE(OFFSET(男子様式!$J$18,3*A566,0),\" \",IF(LEN(OFFSET(男子様式!$L$18,A566*3,0))=0,,\"(\"),LEFT(OFFSET(男子様式!$L$18,A566*3,0),2),IF(LEN(OFFSET(男子様式!$J$18,A566*3,0))=0,,\")\"))","v":" "},null,{"$f":"IF($C566=\"\",\"\",VLOOKUP(基本登録情報!$C$7,登録データ!$I$3:$L$100,3,FALSE))","v":""}]
[null,null,null,{"$f":"IF($C567=\"\",\"\",CONCATENATE(男子様式!$D586,\" \",男子様式!$J586))","v":""},null,{"$f":"CONCATENATE(OFFSET(男子様式!$J$18,3*A567,0),\" \",IF(LEN(OFFSET(男子様式!$L$18,A567*3,0))=0,,\"(\"),LEFT(OFFSET(男子様式!$L$18,A567*3,0),2),IF(LEN(OFFSET(男子様式!$J$18,A567*3,0))=0,,\")\"))","v":" "},null,{"$f":"IF($C567=\"\",\"\",VLOOKUP(基本登録情報!$C$7,登録データ!$I$3:$L$100,3,FALSE))","v":""}]
[null,null,null,{"$f":"IF($C568=\"\",\"\",CONCATENATE(男子様式!$D587,\" \",男子様式!$J587))","v":""},null,{"$f":"CONCATENATE(OFFSET(男子様式!$J$18,3*A568,0),\" \",IF(LEN(OFFSET(男子様式!$L$18,A568*3,0))=0,,\"(\"),LEFT(OFFSET(男子様式!$L$18,A568*3,0),2),IF(LEN(OFFSET(男子様式!$J$18,A568*3,0))=0,,\")\"))","v":" "},null,{"$f":"IF($C568=\"\",\"\",VLOOKUP(基本登録情報!$C$7,登録データ!$I$3:$L$100,3,FALSE))","v":""}]
[null,null,null,{"$f":"IF($C569=\"\",\"\",CONCATENATE(男子様式!$D588,\" \",男子様式!$J588))","v":""},null,null,null,{"$f":"IF($C569=\"\",\"\",VLOOKUP(基本登録情報!$C$7,登録データ!$I$3:$L$100,3,FALSE))","v":""}]
[null,null,null,{"$f":"IF($C570=\"\",\"\",CONCATENATE(男子様式!$D589,\" \",男子様式!$J589))","v":""},null,null,null,{"$f":"IF($C570=\"\",\"\",VLOOKUP(基本登録情報!$C$7,登録データ!$I$3:$L$100,3,FALSE))","v":""}]
[null,null,null,{"$f":"IF($C571=\"\",\"\",CONCATENATE(男子様式!$D590,\" \",男子様式!$J590))","v":""},null,null,null,{"$f":"IF($C571=\"\",\"\",VLOOKUP(基本登録情報!$C$7,登録データ!$I$3:$L$100,3,FALSE))","v":""}]
[null,null,null,{"$f":"IF($C572=\"\",\"\",CONCATENATE(男子様式!$D591,\" \",男子様式!$J591))","v":""},null,null,null,{"$f":"IF($C572=\"\",\"\",VLOOKUP(基本登録情報!$C$7,登録データ!$I$3:$L$100,3,FALSE))","v":""}]
[null,null,null,{"$f":"IF($C573=\"\",\"\",CONCATENATE(男子様式!$D592,\" \",男子様式!$J592))","v":""},null,null,null,{"$f":"IF($C573=\"\",\"\",VLOOKUP(基本登録情報!$C$7,登録データ!$I$3:$L$100,3,FALSE))","v":""}]
[null,null,null,{"$f":"IF($C574=\"\",\"\",CONCATENATE(男子様式!$D593,\" \",男子様式!$J593))","v":""},null,null,null,{"$f":"IF($C574=\"\",\"\",VLOOKUP(基本登録情報!$C$7,登録データ!$I$3:$L$100,3,FALSE))","v":""}]
[null,null,null,{"$f":"IF($C575=\"\",\"\",CONCATENATE(男子様式!$D594,\" \",男子様式!$J594))","v":""},null,null,null,{"$f":"IF($C575=\"\",\"\",VLOOKUP(基本登録情報!$C$7,登録データ!$I$3:$L$100,3,FALSE))","v":""}]
[null,null,null,{"$f":"IF($C576=\"\",\"\",CONCATENATE(男子様式!$D595,\" \",男子様式!$J595))","v":""},null,null,null,{"$f":"IF($C576=\"\",\"\",VLOOKUP(基本登録情報!$C$7,登録データ!$I$3:$L$100,3,FALSE))","v":""}]
[null,null,null,{"$f":"IF($C577=\"\",\"\",CONCATENATE(男子様式!$D596,\" \",男子様式!$J596))","v":""},null,null,null,{"$f":"IF($C577=\"\",\"\",VLOOKUP(基本登録情報!$C$7,登録データ!$I$3:$L$100,3,FALSE))","v":""}]
[null,null,null,{"$f":"IF($C578=\"\",\"\",CONCATENATE(男子様式!$D597,\" \",男子様式!$J597))","v":""},null,null,null,{"$f":"IF($C578=\"\",\"\",VLOOKUP(基本登録情報!$C$7,登録データ!$I$3:$L$100,3,FALSE))","v":""}]
[null,null,null,{"$f":"IF($C579=\"\",\"\",CONCATENATE(男子様式!$D598,\" \",男子様式!$J598))","v":""},null,null,null,{"$f":"IF($C579=\"\",\"\",VLOOKUP(基本登録情報!$C$7,登録データ!$I$3:$L$100,3,FALSE))","v":""}]
[null,null,null,{"$f":"IF($C580=\"\",\"\",CONCATENATE(男子様式!$D599,\" \",男子様式!$J599))","v":""},null,null,null,{"$f":"IF($C580=\"\",\"\",VLOOKUP(基本登録情報!$C$7,登録データ!$I$3:$L$100,3,FALSE))","v":""}]
[null,null,null,{"$f":"IF($C581=\"\",\"\",CONCATENATE(男子様式!$D600,\" \",男子様式!$J600))","v":""},null,null,null,{"$f":"IF($C581=\"\",\"\",VLOOKUP(基本登録情報!$C$7,登録データ!$I$3:$L$100,3,FALSE))","v":""}]
[null,null,null,{"$f":"IF($C582=\"\",\"\",CONCATENATE(男子様式!$D601,\" \",男子様式!$J601))","v":""},null,null,null,{"$f":"IF($C582=\"\",\"\",VLOOKUP(基本登録情報!$C$7,登録データ!$I$3:$L$100,3,FALSE))","v":""}]
[null,null,null,{"$f":"IF($C583=\"\",\"\",CONCATENATE(男子様式!$D602,\" \",男子様式!$J602))","v":""},null,null,null,{"$f":"IF($C583=\"\",\"\",VLOOKUP(基本登録情報!$C$7,登録データ!$I$3:$L$100,3,FALSE))","v":""}]
[null,null,null,{"$f":"IF($C584=\"\",\"\",CONCATENATE(男子様式!$D603,\" \",男子様式!$J603))","v":""},null,null,null,{"$f":"IF($C584=\"\",\"\",VLOOKUP(基本登録情報!$C$7,登録データ!$I$3:$L$100,3,FALSE))","v":""}]
[null,null,null,{"$f":"IF($C585=\"\",\"\",CONCATENATE(男子様式!$D604,\" \",男子様式!$J604))","v":""},null,null,null,{"$f":"IF($C585=\"\",\"\",VLOOKUP(基本登録情報!$C$7,登録データ!$I$3:$L$100,3,FALSE))","v":""}]
[null,null,null,{"$f":"IF($C586=\"\",\"\",CONCATENATE(男子様式!$D605,\" \",男子様式!$J605))","v":""},null,null,null,{"$f":"IF($C586=\"\",\"\",VLOOKUP(基本登録情報!$C$7,登録データ!$I$3:$L$100,3,FALSE))","v":""}]
[null,null,null,{"$f":"IF($C587=\"\",\"\",CONCATENATE(男子様式!$D606,\" \",男子様式!$J606))","v":""},null,null,null,{"$f":"IF($C587=\"\",\"\",VLOOKUP(基本登録情報!$C$7,登録データ!$I$3:$L$100,3,FALSE))","v":""}]
[null,null,null,{"$f":"IF($C588=\"\",\"\",CONCATENATE(男子様式!$D607,\" \",男子様式!$J607))","v":""},null,null,null,{"$f":"IF($C588=\"\",\"\",VLOOKUP(基本登録情報!$C$7,登録データ!$I$3:$L$100,3,FALSE))","v":""}]
[null,null,null,{"$f":"IF($C589=\"\",\"\",CONCATENATE(男子様式!$D608,\" \",男子様式!$J608))","v":""},null,null,null,{"$f":"IF($C589=\"\",\"\",VLOOKUP(基本登録情報!$C$7,登録データ!$I$3:$L$100,3,FALSE))","v":""}]
[null,null,null,{"$f":"IF($C590=\"\",\"\",CONCATENATE(男子様式!$D609,\" \",男子様式!$J609))","v":""},null,null,null,{"$f":"IF($C590=\"\",\"\",VLOOKUP(基本登録情報!$C$7,登録データ!$I$3:$L$100,3,FALSE))","v":""}]
[null,null,null,{"$f":"IF($C591=\"\",\"\",CONCATENATE(男子様式!$D610,\" \",男子様式!$J610))","v":""},null,null,null,{"$f":"IF($C591=\"\",\"\",VLOOKUP(基本登録情報!$C$7,登録データ!$I$3:$L$100,3,FALSE))","v":""}]
[null,null,null,{"$f":"IF($C592=\"\",\"\",CONCATENATE(男子様式!$D611,\" \",男子様式!$J611))","v":""},null,null,null,{"$f":"IF($C592=\"\",\"\",VLOOKUP(基本登録情報!$C$7,登録データ!$I$3:$L$100,3,FALSE))","v":""}]
[null,null,null,{"$f":"IF($C593=\"\",\"\",CONCATENATE(男子様式!$D612,\" \",男子様式!$J612))","v":""},null,null,null,{"$f":"IF($C593=\"\",\"\",VLOOKUP(基本登録情報!$C$7,登録データ!$I$3:$L$100,3,FALSE))","v":""}]
[null,null,null,{"$f":"IF($C594=\"\",\"\",CONCATENATE(男子様式!$D613,\" \",男子様式!$J613))","v":""},null,null,null,{"$f":"IF($C594=\"\",\"\",VLOOKUP(基本登録情報!$C$7,登録データ!$I$3:$L$100,3,FALSE))","v":""}]
[null,null,null,{"$f":"IF($C595=\"\",\"\",CONCATENATE(男子様式!$D614,\" \",男子様式!$J614))","v":""},null,null,null,{"$f":"IF($C595=\"\",\"\",VLOOKUP(基本登録情報!$C$7,登録データ!$I$3:$L$100,3,FALSE))","v":""}]
[null,null,null,{"$f":"IF($C596=\"\",\"\",CONCATENATE(男子様式!$D615,\" \",男子様式!$J615))","v":""},null,null,null,{"$f":"IF($C596=\"\",\"\",VLOOKUP(基本登録情報!$C$7,登録データ!$I$3:$L$100,3,FALSE))","v":""}]
[null,null,null,{"$f":"IF($C597=\"\",\"\",CONCATENATE(男子様式!$D616,\" \",男子様式!$J616))","v":""},null,null,null,{"$f":"IF($C597=\"\",\"\",VLOOKUP(基本登録情報!$C$7,登録データ!$I$3:$L$100,3,FALSE))","v":""}]
[null,null,null,{"$f":"IF($C598=\"\",\"\",CONCATENATE(男子様式!$D617,\" \",男子様式!$J617))","v":""},null,null,null,{"$f":"IF($C598=\"\",\"\",VLOOKUP(基本登録情報!$C$7,登録データ!$I$3:$L$100,3,FALSE))","v":""}]
[null,null,null,{"$f":"IF($C599=\"\",\"\",CONCATENATE(男子様式!$D618,\" \",男子様式!$J618))","v":""},null,null,null,{"$f":"IF($C599=\"\",\"\",VLOOKUP(基本登録情報!$C$7,登録データ!$I$3:$L$100,3,FALSE))","v":""}]
[null,null,null,{"$f":"IF($C600=\"\",\"\",CONCATENATE(男子様式!$D619,\" \",男子様式!$J619))","v":""},null,null,null,{"$f":"IF($C600=\"\",\"\",VLOOKUP(基本登録情報!$C$7,登録データ!$I$3:$L$100,3,FALSE))","v":""}]
[null,null,null,{"$f":"IF($C601=\"\",\"\",CONCATENATE(男子様式!$D620,\" \",男子様式!$J620))","v":""},null,null,null,{"$f":"IF($C601=\"\",\"\",VLOOKUP(基本登録情報!$C$7,登録データ!$I$3:$L$100,3,FALSE))","v":""}]
[null,null,null,{"$f":"IF($C602=\"\",\"\",CONCATENATE(男子様式!$D621,\" \",男子様式!$J621))","v":""},null,null,null,{"$f":"IF($C602=\"\",\"\",VLOOKUP(基本登録情報!$C$7,登録データ!$I$3:$L$100,3,FALSE))","v":""}]
[null,null,null,{"$f":"IF($C603=\"\",\"\",CONCATENATE(男子様式!$D622,\" \",男子様式!$J622))","v":""},null,null,null,{"$f":"IF($C603=\"\",\"\",VLOOKUP(基本登録情報!$C$7,登録データ!$I$3:$L$100,3,FALSE))","v":""}]
[null,null,null,{"$f":"IF($C604=\"\",\"\",CONCATENATE(男子様式!$D623,\" \",男子様式!$J623))","v":""},null,null,null,{"$f":"IF($C604=\"\",\"\",VLOOKUP(基本登録情報!$C$7,登録データ!$I$3:$L$100,3,FALSE))","v":""}]
[null,null,null,{"$f":"IF($C605=\"\",\"\",CONCATENATE(男子様式!$D624,\" \",男子様式!$J624))","v":""},null,null,null,{"$f":"IF($C605=\"\",\"\",VLOOKUP(基本登録情報!$C$7,登録データ!$I$3:$L$100,3,FALSE))","v":""}]
[null,null,null,{"$f":"IF($C606=\"\",\"\",CONCATENATE(男子様式!$D625,\" \",男子様式!$J625))","v":""},null,null,null,{"$f":"IF($C606=\"\",\"\",VLOOKUP(基本登録情報!$C$7,登録データ!$I$3:$L$100,3,FALSE))","v":""}]
[null,null,null,{"$f":"IF($C607=\"\",\"\",CONCATENATE(男子様式!$D626,\" \",男子様式!$J626))","v":""},null,null,null,{"$f":"IF($C607=\"\",\"\",VLOOKUP(基本登録情報!$C$7,登録データ!$I$3:$L$100,3,FALSE))","v":""}]
[null,null,null,{"$f":"IF($C608=\"\",\"\",CONCATENATE(男子様式!$D627,\" \",男子様式!$J627))","v":""},null,null,null,{"$f":"IF($C608=\"\",\"\",VLOOKUP(基本登録情報!$C$7,登録データ!$I$3:$L$100,3,FALSE))","v":""}]
[null,null,null,{"$f":"IF($C609=\"\",\"\",CONCATENATE(男子様式!$D628,\" \",男子様式!$J628))","v":""},null,null,null,{"$f":"IF($C609=\"\",\"\",VLOOKUP(基本登録情報!$C$7,登録データ!$I$3:$L$100,3,FALSE))","v":""}]
[null,null,null,{"$f":"IF($C610=\"\",\"\",CONCATENATE(男子様式!$D629,\" \",男子様式!$J629))","v":""},null,null,null,{"$f":"IF($C610=\"\",\"\",VLOOKUP(基本登録情報!$C$7,登録データ!$I$3:$L$100,3,FALSE))","v":""}]
[null,null,null,{"$f":"IF($C611=\"\",\"\",CONCATENATE(男子様式!$D630,\" \",男子様式!$J630))","v":""},null,null,null,{"$f":"IF($C611=\"\",\"\",VLOOKUP(基本登録情報!$C$7,登録データ!$I$3:$L$100,3,FALSE))","v":""}]
[null,null,null,{"$f":"IF($C612=\"\",\"\",CONCATENATE(男子様式!$D631,\" \",男子様式!$J631))","v":""},null,null,null,{"$f":"IF($C612=\"\",\"\",VLOOKUP(基本登録情報!$C$7,登録データ!$I$3:$L$100,3,FALSE))","v":""}]
[null,null,null,{"$f":"IF($C613=\"\",\"\",CONCATENATE(男子様式!$D632,\" \",男子様式!$J632))","v":""},null,null,null,{"$f":"IF($C613=\"\",\"\",VLOOKUP(基本登録情報!$C$7,登録データ!$I$3:$L$100,3,FALSE))","v":""}]
[null,null,null,{"$f":"IF($C614=\"\",\"\",CONCATENATE(男子様式!$D633,\" \",男子様式!$J633))","v":""},null,null,null,{"$f":"IF($C614=\"\",\"\",VLOOKUP(基本登録情報!$C$7,登録データ!$I$3:$L$100,3,FALSE))","v":""}]
[null,null,null,{"$f":"IF($C615=\"\",\"\",CONCATENATE(男子様式!$D634,\" \",男子様式!$J634))","v":""},null,null,null,{"$f":"IF($C615=\"\",\"\",VLOOKUP(基本登録情報!$C$7,登録データ!$I$3:$L$100,3,FALSE))","v":""}]
[null,null,null,{"$f":"IF($C616=\"\",\"\",CONCATENATE(男子様式!$D635,\" \",男子様式!$J635))","v":""},null,null,null,{"$f":"IF($C616=\"\",\"\",VLOOKUP(基本登録情報!$C$7,登録データ!$I$3:$L$100,3,FALSE))","v":""}]
[null,null,null,{"$f":"IF($C617=\"\",\"\",CONCATENATE(男子様式!$D636,\" \",男子様式!$J636))","v":""},null,null,null,{"$f":"IF($C617=\"\",\"\",VLOOKUP(基本登録情報!$C$7,登録データ!$I$3:$L$100,3,FALSE))","v":""}]
[null,null,null,{"$f":"IF($C618=\"\",\"\",CONCATENATE(男子様式!$D637,\" \",男子様式!$J637))","v":""},null,null,null,{"$f":"IF($C618=\"\",\"\",VLOOKUP(基本登録情報!$C$7,登録データ!$I$3:$L$100,3,FALSE))","v":""}]
[null,null,null,{"$f":"IF($C619=\"\",\"\",CONCATENATE(男子様式!$D638,\" \",男子様式!$J638))","v":""},null,null,null,{"$f":"IF($C619=\"\",\"\",VLOOKUP(基本登録情報!$C$7,登録データ!$I$3:$L$100,3,FALSE))","v":""}]
[null,null,null,{"$f":"IF($C620=\"\",\"\",CONCATENATE(男子様式!$D639,\" \",男子様式!$J639))","v":""},null,null,null,{"$f":"IF($C620=\"\",\"\",VLOOKUP(基本登録情報!$C$7,登録データ!$I$3:$L$100,3,FALSE))","v":""}]
[null,null,null,{"$f":"IF($C621=\"\",\"\",CONCATENATE(男子様式!$D640,\" \",男子様式!$J640))","v":""},null,null,null,{"$f":"IF($C621=\"\",\"\",VLOOKUP(基本登録情報!$C$7,登録データ!$I$3:$L$100,3,FALSE))","v":""}]
[null,null,null,{"$f":"IF($C622=\"\",\"\",CONCATENATE(男子様式!$D641,\" \",男子様式!$J641))","v":""},null,null,null,{"$f":"IF($C622=\"\",\"\",VLOOKUP(基本登録情報!$C$7,登録データ!$I$3:$L$100,3,FALSE))","v":""}]
[null,null,null,{"$f":"IF($C623=\"\",\"\",CONCATENATE(男子様式!$D642,\" \",男子様式!$J642))","v":""},null,null,null,{"$f":"IF($C623=\"\",\"\",VLOOKUP(基本登録情報!$C$7,登録データ!$I$3:$L$100,3,FALSE))","v":""}]
[null,null,null,{"$f":"IF($C624=\"\",\"\",CONCATENATE(男子様式!$D643,\" \",男子様式!$J643))","v":""},null,null,null,{"$f":"IF($C624=\"\",\"\",VLOOKUP(基本登録情報!$C$7,登録データ!$I$3:$L$100,3,FALSE))","v":""}]
[null,null,null,{"$f":"IF($C625=\"\",\"\",CONCATENATE(男子様式!$D644,\" \",男子様式!$J644))","v":""},null,null,null,{"$f":"IF($C625=\"\",\"\",VLOOKUP(基本登録情報!$C$7,登録データ!$I$3:$L$100,3,FALSE))","v":""}]
[null,null,null,{"$f":"IF($C626=\"\",\"\",CONCATENATE(男子様式!$D645,\" \",男子様式!$J645))","v":""},null,null,null,{"$f":"IF($C626=\"\",\"\",VLOOKUP(基本登録情報!$C$7,登録データ!$I$3:$L$100,3,FALSE))","v":""}]
[null,null,null,{"$f":"IF($C627=\"\",\"\",CONCATENATE(男子様式!$D646,\" \",男子様式!$J646))","v":""},null,null,null,{"$f":"IF($C627=\"\",\"\",VLOOKUP(基本登録情報!$C$7,登録データ!$I$3:$L$100,3,FALSE))","v":""}]
[null,null,null,{"$f":"IF($C628=\"\",\"\",CONCATENATE(男子様式!$D647,\" \",男子様式!$J647))","v":""},null,null,null,{"$f":"IF($C628=\"\",\"\",VLOOKUP(基本登録情報!$C$7,登録データ!$I$3:$L$100,3,FALSE))","v":""}]
[null,null,null,{"$f":"IF($C629=\"\",\"\",CONCATENATE(男子様式!$D648,\" \",男子様式!$J648))","v":""},null,null,null,{"$f":"IF($C629=\"\",\"\",VLOOKUP(基本登録情報!$C$7,登録データ!$I$3:$L$100,3,FALSE))","v":""}]
[null,null,null,{"$f":"IF($C630=\"\",\"\",CONCATENATE(男子様式!$D649,\" \",男子様式!$J649))","v":""},null,null,null,{"$f":"IF($C630=\"\",\"\",VLOOKUP(基本登録情報!$C$7,登録データ!$I$3:$L$100,3,FALSE))","v":""}]
[null,null,null,{"$f":"IF($C631=\"\",\"\",CONCATENATE(男子様式!$D650,\" \",男子様式!$J650))","v":""},null,null,null,{"$f":"IF($C631=\"\",\"\",VLOOKUP(基本登録情報!$C$7,登録データ!$I$3:$L$100,3,FALSE))","v":""}]
[null,null,null,{"$f":"IF($C632=\"\",\"\",CONCATENATE(男子様式!$D651,\" \",男子様式!$J651))","v":""},null,null,null,{"$f":"IF($C632=\"\",\"\",VLOOKUP(基本登録情報!$C$7,登録データ!$I$3:$L$100,3,FALSE))","v":""}]
[null,null,null,{"$f":"IF($C633=\"\",\"\",CONCATENATE(男子様式!$D652,\" \",男子様式!$J652))","v":""},null,null,null,{"$f":"IF($C633=\"\",\"\",VLOOKUP(基本登録情報!$C$7,登録データ!$I$3:$L$100,3,FALSE))","v":""}]
[null,null,null,{"$f":"IF($C634=\"\",\"\",CONCATENATE(男子様式!$D653,\" \",男子様式!$J653))","v":""},null,null,null,{"$f":"IF($C634=\"\",\"\",VLOOKUP(基本登録情報!$C$7,登録データ!$I$3:$L$100,3,FALSE))","v":""}]
[null,null,null,{"$f":"IF($C635=\"\",\"\",CONCATENATE(男子様式!$D654,\" \",男子様式!$J654))","v":""},null,null,null,{"$f":"IF($C635=\"\",\"\",VLOOKUP(基本登録情報!$C$7,登録データ!$I$3:$L$100,3,FALSE))","v":""}]
[null,null,null,{"$f":"IF($C636=\"\",\"\",CONCATENATE(男子様式!$D655,\" \",男子様式!$J655))","v":""},null,null,null,{"$f":"IF($C636=\"\",\"\",VLOOKUP(基本登録情報!$C$7,登録データ!$I$3:$L$100,3,FALSE))","v":""}]
[null,null,null,{"$f":"IF($C637=\"\",\"\",CONCATENATE(男子様式!$D656,\" \",男子様式!$J656))","v":""},null,null,null,{"$f":"IF($C637=\"\",\"\",VLOOKUP(基本登録情報!$C$7,登録データ!$I$3:$L$100,3,FALSE))","v":""}]
[null,null,null,{"$f":"IF($C638=\"\",\"\",CONCATENATE(男子様式!$D657,\" \",男子様式!$J657))","v":""},null,null,null,{"$f":"IF($C638=\"\",\"\",VLOOKUP(基本登録情報!$C$7,登録データ!$I$3:$L$100,3,FALSE))","v":""}]
[null,null,null,{"$f":"IF($C639=\"\",\"\",CONCATENATE(男子様式!$D658,\" \",男子様式!$J658))","v":""},null,null,null,{"$f":"IF($C639=\"\",\"\",VLOOKUP(基本登録情報!$C$7,登録データ!$I$3:$L$100,3,FALSE))","v":""}]
[null,null,null,{"$f":"IF($C640=\"\",\"\",CONCATENATE(男子様式!$D659,\" \",男子様式!$J659))","v":""},null,null,null,{"$f":"IF($C640=\"\",\"\",VLOOKUP(基本登録情報!$C$7,登録データ!$I$3:$L$100,3,FALSE))","v":""}]
[null,null,null,{"$f":"IF($C641=\"\",\"\",CONCATENATE(男子様式!$D660,\" \",男子様式!$J660))","v":""},null,null,null,{"$f":"IF($C641=\"\",\"\",VLOOKUP(基本登録情報!$C$7,登録データ!$I$3:$L$100,3,FALSE))","v":""}]
[null,null,null,{"$f":"IF($C642=\"\",\"\",CONCATENATE(男子様式!$D661,\" \",男子様式!$J661))","v":""},null,null,null,{"$f":"IF($C642=\"\",\"\",VLOOKUP(基本登録情報!$C$7,登録データ!$I$3:$L$100,3,FALSE))","v":""}]
[null,null,null,{"$f":"IF($C643=\"\",\"\",CONCATENATE(男子様式!$D662,\" \",男子様式!$J662))","v":""},null,null,null,{"$f":"IF($C643=\"\",\"\",VLOOKUP(基本登録情報!$C$7,登録データ!$I$3:$L$100,3,FALSE))","v":""}]
[null,null,null,{"$f":"IF($C644=\"\",\"\",CONCATENATE(男子様式!$D663,\" \",男子様式!$J663))","v":""},null,null,null,{"$f":"IF($C644=\"\",\"\",VLOOKUP(基本登録情報!$C$7,登録データ!$I$3:$L$100,3,FALSE))","v":""}]
[null,null,null,{"$f":"IF($C645=\"\",\"\",CONCATENATE(男子様式!$D664,\" \",男子様式!$J664))","v":""},null,null,null,{"$f":"IF($C645=\"\",\"\",VLOOKUP(基本登録情報!$C$7,登録データ!$I$3:$L$100,3,FALSE))","v":""}]
[null,null,null,{"$f":"IF($C646=\"\",\"\",CONCATENATE(男子様式!$D665,\" \",男子様式!$J665))","v":""},null,null,null,{"$f":"IF($C646=\"\",\"\",VLOOKUP(基本登録情報!$C$7,登録データ!$I$3:$L$100,3,FALSE))","v":""}]
[null,null,null,{"$f":"IF($C647=\"\",\"\",CONCATENATE(男子様式!$D666,\" \",男子様式!$J666))","v":""},null,null,null,{"$f":"IF($C647=\"\",\"\",VLOOKUP(基本登録情報!$C$7,登録データ!$I$3:$L$100,3,FALSE))","v":""}]
[null,null,null,{"$f":"IF($C648=\"\",\"\",CONCATENATE(男子様式!$D667,\" \",男子様式!$J667))","v":""},null,null,null,{"$f":"IF($C648=\"\",\"\",VLOOKUP(基本登録情報!$C$7,登録データ!$I$3:$L$100,3,FALSE))","v":""}]
[null,null,null,{"$f":"IF($C649=\"\",\"\",CONCATENATE(男子様式!$D668,\" \",男子様式!$J668))","v":""},null,null,null,{"$f":"IF($C649=\"\",\"\",VLOOKUP(基本登録情報!$C$7,登録データ!$I$3:$L$100,3,FALSE))","v":""}]
[null,null,null,{"$f":"IF($C650=\"\",\"\",CONCATENATE(男子様式!$D669,\" \",男子様式!$J669))","v":""},null,null,null,{"$f":"IF($C650=\"\",\"\",VLOOKUP(基本登録情報!$C$7,登録データ!$I$3:$L$100,3,FALSE))","v":""}]
[null,null,null,{"$f":"IF($C651=\"\",\"\",CONCATENATE(男子様式!$D670,\" \",男子様式!$J670))","v":""},null,null,null,{"$f":"IF($C651=\"\",\"\",VLOOKUP(基本登録情報!$C$7,登録データ!$I$3:$L$100,3,FALSE))","v":""}]
[null,null,null,{"$f":"IF($C652=\"\",\"\",CONCATENATE(男子様式!$D671,\" \",男子様式!$J671))","v":""},null,null,null,{"$f":"IF($C652=\"\",\"\",VLOOKUP(基本登録情報!$C$7,登録データ!$I$3:$L$100,3,FALSE))","v":""}]
[null,null,null,{"$f":"IF($C653=\"\",\"\",CONCATENATE(男子様式!$D672,\" \",男子様式!$J672))","v":""},null,null,null,{"$f":"IF($C653=\"\",\"\",VLOOKUP(基本登録情報!$C$7,登録データ!$I$3:$L$100,3,FALSE))","v":""}]
[null,null,null,{"$f":"IF($C654=\"\",\"\",CONCATENATE(男子様式!$D673,\" \",男子様式!$J673))","v":""},null,null,null,{"$f":"IF($C654=\"\",\"\",VLOOKUP(基本登録情報!$C$7,登録データ!$I$3:$L$100,3,FALSE))","v":""}]
[null,null,null,{"$f":"IF($C655=\"\",\"\",CONCATENATE(男子様式!$D674,\" \",男子様式!$J674))","v":""},null,null,null,{"$f":"IF($C655=\"\",\"\",VLOOKUP(基本登録情報!$C$7,登録データ!$I$3:$L$100,3,FALSE))","v":""}]
[null,null,null,{"$f":"IF($C656=\"\",\"\",CONCATENATE(男子様式!$D675,\" \",男子様式!$J675))","v":""},null,null,null,{"$f":"IF($C656=\"\",\"\",VLOOKUP(基本登録情報!$C$7,登録データ!$I$3:$L$100,3,FALSE))","v":""}]
[null,null,null,{"$f":"IF($C657=\"\",\"\",CONCATENATE(男子様式!$D676,\" \",男子様式!$J676))","v":""},null,null,null,{"$f":"IF($C657=\"\",\"\",VLOOKUP(基本登録情報!$C$7,登録データ!$I$3:$L$100,3,FALSE))","v":""}]
[null,null,null,{"$f":"IF($C658=\"\",\"\",CONCATENATE(男子様式!$D677,\" \",男子様式!$J677))","v":""},null,null,null,{"$f":"IF($C658=\"\",\"\",VLOOKUP(基本登録情報!$C$7,登録データ!$I$3:$L$100,3,FALSE))","v":""}]
[null,null,null,{"$f":"IF($C659=\"\",\"\",CONCATENATE(男子様式!$D678,\" \",男子様式!$J678))","v":""},null,null,null,{"$f":"IF($C659=\"\",\"\",VLOOKUP(基本登録情報!$C$7,登録データ!$I$3:$L$100,3,FALSE))","v":""}]
[null,null,null,{"$f":"IF($C660=\"\",\"\",CONCATENATE(男子様式!$D679,\" \",男子様式!$J679))","v":""},null,null,null,{"$f":"IF($C660=\"\",\"\",VLOOKUP(基本登録情報!$C$7,登録データ!$I$3:$L$100,3,FALSE))","v":""}]
[null,null,null,{"$f":"IF($C661=\"\",\"\",CONCATENATE(男子様式!$D680,\" \",男子様式!$J680))","v":""},null,null,null,{"$f":"IF($C661=\"\",\"\",VLOOKUP(基本登録情報!$C$7,登録データ!$I$3:$L$100,3,FALSE))","v":""}]
[null,null,null,{"$f":"IF($C662=\"\",\"\",CONCATENATE(男子様式!$D681,\" \",男子様式!$J681))","v":""},null,null,null,{"$f":"IF($C662=\"\",\"\",VLOOKUP(基本登録情報!$C$7,登録データ!$I$3:$L$100,3,FALSE))","v":""}]
[null,null,null,{"$f":"IF($C663=\"\",\"\",CONCATENATE(男子様式!$D682,\" \",男子様式!$J682))","v":""},null,null,null,{"$f":"IF($C663=\"\",\"\",VLOOKUP(基本登録情報!$C$7,登録データ!$I$3:$L$100,3,FALSE))","v":""}]
[null,null,null,{"$f":"IF($C664=\"\",\"\",CONCATENATE(男子様式!$D683,\" \",男子様式!$J683))","v":""},null,null,null,{"$f":"IF($C664=\"\",\"\",VLOOKUP(基本登録情報!$C$7,登録データ!$I$3:$L$100,3,FALSE))","v":""}]
[null,null,null,{"$f":"IF($C665=\"\",\"\",CONCATENATE(男子様式!$D684,\" \",男子様式!$J684))","v":""},null,null,null,{"$f":"IF($C665=\"\",\"\",VLOOKUP(基本登録情報!$C$7,登録データ!$I$3:$L$100,3,FALSE))","v":""}]
[null,null,null,{"$f":"IF($C666=\"\",\"\",CONCATENATE(男子様式!$D685,\" \",男子様式!$J685))","v":""},null,null,null,{"$f":"IF($C666=\"\",\"\",VLOOKUP(基本登録情報!$C$7,登録データ!$I$3:$L$100,3,FALSE))","v":""}]
[null,null,null,{"$f":"IF($C667=\"\",\"\",CONCATENATE(男子様式!$D686,\" \",男子様式!$J686))","v":""},null,null,null,{"$f":"IF($C667=\"\",\"\",VLOOKUP(基本登録情報!$C$7,登録データ!$I$3:$L$100,3,FALSE))","v":""}]
[null,null,null,{"$f":"IF($C668=\"\",\"\",CONCATENATE(男子様式!$D687,\" \",男子様式!$J687))","v":""},null,null,null,{"$f":"IF($C668=\"\",\"\",VLOOKUP(基本登録情報!$C$7,登録データ!$I$3:$L$100,3,FALSE))","v":""}]
[null,null,null,{"$f":"IF($C669=\"\",\"\",CONCATENATE(男子様式!$D688,\" \",男子様式!$J688))","v":""},null,null,null,{"$f":"IF($C669=\"\",\"\",VLOOKUP(基本登録情報!$C$7,登録データ!$I$3:$L$100,3,FALSE))","v":""}]
[null,null,null,{"$f":"IF($C670=\"\",\"\",CONCATENATE(男子様式!$D689,\" \",男子様式!$J689))","v":""},null,null,null,{"$f":"IF($C670=\"\",\"\",VLOOKUP(基本登録情報!$C$7,登録データ!$I$3:$L$100,3,FALSE))","v":""}]
[null,null,null,{"$f":"IF($C671=\"\",\"\",CONCATENATE(男子様式!$D690,\" \",男子様式!$J690))","v":""},null,null,null,{"$f":"IF($C671=\"\",\"\",VLOOKUP(基本登録情報!$C$7,登録データ!$I$3:$L$100,3,FALSE))","v":""}]
[null,null,null,{"$f":"IF($C672=\"\",\"\",CONCATENATE(男子様式!$D691,\" \",男子様式!$J691))","v":""},null,null,null,{"$f":"IF($C672=\"\",\"\",VLOOKUP(基本登録情報!$C$7,登録データ!$I$3:$L$100,3,FALSE))","v":""}]
[null,null,null,{"$f":"IF($C673=\"\",\"\",CONCATENATE(男子様式!$D692,\" \",男子様式!$J692))","v":""},null,null,null,{"$f":"IF($C673=\"\",\"\",VLOOKUP(基本登録情報!$C$7,登録データ!$I$3:$L$100,3,FALSE))","v":""}]
[null,null,null,{"$f":"IF($C674=\"\",\"\",CONCATENATE(男子様式!$D693,\" \",男子様式!$J693))","v":""},null,null,null,{"$f":"IF($C674=\"\",\"\",VLOOKUP(基本登録情報!$C$7,登録データ!$I$3:$L$100,3,FALSE))","v":""}]
[null,null,null,{"$f":"IF($C675=\"\",\"\",CONCATENATE(男子様式!$D694,\" \",男子様式!$J694))","v":""},null,null,null,{"$f":"IF($C675=\"\",\"\",VLOOKUP(基本登録情報!$C$7,登録データ!$I$3:$L$100,3,FALSE))","v":""}]
[null,null,null,{"$f":"IF($C676=\"\",\"\",CONCATENATE(男子様式!$D695,\" \",男子様式!$J695))","v":""},null,null,null,{"$f":"IF($C676=\"\",\"\",VLOOKUP(基本登録情報!$C$7,登録データ!$I$3:$L$100,3,FALSE))","v":""}]
[null,null,null,{"$f":"IF($C677=\"\",\"\",CONCATENATE(男子様式!$D696,\" \",男子様式!$J696))","v":""},null,null,null,{"$f":"IF($C677=\"\",\"\",VLOOKUP(基本登録情報!$C$7,登録データ!$I$3:$L$100,3,FALSE))","v":""}]
[null,null,null,{"$f":"IF($C678=\"\",\"\",CONCATENATE(男子様式!$D697,\" \",男子様式!$J697))","v":""},null,null,null,{"$f":"IF($C678=\"\",\"\",VLOOKUP(基本登録情報!$C$7,登録データ!$I$3:$L$100,3,FALSE))","v":""}]
[null,null,null,{"$f":"IF($C679=\"\",\"\",CONCATENATE(男子様式!$D698,\" \",男子様式!$J698))","v":""},null,null,null,{"$f":"IF($C679=\"\",\"\",VLOOKUP(基本登録情報!$C$7,登録データ!$I$3:$L$100,3,FALSE))","v":""}]
[null,null,null,{"$f":"IF($C680=\"\",\"\",CONCATENATE(男子様式!$D699,\" \",男子様式!$J699))","v":""},null,null,null,{"$f":"IF($C680=\"\",\"\",VLOOKUP(基本登録情報!$C$7,登録データ!$I$3:$L$100,3,FALSE))","v":""}]
[null,null,null,{"$f":"IF($C681=\"\",\"\",CONCATENATE(男子様式!$D700,\" \",男子様式!$J700))","v":""},null,null,null,{"$f":"IF($C681=\"\",\"\",VLOOKUP(基本登録情報!$C$7,登録データ!$I$3:$L$100,3,FALSE))","v":""}]
[null,null,null,{"$f":"IF($C682=\"\",\"\",CONCATENATE(男子様式!$D701,\" \",男子様式!$J701))","v":""},null,null,null,{"$f":"IF($C682=\"\",\"\",VLOOKUP(基本登録情報!$C$7,登録データ!$I$3:$L$100,3,FALSE))","v":""}]
[null,null,null,{"$f":"IF($C683=\"\",\"\",CONCATENATE(男子様式!$D702,\" \",男子様式!$J702))","v":""},null,null,null,{"$f":"IF($C683=\"\",\"\",VLOOKUP(基本登録情報!$C$7,登録データ!$I$3:$L$100,3,FALSE))","v":""}]
[null,null,null,{"$f":"IF($C684=\"\",\"\",CONCATENATE(男子様式!$D703,\" \",男子様式!$J703))","v":""},null,null,null,{"$f":"IF($C684=\"\",\"\",VLOOKUP(基本登録情報!$C$7,登録データ!$I$3:$L$100,3,FALSE))","v":""}]
[null,null,null,{"$f":"IF($C685=\"\",\"\",CONCATENATE(男子様式!$D704,\" \",男子様式!$J704))","v":""},null,null,null,{"$f":"IF($C685=\"\",\"\",VLOOKUP(基本登録情報!$C$7,登録データ!$I$3:$L$100,3,FALSE))","v":""}]
[null,null,null,{"$f":"IF($C686=\"\",\"\",CONCATENATE(男子様式!$D705,\" \",男子様式!$J705))","v":""},null,null,null,{"$f":"IF($C686=\"\",\"\",VLOOKUP(基本登録情報!$C$7,登録データ!$I$3:$L$100,3,FALSE))","v":""}]
[null,null,null,{"$f":"IF($C687=\"\",\"\",CONCATENATE(男子様式!$D706,\" \",男子様式!$J706))","v":""},null,null,null,{"$f":"IF($C687=\"\",\"\",VLOOKUP(基本登録情報!$C$7,登録データ!$I$3:$L$100,3,FALSE))","v":""}]
[null,null,null,{"$f":"IF($C688=\"\",\"\",CONCATENATE(男子様式!$D707,\" \",男子様式!$J707))","v":""},null,null,null,{"$f":"IF($C688=\"\",\"\",VLOOKUP(基本登録情報!$C$7,登録データ!$I$3:$L$100,3,FALSE))","v":""}]
[null,null,null,{"$f":"IF($C689=\"\",\"\",CONCATENATE(男子様式!$D708,\" \",男子様式!$J708))","v":""},null,null,null,{"$f":"IF($C689=\"\",\"\",VLOOKUP(基本登録情報!$C$7,登録データ!$I$3:$L$100,3,FALSE))","v":""}]
[null,null,null,{"$f":"IF($C690=\"\",\"\",CONCATENATE(男子様式!$D709,\" \",男子様式!$J709))","v":""},null,null,null,{"$f":"IF($C690=\"\",\"\",VLOOKUP(基本登録情報!$C$7,登録データ!$I$3:$L$100,3,FALSE))","v":""}]
[null,null,null,{"$f":"IF($C691=\"\",\"\",CONCATENATE(男子様式!$D710,\" \",男子様式!$J710))","v":""},null,null,null,{"$f":"IF($C691=\"\",\"\",VLOOKUP(基本登録情報!$C$7,登録データ!$I$3:$L$100,3,FALSE))","v":""}]
[null,null,null,{"$f":"IF($C692=\"\",\"\",CONCATENATE(男子様式!$D711,\" \",男子様式!$J711))","v":""},null,null,null,{"$f":"IF($C692=\"\",\"\",VLOOKUP(基本登録情報!$C$7,登録データ!$I$3:$L$100,3,FALSE))","v":""}]
[null,null,null,{"$f":"IF($C693=\"\",\"\",CONCATENATE(男子様式!$D712,\" \",男子様式!$J712))","v":""},null,null,null,{"$f":"IF($C693=\"\",\"\",VLOOKUP(基本登録情報!$C$7,登録データ!$I$3:$L$100,3,FALSE))","v":""}]
[null,null,null,{"$f":"IF($C694=\"\",\"\",CONCATENATE(男子様式!$D713,\" \",男子様式!$J713))","v":""},null,null,null,{"$f":"IF($C694=\"\",\"\",VLOOKUP(基本登録情報!$C$7,登録データ!$I$3:$L$100,3,FALSE))","v":""}]
[null,null,null,{"$f":"IF($C695=\"\",\"\",CONCATENATE(男子様式!$D714,\" \",男子様式!$J714))","v":""},null,null,null,{"$f":"IF($C695=\"\",\"\",VLOOKUP(基本登録情報!$C$7,登録データ!$I$3:$L$100,3,FALSE))","v":""}]
[null,null,null,{"$f":"IF($C696=\"\",\"\",CONCATENATE(男子様式!$D715,\" \",男子様式!$J715))","v":""},null,null,null,{"$f":"IF($C696=\"\",\"\",VLOOKUP(基本登録情報!$C$7,登録データ!$I$3:$L$100,3,FALSE))","v":""}]
[null,null,null,{"$f":"IF($C697=\"\",\"\",CONCATENATE(男子様式!$D716,\" \",男子様式!$J716))","v":""},null,null,null,{"$f":"IF($C697=\"\",\"\",VLOOKUP(基本登録情報!$C$7,登録データ!$I$3:$L$100,3,FALSE))","v":""}]
[null,null,null,{"$f":"IF($C698=\"\",\"\",CONCATENATE(男子様式!$D717,\" \",男子様式!$J717))","v":""},null,null,null,{"$f":"IF($C698=\"\",\"\",VLOOKUP(基本登録情報!$C$7,登録データ!$I$3:$L$100,3,FALSE))","v":""}]
[null,null,null,{"$f":"IF($C699=\"\",\"\",CONCATENATE(男子様式!$D718,\" \",男子様式!$J718))","v":""},null,null,null,{"$f":"IF($C699=\"\",\"\",VLOOKUP(基本登録情報!$C$7,登録データ!$I$3:$L$100,3,FALSE))","v":""}]
[null,null,null,null,null,null,null,{"$f":"IF($C700=\"\",\"\",VLOOKUP(基本登録情報!$C$7,登録データ!$I$3:$L$100,3,FALSE))","v":""}]
[null,null,null,null,null,null,null,{"$f":"IF($C701=\"\",\"\",VLOOKUP(基本登録情報!$C$7,登録データ!$I$3:$L$100,3,FALSE))","v":""}]
[null,null,null,null,null,null,null,{"$f":"IF($C702=\"\",\"\",VLOOKUP(基本登録情報!$C$7,登録データ!$I$3:$L$100,3,FALSE))","v":""}]
[null,null,null,null,null,null,null,{"$f":"IF($C703=\"\",\"\",VLOOKUP(基本登録情報!$C$7,登録データ!$I$3:$L$100,3,FALSE))","v":""}]
[null,null,null,null,null,null,null,{"$f":"IF($C704=\"\",\"\",VLOOKUP(基本登録情報!$C$7,登録データ!$I$3:$L$100,3,FALSE))","v":""}]
[null,null,null,null,null,null,null,{"$f":"IF($C705=\"\",\"\",VLOOKUP(基本登録情報!$C$7,登録データ!$I$3:$L$100,3,FALSE))","v":""}]
[null,null,null,null,null,null,null,{"$f":"IF($C706=\"\",\"\",VLOOKUP(基本登録情報!$C$7,登録データ!$I$3:$L$100,3,FALSE))","v":""}]
[null,null,null,null,null,null,null,{"$f":"IF($C707=\"\",\"\",VLOOKUP(基本登録情報!$C$7,登録データ!$I$3:$L$100,3,FALSE))","v":""}]
[null,null,null,null,null,null,null,{"$f":"IF($C708=\"\",\"\",VLOOKUP(基本登録情報!$C$7,登録データ!$I$3:$L$100,3,FALSE))","v":""}]
[null,null,null,null,null,null,null,{"$f":"IF($C709=\"\",\"\",VLOOKUP(基本登録情報!$C$7,登録データ!$I$3:$L$100,3,FALSE))","v":""}]
[null,null,null,null,null,null,null,{"$f":"IF($C710=\"\",\"\",VLOOKUP(基本登録情報!$C$7,登録データ!$I$3:$L$100,3,FALSE))","v":""}]
[null,null,null,null,null,null,null,{"$f":"IF($C711=\"\",\"\",VLOOKUP(基本登録情報!$C$7,登録データ!$I$3:$L$100,3,FALSE))","v":""}]
[null,null,null,null,null,null,null,{"$f":"IF($C712=\"\",\"\",VLOOKUP(基本登録情報!$C$7,登録データ!$I$3:$L$100,3,FALSE))","v":""}]
[null,null,null,null,null,null,null,{"$f":"IF($C713=\"\",\"\",VLOOKUP(基本登録情報!$C$7,登録データ!$I$3:$L$100,3,FALSE))","v":""}]
[null,null,null,null,null,null,null,{"$f":"IF($C714=\"\",\"\",VLOOKUP(基本登録情報!$C$7,登録データ!$I$3:$L$100,3,FALSE))","v":""}]
[null,null,null,null,null,null,null,{"$f":"IF($C715=\"\",\"\",VLOOKUP(基本登録情報!$C$7,登録データ!$I$3:$L$100,3,FALSE))","v":""}]
[null,null,null,null,null,null,null,{"$f":"IF($C716=\"\",\"\",VLOOKUP(基本登録情報!$C$7,登録データ!$I$3:$L$100,3,FALSE))","v":""}]
[null,null,null,null,null,null,null,{"$f":"IF($C717=\"\",\"\",VLOOKUP(基本登録情報!$C$7,登録データ!$I$3:$L$100,3,FALSE))","v":""}]
[null,null,null,null,null,null,null,{"$f":"IF($C718=\"\",\"\",VLOOKUP(基本登録情報!$C$7,登録データ!$I$3:$L$100,3,FALSE))","v":""}]
[null,null,null,null,null,null,null,{"$f":"IF($C719=\"\",\"\",VLOOKUP(基本登録情報!$C$7,登録データ!$I$3:$L$100,3,FALSE))","v":""}]
[null,null,null,null,null,null,null,{"$f":"IF($C720=\"\",\"\",VLOOKUP(基本登録情報!$C$7,登録データ!$I$3:$L$100,3,FALSE))","v":""}]
[null,null,null,null,null,null,null,{"$f":"IF($C721=\"\",\"\",VLOOKUP(基本登録情報!$C$7,登録データ!$I$3:$L$100,3,FALSE))","v":""}]
[null,null,null,null,null,null,null,{"$f":"IF($C722=\"\",\"\",VLOOKUP(基本登録情報!$C$7,登録データ!$I$3:$L$100,3,FALSE))","v":""}]
[null,null,null,null,null,null,null,{"$f":"IF($C723=\"\",\"\",VLOOKUP(基本登録情報!$C$7,登録データ!$I$3:$L$100,3,FALSE))","v":""}]
[null,null,null,null,null,null,null,{"$f":"IF($C724=\"\",\"\",VLOOKUP(基本登録情報!$C$7,登録データ!$I$3:$L$100,3,FALSE))","v":""}]

{"sheet":"女子mat","index":7,"n_rows":835,"n_cols":14,"rows_kept":835,"cut":false,"hidden":false,"merged":[]}
[null,"ZKチェック","DB","N1","N1","N2","N3","SX","MC","KC","ZK","S1","S2","S3"]
[1,{"$f":"IF(女子様式!$C21=\"\",\"\",IF(女子様式!$C21=\"@\",\"@\",女子様式!$C21))","v":""},{"$f":"IF(女子様式!$C21=\"\",\"\",IF($B2=\"@\",\"@\",$B2+200000000))","v":""},{"$f":"IF($C2=\"\",\"\",CONCATENATE(女子様式!$D21,\" \",\"(\",女子様式!$K21,\")\"))","v":""},{"$f":"IF(D2=\"\",\"\",LEFT(D2,FIND(\"(\",D2)-1))","v":""},{"$f":"IF($C2=\"\",\"\",女子様式!$G21)","v":""},{"$f":"CONCATENATE(OFFSET(女子様式!$J$18,3*A2,0),\" \",IF(LEN(OFFSET(女子様式!$K$18,A2*3,0))=0,,\"(\"),LEFT(OFFSET(女子様式!$K$18,A2*3,0),2),IF(LEN(OFFSET(女子様式!$J$18,A2*3,0))=0,,\")\"))","v":" "},{"$f":"IF($C2=\"\",\"\",2)","v":""},{"$f":"IF($C2=\"\",\"\",VLOOKUP(基本登録情報!$C$7,登録データ!$I$3:$L$100,3,FALSE))","v":""},{"$f":"IF($C2=\"\",\"\",VLOOKUP(OFFSET(女子様式!$M$18,3*A2,0),登録データ!AM2:AN48,2,FALSE))","v":""},{"$f":"IF($C2=\"\",\"\",IF($B2=\"@\",\"@\",VALUE(RIGHT($C2,4))))","v":""},{"$f":"IF(女子様式!$AG21=\"\",\"\",女子様式!$AG21)","v":""},{"$f":"IF(女子様式!$AG22=\"\",\"\",女子様式!$AG22)","v":""},{"$f":"IF(女子様式!$AG23=\"\",\"\",女子様式!$AG23)","v":""}]
[2,{"$f":"IF(女子様式!$C24=\"\",\"\",IF(女子様式!$C24=\"@\",\"@\",女子様式!$C24))","v":""},{"$f":"IF(女子様式!$C24=\"\",\"\",IF($B3=\"@\",\"@\",$B3+200000000))","v":""},{"$f":"IF($C3=\"\",\"\",CONCATENATE(女子様式!$D24,\" \",\"(\",女子様式!$K24,\")\"))","v":""},{"$f":"IF(D3=\"\",\"\",LEFT(D3,FIND(\"(\",D3)-1))","v":""},{"$f":"IF($C3=\"\",\"\",女子様式!$G24)","v":""},{"$f":"CONCATENATE(OFFSET(女子様式!$J$18,3*A3,0),\" \",IF(LEN(OFFSET(女子様式!$K$18,A3*3,0))=0,,\"(\"),LEFT(OFFSET(女子様式!$K$18,A3*3,0),2),IF(LEN(OFFSET(女子様式!$J$18,A3*3,0))=0,,\")\"))","v":" "},{"$f":"IF($C3=\"\",\"\",2)","v":""},{"$f":"IF($C3=\"\",\"\",VLOOKUP(基本登録情報!$C$7,登録データ!$I$3:$L$100,3,FALSE))","v":""},{"$f":"IF($C3=\"\",\"\",VLOOKUP(OFFSET(女子様式!$M$18,3*A3,0),登録データ!AM3:AN49,2,FALSE))","v":""},{"$f":"IF($C3=\"\",\"\",IF($B3=\"@\",\"@\",VALUE(RIGHT($C3,4))))","v":""},{"$f":"IF(女子様式!$AG24=\"\",\"\",女子様式!$AG24)","v":""},{"$f":"IF(女子様式!$AG25=\"\",\"\",女子様式!$AG25)","v":""},{"$f":"IF(女子様式!$AG26=\"\",\"\",女子様式!$AG26)","v":""}]
[3,{"$f":"IF(女子様式!$C27=\"\",\"\",IF(女子様式!$C27=\"@\",\"@\",女子様式!$C27))","v":""},{"$f":"IF(女子様式!$C27=\"\",\"\",IF($B4=\"@\",\"@\",$B4+200000000))","v":""},{"$f":"IF($C4=\"\",\"\",CONCATENATE(女子様式!$D27,\" \",\"(\",女子様式!$K27,\")\"))","v":""},"",{"$f":"IF($C4=\"\",\"\",女子様式!$G27)","v":""},{"$f":"CONCATENATE(OFFSET(女子様式!$J$18,3*A4,0),\" \",IF(LEN(OFFSET(女子様式!$K$18,A4*3,0))=0,,\"(\"),LEFT(OFFSET(女子様式!$K$18,A4*3,0),2),IF(LEN(OFFSET(女子様式!$J$18,A4*3,0))=0,,\")\"))","v":" "},"",{"$f":"IF($C4=\"\",\"\",VLOOKUP(基本登録情報!$C$7,登録データ!$I$3:$L$100,3,FALSE))","v":""},{"$f":"IF($C4=\"\",\"\",VLOOKUP(OFFSET(女子様式!$M$18,3*A4,0),登録データ!AM4:AN50,2,FALSE))","v":""},"",{"$f":"IF(女子様式!$AG27=\"\",\"\",女子様式!$AG27)","v":""},{"$f":"IF(女子様式!$AG28=\"\",\"\",女子様式!$AG28)","v":""},{"$f":"IF(女子様式!$AG29=\"\",\"\",女子様式!$AG29)","v":""}]
[4,{"$f":"IF(女子様式!$C30=\"\",\"\",IF(女子様式!$C30=\"@\",\"@\",女子様式!$C30))","v":""},{"$f":"IF(女子様式!$C30=\"\",\"\",IF($B5=\"@\",\"@\",$B5+200000000))","v":""},{"$f":"IF($C5=\"\",\"\",CONCATENATE(女子様式!$D30,\" \",\"(\",女子様式!$K30,\")\"))","v":""},"",{"$f":"IF($C5=\"\",\"\",女子様式!$G30)","v":""},{"$f":"CONCATENATE(OFFSET(女子様式!$J$18,3*A5,0),\" \",IF(LEN(OFFSET(女子様式!$K$18,A5*3,0))=0,,\"(\"),LEFT(OFFSET(女子様式!$K$18,A5*3,0),2),IF(LEN(OFFSET(女子様式!$J$18,A5*3,0))=0,,\")\"))","v":" "},"",{"$f":"IF($C5=\"\",\"\",VLOOKUP(基本登録情報!$C$7,登録データ!$I$3:$L$100,3,FALSE))","v":""},{"$f":"IF($C5=\"\",\"\",VLOOKUP(OFFSET(女子様式!$M$18,3*A5,0),登録データ!AM5:AN51,2,FALSE))","v":""},"",{"$f":"IF(女子様式!$AG30=\"\",\"\",女子様式!$AG30)","v":""},{"$f":"IF(女子様式!$AG31=\"\",\"\",女子様式!$AG31)","v":""},{"$f":"IF(女子様式!$AG32=\"\",\"\",女子様式!$AG32)","v":""}]
[5,{"$f":"IF(女子様式!$C33=\"\",\"\",IF(女子様式!$C33=\"@\",\"@\",女子様式!$C33))","v":""},{"$f":"IF(女子様式!$C33=\"\",\"\",IF($B6=\"@\",\"@\",$B6+200000000))","v":""},{"$f":"IF($C6=\"\",\"\",CONCATENATE(女子様式!$D33,\" \",\"(\",女子様式!$K33,\")\"))","v":""},"",{"$f":"IF($C6=\"\",\"\",女子様式!$G33)","v":""},{"$f":"CONCATENATE(OFFSET(女子様式!$J$18,3*A6,0),\" \",IF(LEN(OFFSET(女子様式!$K$18,A6*3,0))=0,,\"(\"),LEFT(OFFSET(女子様式!$K$18,A6*3,0),2),IF(LEN(OFFSET(女子様式!$J$18,A6*3,0))=0,,\")\"))","v":" "},"",{"$f":"IF($C6=\"\",\"\",VLOOKUP(基本登録情報!$C$7,登録データ!$I$3:$L$100,3,FALSE))","v":""},{"$f":"IF($C6=\"\",\"\",VLOOKUP(OFFSET(女子様式!$M$18,3*A6,0),登録データ!AM6:AN52,2,FALSE))","v":""},"",{"$f":"IF(女子様式!$AG33=\"\",\"\",女子様式!$AG33)","v":""},{"$f":"IF(女子様式!$AG34=\"\",\"\",女子様式!$AG34)","v":""},{"$f":"IF(女子様式!$AG35=\"\",\"\",女子様式!$AG35)","v":""}]
[6,{"$f":"IF(女子様式!$C36=\"\",\"\",IF(女子様式!$C36=\"@\",\"@\",女子様式!$C36))","v":""},{"$f":"IF(女子様式!$C36=\"\",\"\",IF($B7=\"@\",\"@\",$B7+200000000))","v":""},{"$f":"IF($C7=\"\",\"\",CONCATENATE(女子様式!$D36,\" \",\"(\",女子様式!$K36,\")\"))","v":""},"",{"$f":"IF($C7=\"\",\"\",女子様式!$G36)","v":""},{"$f":"CONCATENATE(OFFSET(女子様式!$J$18,3*A7,0),\" \",IF(LEN(OFFSET(女子様式!$K$18,A7*3,0))=0,,\"(\"),LEFT(OFFSET(女子様式!$K$18,A7*3,0),2),IF(LEN(OFFSET(女子様式!$J$18,A7*3,0))=0,,\")\"))","v":" "},"",{"$f":"IF($C7=\"\",\"\",VLOOKUP(基本登録情報!$C$7,登録データ!$I$3:$L$100,3,FALSE))","v":""},{"$f":"IF($C7=\"\",\"\",VLOOKUP(OFFSET(女子様式!$M$18,3*A7,0),登録データ!AM7:AN53,2,FALSE))","v":""},"",{"$f":"IF(女子様式!$AG36=\"\",\"\",女子様式!$AG36)","v":""},{"$f":"IF(女子様式!$AG37=\"\",\"\",女子様式!$AG37)","v":""},{"$f":"IF(女子様式!$AG38=\"\",\"\",女子様式!$AG38)","v":""}]
[7,{"$f":"IF(女子様式!$C39=\"\",\"\",IF(女子様式!$C39=\"@\",\"@\",女子様式!$C39))","v":""},{"$f":"IF(女子様式!$C39=\"\",\"\",IF($B8=\"@\",\"@\",$B8+200000000))","v":""},{"$f":"IF($C8=\"\",\"\",CONCATENATE(女子様式!$D39,\" \",\"(\",女子様式!$K39,\")\"))","v":""},"",{"$f":"IF($C8=\"\",\"\",女子様式!$G39)","v":""},{"$f":"CONCATENATE(OFFSET(女子様式!$J$18,3*A8,0),\" \",IF(LEN(OFFSET(女子様式!$K$18,A8*3,0))=0,,\"(\"),LEFT(OFFSET(女子様式!$K$18,A8*3,0),2),IF(LEN(OFFSET(女子様式!$J$18,A8*3,0))=0,,\")\"))","v":" "},"",{"$f":"IF($C8=\"\",\"\",VLOOKUP(基本登録情報!$C$7,登録データ!$I$3:$L$100,3,FALSE))","v":""},{"$f":"IF($C8=\"\",\"\",VLOOKUP(OFFSET(女子様式!$M$18,3*A8,0),登録データ!AM8:AN54,2,FALSE))","v":""},"",{"$f":"IF(女子様式!$AG39=\"\",\"\",女子様式!$AG39)","v":""},{"$f":"IF(女子様式!$AG40=\"\",\"\",女子様式!$AG40)","v":""},{"$f":"IF(女子様式!$AG41=\"\",\"\",女子様式!$AG41)","v":""}]
[8,{"$f":"IF(女子様式!$C42=\"\",\"\",IF(女子様式!$C42=\"@\",\"@\",女子様式!$C42))","v":""},{"$f":"IF(女子様式!$C42=\"\",\"\",IF($B9=\"@\",\"@\",$B9+200000000))","v":""},{"$f":"IF($C9=\"\",\"\",CONCATENATE(女子様式!$D42,\" \",\"(\",女子様式!$K42,\")\"))","v":""},"",{"$f":"IF($C9=\"\",\"\",女子様式!$G42)","v":""},{"$f":"CONCATENATE(OFFSET(女子様式!$J$18,3*A9,0),\" \",IF(LEN(OFFSET(女子様式!$K$18,A9*3,0))=0,,\"(\"),LEFT(OFFSET(女子様式!$K$18,A9*3,0),2),IF(LEN(OFFSET(女子様式!$J$18,A9*3,0))=0,,\")\"))","v":" "},"",{"$f":"IF($C9=\"\",\"\",VLOOKUP(基本登録情報!$C$7,登録データ!$I$3:$L$100,3,FALSE))","v":""},{"$f":"IF($C9=\"\",\"\",VLOOKUP(OFFSET(女子様式!$M$18,3*A9,0),登録データ!AM9:AN55,2,FALSE))","v":""},"",{"$f":"IF(女子様式!$AG42=\"\",\"\",女子様式!$AG42)","v":""},{"$f":"IF(女子様式!$AG43=\"\",\"\",女子様式!$AG43)","v":""},{"$f":"IF(女子様式!$AG44=\"\",\"\",女子様式!$AG44)","v":""}]
[9,{"$f":"IF(女子様式!$C45=\"\",\"\",IF(女子様式!$C45=\"@\",\"@\",女子様式!$C45))","v":""},{"$f":"IF(女子様式!$C45=\"\",\"\",IF($B10=\"@\",\"@\",$B10+200000000))","v":""},{"$f":"IF($C10=\"\",\"\",CONCATENATE(女子様式!$D45,\" \",\"(\",女子様式!$K45,\")\"))","v":""},"",{"$f":"IF($C10=\"\",\"\",女子様式!$G45)","v":""},{"$f":"CONCATENATE(OFFSET(女子様式!$J$18,3*A10,0),\" \",IF(LEN(OFFSET(女子様式!$K$18,A10*3,0))=0,,\"(\"),LEFT(OFFSET(女子様式!$K$18,A10*3,0),2),IF(LEN(OFFSET(女子様式!$J$18,A10*3,0))=0,,\")\"))","v":" "},"",{"$f":"IF($C10=\"\",\"\",VLOOKUP(基本登録情報!$C$7,登録データ!$I$3:$L$100,3,FALSE))","v":""},{"$f":"IF($C10=\"\",\"\",VLOOKUP(OFFSET(女子様式!$M$18,3*A10,0),登録データ!AM10:AN56,2,FALSE))","v":""},"",{"$f":"IF(女子様式!$AG45=\"\",\"\",女子様式!$AG45)","v":""},{"$f":"IF(女子様式!$AG46=\"\",\"\",女子様式!$AG46)","v":""},{"$f":"IF(女子様式!$AG47=\"\",\"\",女子様式!$AG47)","v":""}]
[10,{"$f":"IF(女子様式!$C48=\"\",\"\",IF(女子様式!$C48=\"@\",\"@\",女子様式!$C48))","v":""},{"$f":"IF(女子様式!$C48=\"\",\"\",IF($B11=\"@\",\"@\",$B11+200000000))","v":""},{"$f":"IF($C11=\"\",\"\",CONCATENATE(女子様式!$D48,\" \",\"(\",女子様式!$K48,\")\"))","v":""},"",{"$f":"IF($C11=\"\",\"\",女子様式!$G48)","v":""},{"$f":"CONCATENATE(OFFSET(女子様式!$J$18,3*A11,0),\" \",IF(LEN(OFFSET(女子様式!$K$18,A11*3,0))=0,,\"(\"),LEFT(OFFSET(女子様式!$K$18,A11*3,0),2),IF(LEN(OFFSET(女子様式!$J$18,A11*3,0))=0,,\")\"))","v":" "},"",{"$f":"IF($C11=\"\",\"\",VLOOKUP(基本登録情報!$C$7,登録データ!$I$3:$L$100,3,FALSE))","v":""},{"$f":"IF($C11=\"\",\"\",VLOOKUP(OFFSET(女子様式!$M$18,3*A11,0),登録データ!AM11:AN57,2,FALSE))","v":""},"",{"$f":"IF(女子様式!$AG48=\"\",\"\",女子様式!$AG48)","v":""},{"$f":"IF(女子様式!$AG49=\"\",\"\",女子様式!$AG49)","v":""},{"$f":"IF(女子様式!$AG50=\"\",\"\",女子様式!$AG50)","v":""}]
[11,{"$f":"IF(女子様式!$C51=\"\",\"\",IF(女子様式!$C51=\"@\",\"@\",女子様式!$C51))","v":""},{"$f":"IF(女子様式!$C51=\"\",\"\",IF($B12=\"@\",\"@\",$B12+200000000))","v":""},{"$f":"IF($C12=\"\",\"\",CONCATENATE(女子様式!$D51,\" \",\"(\",女子様式!$K51,\")\"))","v":""},"",{"$f":"IF($C12=\"\",\"\",女子様式!$G51)","v":""},{"$f":"CONCATENATE(OFFSET(女子様式!$J$18,3*A12,0),\" \",IF(LEN(OFFSET(女子様式!$K$18,A12*3,0))=0,,\"(\"),LEFT(OFFSET(女子様式!$K$18,A12*3,0),2),IF(LEN(OFFSET(女子様式!$J$18,A12*3,0))=0,,\")\"))","v":" "},"",{"$f":"IF($C12=\"\",\"\",VLOOKUP(基本登録情報!$C$7,登録データ!$I$3:$L$100,3,FALSE))","v":""},{"$f":"IF($C12=\"\",\"\",VLOOKUP(OFFSET(女子様式!$M$18,3*A12,0),登録データ!AM12:AN58,2,FALSE))","v":""},"",{"$f":"IF(女子様式!$AG51=\"\",\"\",女子様式!$AG51)","v":""},{"$f":"IF(女子様式!$AG52=\"\",\"\",女子様式!$AG52)","v":""},{"$f":"IF(女子様式!$AG53=\"\",\"\",女子様式!$AG53)","v":""}]
[12,{"$f":"IF(女子様式!$C54=\"\",\"\",IF(女子様式!$C54=\"@\",\"@\",女子様式!$C54))","v":""},{"$f":"IF(女子様式!$C54=\"\",\"\",IF($B13=\"@\",\"@\",$B13+200000000))","v":""},{"$f":"IF($C13=\"\",\"\",CONCATENATE(女子様式!$D54,\" \",\"(\",女子様式!$K54,\")\"))","v":""},"",{"$f":"IF($C13=\"\",\"\",女子様式!$G54)","v":""},{"$f":"CONCATENATE(OFFSET(女子様式!$J$18,3*A13,0),\" \",IF(LEN(OFFSET(女子様式!$K$18,A13*3,0))=0,,\"(\"),LEFT(OFFSET(女子様式!$K$18,A13*3,0),2),IF(LEN(OFFSET(女子様式!$J$18,A13*3,0))=0,,\")\"))","v":" "},"",{"$f":"IF($C13=\"\",\"\",VLOOKUP(基本登録情報!$C$7,登録データ!$I$3:$L$100,3,FALSE))","v":""},{"$f":"IF($C13=\"\",\"\",VLOOKUP(OFFSET(女子様式!$M$18,3*A13,0),登録データ!AM13:AN59,2,FALSE))","v":""},"",{"$f":"IF(女子様式!$AG54=\"\",\"\",女子様式!$AG54)","v":""},{"$f":"IF(女子様式!$AG55=\"\",\"\",女子様式!$AG55)","v":""},{"$f":"IF(女子様式!$AG56=\"\",\"\",女子様式!$AG56)","v":""}]
[13,{"$f":"IF(女子様式!$C57=\"\",\"\",IF(女子様式!$C57=\"@\",\"@\",女子様式!$C57))","v":""},{"$f":"IF(女子様式!$C57=\"\",\"\",IF($B14=\"@\",\"@\",$B14+200000000))","v":""},{"$f":"IF($C14=\"\",\"\",CONCATENATE(女子様式!$D57,\" \",\"(\",女子様式!$K57,\")\"))","v":""},"",{"$f":"IF($C14=\"\",\"\",女子様式!$G57)","v":""},{"$f":"CONCATENATE(OFFSET(女子様式!$J$18,3*A14,0),\" \",IF(LEN(OFFSET(女子様式!$K$18,A14*3,0))=0,,\"(\"),LEFT(OFFSET(女子様式!$K$18,A14*3,0),2),IF(LEN(OFFSET(女子様式!$J$18,A14*3,0))=0,,\")\"))","v":" "},"",{"$f":"IF($C14=\"\",\"\",VLOOKUP(基本登録情報!$C$7,登録データ!$I$3:$L$100,3,FALSE))","v":""},{"$f":"IF($C14=\"\",\"\",VLOOKUP(OFFSET(女子様式!$M$18,3*A14,0),登録データ!AM14:AN60,2,FALSE))","v":""},"",{"$f":"IF(女子様式!$AG57=\"\",\"\",女子様式!$AG57)","v":""},{"$f":"IF(女子様式!$AG58=\"\",\"\",女子様式!$AG58)","v":""},{"$f":"IF(女子様式!$AG59=\"\",\"\",女子様式!$AG59)","v":""}]
[14,{"$f":"IF(女子様式!$C60=\"\",\"\",IF(女子様式!$C60=\"@\",\"@\",女子様式!$C60))","v":""},{"$f":"IF(女子様式!$C60=\"\",\"\",IF($B15=\"@\",\"@\",$B15+200000000))","v":""},{"$f":"IF($C15=\"\",\"\",CONCATENATE(女子様式!$D60,\" \",\"(\",女子様式!$K60,\")\"))","v":""},"",{"$f":"IF($C15=\"\",\"\",女子様式!$G60)","v":""},{"$f":"CONCATENATE(OFFSET(女子様式!$J$18,3*A15,0),\" \",IF(LEN(OFFSET(女子様式!$K$18,A15*3,0))=0,,\"(\"),LEFT(OFFSET(女子様式!$K$18,A15*3,0),2),IF(LEN(OFFSET(女子様式!$J$18,A15*3,0))=0,,\")\"))","v":" "},"",{"$f":"IF($C15=\"\",\"\",VLOOKUP(基本登録情報!$C$7,登録データ!$I$3:$L$100,3,FALSE))","v":""},{"$f":"IF($C15=\"\",\"\",VLOOKUP(OFFSET(女子様式!$M$18,3*A15,0),登録データ!AM15:AN61,2,FALSE))","v":""},"",{"$f":"IF(女子様式!$AG60=\"\",\"\",女子様式!$AG60)","v":""},{"$f":"IF(女子様式!$AG61=\"\",\"\",女子様式!$AG61)","v":""},{"$f":"IF(女子様式!$AG62=\"\",\"\",女子様式!$AG62)","v":""}]
[15,{"$f":"IF(女子様式!$C63=\"\",\"\",IF(女子様式!$C63=\"@\",\"@\",女子様式!$C63))","v":""},{"$f":"IF(女子様式!$C63=\"\",\"\",IF($B16=\"@\",\"@\",$B16+200000000))","v":""},{"$f":"IF($C16=\"\",\"\",CONCATENATE(女子様式!$D63,\" \",\"(\",女子様式!$K63,\")\"))","v":""},"",{"$f":"IF($C16=\"\",\"\",女子様式!$G63)","v":""},{"$f":"CONCATENATE(OFFSET(女子様式!$J$18,3*A16,0),\" \",IF(LEN(OFFSET(女子様式!$K$18,A16*3,0))=0,,\"(\"),LEFT(OFFSET(女子様式!$K$18,A16*3,0),2),IF(LEN(OFFSET(女子様式!$J$18,A16*3,0))=0,,\")\"))","v":" "},"",{"$f":"IF($C16=\"\",\"\",VLOOKUP(基本登録情報!$C$7,登録データ!$I$3:$L$100,3,FALSE))","v":""},{"$f":"IF($C16=\"\",\"\",VLOOKUP(OFFSET(女子様式!$M$18,3*A16,0),登録データ!AM16:AN62,2,FALSE))","v":""},"",{"$f":"IF(女子様式!$AG63=\"\",\"\",女子様式!$AG63)","v":""},{"$f":"IF(女子様式!$AG64=\"\",\"\",女子様式!$AG64)","v":""},{"$f":"IF(女子様式!$AG65=\"\",\"\",女子様式!$AG65)","v":""}]
[16,{"$f":"IF(女子様式!$C66=\"\",\"\",IF(女子様式!$C66=\"@\",\"@\",女子様式!$C66))","v":""},{"$f":"IF(女子様式!$C66=\"\",\"\",IF($B17=\"@\",\"@\",$B17+200000000))","v":""},{"$f":"IF($C17=\"\",\"\",CONCATENATE(女子様式!$D66,\" \",\"(\",女子様式!$K66,\")\"))","v":""},"",{"$f":"IF($C17=\"\",\"\",女子様式!$G66)","v":""},{"$f":"CONCATENATE(OFFSET(女子様式!$J$18,3*A17,0),\" \",IF(LEN(OFFSET(女子様式!$K$18,A17*3,0))=0,,\"(\"),LEFT(OFFSET(女子様式!$K$18,A17*3,0),2),IF(LEN(OFFSET(女子様式!$J$18,A17*3,0))=0,,\")\"))","v":" "},"",{"$f":"IF($C17=\"\",\"\",VLOOKUP(基本登録情報!$C$7,登録データ!$I$3:$L$100,3,FALSE))","v":""},{"$f":"IF($C17=\"\",\"\",VLOOKUP(OFFSET(女子様式!$M$18,3*A17,0),登録データ!AM17:AN63,2,FALSE))","v":""},"",{"$f":"IF(女子様式!$AG66=\"\",\"\",女子様式!$AG66)","v":""},{"$f":"IF(女子様式!$AG67=\"\",\"\",女子様式!$AG67)","v":""},{"$f":"IF(女子様式!$AG68=\"\",\"\",女子様式!$AG68)","v":""}]
[17,{"$f":"IF(女子様式!$C69=\"\",\"\",IF(女子様式!$C69=\"@\",\"@\",女子様式!$C69))","v":""},{"$f":"IF(女子様式!$C69=\"\",\"\",IF($B18=\"@\",\"@\",$B18+200000000))","v":""},{"$f":"IF($C18=\"\",\"\",CONCATENATE(女子様式!$D69,\" \",\"(\",女子様式!$K69,\")\"))","v":""},"",{"$f":"IF($C18=\"\",\"\",女子様式!$G69)","v":""},{"$f":"CONCATENATE(OFFSET(女子様式!$J$18,3*A18,0),\" \",IF(LEN(OFFSET(女子様式!$K$18,A18*3,0))=0,,\"(\"),LEFT(OFFSET(女子様式!$K$18,A18*3,0),2),IF(LEN(OFFSET(女子様式!$J$18,A18*3,0))=0,,\")\"))","v":" "},"",{"$f":"IF($C18=\"\",\"\",VLOOKUP(基本登録情報!$C$7,登録データ!$I$3:$L$100,3,FALSE))","v":""},{"$f":"IF($C18=\"\",\"\",VLOOKUP(OFFSET(女子様式!$M$18,3*A18,0),登録データ!AM18:AN64,2,FALSE))","v":""},"",{"$f":"IF(女子様式!$AG69=\"\",\"\",女子様式!$AG69)","v":""},{"$f":"IF(女子様式!$AG70=\"\",\"\",女子様式!$AG70)","v":""},{"$f":"IF(女子様式!$AG71=\"\",\"\",女子様式!$AG71)","v":""}]
[18,{"$f":"IF(女子様式!$C72=\"\",\"\",IF(女子様式!$C72=\"@\",\"@\",女子様式!$C72))","v":""},{"$f":"IF(女子様式!$C72=\"\",\"\",IF($B19=\"@\",\"@\",$B19+200000000))","v":""},{"$f":"IF($C19=\"\",\"\",CONCATENATE(女子様式!$D72,\" \",\"(\",女子様式!$K72,\")\"))","v":""},"",{"$f":"IF($C19=\"\",\"\",女子様式!$G72)","v":""},{"$f":"CONCATENATE(OFFSET(女子様式!$J$18,3*A19,0),\" \",IF(LEN(OFFSET(女子様式!$K$18,A19*3,0))=0,,\"(\"),LEFT(OFFSET(女子様式!$K$18,A19*3,0),2),IF(LEN(OFFSET(女子様式!$J$18,A19*3,0))=0,,\")\"))","v":" "},"",{"$f":"IF($C19=\"\",\"\",VLOOKUP(基本登録情報!$C$7,登録データ!$I$3:$L$100,3,FALSE))","v":""},{"$f":"IF($C19=\"\",\"\",VLOOKUP(OFFSET(女子様式!$M$18,3*A19,0),登録データ!AM19:AN65,2,FALSE))","v":""},"",{"$f":"IF(女子様式!$AG72=\"\",\"\",女子様式!$AG72)","v":""},{"$f":"IF(女子様式!$AG73=\"\",\"\",女子様式!$AG73)","v":""},{"$f":"IF(女子様式!$AG74=\"\",\"\",女子様式!$AG74)","v":""}]
[19,{"$f":"IF(女子様式!$C75=\"\",\"\",IF(女子様式!$C75=\"@\",\"@\",女子様式!$C75))","v":""},{"$f":"IF(女子様式!$C75=\"\",\"\",IF($B20=\"@\",\"@\",$B20+200000000))","v":""},{"$f":"IF($C20=\"\",\"\",CONCATENATE(女子様式!$D75,\" \",\"(\",女子様式!$K75,\")\"))","v":""},"",{"$f":"IF($C20=\"\",\"\",女子様式!$G75)","v":""},{"$f":"CONCATENATE(OFFSET(女子様式!$J$18,3*A20,0),\" \",IF(LEN(OFFSET(女子様式!$K$18,A20*3,0))=0,,\"(\"),LEFT(OFFSET(女子様式!$K$18,A20*3,0),2),IF(LEN(OFFSET(女子様式!$J$18,A20*3,0))=0,,\")\"))","v":" "},"",{"$f":"IF($C20=\"\",\"\",VLOOKUP(基本登録情報!$C$7,登録データ!$I$3:$L$100,3,FALSE))","v":""},{"$f":"IF($C20=\"\",\"\",VLOOKUP(OFFSET(女子様式!$M$18,3*A20,0),登録データ!AM20:AN66,2,FALSE))","v":""},"",{"$f":"IF(女子様式!$AG75=\"\",\"\",女子様式!$AG75)","v":""},{"$f":"IF(女子様式!$AG76=\"\",\"\",女子様式!$AG76)","v":""},{"$f":"IF(女子様式!$AG77=\"\",\"\",女子様式!$AG77)","v":""}]
[20,{"$f":"IF(女子様式!$C78=\"\",\"\",IF(女子様式!$C78=\"@\",\"@\",女子様式!$C78))","v":""},{"$f":"IF(女子様式!$C78=\"\",\"\",IF($B21=\"@\",\"@\",$B21+200000000))","v":""},{"$f":"IF($C21=\"\",\"\",CONCATENATE(女子様式!$D78,\" \",\"(\",女子様式!$K78,\")\"))","v":""},"",{"$f":"IF($C21=\"\",\"\",女子様式!$G78)","v":""},{"$f":"CONCATENATE(OFFSET(女子様式!$J$18,3*A21,0),\" \",IF(LEN(OFFSET(女子様式!$K$18,A21*3,0))=0,,\"(\"),LEFT(OFFSET(女子様式!$K$18,A21*3,0),2),IF(LEN(OFFSET(女子様式!$J$18,A21*3,0))=0,,\")\"))","v":" "},"",{"$f":"IF($C21=\"\",\"\",VLOOKUP(基本登録情報!$C$7,登録データ!$I$3:$L$100,3,FALSE))","v":""},{"$f":"IF($C21=\"\",\"\",VLOOKUP(OFFSET(女子様式!$M$18,3*A21,0),登録データ!AM21:AN67,2,FALSE))","v":""},"",{"$f":"IF(女子様式!$AG78=\"\",\"\",女子様式!$AG78)","v":""},{"$f":"IF(女子様式!$AG79=\"\",\"\",女子様式!$AG79)","v":""},{"$f":"IF(女子様式!$AG80=\"\",\"\",女子様式!$AG80)","v":""}]
[21,{"$f":"IF(女子様式!$C81=\"\",\"\",IF(女子様式!$C81=\"@\",\"@\",女子様式!$C81))","v":""},{"$f":"IF(女子様式!$C81=\"\",\"\",IF($B22=\"@\",\"@\",$B22+200000000))","v":""},{"$f":"IF($C22=\"\",\"\",CONCATENATE(女子様式!$D81,\" \",\"(\",女子様式!$K81,\")\"))","v":""},"",{"$f":"IF($C22=\"\",\"\",女子様式!$G81)","v":""},{"$f":"CONCATENATE(OFFSET(女子様式!$J$18,3*A22,0),\" \",IF(LEN(OFFSET(女子様式!$K$18,A22*3,0))=0,,\"(\"),LEFT(OFFSET(女子様式!$K$18,A22*3,0),2),IF(LEN(OFFSET(女子様式!$J$18,A22*3,0))=0,,\")\"))","v":" "},"",{"$f":"IF($C22=\"\",\"\",VLOOKUP(基本登録情報!$C$7,登録データ!$I$3:$L$100,3,FALSE))","v":""},{"$f":"IF($C22=\"\",\"\",VLOOKUP(OFFSET(女子様式!$M$18,3*A22,0),登録データ!AM22:AN68,2,FALSE))","v":""},"",{"$f":"IF(女子様式!$AG81=\"\",\"\",女子様式!$AG81)","v":""},{"$f":"IF(女子様式!$AG82=\"\",\"\",女子様式!$AG82)","v":""},{"$f":"IF(女子様式!$AG83=\"\",\"\",女子様式!$AG83)","v":""}]
[22,{"$f":"IF(女子様式!$C84=\"\",\"\",IF(女子様式!$C84=\"@\",\"@\",女子様式!$C84))","v":""},{"$f":"IF(女子様式!$C84=\"\",\"\",IF($B23=\"@\",\"@\",$B23+200000000))","v":""},{"$f":"IF($C23=\"\",\"\",CONCATENATE(女子様式!$D84,\" \",\"(\",女子様式!$K84,\")\"))","v":""},"",{"$f":"IF($C23=\"\",\"\",女子様式!$G84)","v":""},{"$f":"CONCATENATE(OFFSET(女子様式!$J$18,3*A23,0),\" \",IF(LEN(OFFSET(女子様式!$K$18,A23*3,0))=0,,\"(\"),LEFT(OFFSET(女子様式!$K$18,A23*3,0),2),IF(LEN(OFFSET(女子様式!$J$18,A23*3,0))=0,,\")\"))","v":" "},"",{"$f":"IF($C23=\"\",\"\",VLOOKUP(基本登録情報!$C$7,登録データ!$I$3:$L$100,3,FALSE))","v":""},{"$f":"IF($C23=\"\",\"\",VLOOKUP(OFFSET(女子様式!$M$18,3*A23,0),登録データ!AM23:AN69,2,FALSE))","v":""},"",{"$f":"IF(女子様式!$AG84=\"\",\"\",女子様式!$AG84)","v":""},{"$f":"IF(女子様式!$AG85=\"\",\"\",女子様式!$AG85)","v":""},{"$f":"IF(女子様式!$AG86=\"\",\"\",女子様式!$AG86)","v":""}]
[23,{"$f":"IF(女子様式!$C87=\"\",\"\",IF(女子様式!$C87=\"@\",\"@\",女子様式!$C87))","v":""},{"$f":"IF(女子様式!$C87=\"\",\"\",IF($B24=\"@\",\"@\",$B24+200000000))","v":""},{"$f":"IF($C24=\"\",\"\",CONCATENATE(女子様式!$D87,\" \",\"(\",女子様式!$K87,\")\"))","v":""},"",{"$f":"IF($C24=\"\",\"\",女子様式!$G87)","v":""},{"$f":"CONCATENATE(OFFSET(女子様式!$J$18,3*A24,0),\" \",IF(LEN(OFFSET(女子様式!$K$18,A24*3,0))=0,,\"(\"),LEFT(OFFSET(女子様式!$K$18,A24*3,0),2),IF(LEN(OFFSET(女子様式!$J$18,A24*3,0))=0,,\")\"))","v":" "},"",{"$f":"IF($C24=\"\",\"\",VLOOKUP(基本登録情報!$C$7,登録データ!$I$3:$L$100,3,FALSE))","v":""},{"$f":"IF($C24=\"\",\"\",VLOOKUP(OFFSET(女子様式!$M$18,3*A24,0),登録データ!AM24:AN70,2,FALSE))","v":""},"",{"$f":"IF(女子様式!$AG87=\"\",\"\",女子様式!$AG87)","v":""},{"$f":"IF(女子様式!$AG88=\"\",\"\",女子様式!$AG88)","v":""},{"$f":"IF(女子様式!$AG89=\"\",\"\",女子様式!$AG89)","v":""}]
[24,{"$f":"IF(女子様式!$C90=\"\",\"\",IF(女子様式!$C90=\"@\",\"@\",女子様式!$C90))","v":""},{"$f":"IF(女子様式!$C90=\"\",\"\",IF($B25=\"@\",\"@\",$B25+200000000))","v":""},{"$f":"IF($C25=\"\",\"\",CONCATENATE(女子様式!$D90,\" \",\"(\",女子様式!$K90,\")\"))","v":""},"",{"$f":"IF($C25=\"\",\"\",女子様式!$G90)","v":""},{"$f":"CONCATENATE(OFFSET(女子様式!$J$18,3*A25,0),\" \",IF(LEN(OFFSET(女子様式!$K$18,A25*3,0))=0,,\"(\"),LEFT(OFFSET(女子様式!$K$18,A25*3,0),2),IF(LEN(OFFSET(女子様式!$J$18,A25*3,0))=0,,\")\"))","v":" "},"",{"$f":"IF($C25=\"\",\"\",VLOOKUP(基本登録情報!$C$7,登録データ!$I$3:$L$100,3,FALSE))","v":""},{"$f":"IF($C25=\"\",\"\",VLOOKUP(OFFSET(女子様式!$M$18,3*A25,0),登録データ!AM25:AN71,2,FALSE))","v":""},"",{"$f":"IF(女子様式!$AG90=\"\",\"\",女子様式!$AG90)","v":""},{"$f":"IF(女子様式!$AG91=\"\",\"\",女子様式!$AG91)","v":""},{"$f":"IF(女子様式!$AG92=\"\",\"\",女子様式!$AG92)","v":""}]
[25,{"$f":"IF(女子様式!$C93=\"\",\"\",IF(女子様式!$C93=\"@\",\"@\",女子様式!$C93))","v":""},{"$f":"IF(女子様式!$C93=\"\",\"\",IF($B26=\"@\",\"@\",$B26+200000000))","v":""},{"$f":"IF($C26=\"\",\"\",CONCATENATE(女子様式!$D93,\" \",\"(\",女子様式!$K93,\")\"))","v":""},"",{"$f":"IF($C26=\"\",\"\",女子様式!$G93)","v":""},{"$f":"CONCATENATE(OFFSET(女子様式!$J$18,3*A26,0),\" \",IF(LEN(OFFSET(女子様式!$K$18,A26*3,0))=0,,\"(\"),LEFT(OFFSET(女子様式!$K$18,A26*3,0),2),IF(LEN(OFFSET(女子様式!$J$18,A26*3,0))=0,,\")\"))","v":" "},"",{"$f":"IF($C26=\"\",\"\",VLOOKUP(基本登録情報!$C$7,登録データ!$I$3:$L$100,3,FALSE))","v":""},{"$f":"IF($C26=\"\",\"\",VLOOKUP(OFFSET(女子様式!$M$18,3*A26,0),登録データ!AM26:AN72,2,FALSE))","v":""},"",{"$f":"IF(女子様式!$AG93=\"\",\"\",女子様式!$AG93)","v":""},{"$f":"IF(女子様式!$AG94=\"\",\"\",女子様式!$AG94)","v":""},{"$f":"IF(女子様式!$AG95=\"\",\"\",女子様式!$AG95)","v":""}]
[26,{"$f":"IF(女子様式!$C96=\"\",\"\",IF(女子様式!$C96=\"@\",\"@\",女子様式!$C96))","v":""},{"$f":"IF(女子様式!$C96=\"\",\"\",IF($B27=\"@\",\"@\",$B27+200000000))","v":""},{"$f":"IF($C27=\"\",\"\",CONCATENATE(女子様式!$D96,\" \",\"(\",女子様式!$K96,\")\"))","v":""},"",{"$f":"IF($C27=\"\",\"\",女子様式!$G96)","v":""},{"$f":"CONCATENATE(OFFSET(女子様式!$J$18,3*A27,0),\" \",IF(LEN(OFFSET(女子様式!$K$18,A27*3,0))=0,,\"(\"),LEFT(OFFSET(女子様式!$K$18,A27*3,0),2),IF(LEN(OFFSET(女子様式!$J$18,A27*3,0))=0,,\")\"))","v":" "},"",{"$f":"IF($C27=\"\",\"\",VLOOKUP(基本登録情報!$C$7,登録データ!$I$3:$L$100,3,FALSE))","v":""},{"$f":"IF($C27=\"\",\"\",VLOOKUP(OFFSET(女子様式!$M$18,3*A27,0),登録データ!AM27:AN73,2,FALSE))","v":""},"",{"$f":"IF(女子様式!$AG96=\"\",\"\",女子様式!$AG96)","v":""},{"$f":"IF(女子様式!$AG97=\"\",\"\",女子様式!$AG97)","v":""},{"$f":"IF(女子様式!$AG98=\"\",\"\",女子様式!$AG98)","v":""}]
[27,{"$f":"IF(女子様式!$C99=\"\",\"\",IF(女子様式!$C99=\"@\",\"@\",女子様式!$C99))","v":""},{"$f":"IF(女子様式!$C99=\"\",\"\",IF($B28=\"@\",\"@\",$B28+200000000))","v":""},{"$f":"IF($C28=\"\",\"\",CONCATENATE(女子様式!$D99,\" \",\"(\",女子様式!$K99,\")\"))","v":""},"",{"$f":"IF($C28=\"\",\"\",女子様式!$G99)","v":""},{"$f":"CONCATENATE(OFFSET(女子様式!$J$18,3*A28,0),\" \",IF(LEN(OFFSET(女子様式!$K$18,A28*3,0))=0,,\"(\"),LEFT(OFFSET(女子様式!$K$18,A28*3,0),2),IF(LEN(OFFSET(女子様式!$J$18,A28*3,0))=0,,\")\"))","v":" "},"",{"$f":"IF($C28=\"\",\"\",VLOOKUP(基本登録情報!$C$7,登録データ!$I$3:$L$100,3,FALSE))","v":""},{"$f":"IF($C28=\"\",\"\",VLOOKUP(OFFSET(女子様式!$M$18,3*A28,0),登録データ!AM28:AN74,2,FALSE))","v":""},"",{"$f":"IF(女子様式!$AG99=\"\",\"\",女子様式!$AG99)","v":""},{"$f":"IF(女子様式!$AG100=\"\",\"\",女子様式!$AG100)","v":""},{"$f":"IF(女子様式!$AG101=\"\",\"\",女子様式!$AG101)","v":""}]
[28,{"$f":"IF(女子様式!$C102=\"\",\"\",IF(女子様式!$C102=\"@\",\"@\",女子様式!$C102))","v":""},{"$f":"IF(女子様式!$C102=\"\",\"\",IF($B29=\"@\",\"@\",$B29+200000000))","v":""},{"$f":"IF($C29=\"\",\"\",CONCATENATE(女子様式!$D102,\" \",\"(\",女子様式!$K102,\")\"))","v":""},"",{"$f":"IF($C29=\"\",\"\",女子様式!$G102)","v":""},{"$f":"CONCATENATE(OFFSET(女子様式!$J$18,3*A29,0),\" \",IF(LEN(OFFSET(女子様式!$K$18,A29*3,0))=0,,\"(\"),LEFT(OFFSET(女子様式!$K$18,A29*3,0),2),IF(LEN(OFFSET(女子様式!$J$18,A29*3,0))=0,,\")\"))","v":" "},"",{"$f":"IF($C29=\"\",\"\",VLOOKUP(基本登録情報!$C$7,登録データ!$I$3:$L$100,3,FALSE))","v":""},{"$f":"IF($C29=\"\",\"\",VLOOKUP(OFFSET(女子様式!$M$18,3*A29,0),登録データ!AM29:AN75,2,FALSE))","v":""},"",{"$f":"IF(女子様式!$AG102=\"\",\"\",女子様式!$AG102)","v":""},{"$f":"IF(女子様式!$AG103=\"\",\"\",女子様式!$AG103)","v":""},{"$f":"IF(女子様式!$AG104=\"\",\"\",女子様式!$AG104)","v":""}]
[29,{"$f":"IF(女子様式!$C105=\"\",\"\",IF(女子様式!$C105=\"@\",\"@\",女子様式!$C105))","v":""},{"$f":"IF(女子様式!$C105=\"\",\"\",IF($B30=\"@\",\"@\",$B30+200000000))","v":""},{"$f":"IF($C30=\"\",\"\",CONCATENATE(女子様式!$D105,\" \",\"(\",女子様式!$K105,\")\"))","v":""},"",{"$f":"IF($C30=\"\",\"\",女子様式!$G105)","v":""},{"$f":"CONCATENATE(OFFSET(女子様式!$J$18,3*A30,0),\" \",IF(LEN(OFFSET(女子様式!$K$18,A30*3,0))=0,,\"(\"),LEFT(OFFSET(女子様式!$K$18,A30*3,0),2),IF(LEN(OFFSET(女子様式!$J$18,A30*3,0))=0,,\")\"))","v":" "},"",{"$f":"IF($C30=\"\",\"\",VLOOKUP(基本登録情報!$C$7,登録データ!$I$3:$L$100,3,FALSE))","v":""},{"$f":"IF($C30=\"\",\"\",VLOOKUP(OFFSET(女子様式!$M$18,3*A30,0),登録データ!AM30:AN76,2,FALSE))","v":""},"",{"$f":"IF(女子様式!$AG105=\"\",\"\",女子様式!$AG105)","v":""},{"$f":"IF(女子様式!$AG106=\"\",\"\",女子様式!$AG106)","v":""},{"$f":"IF(女子様式!$AG107=\"\",\"\",女子様式!$AG107)","v":""}]
[30,{"$f":"IF(女子様式!$C108=\"\",\"\",IF(女子様式!$C108=\"@\",\"@\",女子様式!$C108))","v":""},{"$f":"IF(女子様式!$C108=\"\",\"\",IF($B31=\"@\",\"@\",$B31+200000000))","v":""},{"$f":"IF($C31=\"\",\"\",CONCATENATE(女子様式!$D108,\" \",\"(\",女子様式!$K108,\")\"))","v":""},"",{"$f":"IF($C31=\"\",\"\",女子様式!$G108)","v":""},{"$f":"CONCATENATE(OFFSET(女子様式!$J$18,3*A31,0),\" \",IF(LEN(OFFSET(女子様式!$K$18,A31*3,0))=0,,\"(\"),LEFT(OFFSET(女子様式!$K$18,A31*3,0),2),IF(LEN(OFFSET(女子様式!$J$18,A31*3,0))=0,,\")\"))","v":" "},"",{"$f":"IF($C31=\"\",\"\",VLOOKUP(基本登録情報!$C$7,登録データ!$I$3:$L$100,3,FALSE))","v":""},{"$f":"IF($C31=\"\",\"\",VLOOKUP(OFFSET(女子様式!$M$18,3*A31,0),登録データ!AM31:AN77,2,FALSE))","v":""},"",{"$f":"IF(女子様式!$AG108=\"\",\"\",女子様式!$AG108)","v":""},{"$f":"IF(女子様式!$AG109=\"\",\"\",女子様式!$AG109)","v":""},{"$f":"IF(女子様式!$AG110=\"\",\"\",女子様式!$AG110)","v":""}]
[31,{"$f":"IF(女子様式!$C111=\"\",\"\",IF(女子様式!$C111=\"@\",\"@\",女子様式!$C111))","v":""},{"$f":"IF(女子様式!$C111=\"\",\"\",IF($B32=\"@\",\"@\",$B32+200000000))","v":""},{"$f":"IF($C32=\"\",\"\",CONCATENATE(女子様式!$D111,\" \",\"(\",女子様式!$K111,\")\"))","v":""},"",{"$f":"IF($C32=\"\",\"\",女子様式!$G111)","v":""},{"$f":"CONCATENATE(OFFSET(女子様式!$J$18,3*A32,0),\" \",IF(LEN(OFFSET(女子様式!$K$18,A32*3,0))=0,,\"(\"),LEFT(OFFSET(女子様式!$K$18,A32*3,0),2),IF(LEN(OFFSET(女子様式!$J$18,A32*3,0))=0,,\")\"))","v":" "},"",{"$f":"IF($C32=\"\",\"\",VLOOKUP(基本登録情報!$C$7,登録データ!$I$3:$L$100,3,FALSE))","v":""},{"$f":"IF($C32=\"\",\"\",VLOOKUP(OFFSET(女子様式!$M$18,3*A32,0),登録データ!AM32:AN78,2,FALSE))","v":""},"",{"$f":"IF(女子様式!$AG111=\"\",\"\",女子様式!$AG111)","v":""},{"$f":"IF(女子様式!$AG112=\"\",\"\",女子様式!$AG112)","v":""},{"$f":"IF(女子様式!$AG113=\"\",\"\",女子様式!$AG113)","v":""}]
[32,{"$f":"IF(女子様式!$C114=\"\",\"\",IF(女子様式!$C114=\"@\",\"@\",女子様式!$C114))","v":""},{"$f":"IF(女子様式!$C114=\"\",\"\",IF($B33=\"@\",\"@\",$B33+200000000))","v":""},{"$f":"IF($C33=\"\",\"\",CONCATENATE(女子様式!$D114,\" \",\"(\",女子様式!$K114,\")\"))","v":""},"",{"$f":"IF($C33=\"\",\"\",女子様式!$G114)","v":""},{"$f":"CONCATENATE(OFFSET(女子様式!$J$18,3*A33,0),\" \",IF(LEN(OFFSET(女子様式!$K$18,A33*3,0))=0,,\"(\"),LEFT(OFFSET(女子様式!$K$18,A33*3,0),2),IF(LEN(OFFSET(女子様式!$J$18,A33*3,0))=0,,\")\"))","v":" "},"",{"$f":"IF($C33=\"\",\"\",VLOOKUP(基本登録情報!$C$7,登録データ!$I$3:$L$100,3,FALSE))","v":""},{"$f":"IF($C33=\"\",\"\",VLOOKUP(OFFSET(女子様式!$M$18,3*A33,0),登録データ!AM33:AN79,2,FALSE))","v":""},"",{"$f":"IF(女子様式!$AG114=\"\",\"\",女子様式!$AG114)","v":""},{"$f":"IF(女子様式!$AG115=\"\",\"\",女子様式!$AG115)","v":""},{"$f":"IF(女子様式!$AG116=\"\",\"\",女子様式!$AG116)","v":""}]
[33,{"$f":"IF(女子様式!$C117=\"\",\"\",IF(女子様式!$C117=\"@\",\"@\",女子様式!$C117))","v":""},{"$f":"IF(女子様式!$C117=\"\",\"\",IF($B34=\"@\",\"@\",$B34+200000000))","v":""},{"$f":"IF($C34=\"\",\"\",CONCATENATE(女子様式!$D117,\" \",\"(\",女子様式!$K117,\")\"))","v":""},"",{"$f":"IF($C34=\"\",\"\",女子様式!$G117)","v":""},{"$f":"CONCATENATE(OFFSET(女子様式!$J$18,3*A34,0),\" \",IF(LEN(OFFSET(女子様式!$K$18,A34*3,0))=0,,\"(\"),LEFT(OFFSET(女子様式!$K$18,A34*3,0),2),IF(LEN(OFFSET(女子様式!$J$18,A34*3,0))=0,,\")\"))","v":" "},"",{"$f":"IF($C34=\"\",\"\",VLOOKUP(基本登録情報!$C$7,登録データ!$I$3:$L$100,3,FALSE))","v":""},{"$f":"IF($C34=\"\",\"\",VLOOKUP(OFFSET(女子様式!$M$18,3*A34,0),登録データ!AM34:AN80,2,FALSE))","v":""},"",{"$f":"IF(女子様式!$AG117=\"\",\"\",女子様式!$AG117)","v":""},{"$f":"IF(女子様式!$AG118=\"\",\"\",女子様式!$AG118)","v":""},{"$f":"IF(女子様式!$AG119=\"\",\"\",女子様式!$AG119)","v":""}]
[34,{"$f":"IF(女子様式!$C120=\"\",\"\",IF(女子様式!$C120=\"@\",\"@\",女子様式!$C120))","v":""},{"$f":"IF(女子様式!$C120=\"\",\"\",IF($B35=\"@\",\"@\",$B35+200000000))","v":""},{"$f":"IF($C35=\"\",\"\",CONCATENATE(女子様式!$D120,\" \",\"(\",女子様式!$K120,\")\"))","v":""},"",{"$f":"IF($C35=\"\",\"\",女子様式!$G120)","v":""},{"$f":"CONCATENATE(OFFSET(女子様式!$J$18,3*A35,0),\" \",IF(LEN(OFFSET(女子様式!$K$18,A35*3,0))=0,,\"(\"),LEFT(OFFSET(女子様式!$K$18,A35*3,0),2),IF(LEN(OFFSET(女子様式!$J$18,A35*3,0))=0,,\")\"))","v":" "},"",{"$f":"IF($C35=\"\",\"\",VLOOKUP(基本登録情報!$C$7,登録データ!$I$3:$L$100,3,FALSE))","v":""},{"$f":"IF($C35=\"\",\"\",VLOOKUP(OFFSET(女子様式!$M$18,3*A35,0),登録データ!AM35:AN81,2,FALSE))","v":""},"",{"$f":"IF(女子様式!$AG120=\"\",\"\",女子様式!$AG120)","v":""},{"$f":"IF(女子様式!$AG121=\"\",\"\",女子様式!$AG121)","v":""},{"$f":"IF(女子様式!$AG122=\"\",\"\",女子様式!$AG122)","v":""}]
[35,{"$f":"IF(女子様式!$C123=\"\",\"\",IF(女子様式!$C123=\"@\",\"@\",女子様式!$C123))","v":""},{"$f":"IF(女子様式!$C123=\"\",\"\",IF($B36=\"@\",\"@\",$B36+200000000))","v":""},{"$f":"IF($C36=\"\",\"\",CONCATENATE(女子様式!$D123,\" \",\"(\",女子様式!$K123,\")\"))","v":""},"",{"$f":"IF($C36=\"\",\"\",女子様式!$G123)","v":""},{"$f":"CONCATENATE(OFFSET(女子様式!$J$18,3*A36,0),\" \",IF(LEN(OFFSET(女子様式!$K$18,A36*3,0))=0,,\"(\"),LEFT(OFFSET(女子様式!$K$18,A36*3,0),2),IF(LEN(OFFSET(女子様式!$J$18,A36*3,0))=0,,\")\"))","v":" "},"",{"$f":"IF($C36=\"\",\"\",VLOOKUP(基本登録情報!$C$7,登録データ!$I$3:$L$100,3,FALSE))","v":""},{"$f":"IF($C36=\"\",\"\",VLOOKUP(OFFSET(女子様式!$M$18,3*A36,0),登録データ!AM36:AN82,2,FALSE))","v":""},"",{"$f":"IF(女子様式!$AG123=\"\",\"\",女子様式!$AG123)","v":""},{"$f":"IF(女子様式!$AG124=\"\",\"\",女子様式!$AG124)","v":""},{"$f":"IF(女子様式!$AG125=\"\",\"\",女子様式!$AG125)","v":""}]
[36,{"$f":"IF(女子様式!$C126=\"\",\"\",IF(女子様式!$C126=\"@\",\"@\",女子様式!$C126))","v":""},{"$f":"IF(女子様式!$C126=\"\",\"\",IF($B37=\"@\",\"@\",$B37+200000000))","v":""},{"$f":"IF($C37=\"\",\"\",CONCATENATE(女子様式!$D126,\" \",\"(\",女子様式!$K126,\")\"))","v":""},"",{"$f":"IF($C37=\"\",\"\",女子様式!$G126)","v":""},{"$f":"CONCATENATE(OFFSET(女子様式!$J$18,3*A37,0),\" \",IF(LEN(OFFSET(女子様式!$K$18,A37*3,0))=0,,\"(\"),LEFT(OFFSET(女子様式!$K$18,A37*3,0),2),IF(LEN(OFFSET(女子様式!$J$18,A37*3,0))=0,,\")\"))","v":" "},"",{"$f":"IF($C37=\"\",\"\",VLOOKUP(基本登録情報!$C$7,登録データ!$I$3:$L$100,3,FALSE))","v":""},{"$f":"IF($C37=\"\",\"\",VLOOKUP(OFFSET(女子様式!$M$18,3*A37,0),登録データ!AM37:AN83,2,FALSE))","v":""},"",{"$f":"IF(女子様式!$AG126=\"\",\"\",女子様式!$AG126)","v":""},{"$f":"IF(女子様式!$AG127=\"\",\"\",女子様式!$AG127)","v":""},{"$f":"IF(女子様式!$AG128=\"\",\"\",女子様式!$AG128)","v":""}]
[37,{"$f":"IF(女子様式!$C129=\"\",\"\",IF(女子様式!$C129=\"@\",\"@\",女子様式!$C129))","v":""},{"$f":"IF(女子様式!$C129=\"\",\"\",IF($B38=\"@\",\"@\",$B38+200000000))","v":""},{"$f":"IF($C38=\"\",\"\",CONCATENATE(女子様式!$D129,\" \",\"(\",女子様式!$K129,\")\"))","v":""},"",{"$f":"IF($C38=\"\",\"\",女子様式!$G129)","v":""},{"$f":"CONCATENATE(OFFSET(女子様式!$J$18,3*A38,0),\" \",IF(LEN(OFFSET(女子様式!$K$18,A38*3,0))=0,,\"(\"),LEFT(OFFSET(女子様式!$K$18,A38*3,0),2),IF(LEN(OFFSET(女子様式!$J$18,A38*3,0))=0,,\")\"))","v":" "},"",{"$f":"IF($C38=\"\",\"\",VLOOKUP(基本登録情報!$C$7,登録データ!$I$3:$L$100,3,FALSE))","v":""},{"$f":"IF($C38=\"\",\"\",VLOOKUP(OFFSET(女子様式!$M$18,3*A38,0),登録データ!AM38:AN84,2,FALSE))","v":""},"",{"$f":"IF(女子様式!$AG129=\"\",\"\",女子様式!$AG129)","v":""},{"$f":"IF(女子様式!$AG130=\"\",\"\",女子様式!$AG130)","v":""},{"$f":"IF(女子様式!$AG131=\"\",\"\",女子様式!$AG131)","v":""}]
[38,{"$f":"IF(女子様式!$C132=\"\",\"\",IF(女子様式!$C132=\"@\",\"@\",女子様式!$C132))","v":""},{"$f":"IF(女子様式!$C132=\"\",\"\",IF($B39=\"@\",\"@\",$B39+200000000))","v":""},{"$f":"IF($C39=\"\",\"\",CONCATENATE(女子様式!$D132,\" \",\"(\",女子様式!$K132,\")\"))","v":""},"",{"$f":"IF($C39=\"\",\"\",女子様式!$G132)","v":""},{"$f":"CONCATENATE(OFFSET(女子様式!$J$18,3*A39,0),\" \",IF(LEN(OFFSET(女子様式!$K$18,A39*3,0))=0,,\"(\"),LEFT(OFFSET(女子様式!$K$18,A39*3,0),2),IF(LEN(OFFSET(女子様式!$J$18,A39*3,0))=0,,\")\"))","v":" "},"",{"$f":"IF($C39=\"\",\"\",VLOOKUP(基本登録情報!$C$7,登録データ!$I$3:$L$100,3,FALSE))","v":""},{"$f":"IF($C39=\"\",\"\",VLOOKUP(OFFSET(女子様式!$M$18,3*A39,0),登録データ!AM39:AN85,2,FALSE))","v":""},"",{"$f":"IF(女子様式!$AG132=\"\",\"\",女子様式!$AG132)","v":""},{"$f":"IF(女子様式!$AG133=\"\",\"\",女子様式!$AG133)","v":""},{"$f":"IF(女子様式!$AG134=\"\",\"\",女子様式!$AG134)","v":""}]
[39,{"$f":"IF(女子様式!$C135=\"\",\"\",IF(女子様式!$C135=\"@\",\"@\",女子様式!$C135))","v":""},{"$f":"IF(女子様式!$C135=\"\",\"\",IF($B40=\"@\",\"@\",$B40+200000000))","v":""},{"$f":"IF($C40=\"\",\"\",CONCATENATE(女子様式!$D135,\" \",\"(\",女子様式!$K135,\")\"))","v":""},"",{"$f":"IF($C40=\"\",\"\",女子様式!$G135)","v":""},{"$f":"CONCATENATE(OFFSET(女子様式!$J$18,3*A40,0),\" \",IF(LEN(OFFSET(女子様式!$K$18,A40*3,0))=0,,\"(\"),LEFT(OFFSET(女子様式!$K$18,A40*3,0),2),IF(LEN(OFFSET(女子様式!$J$18,A40*3,0))=0,,\")\"))","v":" "},"",{"$f":"IF($C40=\"\",\"\",VLOOKUP(基本登録情報!$C$7,登録データ!$I$3:$L$100,3,FALSE))","v":""},{"$f":"IF($C40=\"\",\"\",VLOOKUP(OFFSET(女子様式!$M$18,3*A40,0),登録データ!AM40:AN86,2,FALSE))","v":""},"",{"$f":"IF(女子様式!$AG135=\"\",\"\",女子様式!$AG135)","v":""},{"$f":"IF(女子様式!$AG136=\"\",\"\",女子様式!$AG136)","v":""},{"$f":"IF(女子様式!$AG137=\"\",\"\",女子様式!$AG137)","v":""}]
[40,{"$f":"IF(女子様式!$C138=\"\",\"\",IF(女子様式!$C138=\"@\",\"@\",女子様式!$C138))","v":""},{"$f":"IF(女子様式!$C138=\"\",\"\",IF($B41=\"@\",\"@\",$B41+200000000))","v":""},{"$f":"IF($C41=\"\",\"\",CONCATENATE(女子様式!$D138,\" \",\"(\",女子様式!$K138,\")\"))","v":""},"",{"$f":"IF($C41=\"\",\"\",女子様式!$G138)","v":""},{"$f":"CONCATENATE(OFFSET(女子様式!$J$18,3*A41,0),\" \",IF(LEN(OFFSET(女子様式!$K$18,A41*3,0))=0,,\"(\"),LEFT(OFFSET(女子様式!$K$18,A41*3,0),2),IF(LEN(OFFSET(女子様式!$J$18,A41*3,0))=0,,\")\"))","v":" "},"",{"$f":"IF($C41=\"\",\"\",VLOOKUP(基本登録情報!$C$7,登録データ!$I$3:$L$100,3,FALSE))","v":""},{"$f":"IF($C41=\"\",\"\",VLOOKUP(OFFSET(女子様式!$M$18,3*A41,0),登録データ!AM41:AN87,2,FALSE))","v":""},"",{"$f":"IF(女子様式!$AG138=\"\",\"\",女子様式!$AG138)","v":""},{"$f":"IF(女子様式!$AG139=\"\",\"\",女子様式!$AG139)","v":""},{"$f":"IF(女子様式!$AG140=\"\",\"\",女子様式!$AG140)","v":""}]
[41,{"$f":"IF(女子様式!$C141=\"\",\"\",IF(女子様式!$C141=\"@\",\"@\",女子様式!$C141))","v":""},{"$f":"IF(女子様式!$C141=\"\",\"\",IF($B42=\"@\",\"@\",$B42+200000000))","v":""},{"$f":"IF($C42=\"\",\"\",CONCATENATE(女子様式!$D141,\" \",\"(\",女子様式!$K141,\")\"))","v":""},"",{"$f":"IF($C42=\"\",\"\",女子様式!$G141)","v":""},{"$f":"CONCATENATE(OFFSET(女子様式!$J$18,3*A42,0),\" \",IF(LEN(OFFSET(女子様式!$K$18,A42*3,0))=0,,\"(\"),LEFT(OFFSET(女子様式!$K$18,A42*3,0),2),IF(LEN(OFFSET(女子様式!$J$18,A42*3,0))=0,,\")\"))","v":" "},"",{"$f":"IF($C42=\"\",\"\",VLOOKUP(基本登録情報!$C$7,登録データ!$I$3:$L$100,3,FALSE))","v":""},{"$f":"IF($C42=\"\",\"\",VLOOKUP(OFFSET(女子様式!$M$18,3*A42,0),登録データ!AM42:AN88,2,FALSE))","v":""},"",{"$f":"IF(女子様式!$AG141=\"\",\"\",女子様式!$AG141)","v":""},{"$f":"IF(女子様式!$AG142=\"\",\"\",女子様式!$AG142)","v":""},{"$f":"IF(女子様式!$AG143=\"\",\"\",女子様式!$AG143)","v":""}]
[42,{"$f":"IF(女子様式!$C144=\"\",\"\",IF(女子様式!$C144=\"@\",\"@\",女子様式!$C144))","v":""},{"$f":"IF(女子様式!$C144=\"\",\"\",IF($B43=\"@\",\"@\",$B43+200000000))","v":""},{"$f":"IF($C43=\"\",\"\",CONCATENATE(女子様式!$D144,\" \",\"(\",女子様式!$K144,\")\"))","v":""},"",{"$f":"IF($C43=\"\",\"\",女子様式!$G144)","v":""},{"$f":"CONCATENATE(OFFSET(女子様式!$J$18,3*A43,0),\" \",IF(LEN(OFFSET(女子様式!$K$18,A43*3,0))=0,,\"(\"),LEFT(OFFSET(女子様式!$K$18,A43*3,0),2),IF(LEN(OFFSET(女子様式!$J$18,A43*3,0))=0,,\")\"))","v":" "},"",{"$f":"IF($C43=\"\",\"\",VLOOKUP(基本登録情報!$C$7,登録データ!$I$3:$L$100,3,FALSE))","v":""},{"$f":"IF($C43=\"\",\"\",VLOOKUP(OFFSET(女子様式!$M$18,3*A43,0),登録データ!AM43:AN89,2,FALSE))","v":""},"",{"$f":"IF(女子様式!$AG144=\"\",\"\",女子様式!$AG144)","v":""},{"$f":"IF(女子様式!$AG145=\"\",\"\",女子様式!$AG145)","v":""},{"$f":"IF(女子様式!$AG146=\"\",\"\",女子様式!$AG146)","v":""}]
[43,{"$f":"IF(女子様式!$C147=\"\",\"\",IF(女子様式!$C147=\"@\",\"@\",女子様式!$C147))","v":""},{"$f":"IF(女子様式!$C147=\"\",\"\",IF($B44=\"@\",\"@\",$B44+200000000))","v":""},{"$f":"IF($C44=\"\",\"\",CONCATENATE(女子様式!$D147,\" \",\"(\",女子様式!$K147,\")\"))","v":""},"",{"$f":"IF($C44=\"\",\"\",女子様式!$G147)","v":""},{"$f":"CONCATENATE(OFFSET(女子様式!$J$18,3*A44,0),\" \",IF(LEN(OFFSET(女子様式!$K$18,A44*3,0))=0,,\"(\"),LEFT(OFFSET(女子様式!$K$18,A44*3,0),2),IF(LEN(OFFSET(女子様式!$J$18,A44*3,0))=0,,\")\"))","v":" "},"",{"$f":"IF($C44=\"\",\"\",VLOOKUP(基本登録情報!$C$7,登録データ!$I$3:$L$100,3,FALSE))","v":""},{"$f":"IF($C44=\"\",\"\",VLOOKUP(OFFSET(女子様式!$M$18,3*A44,0),登録データ!AM44:AN90,2,FALSE))","v":""},"",{"$f":"IF(女子様式!$AG147=\"\",\"\",女子様式!$AG147)","v":""},{"$f":"IF(女子様式!$AG148=\"\",\"\",女子様式!$AG148)","v":""},{"$f":"IF(女子様式!$AG149=\"\",\"\",女子様式!$AG149)","v":""}]
[44,{"$f":"IF(女子様式!$C150=\"\",\"\",IF(女子様式!$C150=\"@\",\"@\",女子様式!$C150))","v":""},{"$f":"IF(女子様式!$C150=\"\",\"\",IF($B45=\"@\",\"@\",$B45+200000000))","v":""},{"$f":"IF($C45=\"\",\"\",CONCATENATE(女子様式!$D150,\" \",\"(\",女子様式!$K150,\")\"))","v":""},"",{"$f":"IF($C45=\"\",\"\",女子様式!$G150)","v":""},{"$f":"CONCATENATE(OFFSET(女子様式!$J$18,3*A45,0),\" \",IF(LEN(OFFSET(女子様式!$K$18,A45*3,0))=0,,\"(\"),LEFT(OFFSET(女子様式!$K$18,A45*3,0),2),IF(LEN(OFFSET(女子様式!$J$18,A45*3,0))=0,,\")\"))","v":" "},"",{"$f":"IF($C45=\"\",\"\",VLOOKUP(基本登録情報!$C$7,登録データ!$I$3:$L$100,3,FALSE))","v":""},{"$f":"IF($C45=\"\",\"\",VLOOKUP(OFFSET(女子様式!$M$18,3*A45,0),登録データ!AM45:AN91,2,FALSE))","v":""},"",{"$f":"IF(女子様式!$AG150=\"\",\"\",女子様式!$AG150)","v":""},{"$f":"IF(女子様式!$AG151=\"\",\"\",女子様式!$AG151)","v":""},{"$f":"IF(女子様式!$AG152=\"\",\"\",女子様式!$AG152)","v":""}]
[45,{"$f":"IF(女子様式!$C153=\"\",\"\",IF(女子様式!$C153=\"@\",\"@\",女子様式!$C153))","v":""},{"$f":"IF(女子様式!$C153=\"\",\"\",IF($B46=\"@\",\"@\",$B46+200000000))","v":""},{"$f":"IF($C46=\"\",\"\",CONCATENATE(女子様式!$D153,\" \",\"(\",女子様式!$K153,\")\"))","v":""},"",{"$f":"IF($C46=\"\",\"\",女子様式!$G153)","v":""},{"$f":"CONCATENATE(OFFSET(女子様式!$J$18,3*A46,0),\" \",IF(LEN(OFFSET(女子様式!$K$18,A46*3,0))=0,,\"(\"),LEFT(OFFSET(女子様式!$K$18,A46*3,0),2),IF(LEN(OFFSET(女子様式!$J$18,A46*3,0))=0,,\")\"))","v":" "},"",{"$f":"IF($C46=\"\",\"\",VLOOKUP(基本登録情報!$C$7,登録データ!$I$3:$L$100,3,FALSE))","v":""},{"$f":"IF($C46=\"\",\"\",VLOOKUP(OFFSET(女子様式!$M$18,3*A46,0),登録データ!AM46:AN92,2,FALSE))","v":""},"",{"$f":"IF(女子様式!$AG153=\"\",\"\",女子様式!$AG153)","v":""},{"$f":"IF(女子様式!$AG154=\"\",\"\",女子様式!$AG154)","v":""},{"$f":"IF(女子様式!$AG155=\"\",\"\",女子様式!$AG155)","v":""}]
[46,{"$f":"IF(女子様式!$C156=\"\",\"\",IF(女子様式!$C156=\"@\",\"@\",女子様式!$C156))","v":""},{"$f":"IF(女子様式!$C156=\"\",\"\",IF($B47=\"@\",\"@\",$B47+200000000))","v":""},{"$f":"IF($C47=\"\",\"\",CONCATENATE(女子様式!$D156,\" \",\"(\",女子様式!$K156,\")\"))","v":""},"",{"$f":"IF($C47=\"\",\"\",女子様式!$G156)","v":""},{"$f":"CONCATENATE(OFFSET(女子様式!$J$18,3*A47,0),\" \",IF(LEN(OFFSET(女子様式!$K$18,A47*3,0))=0,,\"(\"),LEFT(OFFSET(女子様式!$K$18,A47*3,0),2),IF(LEN(OFFSET(女子様式!$J$18,A47*3,0))=0,,\")\"))","v":" "},"",{"$f":"IF($C47=\"\",\"\",VLOOKUP(基本登録情報!$C$7,登録データ!$I$3:$L$100,3,FALSE))","v":""},{"$f":"IF($C47=\"\",\"\",VLOOKUP(OFFSET(女子様式!$M$18,3*A47,0),登録データ!AM47:AN93,2,FALSE))","v":""},"",{"$f":"IF(女子様式!$AG156=\"\",\"\",女子様式!$AG156)","v":""},{"$f":"IF(女子様式!$AG157=\"\",\"\",女子様式!$AG157)","v":""},{"$f":"IF(女子様式!$AG158=\"\",\"\",女子様式!$AG158)","v":""}]
[47,{"$f":"IF(女子様式!$C159=\"\",\"\",IF(女子様式!$C159=\"@\",\"@\",女子様式!$C159))","v":""},{"$f":"IF(女子様式!$C159=\"\",\"\",IF($B48=\"@\",\"@\",$B48+200000000))","v":""},{"$f":"IF($C48=\"\",\"\",CONCATENATE(女子様式!$D159,\" \",\"(\",女子様式!$K159,\")\"))","v":""},"",{"$f":"IF($C48=\"\",\"\",女子様式!$G159)","v":""},{"$f":"CONCATENATE(OFFSET(女子様式!$J$18,3*A48,0),\" \",IF(LEN(OFFSET(女子様式!$K$18,A48*3,0))=0,,\"(\"),LEFT(OFFSET(女子様式!$K$18,A48*3,0),2),IF(LEN(OFFSET(女子様式!$J$18,A48*3,0))=0,,\")\"))","v":" "},"",{"$f":"IF($C48=\"\",\"\",VLOOKUP(基本登録情報!$C$7,登録データ!$I$3:$L$100,3,FALSE))","v":""},{"$f":"IF($C48=\"\",\"\",VLOOKUP(OFFSET(女子様式!$M$18,3*A48,0),登録データ!AM48:AN94,2,FALSE))","v":""},"",{"$f":"IF(女子様式!$AG159=\"\",\"\",女子様式!$AG159)","v":""},{"$f":"IF(女子様式!$AG160=\"\",\"\",女子様式!$AG160)","v":""},{"$f":"IF(女子様式!$AG161=\"\",\"\",女子様式!$AG161)","v":""}]
[48,{"$f":"IF(女子様式!$C162=\"\",\"\",IF(女子様式!$C162=\"@\",\"@\",女子様式!$C162))","v":""},{"$f":"IF(女子様式!$C162=\"\",\"\",IF($B49=\"@\",\"@\",$B49+200000000))","v":""},{"$f":"IF($C49=\"\",\"\",CONCATENATE(女子様式!$D162,\" \",\"(\",女子様式!$K162,\")\"))","v":""},"",{"$f":"IF($C49=\"\",\"\",女子様式!$G162)","v":""},{"$f":"CONCATENATE(OFFSET(女子様式!$J$18,3*A49,0),\" \",IF(LEN(OFFSET(女子様式!$K$18,A49*3,0))=0,,\"(\"),LEFT(OFFSET(女子様式!$K$18,A49*3,0),2),IF(LEN(OFFSET(女子様式!$J$18,A49*3,0))=0,,\")\"))","v":" "},"",{"$f":"IF($C49=\"\",\"\",VLOOKUP(基本登録情報!$C$7,登録データ!$I$3:$L$100,3,FALSE))","v":""},{"$f":"IF($C49=\"\",\"\",VLOOKUP(OFFSET(女子様式!$M$18,3*A49,0),登録データ!AM49:AN95,2,FALSE))","v":""},"",{"$f":"IF(女子様式!$AG162=\"\",\"\",女子様式!$AG162)","v":""},{"$f":"IF(女子様式!$AG163=\"\",\"\",女子様式!$AG163)","v":""},{"$f":"IF(女子様式!$AG164=\"\",\"\",女子様式!$AG164)","v":""}]
[49,{"$f":"IF(女子様式!$C165=\"\",\"\",IF(女子様式!$C165=\"@\",\"@\",女子様式!$C165))","v":""},{"$f":"IF(女子様式!$C165=\"\",\"\",IF($B50=\"@\",\"@\",$B50+200000000))","v":""},{"$f":"IF($C50=\"\",\"\",CONCATENATE(女子様式!$D165,\" \",\"(\",女子様式!$K165,\")\"))","v":""},"",{"$f":"IF($C50=\"\",\"\",女子様式!$G165)","v":""},{"$f":"CONCATENATE(OFFSET(女子様式!$J$18,3*A50,0),\" \",IF(LEN(OFFSET(女子様式!$K$18,A50*3,0))=0,,\"(\"),LEFT(OFFSET(女子様式!$K$18,A50*3,0),2),IF(LEN(OFFSET(女子様式!$J$18,A50*3,0))=0,,\")\"))","v":" "},"",{"$f":"IF($C50=\"\",\"\",VLOOKUP(基本登録情報!$C$7,登録データ!$I$3:$L$100,3,FALSE))","v":""},{"$f":"IF($C50=\"\",\"\",VLOOKUP(OFFSET(女子様式!$M$18,3*A50,0),登録データ!AM50:AN96,2,FALSE))","v":""},"",{"$f":"IF(女子様式!$AG165=\"\",\"\",女子様式!$AG165)","v":""},{"$f":"IF(女子様式!$AG166=\"\",\"\",女子様式!$AG166)","v":""},{"$f":"IF(女子様式!$AG167=\"\",\"\",女子様式!$AG167)","v":""}]
[50,{"$f":"IF(女子様式!$C168=\"\",\"\",IF(女子様式!$C168=\"@\",\"@\",女子様式!$C168))","v":""},{"$f":"IF(女子様式!$C168=\"\",\"\",IF($B51=\"@\",\"@\",$B51+200000000))","v":""},{"$f":"IF($C51=\"\",\"\",CONCATENATE(女子様式!$D168,\" \",\"(\",女子様式!$K168,\")\"))","v":""},"",{"$f":"IF($C51=\"\",\"\",女子様式!$G168)","v":""},{"$f":"CONCATENATE(OFFSET(女子様式!$J$18,3*A51,0),\" \",IF(LEN(OFFSET(女子様式!$K$18,A51*3,0))=0,,\"(\"),LEFT(OFFSET(女子様式!$K$18,A51*3,0),2),IF(LEN(OFFSET(女子様式!$J$18,A51*3,0))=0,,\")\"))","v":" "},"",{"$f":"IF($C51=\"\",\"\",VLOOKUP(基本登録情報!$C$7,登録データ!$I$3:$L$100,3,FALSE))","v":""},{"$f":"IF($C51=\"\",\"\",VLOOKUP(OFFSET(女子様式!$M$18,3*A51,0),登録データ!AM51:AN97,2,FALSE))","v":""},"",{"$f":"IF(女子様式!$AG168=\"\",\"\",女子様式!$AG168)","v":""},{"$f":"IF(女子様式!$AG169=\"\",\"\",女子様式!$AG169)","v":""},{"$f":"IF(女子様式!$AG170=\"\",\"\",女子様式!$AG170)","v":""}]
[51,{"$f":"IF(女子様式!$C171=\"\",\"\",IF(女子様式!$C171=\"@\",\"@\",女子様式!$C171))","v":""},{"$f":"IF(女子様式!$C171=\"\",\"\",IF($B52=\"@\",\"@\",$B52+200000000))","v":""},{"$f":"IF($C52=\"\",\"\",CONCATENATE(女子様式!$D171,\" \",\"(\",女子様式!$K171,\")\"))","v":""},"",{"$f":"IF($C52=\"\",\"\",女子様式!$G171)","v":""},{"$f":"CONCATENATE(OFFSET(女子様式!$J$18,3*A52,0),\" \",IF(LEN(OFFSET(女子様式!$K$18,A52*3,0))=0,,\"(\"),LEFT(OFFSET(女子様式!$K$18,A52*3,0),2),IF(LEN(OFFSET(女子様式!$J$18,A52*3,0))=0,,\")\"))","v":" "},"",{"$f":"IF($C52=\"\",\"\",VLOOKUP(基本登録情報!$C$7,登録データ!$I$3:$L$100,3,FALSE))","v":""},{"$f":"IF($C52=\"\",\"\",VLOOKUP(OFFSET(女子様式!$M$18,3*A52,0),登録データ!AM52:AN98,2,FALSE))","v":""},"",{"$f":"IF(女子様式!$AG171=\"\",\"\",女子様式!$AG171)","v":""},{"$f":"IF(女子様式!$AG172=\"\",\"\",女子様式!$AG172)","v":""},{"$f":"IF(女子様式!$AG173=\"\",\"\",女子様式!$AG173)","v":""}]
[52,{"$f":"IF(女子様式!$C174=\"\",\"\",IF(女子様式!$C174=\"@\",\"@\",女子様式!$C174))","v":""},{"$f":"IF(女子様式!$C174=\"\",\"\",IF($B53=\"@\",\"@\",$B53+200000000))","v":""},{"$f":"IF($C53=\"\",\"\",CONCATENATE(女子様式!$D174,\" \",\"(\",女子様式!$K174,\")\"))","v":""},"",{"$f":"IF($C53=\"\",\"\",女子様式!$G174)","v":""},{"$f":"CONCATENATE(OFFSET(女子様式!$J$18,3*A53,0),\" \",IF(LEN(OFFSET(女子様式!$K$18,A53*3,0))=0,,\"(\"),LEFT(OFFSET(女子様式!$K$18,A53*3,0),2),IF(LEN(OFFSET(女子様式!$J$18,A53*3,0))=0,,\")\"))","v":" "},"",{"$f":"IF($C53=\"\",\"\",VLOOKUP(基本登録情報!$C$7,登録データ!$I$3:$L$100,3,FALSE))","v":""},{"$f":"IF($C53=\"\",\"\",VLOOKUP(OFFSET(女子様式!$M$18,3*A53,0),登録データ!AM53:AN99,2,FALSE))","v":""},"",{"$f":"IF(女子様式!$AG174=\"\",\"\",女子様式!$AG174)","v":""},{"$f":"IF(女子様式!$AG175=\"\",\"\",女子様式!$AG175)","v":""},{"$f":"IF(女子様式!$AG176=\"\",\"\",女子様式!$AG176)","v":""}]
[53,{"$f":"IF(女子様式!$C177=\"\",\"\",IF(女子様式!$C177=\"@\",\"@\",女子様式!$C177))","v":""},{"$f":"IF(女子様式!$C177=\"\",\"\",IF($B54=\"@\",\"@\",$B54+200000000))","v":""},{"$f":"IF($C54=\"\",\"\",CONCATENATE(女子様式!$D177,\" \",\"(\",女子様式!$K177,\")\"))","v":""},"",{"$f":"IF($C54=\"\",\"\",女子様式!$G177)","v":""},{"$f":"CONCATENATE(OFFSET(女子様式!$J$18,3*A54,0),\" \",IF(LEN(OFFSET(女子様式!$K$18,A54*3,0))=0,,\"(\"),LEFT(OFFSET(女子様式!$K$18,A54*3,0),2),IF(LEN(OFFSET(女子様式!$J$18,A54*3,0))=0,,\")\"))","v":" "},"",{"$f":"IF($C54=\"\",\"\",VLOOKUP(基本登録情報!$C$7,登録データ!$I$3:$L$100,3,FALSE))","v":""},{"$f":"IF($C54=\"\",\"\",VLOOKUP(OFFSET(女子様式!$M$18,3*A54,0),登録データ!AM54:AN100,2,FALSE))","v":""},"",{"$f":"IF(女子様式!$AG177=\"\",\"\",女子様式!$AG177)","v":""},{"$f":"IF(女子様式!$AG178=\"\",\"\",女子様式!$AG178)","v":""},{"$f":"IF(女子様式!$AG179=\"\",\"\",女子様式!$AG179)","v":""}]
[54,{"$f":"IF(女子様式!$C180=\"\",\"\",IF(女子様式!$C180=\"@\",\"@\",女子様式!$C180))","v":""},{"$f":"IF(女子様式!$C180=\"\",\"\",IF($B55=\"@\",\"@\",$B55+200000000))","v":""},{"$f":"IF($C55=\"\",\"\",CONCATENATE(女子様式!$D180,\" \",\"(\",女子様式!$K180,\")\"))","v":""},"",{"$f":"IF($C55=\"\",\"\",女子様式!$G180)","v":""},{"$f":"CONCATENATE(OFFSET(女子様式!$J$18,3*A55,0),\" \",IF(LEN(OFFSET(女子様式!$K$18,A55*3,0))=0,,\"(\"),LEFT(OFFSET(女子様式!$K$18,A55*3,0),2),IF(LEN(OFFSET(女子様式!$J$18,A55*3,0))=0,,\")\"))","v":" "},"",{"$f":"IF($C55=\"\",\"\",VLOOKUP(基本登録情報!$C$7,登録データ!$I$3:$L$100,3,FALSE))","v":""},{"$f":"IF($C55=\"\",\"\",VLOOKUP(OFFSET(女子様式!$M$18,3*A55,0),登録データ!AM55:AN101,2,FALSE))","v":""},"",{"$f":"IF(女子様式!$AG180=\"\",\"\",女子様式!$AG180)","v":""},{"$f":"IF(女子様式!$AG181=\"\",\"\",女子様式!$AG181)","v":""},{"$f":"IF(女子様式!$AG182=\"\",\"\",女子様式!$AG182)","v":""}]
[55,{"$f":"IF(女子様式!$C183=\"\",\"\",IF(女子様式!$C183=\"@\",\"@\",女子様式!$C183))","v":""},{"$f":"IF(女子様式!$C183=\"\",\"\",IF($B56=\"@\",\"@\",$B56+200000000))","v":""},{"$f":"IF($C56=\"\",\"\",CONCATENATE(女子様式!$D183,\" \",\"(\",女子様式!$K183,\")\"))","v":""},"",{"$f":"IF($C56=\"\",\"\",女子様式!$G183)","v":""},{"$f":"CONCATENATE(OFFSET(女子様式!$J$18,3*A56,0),\" \",IF(LEN(OFFSET(女子様式!$K$18,A56*3,0))=0,,\"(\"),LEFT(OFFSET(女子様式!$K$18,A56*3,0),2),IF(LEN(OFFSET(女子様式!$J$18,A56*3,0))=0,,\")\"))","v":" "},"",{"$f":"IF($C56=\"\",\"\",VLOOKUP(基本登録情報!$C$7,登録データ!$I$3:$L$100,3,FALSE))","v":""},{"$f":"IF($C56=\"\",\"\",VLOOKUP(OFFSET(女子様式!$M$18,3*A56,0),登録データ!AM56:AN102,2,FALSE))","v":""},"",{"$f":"IF(女子様式!$AG183=\"\",\"\",女子様式!$AG183)","v":""},{"$f":"IF(女子様式!$AG184=\"\",\"\",女子様式!$AG184)","v":""},{"$f":"IF(女子様式!$AG185=\"\",\"\",女子様式!$AG185)","v":""}]
[56,{"$f":"IF(女子様式!$C186=\"\",\"\",IF(女子様式!$C186=\"@\",\"@\",女子様式!$C186))","v":""},{"$f":"IF(女子様式!$C186=\"\",\"\",IF($B57=\"@\",\"@\",$B57+200000000))","v":""},{"$f":"IF($C57=\"\",\"\",CONCATENATE(女子様式!$D186,\" \",\"(\",女子様式!$K186,\")\"))","v":""},"",{"$f":"IF($C57=\"\",\"\",女子様式!$G186)","v":""},{"$f":"CONCATENATE(OFFSET(女子様式!$J$18,3*A57,0),\" \",IF(LEN(OFFSET(女子様式!$K$18,A57*3,0))=0,,\"(\"),LEFT(OFFSET(女子様式!$K$18,A57*3,0),2),IF(LEN(OFFSET(女子様式!$J$18,A57*3,0))=0,,\")\"))","v":" "},"",{"$f":"IF($C57=\"\",\"\",VLOOKUP(基本登録情報!$C$7,登録データ!$I$3:$L$100,3,FALSE))","v":""},{"$f":"IF($C57=\"\",\"\",VLOOKUP(OFFSET(女子様式!$M$18,3*A57,0),登録データ!AM57:AN103,2,FALSE))","v":""},"",{"$f":"IF(女子様式!$AG186=\"\",\"\",女子様式!$AG186)","v":""},{"$f":"IF(女子様式!$AG187=\"\",\"\",女子様式!$AG187)","v":""},{"$f":"IF(女子様式!$AG188=\"\",\"\",女子様式!$AG188)","v":""}]
[57,{"$f":"IF(女子様式!$C189=\"\",\"\",IF(女子様式!$C189=\"@\",\"@\",女子様式!$C189))","v":""},{"$f":"IF(女子様式!$C189=\"\",\"\",IF($B58=\"@\",\"@\",$B58+200000000))","v":""},{"$f":"IF($C58=\"\",\"\",CONCATENATE(女子様式!$D189,\" \",\"(\",女子様式!$K189,\")\"))","v":""},"",{"$f":"IF($C58=\"\",\"\",女子様式!$G189)","v":""},{"$f":"CONCATENATE(OFFSET(女子様式!$J$18,3*A58,0),\" \",IF(LEN(OFFSET(女子様式!$K$18,A58*3,0))=0,,\"(\"),LEFT(OFFSET(女子様式!$K$18,A58*3,0),2),IF(LEN(OFFSET(女子様式!$J$18,A58*3,0))=0,,\")\"))","v":" "},"",{"$f":"IF($C58=\"\",\"\",VLOOKUP(基本登録情報!$C$7,登録データ!$I$3:$L$100,3,FALSE))","v":""},{"$f":"IF($C58=\"\",\"\",VLOOKUP(OFFSET(女子様式!$M$18,3*A58,0),登録データ!AM58:AN104,2,FALSE))","v":""},"",{"$f":"IF(女子様式!$AG189=\"\",\"\",女子様式!$AG189)","v":""},{"$f":"IF(女子様式!$AG190=\"\",\"\",女子様式!$AG190)","v":""},{"$f":"IF(女子様式!$AG191=\"\",\"\",女子様式!$AG191)","v":""}]
[58,{"$f":"IF(女子様式!$C192=\"\",\"\",IF(女子様式!$C192=\"@\",\"@\",女子様式!$C192))","v":""},{"$f":"IF(女子様式!$C192=\"\",\"\",IF($B59=\"@\",\"@\",$B59+200000000))","v":""},{"$f":"IF($C59=\"\",\"\",CONCATENATE(女子様式!$D192,\" \",\"(\",女子様式!$K192,\")\"))","v":""},"",{"$f":"IF($C59=\"\",\"\",女子様式!$G192)","v":""},{"$f":"CONCATENATE(OFFSET(女子様式!$J$18,3*A59,0),\" \",IF(LEN(OFFSET(女子様式!$K$18,A59*3,0))=0,,\"(\"),LEFT(OFFSET(女子様式!$K$18,A59*3,0),2),IF(LEN(OFFSET(女子様式!$J$18,A59*3,0))=0,,\")\"))","v":" "},"",{"$f":"IF($C59=\"\",\"\",VLOOKUP(基本登録情報!$C$7,登録データ!$I$3:$L$100,3,FALSE))","v":""},{"$f":"IF($C59=\"\",\"\",VLOOKUP(OFFSET(女子様式!$M$18,3*A59,0),登録データ!AM59:AN105,2,FALSE))","v":""},"",{"$f":"IF(女子様式!$AG192=\"\",\"\",女子様式!$AG192)","v":""},{"$f":"IF(女子様式!$AG193=\"\",\"\",女子様式!$AG193)","v":""},{"$f":"IF(女子様式!$AG194=\"\",\"\",女子様式!$AG194)","v":""}]
[59,{"$f":"IF(女子様式!$C195=\"\",\"\",IF(女子様式!$C195=\"@\",\"@\",女子様式!$C195))","v":""},{"$f":"IF(女子様式!$C195=\"\",\"\",IF($B60=\"@\",\"@\",$B60+200000000))","v":""},{"$f":"IF($C60=\"\",\"\",CONCATENATE(女子様式!$D195,\" \",\"(\",女子様式!$K195,\")\"))","v":""},"",{"$f":"IF($C60=\"\",\"\",女子様式!$G195)","v":""},{"$f":"CONCATENATE(OFFSET(女子様式!$J$18,3*A60,0),\" \",IF(LEN(OFFSET(女子様式!$K$18,A60*3,0))=0,,\"(\"),LEFT(OFFSET(女子様式!$K$18,A60*3,0),2),IF(LEN(OFFSET(女子様式!$J$18,A60*3,0))=0,,\")\"))","v":" "},"",{"$f":"IF($C60=\"\",\"\",VLOOKUP(基本登録情報!$C$7,登録データ!$I$3:$L$100,3,FALSE))","v":""},{"$f":"IF($C60=\"\",\"\",VLOOKUP(OFFSET(女子様式!$M$18,3*A60,0),登録データ!AM60:AN106,2,FALSE))","v":""},"",{"$f":"IF(女子様式!$AG195=\"\",\"\",女子様式!$AG195)","v":""},{"$f":"IF(女子様式!$AG196=\"\",\"\",女子様式!$AG196)","v":""},{"$f":"IF(女子様式!$AG197=\"\",\"\",女子様式!$AG197)","v":""}]
[60,{"$f":"IF(女子様式!$C198=\"\",\"\",IF(女子様式!$C198=\"@\",\"@\",女子様式!$C198))","v":""},{"$f":"IF(女子様式!$C198=\"\",\"\",IF($B61=\"@\",\"@\",$B61+200000000))","v":""},{"$f":"IF($C61=\"\",\"\",CONCATENATE(女子様式!$D198,\" \",\"(\",女子様式!$K198,\")\"))","v":""},"",{"$f":"IF($C61=\"\",\"\",女子様式!$G198)","v":""},{"$f":"CONCATENATE(OFFSET(女子様式!$J$18,3*A61,0),\" \",IF(LEN(OFFSET(女子様式!$K$18,A61*3,0))=0,,\"(\"),LEFT(OFFSET(女子様式!$K$18,A61*3,0),2),IF(LEN(OFFSET(女子様式!$J$18,A61*3,0))=0,,\")\"))","v":" "},"",{"$f":"IF($C61=\"\",\"\",VLOOKUP(基本登録情報!$C$7,登録データ!$I$3:$L$100,3,FALSE))","v":""},{"$f":"IF($C61=\"\",\"\",VLOOKUP(OFFSET(女子様式!$M$18,3*A61,0),登録データ!AM61:AN107,2,FALSE))","v":""},"",{"$f":"IF(女子様式!$AG198=\"\",\"\",女子様式!$AG198)","v":""},{"$f":"IF(女子様式!$AG199=\"\",\"\",女子様式!$AG199)","v":""},{"$f":"IF(女子様式!$AG200=\"\",\"\",女子様式!$AG200)","v":""}]
[61,{"$f":"IF(女子様式!$C201=\"\",\"\",IF(女子様式!$C201=\"@\",\"@\",女子様式!$C201))","v":""},{"$f":"IF(女子様式!$C201=\"\",\"\",IF($B62=\"@\",\"@\",$B62+200000000))","v":""},{"$f":"IF($C62=\"\",\"\",CONCATENATE(女子様式!$D201,\" \",\"(\",女子様式!$K201,\")\"))","v":""},"",{"$f":"IF($C62=\"\",\"\",女子様式!$G201)","v":""},{"$f":"CONCATENATE(OFFSET(女子様式!$J$18,3*A62,0),\" \",IF(LEN(OFFSET(女子様式!$K$18,A62*3,0))=0,,\"(\"),LEFT(OFFSET(女子様式!$K$18,A62*3,0),2),IF(LEN(OFFSET(女子様式!$J$18,A62*3,0))=0,,\")\"))","v":" "},"",{"$f":"IF($C62=\"\",\"\",VLOOKUP(基本登録情報!$C$7,登録データ!$I$3:$L$100,3,FALSE))","v":""},{"$f":"IF($C62=\"\",\"\",VLOOKUP(OFFSET(女子様式!$M$18,3*A62,0),登録データ!AM62:AN108,2,FALSE))","v":""},"",{"$f":"IF(女子様式!$AG201=\"\",\"\",女子様式!$AG201)","v":""},{"$f":"IF(女子様式!$AG202=\"\",\"\",女子様式!$AG202)","v":""},{"$f":"IF(女子様式!$AG203=\"\",\"\",女子様式!$AG203)","v":""}]
[62,{"$f":"IF(女子様式!$C204=\"\",\"\",IF(女子様式!$C204=\"@\",\"@\",女子様式!$C204))","v":""},{"$f":"IF(女子様式!$C204=\"\",\"\",IF($B63=\"@\",\"@\",$B63+200000000))","v":""},{"$f":"IF($C63=\"\",\"\",CONCATENATE(女子様式!$D204,\" \",\"(\",女子様式!$K204,\")\"))","v":""},"",{"$f":"IF($C63=\"\",\"\",女子様式!$G204)","v":""},{"$f":"CONCATENATE(OFFSET(女子様式!$J$18,3*A63,0),\" \",IF(LEN(OFFSET(女子様式!$K$18,A63*3,0))=0,,\"(\"),LEFT(OFFSET(女子様式!$K$18,A63*3,0),2),IF(LEN(OFFSET(女子様式!$J$18,A63*3,0))=0,,\")\"))","v":" "},"",{"$f":"IF($C63=\"\",\"\",VLOOKUP(基本登録情報!$C$7,登録データ!$I$3:$L$100,3,FALSE))","v":""},{"$f":"IF($C63=\"\",\"\",VLOOKUP(OFFSET(女子様式!$M$18,3*A63,0),登録データ!AM63:AN109,2,FALSE))","v":""},"",{"$f":"IF(女子様式!$AG204=\"\",\"\",女子様式!$AG204)","v":""},{"$f":"IF(女子様式!$AG205=\"\",\"\",女子様式!$AG205)","v":""},{"$f":"IF(女子様式!$AG206=\"\",\"\",女子様式!$AG206)","v":""}]
[63,{"$f":"IF(女子様式!$C207=\"\",\"\",IF(女子様式!$C207=\"@\",\"@\",女子様式!$C207))","v":""},{"$f":"IF(女子様式!$C207=\"\",\"\",IF($B64=\"@\",\"@\",$B64+200000000))","v":""},{"$f":"IF($C64=\"\",\"\",CONCATENATE(女子様式!$D207,\" \",\"(\",女子様式!$K207,\")\"))","v":""},"",{"$f":"IF($C64=\"\",\"\",女子様式!$G207)","v":""},{"$f":"CONCATENATE(OFFSET(女子様式!$J$18,3*A64,0),\" \",IF(LEN(OFFSET(女子様式!$K$18,A64*3,0))=0,,\"(\"),LEFT(OFFSET(女子様式!$K$18,A64*3,0),2),IF(LEN(OFFSET(女子様式!$J$18,A64*3,0))=0,,\")\"))","v":" "},"",{"$f":"IF($C64=\"\",\"\",VLOOKUP(基本登録情報!$C$7,登録データ!$I$3:$L$100,3,FALSE))","v":""},{"$f":"IF($C64=\"\",\"\",VLOOKUP(OFFSET(女子様式!$M$18,3*A64,0),登録データ!AM64:AN110,2,FALSE))","v":""},"",{"$f":"IF(女子様式!$AG207=\"\",\"\",女子様式!$AG207)","v":""},{"$f":"IF(女子様式!$AG208=\"\",\"\",女子様式!$AG208)","v":""},{"$f":"IF(女子様式!$AG209=\"\",\"\",女子様式!$AG209)","v":""}]
[64,{"$f":"IF(女子様式!$C210=\"\",\"\",IF(女子様式!$C210=\"@\",\"@\",女子様式!$C210))","v":""},{"$f":"IF(女子様式!$C210=\"\",\"\",IF($B65=\"@\",\"@\",$B65+200000000))","v":""},{"$f":"IF($C65=\"\",\"\",CONCATENATE(女子様式!$D210,\" \",\"(\",女子様式!$K210,\")\"))","v":""},"",{"$f":"IF($C65=\"\",\"\",女子様式!$G210)","v":""},{"$f":"CONCATENATE(OFFSET(女子様式!$J$18,3*A65,0),\" \",IF(LEN(OFFSET(女子様式!$K$18,A65*3,0))=0,,\"(\"),LEFT(OFFSET(女子様式!$K$18,A65*3,0),2),IF(LEN(OFFSET(女子様式!$J$18,A65*3,0))=0,,\")\"))","v":" "},"",{"$f":"IF($C65=\"\",\"\",VLOOKUP(基本登録情報!$C$7,登録データ!$I$3:$L$100,3,FALSE))","v":""},{"$f":"IF($C65=\"\",\"\",VLOOKUP(OFFSET(女子様式!$M$18,3*A65,0),登録データ!AM65:AN111,2,FALSE))","v":""},"",{"$f":"IF(女子様式!$AG210=\"\",\"\",女子様式!$AG210)","v":""},{"$f":"IF(女子様式!$AG211=\"\",\"\",女子様式!$AG211)","v":""},{"$f":"IF(女子様式!$AG212=\"\",\"\",女子様式!$AG212)","v":""}]
[65,{"$f":"IF(女子様式!$C213=\"\",\"\",IF(女子様式!$C213=\"@\",\"@\",女子様式!$C213))","v":""},{"$f":"IF(女子様式!$C213=\"\",\"\",IF($B66=\"@\",\"@\",$B66+200000000))","v":""},{"$f":"IF($C66=\"\",\"\",CONCATENATE(女子様式!$D213,\" \",\"(\",女子様式!$K213,\")\"))","v":""},"",{"$f":"IF($C66=\"\",\"\",女子様式!$G213)","v":""},{"$f":"CONCATENATE(OFFSET(女子様式!$J$18,3*A66,0),\" \",IF(LEN(OFFSET(女子様式!$K$18,A66*3,0))=0,,\"(\"),LEFT(OFFSET(女子様式!$K$18,A66*3,0),2),IF(LEN(OFFSET(女子様式!$J$18,A66*3,0))=0,,\")\"))","v":" "},"",{"$f":"IF($C66=\"\",\"\",VLOOKUP(基本登録情報!$C$7,登録データ!$I$3:$L$100,3,FALSE))","v":""},{"$f":"IF($C66=\"\",\"\",VLOOKUP(OFFSET(女子様式!$M$18,3*A66,0),登録データ!AM66:AN112,2,FALSE))","v":""},"",{"$f":"IF(女子様式!$AG213=\"\",\"\",女子様式!$AG213)","v":""},{"$f":"IF(女子様式!$AG214=\"\",\"\",女子様式!$AG214)","v":""},{"$f":"IF(女子様式!$AG215=\"\",\"\",女子様式!$AG215)","v":""}]
[66,{"$f":"IF(女子様式!$C216=\"\",\"\",IF(女子様式!$C216=\"@\",\"@\",女子様式!$C216))","v":""},{"$f":"IF(女子様式!$C216=\"\",\"\",IF($B67=\"@\",\"@\",$B67+200000000))","v":""},{"$f":"IF($C67=\"\",\"\",CONCATENATE(女子様式!$D216,\" \",\"(\",女子様式!$K216,\")\"))","v":""},{"$f":"IF(D67=\"\",\"\",LEFT(D67,FIND(\"(\",D67)-1))","v":""},{"$f":"IF($C67=\"\",\"\",女子様式!$G216)","v":""},{"$f":"CONCATENATE(OFFSET(女子様式!$J$18,3*A67,0),\" \",IF(LEN(OFFSET(女子様式!$K$18,A67*3,0))=0,,\"(\"),LEFT(OFFSET(女子様式!$K$18,A67*3,0),2),IF(LEN(OFFSET(女子様式!$J$18,A67*3,0))=0,,\")\"))","v":" "},{"$f":"IF($C67=\"\",\"\",2)","v":""},{"$f":"IF($C67=\"\",\"\",VLOOKUP(基本登録情報!$C$7,登録データ!$I$3:$L$100,3,FALSE))","v":""},{"$f":"IF($C67=\"\",\"\",VLOOKUP(OFFSET(女子様式!$M$18,3*A67,0),登録データ!AM67:AN113,2,FALSE))","v":""},{"$f":"IF($C67=\"\",\"\",IF($B67=\"@\",\"@\",VALUE(RIGHT($C67,4))))","v":""},{"$f":"IF(女子様式!$AG216=\"\",\"\",女子様式!$AG216)","v":""},{"$f":"IF(女子様式!$AG217=\"\",\"\",女子様式!$AG217)","v":""},{"$f":"IF(女子様式!$AG218=\"\",\"\",女子様式!$AG218)","v":""}]
[67,{"$f":"IF(女子様式!$C219=\"\",\"\",IF(女子様式!$C219=\"@\",\"@\",女子様式!$C219))","v":""},{"$f":"IF(女子様式!$C219=\"\",\"\",IF($B68=\"@\",\"@\",$B68+200000000))","v":""},{"$f":"IF($C68=\"\",\"\",CONCATENATE(女子様式!$D219,\" \",\"(\",女子様式!$K219,\")\"))","v":""},"",{"$f":"IF($C68=\"\",\"\",女子様式!$G219)","v":""},{"$f":"CONCATENATE(OFFSET(女子様式!$J$18,3*A68,0),\" \",IF(LEN(OFFSET(女子様式!$K$18,A68*3,0))=0,,\"(\"),LEFT(OFFSET(女子様式!$K$18,A68*3,0),2),IF(LEN(OFFSET(女子様式!$J$18,A68*3,0))=0,,\")\"))","v":" "},"",{"$f":"IF($C68=\"\",\"\",VLOOKUP(基本登録情報!$C$7,登録データ!$I$3:$L$100,3,FALSE))","v":""},{"$f":"IF($C68=\"\",\"\",VLOOKUP(OFFSET(女子様式!$M$18,3*A68,0),登録データ!AM68:AN114,2,FALSE))","v":""},"",{"$f":"IF(女子様式!$AG219=\"\",\"\",女子様式!$AG219)","v":""},{"$f":"IF(女子様式!$AG220=\"\",\"\",女子様式!$AG220)","v":""},{"$f":"IF(女子様式!$AG221=\"\",\"\",女子様式!$AG221)","v":""}]
[68,{"$f":"IF(女子様式!$C222=\"\",\"\",IF(女子様式!$C222=\"@\",\"@\",女子様式!$C222))","v":""},{"$f":"IF(女子様式!$C222=\"\",\"\",IF($B69=\"@\",\"@\",$B69+200000000))","v":""},{"$f":"IF($C69=\"\",\"\",CONCATENATE(女子様式!$D222,\" \",\"(\",女子様式!$K222,\")\"))","v":""},"",{"$f":"IF($C69=\"\",\"\",女子様式!$G222)","v":""},{"$f":"CONCATENATE(OFFSET(女子様式!$J$18,3*A69,0),\" \",IF(LEN(OFFSET(女子様式!$K$18,A69*3,0))=0,,\"(\"),LEFT(OFFSET(女子様式!$K$18,A69*3,0),2),IF(LEN(OFFSET(女子様式!$J$18,A69*3,0))=0,,\")\"))","v":" "},"",{"$f":"IF($C69=\"\",\"\",VLOOKUP(基本登録情報!$C$7,登録データ!$I$3:$L$100,3,FALSE))","v":""},{"$f":"IF($C69=\"\",\"\",VLOOKUP(OFFSET(女子様式!$M$18,3*A69,0),登録データ!AM69:AN115,2,FALSE))","v":""},"",{"$f":"IF(女子様式!$AG222=\"\",\"\",女子様式!$AG222)","v":""},{"$f":"IF(女子様式!$AG223=\"\",\"\",女子様式!$AG223)","v":""},{"$f":"IF(女子様式!$AG224=\"\",\"\",女子様式!$AG224)","v":""}]
[69,{"$f":"IF(女子様式!$C225=\"\",\"\",IF(女子様式!$C225=\"@\",\"@\",女子様式!$C225))","v":""},{"$f":"IF(女子様式!$C225=\"\",\"\",IF($B70=\"@\",\"@\",$B70+200000000))","v":""},{"$f":"IF($C70=\"\",\"\",CONCATENATE(女子様式!$D225,\" \",\"(\",女子様式!$K225,\")\"))","v":""},"",{"$f":"IF($C70=\"\",\"\",女子様式!$G225)","v":""},{"$f":"CONCATENATE(OFFSET(女子様式!$J$18,3*A70,0),\" \",IF(LEN(OFFSET(女子様式!$K$18,A70*3,0))=0,,\"(\"),LEFT(OFFSET(女子様式!$K$18,A70*3,0),2),IF(LEN(OFFSET(女子様式!$J$18,A70*3,0))=0,,\")\"))","v":" "},"",{"$f":"IF($C70=\"\",\"\",VLOOKUP(基本登録情報!$C$7,登録データ!$I$3:$L$100,3,FALSE))","v":""},{"$f":"IF($C70=\"\",\"\",VLOOKUP(OFFSET(女子様式!$M$18,3*A70,0),登録データ!AM70:AN116,2,FALSE))","v":""},"",{"$f":"IF(女子様式!$AG225=\"\",\"\",女子様式!$AG225)","v":""},{"$f":"IF(女子様式!$AG226=\"\",\"\",女子様式!$AG226)","v":""},{"$f":"IF(女子様式!$AG227=\"\",\"\",女子様式!$AG227)","v":""}]
[70,{"$f":"IF(女子様式!$C228=\"\",\"\",IF(女子様式!$C228=\"@\",\"@\",女子様式!$C228))","v":""},{"$f":"IF(女子様式!$C228=\"\",\"\",IF($B71=\"@\",\"@\",$B71+200000000))","v":""},{"$f":"IF($C71=\"\",\"\",CONCATENATE(女子様式!$D228,\" \",\"(\",女子様式!$K228,\")\"))","v":""},"",{"$f":"IF($C71=\"\",\"\",女子様式!$G228)","v":""},{"$f":"CONCATENATE(OFFSET(女子様式!$J$18,3*A71,0),\" \",IF(LEN(OFFSET(女子様式!$K$18,A71*3,0))=0,,\"(\"),LEFT(OFFSET(女子様式!$K$18,A71*3,0),2),IF(LEN(OFFSET(女子様式!$J$18,A71*3,0))=0,,\")\"))","v":" "},"",{"$f":"IF($C71=\"\",\"\",VLOOKUP(基本登録情報!$C$7,登録データ!$I$3:$L$100,3,FALSE))","v":""},{"$f":"IF($C71=\"\",\"\",VLOOKUP(OFFSET(女子様式!$M$18,3*A71,0),登録データ!AM71:AN117,2,FALSE))","v":""},"",{"$f":"IF(女子様式!$AG228=\"\",\"\",女子様式!$AG228)","v":""},{"$f":"IF(女子様式!$AG229=\"\",\"\",女子様式!$AG229)","v":""},{"$f":"IF(女子様式!$AG230=\"\",\"\",女子様式!$AG230)","v":""}]
[71,{"$f":"IF(女子様式!$C231=\"\",\"\",IF(女子様式!$C231=\"@\",\"@\",女子様式!$C231))","v":""},{"$f":"IF(女子様式!$C231=\"\",\"\",IF($B72=\"@\",\"@\",$B72+200000000))","v":""},{"$f":"IF($C72=\"\",\"\",CONCATENATE(女子様式!$D231,\" \",\"(\",女子様式!$K231,\")\"))","v":""},"",{"$f":"IF($C72=\"\",\"\",女子様式!$G231)","v":""},{"$f":"CONCATENATE(OFFSET(女子様式!$J$18,3*A72,0),\" \",IF(LEN(OFFSET(女子様式!$K$18,A72*3,0))=0,,\"(\"),LEFT(OFFSET(女子様式!$K$18,A72*3,0),2),IF(LEN(OFFSET(女子様式!$J$18,A72*3,0))=0,,\")\"))","v":" "},"",{"$f":"IF($C72=\"\",\"\",VLOOKUP(基本登録情報!$C$7,登録データ!$I$3:$L$100,3,FALSE))","v":""},{"$f":"IF($C72=\"\",\"\",VLOOKUP(OFFSET(女子様式!$M$18,3*A72,0),登録データ!AM72:AN118,2,FALSE))","v":""},"",{"$f":"IF(女子様式!$AG231=\"\",\"\",女子様式!$AG231)","v":""},{"$f":"IF(女子様式!$AG232=\"\",\"\",女子様式!$AG232)","v":""},{"$f":"IF(女子様式!$AG233=\"\",\"\",女子様式!$AG233)","v":""}]
[72,{"$f":"IF(女子様式!$C234=\"\",\"\",IF(女子様式!$C234=\"@\",\"@\",女子様式!$C234))","v":""},{"$f":"IF(女子様式!$C234=\"\",\"\",IF($B73=\"@\",\"@\",$B73+200000000))","v":""},{"$f":"IF($C73=\"\",\"\",CONCATENATE(女子様式!$D234,\" \",\"(\",女子様式!$K234,\")\"))","v":""},"",{"$f":"IF($C73=\"\",\"\",女子様式!$G234)","v":""},{"$f":"CONCATENATE(OFFSET(女子様式!$J$18,3*A73,0),\" \",IF(LEN(OFFSET(女子様式!$K$18,A73*3,0))=0,,\"(\"),LEFT(OFFSET(女子様式!$K$18,A73*3,0),2),IF(LEN(OFFSET(女子様式!$J$18,A73*3,0))=0,,\")\"))","v":" "},"",{"$f":"IF($C73=\"\",\"\",VLOOKUP(基本登録情報!$C$7,登録データ!$I$3:$L$100,3,FALSE))","v":""},{"$f":"IF($C73=\"\",\"\",VLOOKUP(OFFSET(女子様式!$M$18,3*A73,0),登録データ!AM73:AN119,2,FALSE))","v":""},"",{"$f":"IF(女子様式!$AG234=\"\",\"\",女子様式!$AG234)","v":""},{"$f":"IF(女子様式!$AG235=\"\",\"\",女子様式!$AG235)","v":""},{"$f":"IF(女子様式!$AG236=\"\",\"\",女子様式!$AG236)","v":""}]
[73,{"$f":"IF(女子様式!$C237=\"\",\"\",IF(女子様式!$C237=\"@\",\"@\",女子様式!$C237))","v":""},{"$f":"IF(女子様式!$C237=\"\",\"\",IF($B74=\"@\",\"@\",$B74+200000000))","v":""},{"$f":"IF($C74=\"\",\"\",CONCATENATE(女子様式!$D237,\" \",\"(\",女子様式!$K237,\")\"))","v":""},"",{"$f":"IF($C74=\"\",\"\",女子様式!$G237)","v":""},{"$f":"CONCATENATE(OFFSET(女子様式!$J$18,3*A74,0),\" \",IF(LEN(OFFSET(女子様式!$K$18,A74*3,0))=0,,\"(\"),LEFT(OFFSET(女子様式!$K$18,A74*3,0),2),IF(LEN(OFFSET(女子様式!$J$18,A74*3,0))=0,,\")\"))","v":" "},"",{"$f":"IF($C74=\"\",\"\",VLOOKUP(基本登録情報!$C$7,登録データ!$I$3:$L$100,3,FALSE))","v":""},{"$f":"IF($C74=\"\",\"\",VLOOKUP(OFFSET(女子様式!$M$18,3*A74,0),登録データ!AM74:AN120,2,FALSE))","v":""},"",{"$f":"IF(女子様式!$AG237=\"\",\"\",女子様式!$AG237)","v":""},{"$f":"IF(女子様式!$AG238=\"\",\"\",女子様式!$AG238)","v":""},{"$f":"IF(女子様式!$AG239=\"\",\"\",女子様式!$AG239)","v":""}]
[74,{"$f":"IF(女子様式!$C240=\"\",\"\",IF(女子様式!$C240=\"@\",\"@\",女子様式!$C240))","v":""},{"$f":"IF(女子様式!$C240=\"\",\"\",IF($B75=\"@\",\"@\",$B75+200000000))","v":""},{"$f":"IF($C75=\"\",\"\",CONCATENATE(女子様式!$D240,\" \",\"(\",女子様式!$K240,\")\"))","v":""},"",{"$f":"IF($C75=\"\",\"\",女子様式!$G240)","v":""},{"$f":"CONCATENATE(OFFSET(女子様式!$J$18,3*A75,0),\" \",IF(LEN(OFFSET(女子様式!$K$18,A75*3,0))=0,,\"(\"),LEFT(OFFSET(女子様式!$K$18,A75*3,0),2),IF(LEN(OFFSET(女子様式!$J$18,A75*3,0))=0,,\")\"))","v":" "},"",{"$f":"IF($C75=\"\",\"\",VLOOKUP(基本登録情報!$C$7,登録データ!$I$3:$L$100,3,FALSE))","v":""},{"$f":"IF($C75=\"\",\"\",VLOOKUP(OFFSET(女子様式!$M$18,3*A75,0),登録データ!AM75:AN121,2,FALSE))","v":""},"",{"$f":"IF(女子様式!$AG240=\"\",\"\",女子様式!$AG240)","v":""},{"$f":"IF(女子様式!$AG241=\"\",\"\",女子様式!$AG241)","v":""},{"$f":"IF(女子様式!$AG242=\"\",\"\",女子様式!$AG242)","v":""}]
[75,{"$f":"IF(女子様式!$C243=\"\",\"\",IF(女子様式!$C243=\"@\",\"@\",女子様式!$C243))","v":""},{"$f":"IF(女子様式!$C243=\"\",\"\",IF($B76=\"@\",\"@\",$B76+200000000))","v":""},{"$f":"IF($C76=\"\",\"\",CONCATENATE(女子様式!$D243,\" \",\"(\",女子様式!$K243,\")\"))","v":""},"",{"$f":"IF($C76=\"\",\"\",女子様式!$G243)","v":""},{"$f":"CONCATENATE(OFFSET(女子様式!$J$18,3*A76,0),\" \",IF(LEN(OFFSET(女子様式!$K$18,A76*3,0))=0,,\"(\"),LEFT(OFFSET(女子様式!$K$18,A76*3,0),2),IF(LEN(OFFSET(女子様式!$J$18,A76*3,0))=0,,\")\"))","v":" "},"",{"$f":"IF($C76=\"\",\"\",VLOOKUP(基本登録情報!$C$7,登録データ!$I$3:$L$100,3,FALSE))","v":""},{"$f":"IF($C76=\"\",\"\",VLOOKUP(OFFSET(女子様式!$M$18,3*A76,0),登録データ!AM76:AN122,2,FALSE))","v":""},"",{"$f":"IF(女子様式!$AG243=\"\",\"\",女子様式!$AG243)","v":""},{"$f":"IF(女子様式!$AG244=\"\",\"\",女子様式!$AG244)","v":""},{"$f":"IF(女子様式!$AG245=\"\",\"\",女子様式!$AG245)","v":""}]
[76,{"$f":"IF(女子様式!$C246=\"\",\"\",IF(女子様式!$C246=\"@\",\"@\",女子様式!$C246))","v":""},{"$f":"IF(女子様式!$C246=\"\",\"\",IF($B77=\"@\",\"@\",$B77+200000000))","v":""},{"$f":"IF($C77=\"\",\"\",CONCATENATE(女子様式!$D246,\" \",\"(\",女子様式!$K246,\")\"))","v":""},"",{"$f":"IF($C77=\"\",\"\",女子様式!$G246)","v":""},{"$f":"CONCATENATE(OFFSET(女子様式!$J$18,3*A77,0),\" \",IF(LEN(OFFSET(女子様式!$K$18,A77*3,0))=0,,\"(\"),LEFT(OFFSET(女子様式!$K$18,A77*3,0),2),IF(LEN(OFFSET(女子様式!$J$18,A77*3,0))=0,,\")\"))","v":" "},"",{"$f":"IF($C77=\"\",\"\",VLOOKUP(基本登録情報!$C$7,登録データ!$I$3:$L$100,3,FALSE))","v":""},{"$f":"IF($C77=\"\",\"\",VLOOKUP(OFFSET(女子様式!$M$18,3*A77,0),登録データ!AM77:AN123,2,FALSE))","v":""},"",{"$f":"IF(女子様式!$AG246=\"\",\"\",女子様式!$AG246)","v":""},{"$f":"IF(女子様式!$AG247=\"\",\"\",女子様式!$AG247)","v":""},{"$f":"IF(女子様式!$AG248=\"\",\"\",女子様式!$AG248)","v":""}]
[77,{"$f":"IF(女子様式!$C249=\"\",\"\",IF(女子様式!$C249=\"@\",\"@\",女子様式!$C249))","v":""},{"$f":"IF(女子様式!$C249=\"\",\"\",IF($B78=\"@\",\"@\",$B78+200000000))","v":""},{"$f":"IF($C78=\"\",\"\",CONCATENATE(女子様式!$D249,\" \",\"(\",女子様式!$K249,\")\"))","v":""},"",{"$f":"IF($C78=\"\",\"\",女子様式!$G249)","v":""},{"$f":"CONCATENATE(OFFSET(女子様式!$J$18,3*A78,0),\" \",IF(LEN(OFFSET(女子様式!$K$18,A78*3,0))=0,,\"(\"),LEFT(OFFSET(女子様式!$K$18,A78*3,0),2),IF(LEN(OFFSET(女子様式!$J$18,A78*3,0))=0,,\")\"))","v":" "},"",{"$f":"IF($C78=\"\",\"\",VLOOKUP(基本登録情報!$C$7,登録データ!$I$3:$L$100,3,FALSE))","v":""},{"$f":"IF($C78=\"\",\"\",VLOOKUP(OFFSET(女子様式!$M$18,3*A78,0),登録データ!AM78:AN124,2,FALSE))","v":""},"",{"$f":"IF(女子様式!$AG249=\"\",\"\",女子様式!$AG249)","v":""},{"$f":"IF(女子様式!$AG250=\"\",\"\",女子様式!$AG250)","v":""},{"$f":"IF(女子様式!$AG251=\"\",\"\",女子様式!$AG251)","v":""}]
[78,{"$f":"IF(女子様式!$C252=\"\",\"\",IF(女子様式!$C252=\"@\",\"@\",女子様式!$C252))","v":""},{"$f":"IF(女子様式!$C252=\"\",\"\",IF($B79=\"@\",\"@\",$B79+200000000))","v":""},{"$f":"IF($C79=\"\",\"\",CONCATENATE(女子様式!$D252,\" \",\"(\",女子様式!$K252,\")\"))","v":""},"",{"$f":"IF($C79=\"\",\"\",女子様式!$G252)","v":""},{"$f":"CONCATENATE(OFFSET(女子様式!$J$18,3*A79,0),\" \",IF(LEN(OFFSET(女子様式!$K$18,A79*3,0))=0,,\"(\"),LEFT(OFFSET(女子様式!$K$18,A79*3,0),2),IF(LEN(OFFSET(女子様式!$J$18,A79*3,0))=0,,\")\"))","v":" "},"",{"$f":"IF($C79=\"\",\"\",VLOOKUP(基本登録情報!$C$7,登録データ!$I$3:$L$100,3,FALSE))","v":""},{"$f":"IF($C79=\"\",\"\",VLOOKUP(OFFSET(女子様式!$M$18,3*A79,0),登録データ!AM79:AN125,2,FALSE))","v":""},"",{"$f":"IF(女子様式!$AG252=\"\",\"\",女子様式!$AG252)","v":""},{"$f":"IF(女子様式!$AG253=\"\",\"\",女子様式!$AG253)","v":""},{"$f":"IF(女子様式!$AG254=\"\",\"\",女子様式!$AG254)","v":""}]
[79,{"$f":"IF(女子様式!$C255=\"\",\"\",IF(女子様式!$C255=\"@\",\"@\",女子様式!$C255))","v":""},{"$f":"IF(女子様式!$C255=\"\",\"\",IF($B80=\"@\",\"@\",$B80+200000000))","v":""},{"$f":"IF($C80=\"\",\"\",CONCATENATE(女子様式!$D255,\" \",\"(\",女子様式!$K255,\")\"))","v":""},"",{"$f":"IF($C80=\"\",\"\",女子様式!$G255)","v":""},{"$f":"CONCATENATE(OFFSET(女子様式!$J$18,3*A80,0),\" \",IF(LEN(OFFSET(女子様式!$K$18,A80*3,0))=0,,\"(\"),LEFT(OFFSET(女子様式!$K$18,A80*3,0),2),IF(LEN(OFFSET(女子様式!$J$18,A80*3,0))=0,,\")\"))","v":" "},"",{"$f":"IF($C80=\"\",\"\",VLOOKUP(基本登録情報!$C$7,登録データ!$I$3:$L$100,3,FALSE))","v":""},{"$f":"IF($C80=\"\",\"\",VLOOKUP(OFFSET(女子様式!$M$18,3*A80,0),登録データ!AM80:AN126,2,FALSE))","v":""},"",{"$f":"IF(女子様式!$AG255=\"\",\"\",女子様式!$AG255)","v":""},{"$f":"IF(女子様式!$AG256=\"\",\"\",女子様式!$AG256)","v":""},{"$f":"IF(女子様式!$AG257=\"\",\"\",女子様式!$AG257)","v":""}]
[80,{"$f":"IF(女子様式!$C258=\"\",\"\",IF(女子様式!$C258=\"@\",\"@\",女子様式!$C258))","v":""},{"$f":"IF(女子様式!$C258=\"\",\"\",IF($B81=\"@\",\"@\",$B81+200000000))","v":""},{"$f":"IF($C81=\"\",\"\",CONCATENATE(女子様式!$D258,\" \",\"(\",女子様式!$K258,\")\"))","v":""},"",{"$f":"IF($C81=\"\",\"\",女子様式!$G258)","v":""},{"$f":"CONCATENATE(OFFSET(女子様式!$J$18,3*A81,0),\" \",IF(LEN(OFFSET(女子様式!$K$18,A81*3,0))=0,,\"(\"),LEFT(OFFSET(女子様式!$K$18,A81*3,0),2),IF(LEN(OFFSET(女子様式!$J$18,A81*3,0))=0,,\")\"))","v":" "},"",{"$f":"IF($C81=\"\",\"\",VLOOKUP(基本登録情報!$C$7,登録データ!$I$3:$L$100,3,FALSE))","v":""},{"$f":"IF($C81=\"\",\"\",VLOOKUP(OFFSET(女子様式!$M$18,3*A81,0),登録データ!AM81:AN127,2,FALSE))","v":""},"",{"$f":"IF(女子様式!$AG258=\"\",\"\",女子様式!$AG258)","v":""},{"$f":"IF(女子様式!$AG259=\"\",\"\",女子様式!$AG259)","v":""},{"$f":"IF(女子様式!$AG260=\"\",\"\",女子様式!$AG260)","v":""}]
[81,{"$f":"IF(女子様式!$C261=\"\",\"\",IF(女子様式!$C261=\"@\",\"@\",女子様式!$C261))","v":""},{"$f":"IF(女子様式!$C261=\"\",\"\",IF($B82=\"@\",\"@\",$B82+200000000))","v":""},{"$f":"IF($C82=\"\",\"\",CONCATENATE(女子様式!$D261,\" \",\"(\",女子様式!$K261,\")\"))","v":""},"",{"$f":"IF($C82=\"\",\"\",女子様式!$G261)","v":""},{"$f":"CONCATENATE(OFFSET(女子様式!$J$18,3*A82,0),\" \",IF(LEN(OFFSET(女子様式!$K$18,A82*3,0))=0,,\"(\"),LEFT(OFFSET(女子様式!$K$18,A82*3,0),2),IF(LEN(OFFSET(女子様式!$J$18,A82*3,0))=0,,\")\"))","v":" "},"",{"$f":"IF($C82=\"\",\"\",VLOOKUP(基本登録情報!$C$7,登録データ!$I$3:$L$100,3,FALSE))","v":""},{"$f":"IF($C82=\"\",\"\",VLOOKUP(OFFSET(女子様式!$M$18,3*A82,0),登録データ!AM82:AN128,2,FALSE))","v":""},"",{"$f":"IF(女子様式!$AG261=\"\",\"\",女子様式!$AG261)","v":""},{"$f":"IF(女子様式!$AG262=\"\",\"\",女子様式!$AG262)","v":""},{"$f":"IF(女子様式!$AG263=\"\",\"\",女子様式!$AG263)","v":""}]
[82,{"$f":"IF(女子様式!$C264=\"\",\"\",IF(女子様式!$C264=\"@\",\"@\",女子様式!$C264))","v":""},{"$f":"IF(女子様式!$C264=\"\",\"\",IF($B83=\"@\",\"@\",$B83+200000000))","v":""},{"$f":"IF($C83=\"\",\"\",CONCATENATE(女子様式!$D264,\" \",\"(\",女子様式!$K264,\")\"))","v":""},"",{"$f":"IF($C83=\"\",\"\",女子様式!$G264)","v":""},{"$f":"CONCATENATE(OFFSET(女子様式!$J$18,3*A83,0),\" \",IF(LEN(OFFSET(女子様式!$K$18,A83*3,0))=0,,\"(\"),LEFT(OFFSET(女子様式!$K$18,A83*3,0),2),IF(LEN(OFFSET(女子様式!$J$18,A83*3,0))=0,,\")\"))","v":" "},"",{"$f":"IF($C83=\"\",\"\",VLOOKUP(基本登録情報!$C$7,登録データ!$I$3:$L$100,3,FALSE))","v":""},{"$f":"IF($C83=\"\",\"\",VLOOKUP(OFFSET(女子様式!$M$18,3*A83,0),登録データ!AM83:AN129,2,FALSE))","v":""},"",{"$f":"IF(女子様式!$AG264=\"\",\"\",女子様式!$AG264)","v":""},{"$f":"IF(女子様式!$AG265=\"\",\"\",女子様式!$AG265)","v":""},{"$f":"IF(女子様式!$AG266=\"\",\"\",女子様式!$AG266)","v":""}]
[83,{"$f":"IF(女子様式!$C267=\"\",\"\",IF(女子様式!$C267=\"@\",\"@\",女子様式!$C267))","v":""},{"$f":"IF(女子様式!$C267=\"\",\"\",IF($B84=\"@\",\"@\",$B84+200000000))","v":""},{"$f":"IF($C84=\"\",\"\",CONCATENATE(女子様式!$D267,\" \",\"(\",女子様式!$K267,\")\"))","v":""},"",{"$f":"IF($C84=\"\",\"\",女子様式!$G267)","v":""},{"$f":"CONCATENATE(OFFSET(女子様式!$J$18,3*A84,0),\" \",IF(LEN(OFFSET(女子様式!$K$18,A84*3,0))=0,,\"(\"),LEFT(OFFSET(女子様式!$K$18,A84*3,0),2),IF(LEN(OFFSET(女子様式!$J$18,A84*3,0))=0,,\")\"))","v":" "},"",{"$f":"IF($C84=\"\",\"\",VLOOKUP(基本登録情報!$C$7,登録データ!$I$3:$L$100,3,FALSE))","v":""},{"$f":"IF($C84=\"\",\"\",VLOOKUP(OFFSET(女子様式!$M$18,3*A84,0),登録データ!AM84:AN130,2,FALSE))","v":""},"",{"$f":"IF(女子様式!$AG267=\"\",\"\",女子様式!$AG267)","v":""},{"$f":"IF(女子様式!$AG268=\"\",\"\",女子様式!$AG268)","v":""},{"$f":"IF(女子様式!$AG269=\"\",\"\",女子様式!$AG269)","v":""}]
[84,{"$f":"IF(女子様式!$C270=\"\",\"\",IF(女子様式!$C270=\"@\",\"@\",女子様式!$C270))","v":""},{"$f":"IF(女子様式!$C270=\"\",\"\",IF($B85=\"@\",\"@\",$B85+200000000))","v":""},{"$f":"IF($C85=\"\",\"\",CONCATENATE(女子様式!$D270,\" \",\"(\",女子様式!$K270,\")\"))","v":""},"",{"$f":"IF($C85=\"\",\"\",女子様式!$G270)","v":""},{"$f":"CONCATENATE(OFFSET(女子様式!$J$18,3*A85,0),\" \",IF(LEN(OFFSET(女子様式!$K$18,A85*3,0))=0,,\"(\"),LEFT(OFFSET(女子様式!$K$18,A85*3,0),2),IF(LEN(OFFSET(女子様式!$J$18,A85*3,0))=0,,\")\"))","v":" "},"",{"$f":"IF($C85=\"\",\"\",VLOOKUP(基本登録情報!$C$7,登録データ!$I$3:$L$100,3,FALSE))","v":""},{"$f":"IF($C85=\"\",\"\",VLOOKUP(OFFSET(女子様式!$M$18,3*A85,0),登録データ!AM85:AN131,2,FALSE))","v":""},"",{"$f":"IF(女子様式!$AG270=\"\",\"\",女子様式!$AG270)","v":""},{"$f":"IF(女子様式!$AG271=\"\",\"\",女子様式!$AG271)","v":""},{"$f":"IF(女子様式!$AG272=\"\",\"\",女子様式!$AG272)","v":""}]
[85,{"$f":"IF(女子様式!$C273=\"\",\"\",IF(女子様式!$C273=\"@\",\"@\",女子様式!$C273))","v":""},{"$f":"IF(女子様式!$C273=\"\",\"\",IF($B86=\"@\",\"@\",$B86+200000000))","v":""},{"$f":"IF($C86=\"\",\"\",CONCATENATE(女子様式!$D273,\" \",\"(\",女子様式!$K273,\")\"))","v":""},"",{"$f":"IF($C86=\"\",\"\",女子様式!$G273)","v":""},{"$f":"CONCATENATE(OFFSET(女子様式!$J$18,3*A86,0),\" \",IF(LEN(OFFSET(女子様式!$K$18,A86*3,0))=0,,\"(\"),LEFT(OFFSET(女子様式!$K$18,A86*3,0),2),IF(LEN(OFFSET(女子様式!$J$18,A86*3,0))=0,,\")\"))","v":" "},"",{"$f":"IF($C86=\"\",\"\",VLOOKUP(基本登録情報!$C$7,登録データ!$I$3:$L$100,3,FALSE))","v":""},{"$f":"IF($C86=\"\",\"\",VLOOKUP(OFFSET(女子様式!$M$18,3*A86,0),登録データ!AM86:AN132,2,FALSE))","v":""},"",{"$f":"IF(女子様式!$AG273=\"\",\"\",女子様式!$AG273)","v":""},{"$f":"IF(女子様式!$AG274=\"\",\"\",女子様式!$AG274)","v":""},{"$f":"IF(女子様式!$AG275=\"\",\"\",女子様式!$AG275)","v":""}]
[86,{"$f":"IF(女子様式!$C276=\"\",\"\",IF(女子様式!$C276=\"@\",\"@\",女子様式!$C276))","v":""},{"$f":"IF(女子様式!$C276=\"\",\"\",IF($B87=\"@\",\"@\",$B87+200000000))","v":""},{"$f":"IF($C87=\"\",\"\",CONCATENATE(女子様式!$D276,\" \",\"(\",女子様式!$K276,\")\"))","v":""},"",{"$f":"IF($C87=\"\",\"\",女子様式!$G276)","v":""},{"$f":"CONCATENATE(OFFSET(女子様式!$J$18,3*A87,0),\" \",IF(LEN(OFFSET(女子様式!$K$18,A87*3,0))=0,,\"(\"),LEFT(OFFSET(女子様式!$K$18,A87*3,0),2),IF(LEN(OFFSET(女子様式!$J$18,A87*3,0))=0,,\")\"))","v":" "},"",{"$f":"IF($C87=\"\",\"\",VLOOKUP(基本登録情報!$C$7,登録データ!$I$3:$L$100,3,FALSE))","v":""},{"$f":"IF($C87=\"\",\"\",VLOOKUP(OFFSET(女子様式!$M$18,3*A87,0),登録データ!AM87:AN133,2,FALSE))","v":""},"",{"$f":"IF(女子様式!$AG276=\"\",\"\",女子様式!$AG276)","v":""},{"$f":"IF(女子様式!$AG277=\"\",\"\",女子様式!$AG277)","v":""},{"$f":"IF(女子様式!$AG278=\"\",\"\",女子様式!$AG278)","v":""}]
[87,{"$f":"IF(女子様式!$C279=\"\",\"\",IF(女子様式!$C279=\"@\",\"@\",女子様式!$C279))","v":""},{"$f":"IF(女子様式!$C279=\"\",\"\",IF($B88=\"@\",\"@\",$B88+200000000))","v":""},{"$f":"IF($C88=\"\",\"\",CONCATENATE(女子様式!$D279,\" \",\"(\",女子様式!$K279,\")\"))","v":""},"",{"$f":"IF($C88=\"\",\"\",女子様式!$G279)","v":""},{"$f":"CONCATENATE(OFFSET(女子様式!$J$18,3*A88,0),\" \",IF(LEN(OFFSET(女子様式!$K$18,A88*3,0))=0,,\"(\"),LEFT(OFFSET(女子様式!$K$18,A88*3,0),2),IF(LEN(OFFSET(女子様式!$J$18,A88*3,0))=0,,\")\"))","v":" "},"",{"$f":"IF($C88=\"\",\"\",VLOOKUP(基本登録情報!$C$7,登録データ!$I$3:$L$100,3,FALSE))","v":""},{"$f":"IF($C88=\"\",\"\",VLOOKUP(OFFSET(女子様式!$M$18,3*A88,0),登録データ!AM88:AN134,2,FALSE))","v":""},"",{"$f":"IF(女子様式!$AG279=\"\",\"\",女子様式!$AG279)","v":""},{"$f":"IF(女子様式!$AG280=\"\",\"\",女子様式!$AG280)","v":""},{"$f":"IF(女子様式!$AG281=\"\",\"\",女子様式!$AG281)","v":""}]
[88,{"$f":"IF(女子様式!$C282=\"\",\"\",IF(女子様式!$C282=\"@\",\"@\",女子様式!$C282))","v":""},{"$f":"IF(女子様式!$C282=\"\",\"\",IF($B89=\"@\",\"@\",$B89+200000000))","v":""},{"$f":"IF($C89=\"\",\"\",CONCATENATE(女子様式!$D282,\" \",\"(\",女子様式!$K282,\")\"))","v":""},"",{"$f":"IF($C89=\"\",\"\",女子様式!$G282)","v":""},{"$f":"CONCATENATE(OFFSET(女子様式!$J$18,3*A89,0),\" \",IF(LEN(OFFSET(女子様式!$K$18,A89*3,0))=0,,\"(\"),LEFT(OFFSET(女子様式!$K$18,A89*3,0),2),IF(LEN(OFFSET(女子様式!$J$18,A89*3,0))=0,,\")\"))","v":" "},"",{"$f":"IF($C89=\"\",\"\",VLOOKUP(基本登録情報!$C$7,登録データ!$I$3:$L$100,3,FALSE))","v":""},{"$f":"IF($C89=\"\",\"\",VLOOKUP(OFFSET(女子様式!$M$18,3*A89,0),登録データ!AM89:AN135,2,FALSE))","v":""},"",{"$f":"IF(女子様式!$AG282=\"\",\"\",女子様式!$AG282)","v":""},{"$f":"IF(女子様式!$AG283=\"\",\"\",女子様式!$AG283)","v":""},{"$f":"IF(女子様式!$AG284=\"\",\"\",女子様式!$AG284)","v":""}]
[89,{"$f":"IF(女子様式!$C285=\"\",\"\",IF(女子様式!$C285=\"@\",\"@\",女子様式!$C285))","v":""},{"$f":"IF(女子様式!$C285=\"\",\"\",IF($B90=\"@\",\"@\",$B90+200000000))","v":""},{"$f":"IF($C90=\"\",\"\",CONCATENATE(女子様式!$D285,\" \",\"(\",女子様式!$K285,\")\"))","v":""},"",{"$f":"IF($C90=\"\",\"\",女子様式!$G285)","v":""},{"$f":"CONCATENATE(OFFSET(女子様式!$J$18,3*A90,0),\" \",IF(LEN(OFFSET(女子様式!$K$18,A90*3,0))=0,,\"(\"),LEFT(OFFSET(女子様式!$K$18,A90*3,0),2),IF(LEN(OFFSET(女子様式!$J$18,A90*3,0))=0,,\")\"))","v":" "},"",{"$f":"IF($C90=\"\",\"\",VLOOKUP(基本登録情報!$C$7,登録データ!$I$3:$L$100,3,FALSE))","v":""},{"$f":"IF($C90=\"\",\"\",VLOOKUP(OFFSET(女子様式!$M$18,3*A90,0),登録データ!AM90:AN136,2,FALSE))","v":""},"",{"$f":"IF(女子様式!$AG285=\"\",\"\",女子様式!$AG285)","v":""},{"$f":"IF(女子様式!$AG286=\"\",\"\",女子様式!$AG286)","v":""},{"$f":"IF(女子様式!$AG287=\"\",\"\",女子様式!$AG287)","v":""}]
[90,{"$f":"IF(女子様式!$C288=\"\",\"\",IF(女子様式!$C288=\"@\",\"@\",女子様式!$C288))","v":""},{"$f":"IF(女子様式!$C288=\"\",\"\",IF($B91=\"@\",\"@\",$B91+200000000))","v":""},{"$f":"IF($C91=\"\",\"\",CONCATENATE(女子様式!$D288,\" \",\"(\",女子様式!$K288,\")\"))","v":""},"",{"$f":"IF($C91=\"\",\"\",女子様式!$G288)","v":""},{"$f":"CONCATENATE(OFFSET(女子様式!$J$18,3*A91,0),\" \",IF(LEN(OFFSET(女子様式!$K$18,A91*3,0))=0,,\"(\"),LEFT(OFFSET(女子様式!$K$18,A91*3,0),2),IF(LEN(OFFSET(女子様式!$J$18,A91*3,0))=0,,\")\"))","v":" "},"",{"$f":"IF($C91=\"\",\"\",VLOOKUP(基本登録情報!$C$7,登録データ!$I$3:$L$100,3,FALSE))","v":""},{"$f":"IF($C91=\"\",\"\",VLOOKUP(OFFSET(女子様式!$M$18,3*A91,0),登録データ!AM91:AN137,2,FALSE))","v":""},"",{"$f":"IF(女子様式!$AG288=\"\",\"\",女子様式!$AG288)","v":""},{"$f":"IF(女子様式!$AG289=\"\",\"\",女子様式!$AG289)","v":""},{"$f":"IF(女子様式!$AG290=\"\",\"\",女子様式!$AG290)","v":""}]
[91,{"$f":"IF(女子様式!$C291=\"\",\"\",IF(女子様式!$C291=\"@\",\"@\",女子様式!$C291))","v":""},{"$f":"IF(女子様式!$C291=\"\",\"\",IF($B92=\"@\",\"@\",$B92+200000000))","v":""},{"$f":"IF($C92=\"\",\"\",CONCATENATE(女子様式!$D291,\" \",\"(\",女子様式!$K291,\")\"))","v":""},"",{"$f":"IF($C92=\"\",\"\",女子様式!$G291)","v":""},{"$f":"CONCATENATE(OFFSET(女子様式!$J$18,3*A92,0),\" \",IF(LEN(OFFSET(女子様式!$K$18,A92*3,0))=0,,\"(\"),LEFT(OFFSET(女子様式!$K$18,A92*3,0),2),IF(LEN(OFFSET(女子様式!$J$18,A92*3,0))=0,,\")\"))","v":" "},"",{"$f":"IF($C92=\"\",\"\",VLOOKUP(基本登録情報!$C$7,登録データ!$I$3:$L$100,3,FALSE))","v":""},{"$f":"IF($C92=\"\",\"\",VLOOKUP(OFFSET(女子様式!$M$18,3*A92,0),登録データ!AM92:AN138,2,FALSE))","v":""},"",{"$f":"IF(女子様式!$AG291=\"\",\"\",女子様式!$AG291)","v":""},{"$f":"IF(女子様式!$AG292=\"\",\"\",女子様式!$AG292)","v":""},{"$f":"IF(女子様式!$AG293=\"\",\"\",女子様式!$AG293)","v":""}]
[92,{"$f":"IF(女子様式!$C294=\"\",\"\",IF(女子様式!$C294=\"@\",\"@\",女子様式!$C294))","v":""},{"$f":"IF(女子様式!$C294=\"\",\"\",IF($B93=\"@\",\"@\",$B93+200000000))","v":""},{"$f":"IF($C93=\"\",\"\",CONCATENATE(女子様式!$D294,\" \",\"(\",女子様式!$K294,\")\"))","v":""},"",{"$f":"IF($C93=\"\",\"\",女子様式!$G294)","v":""},{"$f":"CONCATENATE(OFFSET(女子様式!$J$18,3*A93,0),\" \",IF(LEN(OFFSET(女子様式!$K$18,A93*3,0))=0,,\"(\"),LEFT(OFFSET(女子様式!$K$18,A93*3,0),2),IF(LEN(OFFSET(女子様式!$J$18,A93*3,0))=0,,\")\"))","v":" "},"",{"$f":"IF($C93=\"\",\"\",VLOOKUP(基本登録情報!$C$7,登録データ!$I$3:$L$100,3,FALSE))","v":""},{"$f":"IF($C93=\"\",\"\",VLOOKUP(OFFSET(女子様式!$M$18,3*A93,0),登録データ!AM93:AN139,2,FALSE))","v":""},"",{"$f":"IF(女子様式!$AG294=\"\",\"\",女子様式!$AG294)","v":""},{"$f":"IF(女子様式!$AG295=\"\",\"\",女子様式!$AG295)","v":""},{"$f":"IF(女子様式!$AG296=\"\",\"\",女子様式!$AG296)","v":""}]
[93,{"$f":"IF(女子様式!$C297=\"\",\"\",IF(女子様式!$C297=\"@\",\"@\",女子様式!$C297))","v":""},{"$f":"IF(女子様式!$C297=\"\",\"\",IF($B94=\"@\",\"@\",$B94+200000000))","v":""},{"$f":"IF($C94=\"\",\"\",CONCATENATE(女子様式!$D297,\" \",\"(\",女子様式!$K297,\")\"))","v":""},"",{"$f":"IF($C94=\"\",\"\",女子様式!$G297)","v":""},{"$f":"CONCATENATE(OFFSET(女子様式!$J$18,3*A94,0),\" \",IF(LEN(OFFSET(女子様式!$K$18,A94*3,0))=0,,\"(\"),LEFT(OFFSET(女子様式!$K$18,A94*3,0),2),IF(LEN(OFFSET(女子様式!$J$18,A94*3,0))=0,,\")\"))","v":" "},"",{"$f":"IF($C94=\"\",\"\",VLOOKUP(基本登録情報!$C$7,登録データ!$I$3:$L$100,3,FALSE))","v":""},{"$f":"IF($C94=\"\",\"\",VLOOKUP(OFFSET(女子様式!$M$18,3*A94,0),登録データ!AM94:AN140,2,FALSE))","v":""},"",{"$f":"IF(女子様式!$AG297=\"\",\"\",女子様式!$AG297)","v":""},{"$f":"IF(女子様式!$AG298=\"\",\"\",女子様式!$AG298)","v":""},{"$f":"IF(女子様式!$AG299=\"\",\"\",女子様式!$AG299)","v":""}]
[94,{"$f":"IF(女子様式!$C300=\"\",\"\",IF(女子様式!$C300=\"@\",\"@\",女子様式!$C300))","v":""},{"$f":"IF(女子様式!$C300=\"\",\"\",IF($B95=\"@\",\"@\",$B95+200000000))","v":""},{"$f":"IF($C95=\"\",\"\",CONCATENATE(女子様式!$D300,\" \",\"(\",女子様式!$K300,\")\"))","v":""},"",{"$f":"IF($C95=\"\",\"\",女子様式!$G300)","v":""},{"$f":"CONCATENATE(OFFSET(女子様式!$J$18,3*A95,0),\" \",IF(LEN(OFFSET(女子様式!$K$18,A95*3,0))=0,,\"(\"),LEFT(OFFSET(女子様式!$K$18,A95*3,0),2),IF(LEN(OFFSET(女子様式!$J$18,A95*3,0))=0,,\")\"))","v":" "},"",{"$f":"IF($C95=\"\",\"\",VLOOKUP(基本登録情報!$C$7,登録データ!$I$3:$L$100,3,FALSE))","v":""},{"$f":"IF($C95=\"\",\"\",VLOOKUP(OFFSET(女子様式!$M$18,3*A95,0),登録データ!AM95:AN141,2,FALSE))","v":""},"",{"$f":"IF(女子様式!$AG300=\"\",\"\",女子様式!$AG300)","v":""},{"$f":"IF(女子様式!$AG301=\"\",\"\",女子様式!$AG301)","v":""},{"$f":"IF(女子様式!$AG302=\"\",\"\",女子様式!$AG302)","v":""}]
[95,{"$f":"IF(女子様式!$C303=\"\",\"\",IF(女子様式!$C303=\"@\",\"@\",女子様式!$C303))","v":""},{"$f":"IF(女子様式!$C303=\"\",\"\",IF($B96=\"@\",\"@\",$B96+200000000))","v":""},{"$f":"IF($C96=\"\",\"\",CONCATENATE(女子様式!$D303,\" \",\"(\",女子様式!$K303,\")\"))","v":""},"",{"$f":"IF($C96=\"\",\"\",女子様式!$G303)","v":""},{"$f":"CONCATENATE(OFFSET(女子様式!$J$18,3*A96,0),\" \",IF(LEN(OFFSET(女子様式!$K$18,A96*3,0))=0,,\"(\"),LEFT(OFFSET(女子様式!$K$18,A96*3,0),2),IF(LEN(OFFSET(女子様式!$J$18,A96*3,0))=0,,\")\"))","v":" "},"",{"$f":"IF($C96=\"\",\"\",VLOOKUP(基本登録情報!$C$7,登録データ!$I$3:$L$100,3,FALSE))","v":""},{"$f":"IF($C96=\"\",\"\",VLOOKUP(OFFSET(女子様式!$M$18,3*A96,0),登録データ!AM96:AN142,2,FALSE))","v":""},"",{"$f":"IF(女子様式!$AG303=\"\",\"\",女子様式!$AG303)","v":""},{"$f":"IF(女子様式!$AG304=\"\",\"\",女子様式!$AG304)","v":""},{"$f":"IF(女子様式!$AG305=\"\",\"\",女子様式!$AG305)","v":""}]
[96,{"$f":"IF(女子様式!$C306=\"\",\"\",IF(女子様式!$C306=\"@\",\"@\",女子様式!$C306))","v":""},{"$f":"IF(女子様式!$C306=\"\",\"\",IF($B97=\"@\",\"@\",$B97+200000000))","v":""},{"$f":"IF($C97=\"\",\"\",CONCATENATE(女子様式!$D306,\" \",\"(\",女子様式!$K306,\")\"))","v":""},"",{"$f":"IF($C97=\"\",\"\",女子様式!$G306)","v":""},{"$f":"CONCATENATE(OFFSET(女子様式!$J$18,3*A97,0),\" \",IF(LEN(OFFSET(女子様式!$K$18,A97*3,0))=0,,\"(\"),LEFT(OFFSET(女子様式!$K$18,A97*3,0),2),IF(LEN(OFFSET(女子様式!$J$18,A97*3,0))=0,,\")\"))","v":" "},"",{"$f":"IF($C97=\"\",\"\",VLOOKUP(基本登録情報!$C$7,登録データ!$I$3:$L$100,3,FALSE))","v":""},{"$f":"IF($C97=\"\",\"\",VLOOKUP(OFFSET(女子様式!$M$18,3*A97,0),登録データ!AM97:AN143,2,FALSE))","v":""},"",{"$f":"IF(女子様式!$AG306=\"\",\"\",女子様式!$AG306)","v":""},{"$f":"IF(女子様式!$AG307=\"\",\"\",女子様式!$AG307)","v":""},{"$f":"IF(女子様式!$AG308=\"\",\"\",女子様式!$AG308)","v":""}]
[97,{"$f":"IF(女子様式!$C309=\"\",\"\",IF(女子様式!$C309=\"@\",\"@\",女子様式!$C309))","v":""},{"$f":"IF(女子様式!$C309=\"\",\"\",IF($B98=\"@\",\"@\",$B98+200000000))","v":""},{"$f":"IF($C98=\"\",\"\",CONCATENATE(女子様式!$D309,\" \",\"(\",女子様式!$K309,\")\"))","v":""},"",{"$f":"IF($C98=\"\",\"\",女子様式!$G309)","v":""},{"$f":"CONCATENATE(OFFSET(女子様式!$J$18,3*A98,0),\" \",IF(LEN(OFFSET(女子様式!$K$18,A98*3,0))=0,,\"(\"),LEFT(OFFSET(女子様式!$K$18,A98*3,0),2),IF(LEN(OFFSET(女子様式!$J$18,A98*3,0))=0,,\")\"))","v":" "},"",{"$f":"IF($C98=\"\",\"\",VLOOKUP(基本登録情報!$C$7,登録データ!$I$3:$L$100,3,FALSE))","v":""},{"$f":"IF($C98=\"\",\"\",VLOOKUP(OFFSET(女子様式!$M$18,3*A98,0),登録データ!AM98:AN144,2,FALSE))","v":""},"",{"$f":"IF(女子様式!$AG309=\"\",\"\",女子様式!$AG309)","v":""},{"$f":"IF(女子様式!$AG310=\"\",\"\",女子様式!$AG310)","v":""},{"$f":"IF(女子様式!$AG311=\"\",\"\",女子様式!$AG311)","v":""}]
[98,{"$f":"IF(女子様式!$C312=\"\",\"\",IF(女子様式!$C312=\"@\",\"@\",女子様式!$C312))","v":""},{"$f":"IF(女子様式!$C312=\"\",\"\",IF($B99=\"@\",\"@\",$B99+200000000))","v":""},{"$f":"IF($C99=\"\",\"\",CONCATENATE(女子様式!$D312,\" \",\"(\",女子様式!$K312,\")\"))","v":""},"",{"$f":"IF($C99=\"\",\"\",女子様式!$G312)","v":""},{"$f":"CONCATENATE(OFFSET(女子様式!$J$18,3*A99,0),\" \",IF(LEN(OFFSET(女子様式!$K$18,A99*3,0))=0,,\"(\"),LEFT(OFFSET(女子様式!$K$18,A99*3,0),2),IF(LEN(OFFSET(女子様式!$J$18,A99*3,0))=0,,\")\"))","v":" "},"",{"$f":"IF($C99=\"\",\"\",VLOOKUP(基本登録情報!$C$7,登録データ!$I$3:$L$100,3,FALSE))","v":""},{"$f":"IF($C99=\"\",\"\",VLOOKUP(OFFSET(女子様式!$M$18,3*A99,0),登録データ!AM99:AN145,2,FALSE))","v":""},"",{"$f":"IF(女子様式!$AG312=\"\",\"\",女子様式!$AG312)","v":""},{"$f":"IF(女子様式!$AG313=\"\",\"\",女子様式!$AG313)","v":""},{"$f":"IF(女子様式!$AG314=\"\",\"\",女子様式!$AG314)","v":""}]
[99,{"$f":"IF(女子様式!$C315=\"\",\"\",IF(女子様式!$C315=\"@\",\"@\",女子様式!$C315))","v":""},{"$f":"IF(女子様式!$C315=\"\",\"\",IF($B100=\"@\",\"@\",$B100+200000000))","v":""},{"$f":"IF($C100=\"\",\"\",CONCATENATE(女子様式!$D315,\" \",\"(\",女子様式!$K315,\")\"))","v":""},"",{"$f":"IF($C100=\"\",\"\",女子様式!$G315)","v":""},{"$f":"CONCATENATE(OFFSET(女子様式!$J$18,3*A100,0),\" \",IF(LEN(OFFSET(女子様式!$K$18,A100*3,0))=0,,\"(\"),LEFT(OFFSET(女子様式!$K$18,A100*3,0),2),IF(LEN(OFFSET(女子様式!$J$18,A100*3,0))=0,,\")\"))","v":" "},"",{"$f":"IF($C100=\"\",\"\",VLOOKUP(基本登録情報!$C$7,登録データ!$I$3:$L$100,3,FALSE))","v":""},{"$f":"IF($C100=\"\",\"\",VLOOKUP(OFFSET(女子様式!$M$18,3*A100,0),登録データ!AM100:AN146,2,FALSE))","v":""},"",{"$f":"IF(女子様式!$AG315=\"\",\"\",女子様式!$AG315)","v":""},{"$f":"IF(女子様式!$AG316=\"\",\"\",女子様式!$AG316)","v":""},{"$f":"IF(女子様式!$AG317=\"\",\"\",女子様式!$AG317)","v":""}]
[100,{"$f":"IF(女子様式!$C318=\"\",\"\",IF(女子様式!$C318=\"@\",\"@\",女子様式!$C318))","v":""},{"$f":"IF(女子様式!$C318=\"\",\"\",IF($B101=\"@\",\"@\",$B101+200000000))","v":""},{"$f":"IF($C101=\"\",\"\",CONCATENATE(女子様式!$D318,\" \",\"(\",女子様式!$K318,\")\"))","v":""},"",{"$f":"IF($C101=\"\",\"\",女子様式!$G318)","v":""},{"$f":"CONCATENATE(OFFSET(女子様式!$J$18,3*A101,0),\" \",IF(LEN(OFFSET(女子様式!$K$18,A101*3,0))=0,,\"(\"),LEFT(OFFSET(女子様式!$K$18,A101*3,0),2),IF(LEN(OFFSET(女子様式!$J$18,A101*3,0))=0,,\")\"))","v":" "},"",{"$f":"IF($C101=\"\",\"\",VLOOKUP(基本登録情報!$C$7,登録データ!$I$3:$L$100,3,FALSE))","v":""},{"$f":"IF($C101=\"\",\"\",VLOOKUP(OFFSET(女子様式!$M$18,3*A101,0),登録データ!AM101:AN147,2,FALSE))","v":""},"",{"$f":"IF(女子様式!$AG318=\"\",\"\",女子様式!$AG318)","v":""},{"$f":"IF(女子様式!$AG319=\"\",\"\",女子様式!$AG319)","v":""},{"$f":"IF(女子様式!$AG320=\"\",\"\",女子様式!$AG320)","v":""}]
[101,{"$f":"IF(女子様式!$C321=\"\",\"\",IF(女子様式!$C321=\"@\",\"@\",女子様式!$C321))","v":""},{"$f":"IF(女子様式!$C321=\"\",\"\",IF($B102=\"@\",\"@\",$B102+200000000))","v":""},{"$f":"IF($C102=\"\",\"\",CONCATENATE(女子様式!$D321,\" \",\"(\",女子様式!$K321,\")\"))","v":""},"",{"$f":"IF($C102=\"\",\"\",女子様式!$G321)","v":""},{"$f":"CONCATENATE(OFFSET(女子様式!$J$18,3*A102,0),\" \",IF(LEN(OFFSET(女子様式!$K$18,A102*3,0))=0,,\"(\"),LEFT(OFFSET(女子様式!$K$18,A102*3,0),2),IF(LEN(OFFSET(女子様式!$J$18,A102*3,0))=0,,\")\"))","v":" "},"",{"$f":"IF($C102=\"\",\"\",VLOOKUP(基本登録情報!$C$7,登録データ!$I$3:$L$100,3,FALSE))","v":""},{"$f":"IF($C102=\"\",\"\",VLOOKUP(OFFSET(女子様式!$M$18,3*A102,0),登録データ!AM102:AN148,2,FALSE))","v":""},"",{"$f":"IF(女子様式!$AG321=\"\",\"\",女子様式!$AG321)","v":""},{"$f":"IF(女子様式!$AG322=\"\",\"\",女子様式!$AG322)","v":""},{"$f":"IF(女子様式!$AG323=\"\",\"\",女子様式!$AG323)","v":""}]
[102,{"$f":"IF(女子様式!$C324=\"\",\"\",IF(女子様式!$C324=\"@\",\"@\",女子様式!$C324))","v":""},{"$f":"IF(女子様式!$C324=\"\",\"\",IF($B103=\"@\",\"@\",$B103+200000000))","v":""},{"$f":"IF($C103=\"\",\"\",CONCATENATE(女子様式!$D324,\" \",\"(\",女子様式!$K324,\")\"))","v":""},"",{"$f":"IF($C103=\"\",\"\",女子様式!$G324)","v":""},{"$f":"CONCATENATE(OFFSET(女子様式!$J$18,3*A103,0),\" \",IF(LEN(OFFSET(女子様式!$K$18,A103*3,0))=0,,\"(\"),LEFT(OFFSET(女子様式!$K$18,A103*3,0),2),IF(LEN(OFFSET(女子様式!$J$18,A103*3,0))=0,,\")\"))","v":" "},"",{"$f":"IF($C103=\"\",\"\",VLOOKUP(基本登録情報!$C$7,登録データ!$I$3:$L$100,3,FALSE))","v":""},{"$f":"IF($C103=\"\",\"\",VLOOKUP(OFFSET(女子様式!$M$18,3*A103,0),登録データ!AM103:AN149,2,FALSE))","v":""},"",{"$f":"IF(女子様式!$AG324=\"\",\"\",女子様式!$AG324)","v":""},{"$f":"IF(女子様式!$AG325=\"\",\"\",女子様式!$AG325)","v":""},{"$f":"IF(女子様式!$AG326=\"\",\"\",女子様式!$AG326)","v":""}]
[103,{"$f":"IF(女子様式!$C327=\"\",\"\",IF(女子様式!$C327=\"@\",\"@\",女子様式!$C327))","v":""},{"$f":"IF(女子様式!$C327=\"\",\"\",IF($B104=\"@\",\"@\",$B104+200000000))","v":""},{"$f":"IF($C104=\"\",\"\",CONCATENATE(女子様式!$D327,\" \",\"(\",女子様式!$K327,\")\"))","v":""},"",{"$f":"IF($C104=\"\",\"\",女子様式!$G327)","v":""},{"$f":"CONCATENATE(OFFSET(女子様式!$J$18,3*A104,0),\" \",IF(LEN(OFFSET(女子様式!$K$18,A104*3,0))=0,,\"(\"),LEFT(OFFSET(女子様式!$K$18,A104*3,0),2),IF(LEN(OFFSET(女子様式!$J$18,A104*3,0))=0,,\")\"))","v":" "},"",{"$f":"IF($C104=\"\",\"\",VLOOKUP(基本登録情報!$C$7,登録データ!$I$3:$L$100,3,FALSE))","v":""},{"$f":"IF($C104=\"\",\"\",VLOOKUP(OFFSET(女子様式!$M$18,3*A104,0),登録データ!AM104:AN150,2,FALSE))","v":""},"",{"$f":"IF(女子様式!$AG327=\"\",\"\",女子様式!$AG327)","v":""},{"$f":"IF(女子様式!$AG328=\"\",\"\",女子様式!$AG328)","v":""},{"$f":"IF(女子様式!$AG329=\"\",\"\",女子様式!$AG329)","v":""}]
[104,{"$f":"IF(女子様式!$C330=\"\",\"\",IF(女子様式!$C330=\"@\",\"@\",女子様式!$C330))","v":""},{"$f":"IF(女子様式!$C330=\"\",\"\",IF($B105=\"@\",\"@\",$B105+200000000))","v":""},{"$f":"IF($C105=\"\",\"\",CONCATENATE(女子様式!$D330,\" \",\"(\",女子様式!$K330,\")\"))","v":""},"",{"$f":"IF($C105=\"\",\"\",女子様式!$G330)","v":""},{"$f":"CONCATENATE(OFFSET(女子様式!$J$18,3*A105,0),\" \",IF(LEN(OFFSET(女子様式!$K$18,A105*3,0))=0,,\"(\"),LEFT(OFFSET(女子様式!$K$18,A105*3,0),2),IF(LEN(OFFSET(女子様式!$J$18,A105*3,0))=0,,\")\"))","v":" "},"",{"$f":"IF($C105=\"\",\"\",VLOOKUP(基本登録情報!$C$7,登録データ!$I$3:$L$100,3,FALSE))","v":""},{"$f":"IF($C105=\"\",\"\",VLOOKUP(OFFSET(女子様式!$M$18,3*A105,0),登録データ!AM105:AN151,2,FALSE))","v":""},"",{"$f":"IF(女子様式!$AG330=\"\",\"\",女子様式!$AG330)","v":""},{"$f":"IF(女子様式!$AG331=\"\",\"\",女子様式!$AG331)","v":""},{"$f":"IF(女子様式!$AG332=\"\",\"\",女子様式!$AG332)","v":""}]
[105,{"$f":"IF(女子様式!$C333=\"\",\"\",IF(女子様式!$C333=\"@\",\"@\",女子様式!$C333))","v":""},{"$f":"IF(女子様式!$C333=\"\",\"\",IF($B106=\"@\",\"@\",$B106+200000000))","v":""},{"$f":"IF($C106=\"\",\"\",CONCATENATE(女子様式!$D333,\" \",\"(\",女子様式!$K333,\")\"))","v":""},"",{"$f":"IF($C106=\"\",\"\",女子様式!$G333)","v":""},{"$f":"CONCATENATE(OFFSET(女子様式!$J$18,3*A106,0),\" \",IF(LEN(OFFSET(女子様式!$K$18,A106*3,0))=0,,\"(\"),LEFT(OFFSET(女子様式!$K$18,A106*3,0),2),IF(LEN(OFFSET(女子様式!$J$18,A106*3,0))=0,,\")\"))","v":" "},"",{"$f":"IF($C106=\"\",\"\",VLOOKUP(基本登録情報!$C$7,登録データ!$I$3:$L$100,3,FALSE))","v":""},{"$f":"IF($C106=\"\",\"\",VLOOKUP(OFFSET(女子様式!$M$18,3*A106,0),登録データ!AM106:AN152,2,FALSE))","v":""},"",{"$f":"IF(女子様式!$AG333=\"\",\"\",女子様式!$AG333)","v":""},{"$f":"IF(女子様式!$AG334=\"\",\"\",女子様式!$AG334)","v":""},{"$f":"IF(女子様式!$AG335=\"\",\"\",女子様式!$AG335)","v":""}]
[106,{"$f":"IF(女子様式!$C336=\"\",\"\",IF(女子様式!$C336=\"@\",\"@\",女子様式!$C336))","v":""},{"$f":"IF(女子様式!$C336=\"\",\"\",IF($B107=\"@\",\"@\",$B107+200000000))","v":""},{"$f":"IF($C107=\"\",\"\",CONCATENATE(女子様式!$D336,\" \",\"(\",女子様式!$K336,\")\"))","v":""},"",{"$f":"IF($C107=\"\",\"\",女子様式!$G336)","v":""},{"$f":"CONCATENATE(OFFSET(女子様式!$J$18,3*A107,0),\" \",IF(LEN(OFFSET(女子様式!$K$18,A107*3,0))=0,,\"(\"),LEFT(OFFSET(女子様式!$K$18,A107*3,0),2),IF(LEN(OFFSET(女子様式!$J$18,A107*3,0))=0,,\")\"))","v":" "},"",{"$f":"IF($C107=\"\",\"\",VLOOKUP(基本登録情報!$C$7,登録データ!$I$3:$L$100,3,FALSE))","v":""},{"$f":"IF($C107=\"\",\"\",VLOOKUP(OFFSET(女子様式!$M$18,3*A107,0),登録データ!AM107:AN153,2,FALSE))","v":""},"",{"$f":"IF(女子様式!$AG336=\"\",\"\",女子様式!$AG336)","v":""},{"$f":"IF(女子様式!$AG337=\"\",\"\",女子様式!$AG337)","v":""},{"$f":"IF(女子様式!$AG338=\"\",\"\",女子様式!$AG338)","v":""}]
[107,{"$f":"IF(女子様式!$C339=\"\",\"\",IF(女子様式!$C339=\"@\",\"@\",女子様式!$C339))","v":""},{"$f":"IF(女子様式!$C339=\"\",\"\",IF($B108=\"@\",\"@\",$B108+200000000))","v":""},{"$f":"IF($C108=\"\",\"\",CONCATENATE(女子様式!$D339,\" \",\"(\",女子様式!$K339,\")\"))","v":""},"",{"$f":"IF($C108=\"\",\"\",女子様式!$G339)","v":""},{"$f":"CONCATENATE(OFFSET(女子様式!$J$18,3*A108,0),\" \",IF(LEN(OFFSET(女子様式!$K$18,A108*3,0))=0,,\"(\"),LEFT(OFFSET(女子様式!$K$18,A108*3,0),2),IF(LEN(OFFSET(女子様式!$J$18,A108*3,0))=0,,\")\"))","v":" "},"",{"$f":"IF($C108=\"\",\"\",VLOOKUP(基本登録情報!$C$7,登録データ!$I$3:$L$100,3,FALSE))","v":""},{"$f":"IF($C108=\"\",\"\",VLOOKUP(OFFSET(女子様式!$M$18,3*A108,0),登録データ!AM108:AN154,2,FALSE))","v":""},"",{"$f":"IF(女子様式!$AG339=\"\",\"\",女子様式!$AG339)","v":""},{"$f":"IF(女子様式!$AG340=\"\",\"\",女子様式!$AG340)","v":""},{"$f":"IF(女子様式!$AG341=\"\",\"\",女子様式!$AG341)","v":""}]
[108,{"$f":"IF(女子様式!$C342=\"\",\"\",IF(女子様式!$C342=\"@\",\"@\",女子様式!$C342))","v":""},{"$f":"IF(女子様式!$C342=\"\",\"\",IF($B109=\"@\",\"@\",$B109+200000000))","v":""},{"$f":"IF($C109=\"\",\"\",CONCATENATE(女子様式!$D342,\" \",\"(\",女子様式!$K342,\")\"))","v":""},"",{"$f":"IF($C109=\"\",\"\",女子様式!$G342)","v":""},{"$f":"CONCATENATE(OFFSET(女子様式!$J$18,3*A109,0),\" \",IF(LEN(OFFSET(女子様式!$K$18,A109*3,0))=0,,\"(\"),LEFT(OFFSET(女子様式!$K$18,A109*3,0),2),IF(LEN(OFFSET(女子様式!$J$18,A109*3,0))=0,,\")\"))","v":" "},"",{"$f":"IF($C109=\"\",\"\",VLOOKUP(基本登録情報!$C$7,登録データ!$I$3:$L$100,3,FALSE))","v":""},{"$f":"IF($C109=\"\",\"\",VLOOKUP(OFFSET(女子様式!$M$18,3*A109,0),登録データ!AM109:AN155,2,FALSE))","v":""},"",{"$f":"IF(女子様式!$AG342=\"\",\"\",女子様式!$AG342)","v":""},{"$f":"IF(女子様式!$AG343=\"\",\"\",女子様式!$AG343)","v":""},{"$f":"IF(女子様式!$AG344=\"\",\"\",女子様式!$AG344)","v":""}]
[109,{"$f":"IF(女子様式!$C345=\"\",\"\",IF(女子様式!$C345=\"@\",\"@\",女子様式!$C345))","v":""},{"$f":"IF(女子様式!$C345=\"\",\"\",IF($B110=\"@\",\"@\",$B110+200000000))","v":""},{"$f":"IF($C110=\"\",\"\",CONCATENATE(女子様式!$D345,\" \",\"(\",女子様式!$K345,\")\"))","v":""},"",{"$f":"IF($C110=\"\",\"\",女子様式!$G345)","v":""},{"$f":"CONCATENATE(OFFSET(女子様式!$J$18,3*A110,0),\" \",IF(LEN(OFFSET(女子様式!$K$18,A110*3,0))=0,,\"(\"),LEFT(OFFSET(女子様式!$K$18,A110*3,0),2),IF(LEN(OFFSET(女子様式!$J$18,A110*3,0))=0,,\")\"))","v":" "},"",{"$f":"IF($C110=\"\",\"\",VLOOKUP(基本登録情報!$C$7,登録データ!$I$3:$L$100,3,FALSE))","v":""},{"$f":"IF($C110=\"\",\"\",VLOOKUP(OFFSET(女子様式!$M$18,3*A110,0),登録データ!AM110:AN156,2,FALSE))","v":""},"",{"$f":"IF(女子様式!$AG345=\"\",\"\",女子様式!$AG345)","v":""},{"$f":"IF(女子様式!$AG346=\"\",\"\",女子様式!$AG346)","v":""},{"$f":"IF(女子様式!$AG347=\"\",\"\",女子様式!$AG347)","v":""}]
[110,{"$f":"IF(女子様式!$C348=\"\",\"\",IF(女子様式!$C348=\"@\",\"@\",女子様式!$C348))","v":""},{"$f":"IF(女子様式!$C348=\"\",\"\",IF($B111=\"@\",\"@\",$B111+200000000))","v":""},{"$f":"IF($C111=\"\",\"\",CONCATENATE(女子様式!$D348,\" \",\"(\",女子様式!$K348,\")\"))","v":""},"",{"$f":"IF($C111=\"\",\"\",女子様式!$G348)","v":""},{"$f":"CONCATENATE(OFFSET(女子様式!$J$18,3*A111,0),\" \",IF(LEN(OFFSET(女子様式!$K$18,A111*3,0))=0,,\"(\"),LEFT(OFFSET(女子様式!$K$18,A111*3,0),2),IF(LEN(OFFSET(女子様式!$J$18,A111*3,0))=0,,\")\"))","v":" "},"",{"$f":"IF($C111=\"\",\"\",VLOOKUP(基本登録情報!$C$7,登録データ!$I$3:$L$100,3,FALSE))","v":""},{"$f":"IF($C111=\"\",\"\",VLOOKUP(OFFSET(女子様式!$M$18,3*A111,0),登録データ!AM111:AN157,2,FALSE))","v":""},"",{"$f":"IF(女子様式!$AG348=\"\",\"\",女子様式!$AG348)","v":""},{"$f":"IF(女子様式!$AG349=\"\",\"\",女子様式!$AG349)","v":""},{"$f":"IF(女子様式!$AG350=\"\",\"\",女子様式!$AG350)","v":""}]
[111,{"$f":"IF(女子様式!$C351=\"\",\"\",IF(女子様式!$C351=\"@\",\"@\",女子様式!$C351))","v":""},{"$f":"IF(女子様式!$C351=\"\",\"\",IF($B112=\"@\",\"@\",$B112+200000000))","v":""},{"$f":"IF($C112=\"\",\"\",CONCATENATE(女子様式!$D351,\" \",\"(\",女子様式!$K351,\")\"))","v":""},"",{"$f":"IF($C112=\"\",\"\",女子様式!$G351)","v":""},{"$f":"CONCATENATE(OFFSET(女子様式!$J$18,3*A112,0),\" \",IF(LEN(OFFSET(女子様式!$K$18,A112*3,0))=0,,\"(\"),LEFT(OFFSET(女子様式!$K$18,A112*3,0),2),IF(LEN(OFFSET(女子様式!$J$18,A112*3,0))=0,,\")\"))","v":" "},"",{"$f":"IF($C112=\"\",\"\",VLOOKUP(基本登録情報!$C$7,登録データ!$I$3:$L$100,3,FALSE))","v":""},{"$f":"IF($C112=\"\",\"\",VLOOKUP(OFFSET(女子様式!$M$18,3*A112,0),登録データ!AM112:AN158,2,FALSE))","v":""},"",{"$f":"IF(女子様式!$AG351=\"\",\"\",女子様式!$AG351)","v":""},{"$f":"IF(女子様式!$AG352=\"\",\"\",女子様式!$AG352)","v":""},{"$f":"IF(女子様式!$AG353=\"\",\"\",女子様式!$AG353)","v":""}]
[112,{"$f":"IF(女子様式!$C354=\"\",\"\",IF(女子様式!$C354=\"@\",\"@\",女子様式!$C354))","v":""},{"$f":"IF(女子様式!$C354=\"\",\"\",IF($B113=\"@\",\"@\",$B113+200000000))","v":""},{"$f":"IF($C113=\"\",\"\",CONCATENATE(女子様式!$D354,\" \",\"(\",女子様式!$K354,\")\"))","v":""},"",{"$f":"IF($C113=\"\",\"\",女子様式!$G354)","v":""},{"$f":"CONCATENATE(OFFSET(女子様式!$J$18,3*A113,0),\" \",IF(LEN(OFFSET(女子様式!$K$18,A113*3,0))=0,,\"(\"),LEFT(OFFSET(女子様式!$K$18,A113*3,0),2),IF(LEN(OFFSET(女子様式!$J$18,A113*3,0))=0,,\")\"))","v":" "},"",{"$f":"IF($C113=\"\",\"\",VLOOKUP(基本登録情報!$C$7,登録データ!$I$3:$L$100,3,FALSE))","v":""},{"$f":"IF($C113=\"\",\"\",VLOOKUP(OFFSET(女子様式!$M$18,3*A113,0),登録データ!AM113:AN159,2,FALSE))","v":""},"",{"$f":"IF(女子様式!$AG354=\"\",\"\",女子様式!$AG354)","v":""},{"$f":"IF(女子様式!$AG355=\"\",\"\",女子様式!$AG355)","v":""},{"$f":"IF(女子様式!$AG356=\"\",\"\",女子様式!$AG356)","v":""}]
[113,{"$f":"IF(女子様式!$C357=\"\",\"\",IF(女子様式!$C357=\"@\",\"@\",女子様式!$C357))","v":""},{"$f":"IF(女子様式!$C357=\"\",\"\",IF($B114=\"@\",\"@\",$B114+200000000))","v":""},{"$f":"IF($C114=\"\",\"\",CONCATENATE(女子様式!$D357,\" \",\"(\",女子様式!$K357,\")\"))","v":""},"",{"$f":"IF($C114=\"\",\"\",女子様式!$G357)","v":""},{"$f":"CONCATENATE(OFFSET(女子様式!$J$18,3*A114,0),\" \",IF(LEN(OFFSET(女子様式!$K$18,A114*3,0))=0,,\"(\"),LEFT(OFFSET(女子様式!$K$18,A114*3,0),2),IF(LEN(OFFSET(女子様式!$J$18,A114*3,0))=0,,\")\"))","v":" "},"",{"$f":"IF($C114=\"\",\"\",VLOOKUP(基本登録情報!$C$7,登録データ!$I$3:$L$100,3,FALSE))","v":""},{"$f":"IF($C114=\"\",\"\",VLOOKUP(OFFSET(女子様式!$M$18,3*A114,0),登録データ!AM114:AN160,2,FALSE))","v":""},"",{"$f":"IF(女子様式!$AG357=\"\",\"\",女子様式!$AG357)","v":""},{"$f":"IF(女子様式!$AG358=\"\",\"\",女子様式!$AG358)","v":""},{"$f":"IF(女子様式!$AG359=\"\",\"\",女子様式!$AG359)","v":""}]
[114,{"$f":"IF(女子様式!$C360=\"\",\"\",IF(女子様式!$C360=\"@\",\"@\",女子様式!$C360))","v":""},{"$f":"IF(女子様式!$C360=\"\",\"\",IF($B115=\"@\",\"@\",$B115+200000000))","v":""},{"$f":"IF($C115=\"\",\"\",CONCATENATE(女子様式!$D360,\" \",\"(\",女子様式!$K360,\")\"))","v":""},"",{"$f":"IF($C115=\"\",\"\",女子様式!$G360)","v":""},{"$f":"CONCATENATE(OFFSET(女子様式!$J$18,3*A115,0),\" \",IF(LEN(OFFSET(女子様式!$K$18,A115*3,0))=0,,\"(\"),LEFT(OFFSET(女子様式!$K$18,A115*3,0),2),IF(LEN(OFFSET(女子様式!$J$18,A115*3,0))=0,,\")\"))","v":" "},"",{"$f":"IF($C115=\"\",\"\",VLOOKUP(基本登録情報!$C$7,登録データ!$I$3:$L$100,3,FALSE))","v":""},{"$f":"IF($C115=\"\",\"\",VLOOKUP(OFFSET(女子様式!$M$18,3*A115,0),登録データ!AM115:AN161,2,FALSE))","v":""},"",{"$f":"IF(女子様式!$AG360=\"\",\"\",女子様式!$AG360)","v":""},{"$f":"IF(女子様式!$AG361=\"\",\"\",女子様式!$AG361)","v":""},{"$f":"IF(女子様式!$AG362=\"\",\"\",女子様式!$AG362)","v":""}]
[115,{"$f":"IF(女子様式!$C363=\"\",\"\",IF(女子様式!$C363=\"@\",\"@\",女子様式!$C363))","v":""},{"$f":"IF(女子様式!$C363=\"\",\"\",IF($B116=\"@\",\"@\",$B116+200000000))","v":""},{"$f":"IF($C116=\"\",\"\",CONCATENATE(女子様式!$D363,\" \",\"(\",女子様式!$K363,\")\"))","v":""},"",{"$f":"IF($C116=\"\",\"\",女子様式!$G363)","v":""},{"$f":"CONCATENATE(OFFSET(女子様式!$J$18,3*A116,0),\" \",IF(LEN(OFFSET(女子様式!$K$18,A116*3,0))=0,,\"(\"),LEFT(OFFSET(女子様式!$K$18,A116*3,0),2),IF(LEN(OFFSET(女子様式!$J$18,A116*3,0))=0,,\")\"))","v":" "},"",{"$f":"IF($C116=\"\",\"\",VLOOKUP(基本登録情報!$C$7,登録データ!$I$3:$L$100,3,FALSE))","v":""},{"$f":"IF($C116=\"\",\"\",VLOOKUP(OFFSET(女子様式!$M$18,3*A116,0),登録データ!AM116:AN162,2,FALSE))","v":""},"",{"$f":"IF(女子様式!$AG363=\"\",\"\",女子様式!$AG363)","v":""},{"$f":"IF(女子様式!$AG364=\"\",\"\",女子様式!$AG364)","v":""},{"$f":"IF(女子様式!$AG365=\"\",\"\",女子様式!$AG365)","v":""}]
[116,{"$f":"IF(女子様式!$C366=\"\",\"\",IF(女子様式!$C366=\"@\",\"@\",女子様式!$C366))","v":""},{"$f":"IF(女子様式!$C366=\"\",\"\",IF($B117=\"@\",\"@\",$B117+200000000))","v":""},{"$f":"IF($C117=\"\",\"\",CONCATENATE(女子様式!$D366,\" \",\"(\",女子様式!$K366,\")\"))","v":""},"",{"$f":"IF($C117=\"\",\"\",女子様式!$G366)","v":""},{"$f":"CONCATENATE(OFFSET(女子様式!$J$18,3*A117,0),\" \",IF(LEN(OFFSET(女子様式!$K$18,A117*3,0))=0,,\"(\"),LEFT(OFFSET(女子様式!$K$18,A117*3,0),2),IF(LEN(OFFSET(女子様式!$J$18,A117*3,0))=0,,\")\"))","v":" "},"",{"$f":"IF($C117=\"\",\"\",VLOOKUP(基本登録情報!$C$7,登録データ!$I$3:$L$100,3,FALSE))","v":""},{"$f":"IF($C117=\"\",\"\",VLOOKUP(OFFSET(女子様式!$M$18,3*A117,0),登録データ!AM117:AN163,2,FALSE))","v":""},"",{"$f":"IF(女子様式!$AG366=\"\",\"\",女子様式!$AG366)","v":""},{"$f":"IF(女子様式!$AG367=\"\",\"\",女子様式!$AG367)","v":""},{"$f":"IF(女子様式!$AG368=\"\",\"\",女子様式!$AG368)","v":""}]
[117,{"$f":"IF(女子様式!$C369=\"\",\"\",IF(女子様式!$C369=\"@\",\"@\",女子様式!$C369))","v":""},{"$f":"IF(女子様式!$C369=\"\",\"\",IF($B118=\"@\",\"@\",$B118+200000000))","v":""},{"$f":"IF($C118=\"\",\"\",CONCATENATE(女子様式!$D369,\" \",\"(\",女子様式!$K369,\")\"))","v":""},"",{"$f":"IF($C118=\"\",\"\",女子様式!$G369)","v":""},{"$f":"CONCATENATE(OFFSET(女子様式!$J$18,3*A118,0),\" \",IF(LEN(OFFSET(女子様式!$K$18,A118*3,0))=0,,\"(\"),LEFT(OFFSET(女子様式!$K$18,A118*3,0),2),IF(LEN(OFFSET(女子様式!$J$18,A118*3,0))=0,,\")\"))","v":" "},"",{"$f":"IF($C118=\"\",\"\",VLOOKUP(基本登録情報!$C$7,登録データ!$I$3:$L$100,3,FALSE))","v":""},{"$f":"IF($C118=\"\",\"\",VLOOKUP(OFFSET(女子様式!$M$18,3*A118,0),登録データ!AM118:AN164,2,FALSE))","v":""},"",{"$f":"IF(女子様式!$AG369=\"\",\"\",女子様式!$AG369)","v":""},{"$f":"IF(女子様式!$AG370=\"\",\"\",女子様式!$AG370)","v":""},{"$f":"IF(女子様式!$AG371=\"\",\"\",女子様式!$AG371)","v":""}]
[118,{"$f":"IF(女子様式!$C372=\"\",\"\",IF(女子様式!$C372=\"@\",\"@\",女子様式!$C372))","v":""},{"$f":"IF(女子様式!$C372=\"\",\"\",IF($B119=\"@\",\"@\",$B119+200000000))","v":""},{"$f":"IF($C119=\"\",\"\",CONCATENATE(女子様式!$D372,\" \",\"(\",女子様式!$K372,\")\"))","v":""},"",{"$f":"IF($C119=\"\",\"\",女子様式!$G372)","v":""},{"$f":"CONCATENATE(OFFSET(女子様式!$J$18,3*A119,0),\" \",IF(LEN(OFFSET(女子様式!$K$18,A119*3,0))=0,,\"(\"),LEFT(OFFSET(女子様式!$K$18,A119*3,0),2),IF(LEN(OFFSET(女子様式!$J$18,A119*3,0))=0,,\")\"))","v":" "},"",{"$f":"IF($C119=\"\",\"\",VLOOKUP(基本登録情報!$C$7,登録データ!$I$3:$L$100,3,FALSE))","v":""},{"$f":"IF($C119=\"\",\"\",VLOOKUP(OFFSET(女子様式!$M$18,3*A119,0),登録データ!AM119:AN165,2,FALSE))","v":""},"",{"$f":"IF(女子様式!$AG372=\"\",\"\",女子様式!$AG372)","v":""},{"$f":"IF(女子様式!$AG373=\"\",\"\",女子様式!$AG373)","v":""},{"$f":"IF(女子様式!$AG374=\"\",\"\",女子様式!$AG374)","v":""}]
[119,{"$f":"IF(女子様式!$C375=\"\",\"\",IF(女子様式!$C375=\"@\",\"@\",女子様式!$C375))","v":""},{"$f":"IF(女子様式!$C375=\"\",\"\",IF($B120=\"@\",\"@\",$B120+200000000))","v":""},{"$f":"IF($C120=\"\",\"\",CONCATENATE(女子様式!$D375,\" \",\"(\",女子様式!$K375,\")\"))","v":""},"",{"$f":"IF($C120=\"\",\"\",女子様式!$G375)","v":""},{"$f":"CONCATENATE(OFFSET(女子様式!$J$18,3*A120,0),\" \",IF(LEN(OFFSET(女子様式!$K$18,A120*3,0))=0,,\"(\"),LEFT(OFFSET(女子様式!$K$18,A120*3,0),2),IF(LEN(OFFSET(女子様式!$J$18,A120*3,0))=0,,\")\"))","v":" "},"",{"$f":"IF($C120=\"\",\"\",VLOOKUP(基本登録情報!$C$7,登録データ!$I$3:$L$100,3,FALSE))","v":""},{"$f":"IF($C120=\"\",\"\",VLOOKUP(OFFSET(女子様式!$M$18,3*A120,0),登録データ!AM120:AN166,2,FALSE))","v":""},"",{"$f":"IF(女子様式!$AG375=\"\",\"\",女子様式!$AG375)","v":""},{"$f":"IF(女子様式!$AG376=\"\",\"\",女子様式!$AG376)","v":""},{"$f":"IF(女子様式!$AG377=\"\",\"\",女子様式!$AG377)","v":""}]
[120,{"$f":"IF(女子様式!$C378=\"\",\"\",IF(女子様式!$C378=\"@\",\"@\",女子様式!$C378))","v":""},{"$f":"IF(女子様式!$C378=\"\",\"\",IF($B121=\"@\",\"@\",$B121+200000000))","v":""},{"$f":"IF($C121=\"\",\"\",CONCATENATE(女子様式!$D378,\" \",\"(\",女子様式!$K378,\")\"))","v":""},"",{"$f":"IF($C121=\"\",\"\",女子様式!$G378)","v":""},{"$f":"CONCATENATE(OFFSET(女子様式!$J$18,3*A121,0),\" \",IF(LEN(OFFSET(女子様式!$K$18,A121*3,0))=0,,\"(\"),LEFT(OFFSET(女子様式!$K$18,A121*3,0),2),IF(LEN(OFFSET(女子様式!$J$18,A121*3,0))=0,,\")\"))","v":" "},"",{"$f":"IF($C121=\"\",\"\",VLOOKUP(基本登録情報!$C$7,登録データ!$I$3:$L$100,3,FALSE))","v":""},{"$f":"IF($C121=\"\",\"\",VLOOKUP(OFFSET(女子様式!$M$18,3*A121,0),登録データ!AM121:AN167,2,FALSE))","v":""},"",{"$f":"IF(女子様式!$AG378=\"\",\"\",女子様式!$AG378)","v":""},{"$f":"IF(女子様式!$AG379=\"\",\"\",女子様式!$AG379)","v":""},{"$f":"IF(女子様式!$AG380=\"\",\"\",女子様式!$AG380)","v":""}]
[121,{"$f":"IF(女子様式!$C381=\"\",\"\",IF(女子様式!$C381=\"@\",\"@\",女子様式!$C381))","v":""},{"$f":"IF(女子様式!$C381=\"\",\"\",IF($B122=\"@\",\"@\",$B122+200000000))","v":""},{"$f":"IF($C122=\"\",\"\",CONCATENATE(女子様式!$D381,\" \",\"(\",女子様式!$K381,\")\"))","v":""},"",{"$f":"IF($C122=\"\",\"\",女子様式!$G381)","v":""},{"$f":"CONCATENATE(OFFSET(女子様式!$J$18,3*A122,0),\" \",IF(LEN(OFFSET(女子様式!$K$18,A122*3,0))=0,,\"(\"),LEFT(OFFSET(女子様式!$K$18,A122*3,0),2),IF(LEN(OFFSET(女子様式!$J$18,A122*3,0))=0,,\")\"))","v":" "},"",{"$f":"IF($C122=\"\",\"\",VLOOKUP(基本登録情報!$C$7,登録データ!$I$3:$L$100,3,FALSE))","v":""},{"$f":"IF($C122=\"\",\"\",VLOOKUP(OFFSET(女子様式!$M$18,3*A122,0),登録データ!AM122:AN168,2,FALSE))","v":""},"",{"$f":"IF(女子様式!$AG381=\"\",\"\",女子様式!$AG381)","v":""},{"$f":"IF(女子様式!$AG382=\"\",\"\",女子様式!$AG382)","v":""},{"$f":"IF(女子様式!$AG383=\"\",\"\",女子様式!$AG383)","v":""}]
[122,{"$f":"IF(女子様式!$C384=\"\",\"\",IF(女子様式!$C384=\"@\",\"@\",女子様式!$C384))","v":""},{"$f":"IF(女子様式!$C384=\"\",\"\",IF($B123=\"@\",\"@\",$B123+200000000))","v":""},{"$f":"IF($C123=\"\",\"\",CONCATENATE(女子様式!$D384,\" \",\"(\",女子様式!$K384,\")\"))","v":""},"",{"$f":"IF($C123=\"\",\"\",女子様式!$G384)","v":""},{"$f":"CONCATENATE(OFFSET(女子様式!$J$18,3*A123,0),\" \",IF(LEN(OFFSET(女子様式!$K$18,A123*3,0))=0,,\"(\"),LEFT(OFFSET(女子様式!$K$18,A123*3,0),2),IF(LEN(OFFSET(女子様式!$J$18,A123*3,0))=0,,\")\"))","v":" "},"",{"$f":"IF($C123=\"\",\"\",VLOOKUP(基本登録情報!$C$7,登録データ!$I$3:$L$100,3,FALSE))","v":""},{"$f":"IF($C123=\"\",\"\",VLOOKUP(OFFSET(女子様式!$M$18,3*A123,0),登録データ!AM123:AN169,2,FALSE))","v":""},"",{"$f":"IF(女子様式!$AG384=\"\",\"\",女子様式!$AG384)","v":""},{"$f":"IF(女子様式!$AG385=\"\",\"\",女子様式!$AG385)","v":""},{"$f":"IF(女子様式!$AG386=\"\",\"\",女子様式!$AG386)","v":""}]
[123,{"$f":"IF(女子様式!$C387=\"\",\"\",IF(女子様式!$C387=\"@\",\"@\",女子様式!$C387))","v":""},{"$f":"IF(女子様式!$C387=\"\",\"\",IF($B124=\"@\",\"@\",$B124+200000000))","v":""},{"$f":"IF($C124=\"\",\"\",CONCATENATE(女子様式!$D387,\" \",\"(\",女子様式!$K387,\")\"))","v":""},"",{"$f":"IF($C124=\"\",\"\",女子様式!$G387)","v":""},{"$f":"CONCATENATE(OFFSET(女子様式!$J$18,3*A124,0),\" \",IF(LEN(OFFSET(女子様式!$K$18,A124*3,0))=0,,\"(\"),LEFT(OFFSET(女子様式!$K$18,A124*3,0),2),IF(LEN(OFFSET(女子様式!$J$18,A124*3,0))=0,,\")\"))","v":" "},"",{"$f":"IF($C124=\"\",\"\",VLOOKUP(基本登録情報!$C$7,登録データ!$I$3:$L$100,3,FALSE))","v":""},{"$f":"IF($C124=\"\",\"\",VLOOKUP(OFFSET(女子様式!$M$18,3*A124,0),登録データ!AM124:AN170,2,FALSE))","v":""},"",{"$f":"IF(女子様式!$AG387=\"\",\"\",女子様式!$AG387)","v":""},{"$f":"IF(女子様式!$AG388=\"\",\"\",女子様式!$AG388)","v":""},{"$f":"IF(女子様式!$AG389=\"\",\"\",女子様式!$AG389)","v":""}]
[null,{"$f":"IF(女子様式!$C390=\"\",\"\",IF(女子様式!$C390=\"@\",\"@\",女子様式!$C390))","v":""},{"$f":"IF(女子様式!$C390=\"\",\"\",IF($B125=\"@\",\"@\",$B125+200000000))","v":""},{"$f":"IF($C125=\"\",\"\",CONCATENATE(女子様式!$D390,\" \",\"(\",女子様式!$K390,\")\"))","v":""},"",{"$f":"IF($C125=\"\",\"\",女子様式!$G390)","v":""},{"$f":"CONCATENATE(OFFSET(女子様式!$J$18,3*A125,0),\" \",IF(LEN(OFFSET(女子様式!$K$18,A125*3,0))=0,,\"(\"),LEFT(OFFSET(女子様式!$K$18,A125*3,0),2),IF(LEN(OFFSET(女子様式!$J$18,A125*3,0))=0,,\")\"))","v":" "},"",{"$f":"IF($C125=\"\",\"\",VLOOKUP(基本登録情報!$C$7,登録データ!$I$3:$L$100,3,FALSE))","v":""},{"$f":"IF($C125=\"\",\"\",VLOOKUP(OFFSET(女子様式!$M$18,3*A125,0),登録データ!AM125:AN171,2,FALSE))","v":""},"",{"$f":"IF(女子様式!$AG390=\"\",\"\",女子様式!$AG390)","v":""},{"$f":"IF(女子様式!$AG391=\"\",\"\",女子様式!$AG391)","v":""},{"$f":"IF(女子様式!$AG392=\"\",\"\",女子様式!$AG392)","v":""}]
[null,{"$f":"IF(女子様式!$C393=\"\",\"\",IF(女子様式!$C393=\"@\",\"@\",女子様式!$C393))","v":""},{"$f":"IF(女子様式!$C393=\"\",\"\",IF($B126=\"@\",\"@\",$B126+200000000))","v":""},{"$f":"IF($C126=\"\",\"\",CONCATENATE(女子様式!$D393,\" \",\"(\",女子様式!$K393,\")\"))","v":""},"",{"$f":"IF($C126=\"\",\"\",女子様式!$G393)","v":""},{"$f":"CONCATENATE(OFFSET(女子様式!$J$18,3*A126,0),\" \",IF(LEN(OFFSET(女子様式!$K$18,A126*3,0))=0,,\"(\"),LEFT(OFFSET(女子様式!$K$18,A126*3,0),2),IF(LEN(OFFSET(女子様式!$J$18,A126*3,0))=0,,\")\"))","v":" "},"",{"$f":"IF($C126=\"\",\"\",VLOOKUP(基本登録情報!$C$7,登録データ!$I$3:$L$100,3,FALSE))","v":""},{"$f":"IF($C126=\"\",\"\",VLOOKUP(OFFSET(女子様式!$M$18,3*A126,0),登録データ!AM126:AN172,2,FALSE))","v":""},"",{"$f":"IF(女子様式!$AG393=\"\",\"\",女子様式!$AG393)","v":""},{"$f":"IF(女子様式!$AG394=\"\",\"\",女子様式!$AG394)","v":""},{"$f":"IF(女子様式!$AG395=\"\",\"\",女子様式!$AG395)","v":""}]
[null,{"$f":"IF(女子様式!$C396=\"\",\"\",IF(女子様式!$C396=\"@\",\"@\",女子様式!$C396))","v":""},{"$f":"IF(女子様式!$C396=\"\",\"\",IF($B127=\"@\",\"@\",$B127+200000000))","v":""},{"$f":"IF($C127=\"\",\"\",CONCATENATE(女子様式!$D396,\" \",\"(\",女子様式!$K396,\")\"))","v":""},"",{"$f":"IF($C127=\"\",\"\",女子様式!$G396)","v":""},{"$f":"CONCATENATE(OFFSET(女子様式!$J$18,3*A127,0),\" \",IF(LEN(OFFSET(女子様式!$K$18,A127*3,0))=0,,\"(\"),LEFT(OFFSET(女子様式!$K$18,A127*3,0),2),IF(LEN(OFFSET(女子様式!$J$18,A127*3,0))=0,,\")\"))","v":" "},"",{"$f":"IF($C127=\"\",\"\",VLOOKUP(基本登録情報!$C$7,登録データ!$I$3:$L$100,3,FALSE))","v":""},{"$f":"IF($C127=\"\",\"\",VLOOKUP(OFFSET(女子様式!$M$18,3*A127,0),登録データ!AM127:AN173,2,FALSE))","v":""},"",{"$f":"IF(女子様式!$AG396=\"\",\"\",女子様式!$AG396)","v":""},{"$f":"IF(女子様式!$AG397=\"\",\"\",女子様式!$AG397)","v":""},{"$f":"IF(女子様式!$AG398=\"\",\"\",女子様式!$AG398)","v":""}]
[null,{"$f":"IF(女子様式!$C399=\"\",\"\",IF(女子様式!$C399=\"@\",\"@\",女子様式!$C399))","v":""},{"$f":"IF(女子様式!$C399=\"\",\"\",IF($B128=\"@\",\"@\",$B128+200000000))","v":""},{"$f":"IF($C128=\"\",\"\",CONCATENATE(女子様式!$D399,\" \",\"(\",女子様式!$K399,\")\"))","v":""},"",{"$f":"IF($C128=\"\",\"\",女子様式!$G399)","v":""},{"$f":"CONCATENATE(OFFSET(女子様式!$J$18,3*A128,0),\" \",IF(LEN(OFFSET(女子様式!$K$18,A128*3,0))=0,,\"(\"),LEFT(OFFSET(女子様式!$K$18,A128*3,0),2),IF(LEN(OFFSET(女子様式!$J$18,A128*3,0))=0,,\")\"))","v":" "},"",{"$f":"IF($C128=\"\",\"\",VLOOKUP(基本登録情報!$C$7,登録データ!$I$3:$L$100,3,FALSE))","v":""},{"$f":"IF($C128=\"\",\"\",VLOOKUP(OFFSET(女子様式!$M$18,3*A128,0),登録データ!AM128:AN174,2,FALSE))","v":""},"",{"$f":"IF(女子様式!$AG399=\"\",\"\",女子様式!$AG399)","v":""},{"$f":"IF(女子様式!$AG400=\"\",\"\",女子様式!$AG400)","v":""},{"$f":"IF(女子様式!$AG401=\"\",\"\",女子様式!$AG401)","v":""}]
[null,{"$f":"IF(女子様式!$C402=\"\",\"\",IF(女子様式!$C402=\"@\",\"@\",女子様式!$C402))","v":""},{"$f":"IF(女子様式!$C402=\"\",\"\",IF($B129=\"@\",\"@\",$B129+200000000))","v":""},{"$f":"IF($C129=\"\",\"\",CONCATENATE(女子様式!$D402,\" \",\"(\",女子様式!$K402,\")\"))","v":""},"",{"$f":"IF($C129=\"\",\"\",女子様式!$G402)","v":""},{"$f":"CONCATENATE(OFFSET(女子様式!$J$18,3*A129,0),\" \",IF(LEN(OFFSET(女子様式!$K$18,A129*3,0))=0,,\"(\"),LEFT(OFFSET(女子様式!$K$18,A129*3,0),2),IF(LEN(OFFSET(女子様式!$J$18,A129*3,0))=0,,\")\"))","v":" "},"",{"$f":"IF($C129=\"\",\"\",VLOOKUP(基本登録情報!$C$7,登録データ!$I$3:$L$100,3,FALSE))","v":""},{"$f":"IF($C129=\"\",\"\",VLOOKUP(OFFSET(女子様式!$M$18,3*A129,0),登録データ!AM129:AN175,2,FALSE))","v":""},"",{"$f":"IF(女子様式!$AG402=\"\",\"\",女子様式!$AG402)","v":""},{"$f":"IF(女子様式!$AG403=\"\",\"\",女子様式!$AG403)","v":""},{"$f":"IF(女子様式!$AG404=\"\",\"\",女子様式!$AG404)","v":""}]
[null,{"$f":"IF(女子様式!$C405=\"\",\"\",IF(女子様式!$C405=\"@\",\"@\",女子様式!$C405))","v":""},{"$f":"IF(女子様式!$C405=\"\",\"\",IF($B130=\"@\",\"@\",$B130+200000000))","v":""},{"$f":"IF($C130=\"\",\"\",CONCATENATE(女子様式!$D405,\" \",\"(\",女子様式!$K405,\")\"))","v":""},"",{"$f":"IF($C130=\"\",\"\",女子様式!$G405)","v":""},{"$f":"CONCATENATE(OFFSET(女子様式!$J$18,3*A130,0),\" \",IF(LEN(OFFSET(女子様式!$K$18,A130*3,0))=0,,\"(\"),LEFT(OFFSET(女子様式!$K$18,A130*3,0),2),IF(LEN(OFFSET(女子様式!$J$18,A130*3,0))=0,,\")\"))","v":" "},"",{"$f":"IF($C130=\"\",\"\",VLOOKUP(基本登録情報!$C$7,登録データ!$I$3:$L$100,3,FALSE))","v":""},{"$f":"IF($C130=\"\",\"\",VLOOKUP(OFFSET(女子様式!$M$18,3*A130,0),登録データ!AM130:AN176,2,FALSE))","v":""},"",{"$f":"IF(女子様式!$AG405=\"\",\"\",女子様式!$AG405)","v":""},{"$f":"IF(女子様式!$AG406=\"\",\"\",女子様式!$AG406)","v":""},{"$f":"IF(女子様式!$AG407=\"\",\"\",女子様式!$AG407)","v":""}]
[null,{"$f":"IF(女子様式!$C408=\"\",\"\",IF(女子様式!$C408=\"@\",\"@\",女子様式!$C408))","v":""},{"$f":"IF(女子様式!$C408=\"\",\"\",IF($B131=\"@\",\"@\",$B131+200000000))","v":""},{"$f":"IF($C131=\"\",\"\",CONCATENATE(女子様式!$D408,\" \",\"(\",女子様式!$K408,\")\"))","v":""},{"$f":"IF(D131=\"\",\"\",LEFT(D131,FIND(\"(\",D131)-1))","v":""},{"$f":"IF($C131=\"\",\"\",女子様式!$G408)","v":""},{"$f":"CONCATENATE(OFFSET(女子様式!$J$18,3*A131,0),\" \",IF(LEN(OFFSET(女子様式!$K$18,A131*3,0))=0,,\"(\"),LEFT(OFFSET(女子様式!$K$18,A131*3,0),2),IF(LEN(OFFSET(女子様式!$J$18,A131*3,0))=0,,\")\"))","v":" "},{"$f":"IF($C131=\"\",\"\",2)","v":""},{"$f":"IF($C131=\"\",\"\",VLOOKUP(基本登録情報!$C$7,登録データ!$I$3:$L$100,3,FALSE))","v":""},{"$f":"IF($C131=\"\",\"\",VLOOKUP(OFFSET(女子様式!$M$18,3*A131,0),登録データ!AM131:AN177,2,FALSE))","v":""},{"$f":"IF($C131=\"\",\"\",IF($B131=\"@\",\"@\",VALUE(RIGHT($C131,4))))","v":""},{"$f":"IF(女子様式!$AG408=\"\",\"\",女子様式!$AG408)","v":""},{"$f":"IF(女子様式!$AG409=\"\",\"\",女子様式!$AG409)","v":""},{"$f":"IF(女子様式!$AG410=\"\",\"\",女子様式!$AG410)","v":""}]
[null,{"$f":"IF(女子様式!$C411=\"\",\"\",IF(女子様式!$C411=\"@\",\"@\",女子様式!$C411))","v":""},{"$f":"IF(女子様式!$C411=\"\",\"\",IF($B132=\"@\",\"@\",$B132+200000000))","v":""},{"$f":"IF($C132=\"\",\"\",CONCATENATE(女子様式!$D411,\" \",\"(\",女子様式!$K411,\")\"))","v":""},"",{"$f":"IF($C132=\"\",\"\",女子様式!$G411)","v":""},{"$f":"CONCATENATE(OFFSET(女子様式!$J$18,3*A132,0),\" \",IF(LEN(OFFSET(女子様式!$K$18,A132*3,0))=0,,\"(\"),LEFT(OFFSET(女子様式!$K$18,A132*3,0),2),IF(LEN(OFFSET(女子様式!$J$18,A132*3,0))=0,,\")\"))","v":" "},"",{"$f":"IF($C132=\"\",\"\",VLOOKUP(基本登録情報!$C$7,登録データ!$I$3:$L$100,3,FALSE))","v":""},{"$f":"IF($C132=\"\",\"\",VLOOKUP(OFFSET(女子様式!$M$18,3*A132,0),登録データ!AM132:AN178,2,FALSE))","v":""},"",{"$f":"IF(女子様式!$AG411=\"\",\"\",女子様式!$AG411)","v":""},{"$f":"IF(女子様式!$AG412=\"\",\"\",女子様式!$AG412)","v":""},{"$f":"IF(女子様式!$AG413=\"\",\"\",女子様式!$AG413)","v":""}]
[null,{"$f":"IF(女子様式!$C414=\"\",\"\",IF(女子様式!$C414=\"@\",\"@\",女子様式!$C414))","v":""},{"$f":"IF(女子様式!$C414=\"\",\"\",IF($B133=\"@\",\"@\",$B133+200000000))","v":""},{"$f":"IF($C133=\"\",\"\",CONCATENATE(女子様式!$D414,\" \",\"(\",女子様式!$K414,\")\"))","v":""},"",{"$f":"IF($C133=\"\",\"\",女子様式!$G414)","v":""},{"$f":"CONCATENATE(OFFSET(女子様式!$J$18,3*A133,0),\" \",IF(LEN(OFFSET(女子様式!$K$18,A133*3,0))=0,,\"(\"),LEFT(OFFSET(女子様式!$K$18,A133*3,0),2),IF(LEN(OFFSET(女子様式!$J$18,A133*3,0))=0,,\")\"))","v":" "},"",{"$f":"IF($C133=\"\",\"\",VLOOKUP(基本登録情報!$C$7,登録データ!$I$3:$L$100,3,FALSE))","v":""},{"$f":"IF($C133=\"\",\"\",VLOOKUP(OFFSET(女子様式!$M$18,3*A133,0),登録データ!AM133:AN179,2,FALSE))","v":""},"",{"$f":"IF(女子様式!$AG414=\"\",\"\",女子様式!$AG414)","v":""},{"$f":"IF(女子様式!$AG415=\"\",\"\",女子様式!$AG415)","v":""},{"$f":"IF(女子様式!$AG416=\"\",\"\",女子様式!$AG416)","v":""}]
[null,{"$f":"IF(女子様式!$C417=\"\",\"\",IF(女子様式!$C417=\"@\",\"@\",女子様式!$C417))","v":""},{"$f":"IF(女子様式!$C417=\"\",\"\",IF($B134=\"@\",\"@\",$B134+200000000))","v":""},{"$f":"IF($C134=\"\",\"\",CONCATENATE(女子様式!$D417,\" \",\"(\",女子様式!$K417,\")\"))","v":""},"",{"$f":"IF($C134=\"\",\"\",女子様式!$G417)","v":""},{"$f":"CONCATENATE(OFFSET(女子様式!$J$18,3*A134,0),\" \",IF(LEN(OFFSET(女子様式!$K$18,A134*3,0))=0,,\"(\"),LEFT(OFFSET(女子様式!$K$18,A134*3,0),2),IF(LEN(OFFSET(女子様式!$J$18,A134*3,0))=0,,\")\"))","v":" "},"",{"$f":"IF($C134=\"\",\"\",VLOOKUP(基本登録情報!$C$7,登録データ!$I$3:$L$100,3,FALSE))","v":""},{"$f":"IF($C134=\"\",\"\",VLOOKUP(OFFSET(女子様式!$M$18,3*A134,0),登録データ!AM134:AN180,2,FALSE))","v":""},"",{"$f":"IF(女子様式!$AG417=\"\",\"\",女子様式!$AG417)","v":""},{"$f":"IF(女子様式!$AG418=\"\",\"\",女子様式!$AG418)","v":""},{"$f":"IF(女子様式!$AG419=\"\",\"\",女子様式!$AG419)","v":""}]
[null,{"$f":"IF(女子様式!$C420=\"\",\"\",IF(女子様式!$C420=\"@\",\"@\",女子様式!$C420))","v":""},{"$f":"IF(女子様式!$C420=\"\",\"\",IF($B135=\"@\",\"@\",$B135+200000000))","v":""},{"$f":"IF($C135=\"\",\"\",CONCATENATE(女子様式!$D420,\" \",\"(\",女子様式!$K420,\")\"))","v":""},"",{"$f":"IF($C135=\"\",\"\",女子様式!$G420)","v":""},{"$f":"CONCATENATE(OFFSET(女子様式!$J$18,3*A135,0),\" \",IF(LEN(OFFSET(女子様式!$K$18,A135*3,0))=0,,\"(\"),LEFT(OFFSET(女子様式!$K$18,A135*3,0),2),IF(LEN(OFFSET(女子様式!$J$18,A135*3,0))=0,,\")\"))","v":" "},"",{"$f":"IF($C135=\"\",\"\",VLOOKUP(基本登録情報!$C$7,登録データ!$I$3:$L$100,3,FALSE))","v":""},{"$f":"IF($C135=\"\",\"\",VLOOKUP(OFFSET(女子様式!$M$18,3*A135,0),登録データ!AM135:AN181,2,FALSE))","v":""},"",{"$f":"IF(女子様式!$AG420=\"\",\"\",女子様式!$AG420)","v":""},{"$f":"IF(女子様式!$AG421=\"\",\"\",女子様式!$AG421)","v":""},{"$f":"IF(女子様式!$AG422=\"\",\"\",女子様式!$AG422)","v":""}]
[null,{"$f":"IF(女子様式!$C423=\"\",\"\",IF(女子様式!$C423=\"@\",\"@\",女子様式!$C423))","v":""},{"$f":"IF(女子様式!$C423=\"\",\"\",IF($B136=\"@\",\"@\",$B136+200000000))","v":""},{"$f":"IF($C136=\"\",\"\",CONCATENATE(女子様式!$D423,\" \",\"(\",女子様式!$K423,\")\"))","v":""},"",{"$f":"IF($C136=\"\",\"\",女子様式!$G423)","v":""},{"$f":"CONCATENATE(OFFSET(女子様式!$J$18,3*A136,0),\" \",IF(LEN(OFFSET(女子様式!$K$18,A136*3,0))=0,,\"(\"),LEFT(OFFSET(女子様式!$K$18,A136*3,0),2),IF(LEN(OFFSET(女子様式!$J$18,A136*3,0))=0,,\")\"))","v":" "},"",{"$f":"IF($C136=\"\",\"\",VLOOKUP(基本登録情報!$C$7,登録データ!$I$3:$L$100,3,FALSE))","v":""},{"$f":"IF($C136=\"\",\"\",VLOOKUP(OFFSET(女子様式!$M$18,3*A136,0),登録データ!AM136:AN182,2,FALSE))","v":""},"",{"$f":"IF(女子様式!$AG423=\"\",\"\",女子様式!$AG423)","v":""},{"$f":"IF(女子様式!$AG424=\"\",\"\",女子様式!$AG424)","v":""},{"$f":"IF(女子様式!$AG425=\"\",\"\",女子様式!$AG425)","v":""}]
[null,{"$f":"IF(女子様式!$C426=\"\",\"\",IF(女子様式!$C426=\"@\",\"@\",女子様式!$C426))","v":""},{"$f":"IF(女子様式!$C426=\"\",\"\",IF($B137=\"@\",\"@\",$B137+200000000))","v":""},{"$f":"IF($C137=\"\",\"\",CONCATENATE(女子様式!$D426,\" \",\"(\",女子様式!$K426,\")\"))","v":""},"",{"$f":"IF($C137=\"\",\"\",女子様式!$G426)","v":""},{"$f":"CONCATENATE(OFFSET(女子様式!$J$18,3*A137,0),\" \",IF(LEN(OFFSET(女子様式!$K$18,A137*3,0))=0,,\"(\"),LEFT(OFFSET(女子様式!$K$18,A137*3,0),2),IF(LEN(OFFSET(女子様式!$J$18,A137*3,0))=0,,\")\"))","v":" "},"",{"$f":"IF($C137=\"\",\"\",VLOOKUP(基本登録情報!$C$7,登録データ!$I$3:$L$100,3,FALSE))","v":""},{"$f":"IF($C137=\"\",\"\",VLOOKUP(OFFSET(女子様式!$M$18,3*A137,0),登録データ!AM137:AN183,2,FALSE))","v":""},"",{"$f":"IF(女子様式!$AG426=\"\",\"\",女子様式!$AG426)","v":""},{"$f":"IF(女子様式!$AG427=\"\",\"\",女子様式!$AG427)","v":""},{"$f":"IF(女子様式!$AG428=\"\",\"\",女子様式!$AG428)","v":""}]
[null,{"$f":"IF(女子様式!$C429=\"\",\"\",IF(女子様式!$C429=\"@\",\"@\",女子様式!$C429))","v":""},{"$f":"IF(女子様式!$C429=\"\",\"\",IF($B138=\"@\",\"@\",$B138+200000000))","v":""},{"$f":"IF($C138=\"\",\"\",CONCATENATE(女子様式!$D429,\" \",\"(\",女子様式!$K429,\")\"))","v":""},"",{"$f":"IF($C138=\"\",\"\",女子様式!$G429)","v":""},{"$f":"CONCATENATE(OFFSET(女子様式!$J$18,3*A138,0),\" \",IF(LEN(OFFSET(女子様式!$K$18,A138*3,0))=0,,\"(\"),LEFT(OFFSET(女子様式!$K$18,A138*3,0),2),IF(LEN(OFFSET(女子様式!$J$18,A138*3,0))=0,,\")\"))","v":" "},"",{"$f":"IF($C138=\"\",\"\",VLOOKUP(基本登録情報!$C$7,登録データ!$I$3:$L$100,3,FALSE))","v":""},{"$f":"IF($C138=\"\",\"\",VLOOKUP(OFFSET(女子様式!$M$18,3*A138,0),登録データ!AM138:AN184,2,FALSE))","v":""},"",{"$f":"IF(女子様式!$AG429=\"\",\"\",女子様式!$AG429)","v":""},{"$f":"IF(女子様式!$AG430=\"\",\"\",女子様式!$AG430)","v":""},{"$f":"IF(女子様式!$AG431=\"\",\"\",女子様式!$AG431)","v":""}]
[null,{"$f":"IF(女子様式!$C432=\"\",\"\",IF(女子様式!$C432=\"@\",\"@\",女子様式!$C432))","v":""},{"$f":"IF(女子様式!$C432=\"\",\"\",IF($B139=\"@\",\"@\",$B139+200000000))","v":""},{"$f":"IF($C139=\"\",\"\",CONCATENATE(女子様式!$D432,\" \",\"(\",女子様式!$K432,\")\"))","v":""},"",{"$f":"IF($C139=\"\",\"\",女子様式!$G432)","v":""},{"$f":"CONCATENATE(OFFSET(女子様式!$J$18,3*A139,0),\" \",IF(LEN(OFFSET(女子様式!$K$18,A139*3,0))=0,,\"(\"),LEFT(OFFSET(女子様式!$K$18,A139*3,0),2),IF(LEN(OFFSET(女子様式!$J$18,A139*3,0))=0,,\")\"))","v":" "},"",{"$f":"IF($C139=\"\",\"\",VLOOKUP(基本登録情報!$C$7,登録データ!$I$3:$L$100,3,FALSE))","v":""},{"$f":"IF($C139=\"\",\"\",VLOOKUP(OFFSET(女子様式!$M$18,3*A139,0),登録データ!AM139:AN185,2,FALSE))","v":""},"",{"$f":"IF(女子様式!$AG432=\"\",\"\",女子様式!$AG432)","v":""},{"$f":"IF(女子様式!$AG433=\"\",\"\",女子様式!$AG433)","v":""},{"$f":"IF(女子様式!$AG434=\"\",\"\",女子様式!$AG434)","v":""}]
[null,{"$f":"IF(女子様式!$C435=\"\",\"\",IF(女子様式!$C435=\"@\",\"@\",女子様式!$C435))","v":""},{"$f":"IF(女子様式!$C435=\"\",\"\",IF($B140=\"@\",\"@\",$B140+200000000))","v":""},{"$f":"IF($C140=\"\",\"\",CONCATENATE(女子様式!$D435,\" \",\"(\",女子様式!$K435,\")\"))","v":""},"",{"$f":"IF($C140=\"\",\"\",女子様式!$G435)","v":""},{"$f":"CONCATENATE(OFFSET(女子様式!$J$18,3*A140,0),\" \",IF(LEN(OFFSET(女子様式!$K$18,A140*3,0))=0,,\"(\"),LEFT(OFFSET(女子様式!$K$18,A140*3,0),2),IF(LEN(OFFSET(女子様式!$J$18,A140*3,0))=0,,\")\"))","v":" "},"",{"$f":"IF($C140=\"\",\"\",VLOOKUP(基本登録情報!$C$7,登録データ!$I$3:$L$100,3,FALSE))","v":""},{"$f":"IF($C140=\"\",\"\",VLOOKUP(OFFSET(女子様式!$M$18,3*A140,0),登録データ!AM140:AN186,2,FALSE))","v":""},"",{"$f":"IF(女子様式!$AG435=\"\",\"\",女子様式!$AG435)","v":""},{"$f":"IF(女子様式!$AG436=\"\",\"\",女子様式!$AG436)","v":""},{"$f":"IF(女子様式!$AG437=\"\",\"\",女子様式!$AG437)","v":""}]
[null,{"$f":"IF(女子様式!$C438=\"\",\"\",IF(女子様式!$C438=\"@\",\"@\",女子様式!$C438))","v":""},{"$f":"IF(女子様式!$C438=\"\",\"\",IF($B141=\"@\",\"@\",$B141+200000000))","v":""},{"$f":"IF($C141=\"\",\"\",CONCATENATE(女子様式!$D438,\" \",\"(\",女子様式!$K438,\")\"))","v":""},"",{"$f":"IF($C141=\"\",\"\",女子様式!$G438)","v":""},{"$f":"CONCATENATE(OFFSET(女子様式!$J$18,3*A141,0),\" \",IF(LEN(OFFSET(女子様式!$K$18,A141*3,0))=0,,\"(\"),LEFT(OFFSET(女子様式!$K$18,A141*3,0),2),IF(LEN(OFFSET(女子様式!$J$18,A141*3,0))=0,,\")\"))","v":" "},"",{"$f":"IF($C141=\"\",\"\",VLOOKUP(基本登録情報!$C$7,登録データ!$I$3:$L$100,3,FALSE))","v":""},{"$f":"IF($C141=\"\",\"\",VLOOKUP(OFFSET(女子様式!$M$18,3*A141,0),登録データ!AM141:AN187,2,FALSE))","v":""},"",{"$f":"IF(女子様式!$AG438=\"\",\"\",女子様式!$AG438)","v":""},{"$f":"IF(女子様式!$AG439=\"\",\"\",女子様式!$AG439)","v":""},{"$f":"IF(女子様式!$AG440=\"\",\"\",女子様式!$AG440)","v":""}]
[null,{"$f":"IF(女子様式!$C441=\"\",\"\",IF(女子様式!$C441=\"@\",\"@\",女子様式!$C441))","v":""},{"$f":"IF(女子様式!$C441=\"\",\"\",IF($B142=\"@\",\"@\",$B142+200000000))","v":""},{"$f":"IF($C142=\"\",\"\",CONCATENATE(女子様式!$D441,\" \",\"(\",女子様式!$K441,\")\"))","v":""},"",{"$f":"IF($C142=\"\",\"\",女子様式!$G441)","v":""},{"$f":"CONCATENATE(OFFSET(女子様式!$J$18,3*A142,0),\" \",IF(LEN(OFFSET(女子様式!$K$18,A142*3,0))=0,,\"(\"),LEFT(OFFSET(女子様式!$K$18,A142*3,0),2),IF(LEN(OFFSET(女子様式!$J$18,A142*3,0))=0,,\")\"))","v":" "},"",{"$f":"IF($C142=\"\",\"\",VLOOKUP(基本登録情報!$C$7,登録データ!$I$3:$L$100,3,FALSE))","v":""},{"$f":"IF($C142=\"\",\"\",VLOOKUP(OFFSET(女子様式!$M$18,3*A142,0),登録データ!AM142:AN188,2,FALSE))","v":""},"",{"$f":"IF(女子様式!$AG441=\"\",\"\",女子様式!$AG441)","v":""},{"$f":"IF(女子様式!$AG442=\"\",\"\",女子様式!$AG442)","v":""},{"$f":"IF(女子様式!$AG443=\"\",\"\",女子様式!$AG443)","v":""}]
[null,{"$f":"IF(女子様式!$C444=\"\",\"\",IF(女子様式!$C444=\"@\",\"@\",女子様式!$C444))","v":""},{"$f":"IF(女子様式!$C444=\"\",\"\",IF($B143=\"@\",\"@\",$B143+200000000))","v":""},{"$f":"IF($C143=\"\",\"\",CONCATENATE(女子様式!$D444,\" \",\"(\",女子様式!$K444,\")\"))","v":""},"",{"$f":"IF($C143=\"\",\"\",女子様式!$G444)","v":""},{"$f":"CONCATENATE(OFFSET(女子様式!$J$18,3*A143,0),\" \",IF(LEN(OFFSET(女子様式!$K$18,A143*3,0))=0,,\"(\"),LEFT(OFFSET(女子様式!$K$18,A143*3,0),2),IF(LEN(OFFSET(女子様式!$J$18,A143*3,0))=0,,\")\"))","v":" "},"",{"$f":"IF($C143=\"\",\"\",VLOOKUP(基本登録情報!$C$7,登録データ!$I$3:$L$100,3,FALSE))","v":""},{"$f":"IF($C143=\"\",\"\",VLOOKUP(OFFSET(女子様式!$M$18,3*A143,0),登録データ!AM143:AN189,2,FALSE))","v":""},"",{"$f":"IF(女子様式!$AG444=\"\",\"\",女子様式!$AG444)","v":""},{"$f":"IF(女子様式!$AG445=\"\",\"\",女子様式!$AG445)","v":""},{"$f":"IF(女子様式!$AG446=\"\",\"\",女子様式!$AG446)","v":""}]
[null,{"$f":"IF(女子様式!$C447=\"\",\"\",IF(女子様式!$C447=\"@\",\"@\",女子様式!$C447))","v":""},{"$f":"IF(女子様式!$C447=\"\",\"\",IF($B144=\"@\",\"@\",$B144+200000000))","v":""},{"$f":"IF($C144=\"\",\"\",CONCATENATE(女子様式!$D447,\" \",\"(\",女子様式!$K447,\")\"))","v":""},"",{"$f":"IF($C144=\"\",\"\",女子様式!$G447)","v":""},{"$f":"CONCATENATE(OFFSET(女子様式!$J$18,3*A144,0),\" \",IF(LEN(OFFSET(女子様式!$K$18,A144*3,0))=0,,\"(\"),LEFT(OFFSET(女子様式!$K$18,A144*3,0),2),IF(LEN(OFFSET(女子様式!$J$18,A144*3,0))=0,,\")\"))","v":" "},"",{"$f":"IF($C144=\"\",\"\",VLOOKUP(基本登録情報!$C$7,登録データ!$I$3:$L$100,3,FALSE))","v":""},{"$f":"IF($C144=\"\",\"\",VLOOKUP(OFFSET(女子様式!$M$18,3*A144,0),登録データ!AM144:AN190,2,FALSE))","v":""},"",{"$f":"IF(女子様式!$AG447=\"\",\"\",女子様式!$AG447)","v":""},{"$f":"IF(女子様式!$AG448=\"\",\"\",女子様式!$AG448)","v":""},{"$f":"IF(女子様式!$AG449=\"\",\"\",女子様式!$AG449)","v":""}]
[null,{"$f":"IF(女子様式!$C450=\"\",\"\",IF(女子様式!$C450=\"@\",\"@\",女子様式!$C450))","v":""},{"$f":"IF(女子様式!$C450=\"\",\"\",IF($B145=\"@\",\"@\",$B145+200000000))","v":""},{"$f":"IF($C145=\"\",\"\",CONCATENATE(女子様式!$D450,\" \",\"(\",女子様式!$K450,\")\"))","v":""},"",{"$f":"IF($C145=\"\",\"\",女子様式!$G450)","v":""},{"$f":"CONCATENATE(OFFSET(女子様式!$J$18,3*A145,0),\" \",IF(LEN(OFFSET(女子様式!$K$18,A145*3,0))=0,,\"(\"),LEFT(OFFSET(女子様式!$K$18,A145*3,0),2),IF(LEN(OFFSET(女子様式!$J$18,A145*3,0))=0,,\")\"))","v":" "},"",{"$f":"IF($C145=\"\",\"\",VLOOKUP(基本登録情報!$C$7,登録データ!$I$3:$L$100,3,FALSE))","v":""},{"$f":"IF($C145=\"\",\"\",VLOOKUP(OFFSET(女子様式!$M$18,3*A145,0),登録データ!AM145:AN191,2,FALSE))","v":""},"",{"$f":"IF(女子様式!$AG450=\"\",\"\",女子様式!$AG450)","v":""},{"$f":"IF(女子様式!$AG451=\"\",\"\",女子様式!$AG451)","v":""},{"$f":"IF(女子様式!$AG452=\"\",\"\",女子様式!$AG452)","v":""}]
[null,{"$f":"IF(女子様式!$C453=\"\",\"\",IF(女子様式!$C453=\"@\",\"@\",女子様式!$C453))","v":""},{"$f":"IF(女子様式!$C453=\"\",\"\",IF($B146=\"@\",\"@\",$B146+200000000))","v":""},{"$f":"IF($C146=\"\",\"\",CONCATENATE(女子様式!$D453,\" \",\"(\",女子様式!$K453,\")\"))","v":""},"",{"$f":"IF($C146=\"\",\"\",女子様式!$G453)","v":""},{"$f":"CONCATENATE(OFFSET(女子様式!$J$18,3*A146,0),\" \",IF(LEN(OFFSET(女子様式!$K$18,A146*3,0))=0,,\"(\"),LEFT(OFFSET(女子様式!$K$18,A146*3,0),2),IF(LEN(OFFSET(女子様式!$J$18,A146*3,0))=0,,\")\"))","v":" "},"",{"$f":"IF($C146=\"\",\"\",VLOOKUP(基本登録情報!$C$7,登録データ!$I$3:$L$100,3,FALSE))","v":""},{"$f":"IF($C146=\"\",\"\",VLOOKUP(OFFSET(女子様式!$M$18,3*A146,0),登録データ!AM146:AN192,2,FALSE))","v":""},"",{"$f":"IF(女子様式!$AG453=\"\",\"\",女子様式!$AG453)","v":""},{"$f":"IF(女子様式!$AG454=\"\",\"\",女子様式!$AG454)","v":""},{"$f":"IF(女子様式!$AG455=\"\",\"\",女子様式!$AG455)","v":""}]
[null,{"$f":"IF(女子様式!$C456=\"\",\"\",IF(女子様式!$C456=\"@\",\"@\",女子様式!$C456))","v":""},{"$f":"IF(女子様式!$C456=\"\",\"\",IF($B147=\"@\",\"@\",$B147+200000000))","v":""},{"$f":"IF($C147=\"\",\"\",CONCATENATE(女子様式!$D456,\" \",\"(\",女子様式!$K456,\")\"))","v":""},"",{"$f":"IF($C147=\"\",\"\",女子様式!$G456)","v":""},{"$f":"CONCATENATE(OFFSET(女子様式!$J$18,3*A147,0),\" \",IF(LEN(OFFSET(女子様式!$K$18,A147*3,0))=0,,\"(\"),LEFT(OFFSET(女子様式!$K$18,A147*3,0),2),IF(LEN(OFFSET(女子様式!$J$18,A147*3,0))=0,,\")\"))","v":" "},"",{"$f":"IF($C147=\"\",\"\",VLOOKUP(基本登録情報!$C$7,登録データ!$I$3:$L$100,3,FALSE))","v":""},{"$f":"IF($C147=\"\",\"\",VLOOKUP(OFFSET(女子様式!$M$18,3*A147,0),登録データ!AM147:AN193,2,FALSE))","v":""},"",{"$f":"IF(女子様式!$AG456=\"\",\"\",女子様式!$AG456)","v":""},{"$f":"IF(女子様式!$AG457=\"\",\"\",女子様式!$AG457)","v":""},{"$f":"IF(女子様式!$AG458=\"\",\"\",女子様式!$AG458)","v":""}]
[null,{"$f":"IF(女子様式!$C459=\"\",\"\",IF(女子様式!$C459=\"@\",\"@\",女子様式!$C459))","v":""},{"$f":"IF(女子様式!$C459=\"\",\"\",IF($B148=\"@\",\"@\",$B148+200000000))","v":""},{"$f":"IF($C148=\"\",\"\",CONCATENATE(女子様式!$D459,\" \",\"(\",女子様式!$K459,\")\"))","v":""},"",{"$f":"IF($C148=\"\",\"\",女子様式!$G459)","v":""},{"$f":"CONCATENATE(OFFSET(女子様式!$J$18,3*A148,0),\" \",IF(LEN(OFFSET(女子様式!$K$18,A148*3,0))=0,,\"(\"),LEFT(OFFSET(女子様式!$K$18,A148*3,0),2),IF(LEN(OFFSET(女子様式!$J$18,A148*3,0))=0,,\")\"))","v":" "},"",{"$f":"IF($C148=\"\",\"\",VLOOKUP(基本登録情報!$C$7,登録データ!$I$3:$L$100,3,FALSE))","v":""},{"$f":"IF($C148=\"\",\"\",VLOOKUP(OFFSET(女子様式!$M$18,3*A148,0),登録データ!AM148:AN194,2,FALSE))","v":""},"",{"$f":"IF(女子様式!$AG459=\"\",\"\",女子様式!$AG459)","v":""},{"$f":"IF(女子様式!$AG460=\"\",\"\",女子様式!$AG460)","v":""},{"$f":"IF(女子様式!$AG461=\"\",\"\",女子様式!$AG461)","v":""}]
[null,{"$f":"IF(女子様式!$C462=\"\",\"\",IF(女子様式!$C462=\"@\",\"@\",女子様式!$C462))","v":""},{"$f":"IF(女子様式!$C462=\"\",\"\",IF($B149=\"@\",\"@\",$B149+200000000))","v":""},{"$f":"IF($C149=\"\",\"\",CONCATENATE(女子様式!$D462,\" \",\"(\",女子様式!$K462,\")\"))","v":""},"",{"$f":"IF($C149=\"\",\"\",女子様式!$G462)","v":""},{"$f":"CONCATENATE(OFFSET(女子様式!$J$18,3*A149,0),\" \",IF(LEN(OFFSET(女子様式!$K$18,A149*3,0))=0,,\"(\"),LEFT(OFFSET(女子様式!$K$18,A149*3,0),2),IF(LEN(OFFSET(女子様式!$J$18,A149*3,0))=0,,\")\"))","v":" "},"",{"$f":"IF($C149=\"\",\"\",VLOOKUP(基本登録情報!$C$7,登録データ!$I$3:$L$100,3,FALSE))","v":""},{"$f":"IF($C149=\"\",\"\",VLOOKUP(OFFSET(女子様式!$M$18,3*A149,0),登録データ!AM149:AN195,2,FALSE))","v":""},"",{"$f":"IF(女子様式!$AG462=\"\",\"\",女子様式!$AG462)","v":""},{"$f":"IF(女子様式!$AG463=\"\",\"\",女子様式!$AG463)","v":""},{"$f":"IF(女子様式!$AG464=\"\",\"\",女子様式!$AG464)","v":""}]
[null,{"$f":"IF(女子様式!$C465=\"\",\"\",IF(女子様式!$C465=\"@\",\"@\",女子様式!$C465))","v":""},{"$f":"IF(女子様式!$C465=\"\",\"\",IF($B150=\"@\",\"@\",$B150+200000000))","v":""},{"$f":"IF($C150=\"\",\"\",CONCATENATE(女子様式!$D465,\" \",\"(\",女子様式!$K465,\")\"))","v":""},"",{"$f":"IF($C150=\"\",\"\",女子様式!$G465)","v":""},{"$f":"CONCATENATE(OFFSET(女子様式!$J$18,3*A150,0),\" \",IF(LEN(OFFSET(女子様式!$K$18,A150*3,0))=0,,\"(\"),LEFT(OFFSET(女子様式!$K$18,A150*3,0),2),IF(LEN(OFFSET(女子様式!$J$18,A150*3,0))=0,,\")\"))","v":" "},"",{"$f":"IF($C150=\"\",\"\",VLOOKUP(基本登録情報!$C$7,登録データ!$I$3:$L$100,3,FALSE))","v":""},{"$f":"IF($C150=\"\",\"\",VLOOKUP(OFFSET(女子様式!$M$18,3*A150,0),登録データ!AM150:AN196,2,FALSE))","v":""},"",{"$f":"IF(女子様式!$AG465=\"\",\"\",女子様式!$AG465)","v":""},{"$f":"IF(女子様式!$AG466=\"\",\"\",女子様式!$AG466)","v":""},{"$f":"IF(女子様式!$AG467=\"\",\"\",女子様式!$AG467)","v":""}]
[null,{"$f":"IF(女子様式!$C468=\"\",\"\",IF(女子様式!$C468=\"@\",\"@\",女子様式!$C468))","v":""},{"$f":"IF(女子様式!$C468=\"\",\"\",IF($B151=\"@\",\"@\",$B151+200000000))","v":""},{"$f":"IF($C151=\"\",\"\",CONCATENATE(女子様式!$D468,\" \",\"(\",女子様式!$K468,\")\"))","v":""},"",{"$f":"IF($C151=\"\",\"\",女子様式!$G468)","v":""},{"$f":"CONCATENATE(OFFSET(女子様式!$J$18,3*A151,0),\" \",IF(LEN(OFFSET(女子様式!$K$18,A151*3,0))=0,,\"(\"),LEFT(OFFSET(女子様式!$K$18,A151*3,0),2),IF(LEN(OFFSET(女子様式!$J$18,A151*3,0))=0,,\")\"))","v":" "},"",{"$f":"IF($C151=\"\",\"\",VLOOKUP(基本登録情報!$C$7,登録データ!$I$3:$L$100,3,FALSE))","v":""},{"$f":"IF($C151=\"\",\"\",VLOOKUP(OFFSET(女子様式!$M$18,3*A151,0),登録データ!AM151:AN197,2,FALSE))","v":""},"",{"$f":"IF(女子様式!$AG468=\"\",\"\",女子様式!$AG468)","v":""},{"$f":"IF(女子様式!$AG469=\"\",\"\",女子様式!$AG469)","v":""},{"$f":"IF(女子様式!$AG470=\"\",\"\",女子様式!$AG470)","v":""}]
[null,{"$f":"IF(女子様式!$C471=\"\",\"\",IF(女子様式!$C471=\"@\",\"@\",女子様式!$C471))","v":""},{"$f":"IF(女子様式!$C471=\"\",\"\",IF($B152=\"@\",\"@\",$B152+200000000))","v":""},{"$f":"IF($C152=\"\",\"\",CONCATENATE(女子様式!$D471,\" \",\"(\",女子様式!$K471,\")\"))","v":""},"",{"$f":"IF($C152=\"\",\"\",女子様式!$G471)","v":""},{"$f":"CONCATENATE(OFFSET(女子様式!$J$18,3*A152,0),\" \",IF(LEN(OFFSET(女子様式!$K$18,A152*3,0))=0,,\"(\"),LEFT(OFFSET(女子様式!$K$18,A152*3,0),2),IF(LEN(OFFSET(女子様式!$J$18,A152*3,0))=0,,\")\"))","v":" "},"",{"$f":"IF($C152=\"\",\"\",VLOOKUP(基本登録情報!$C$7,登録データ!$I$3:$L$100,3,FALSE))","v":""},{"$f":"IF($C152=\"\",\"\",VLOOKUP(OFFSET(女子様式!$M$18,3*A152,0),登録データ!AM152:AN198,2,FALSE))","v":""},"",{"$f":"IF(女子様式!$AG471=\"\",\"\",女子様式!$AG471)","v":""},{"$f":"IF(女子様式!$AG472=\"\",\"\",女子様式!$AG472)","v":""},{"$f":"IF(女子様式!$AG473=\"\",\"\",女子様式!$AG473)","v":""}]
[null,{"$f":"IF(女子様式!$C474=\"\",\"\",IF(女子様式!$C474=\"@\",\"@\",女子様式!$C474))","v":""},{"$f":"IF(女子様式!$C474=\"\",\"\",IF($B153=\"@\",\"@\",$B153+200000000))","v":""},{"$f":"IF($C153=\"\",\"\",CONCATENATE(女子様式!$D474,\" \",\"(\",女子様式!$K474,\")\"))","v":""},"",{"$f":"IF($C153=\"\",\"\",女子様式!$G474)","v":""},{"$f":"CONCATENATE(OFFSET(女子様式!$J$18,3*A153,0),\" \",IF(LEN(OFFSET(女子様式!$K$18,A153*3,0))=0,,\"(\"),LEFT(OFFSET(女子様式!$K$18,A153*3,0),2),IF(LEN(OFFSET(女子様式!$J$18,A153*3,0))=0,,\")\"))","v":" "},"",{"$f":"IF($C153=\"\",\"\",VLOOKUP(基本登録情報!$C$7,登録データ!$I$3:$L$100,3,FALSE))","v":""},{"$f":"IF($C153=\"\",\"\",VLOOKUP(OFFSET(女子様式!$M$18,3*A153,0),登録データ!AM153:AN199,2,FALSE))","v":""},"",{"$f":"IF(女子様式!$AG474=\"\",\"\",女子様式!$AG474)","v":""},{"$f":"IF(女子様式!$AG475=\"\",\"\",女子様式!$AG475)","v":""},{"$f":"IF(女子様式!$AG476=\"\",\"\",女子様式!$AG476)","v":""}]
[null,{"$f":"IF(女子様式!$C477=\"\",\"\",IF(女子様式!$C477=\"@\",\"@\",女子様式!$C477))","v":""},{"$f":"IF(女子様式!$C477=\"\",\"\",IF($B154=\"@\",\"@\",$B154+200000000))","v":""},{"$f":"IF($C154=\"\",\"\",CONCATENATE(女子様式!$D477,\" \",\"(\",女子様式!$K477,\")\"))","v":""},"",{"$f":"IF($C154=\"\",\"\",女子様式!$G477)","v":""},{"$f":"CONCATENATE(OFFSET(女子様式!$J$18,3*A154,0),\" \",IF(LEN(OFFSET(女子様式!$K$18,A154*3,0))=0,,\"(\"),LEFT(OFFSET(女子様式!$K$18,A154*3,0),2),IF(LEN(OFFSET(女子様式!$J$18,A154*3,0))=0,,\")\"))","v":" "},"",{"$f":"IF($C154=\"\",\"\",VLOOKUP(基本登録情報!$C$7,登録データ!$I$3:$L$100,3,FALSE))","v":""},{"$f":"IF($C154=\"\",\"\",VLOOKUP(OFFSET(女子様式!$M$18,3*A154,0),登録データ!AM154:AN200,2,FALSE))","v":""},"",{"$f":"IF(女子様式!$AG477=\"\",\"\",女子様式!$AG477)","v":""},{"$f":"IF(女子様式!$AG478=\"\",\"\",女子様式!$AG478)","v":""},{"$f":"IF(女子様式!$AG479=\"\",\"\",女子様式!$AG479)","v":""}]
[null,{"$f":"IF(女子様式!$C480=\"\",\"\",IF(女子様式!$C480=\"@\",\"@\",女子様式!$C480))","v":""},{"$f":"IF(女子様式!$C480=\"\",\"\",IF($B155=\"@\",\"@\",$B155+200000000))","v":""},{"$f":"IF($C155=\"\",\"\",CONCATENATE(女子様式!$D480,\" \",\"(\",女子様式!$K480,\")\"))","v":""},"",{"$f":"IF($C155=\"\",\"\",女子様式!$G480)","v":""},{"$f":"CONCATENATE(OFFSET(女子様式!$J$18,3*A155,0),\" \",IF(LEN(OFFSET(女子様式!$K$18,A155*3,0))=0,,\"(\"),LEFT(OFFSET(女子様式!$K$18,A155*3,0),2),IF(LEN(OFFSET(女子様式!$J$18,A155*3,0))=0,,\")\"))","v":" "},"",{"$f":"IF($C155=\"\",\"\",VLOOKUP(基本登録情報!$C$7,登録データ!$I$3:$L$100,3,FALSE))","v":""},{"$f":"IF($C155=\"\",\"\",VLOOKUP(OFFSET(女子様式!$M$18,3*A155,0),登録データ!AM155:AN201,2,FALSE))","v":""},"",{"$f":"IF(女子様式!$AG480=\"\",\"\",女子様式!$AG480)","v":""},{"$f":"IF(女子様式!$AG481=\"\",\"\",女子様式!$AG481)","v":""},{"$f":"IF(女子様式!$AG482=\"\",\"\",女子様式!$AG482)","v":""}]
[null,{"$f":"IF(女子様式!$C483=\"\",\"\",IF(女子様式!$C483=\"@\",\"@\",女子様式!$C483))","v":""},{"$f":"IF(女子様式!$C483=\"\",\"\",IF($B156=\"@\",\"@\",$B156+200000000))","v":""},{"$f":"IF($C156=\"\",\"\",CONCATENATE(女子様式!$D483,\" \",\"(\",女子様式!$K483,\")\"))","v":""},"",{"$f":"IF($C156=\"\",\"\",女子様式!$G483)","v":""},{"$f":"CONCATENATE(OFFSET(女子様式!$J$18,3*A156,0),\" \",IF(LEN(OFFSET(女子様式!$K$18,A156*3,0))=0,,\"(\"),LEFT(OFFSET(女子様式!$K$18,A156*3,0),2),IF(LEN(OFFSET(女子様式!$J$18,A156*3,0))=0,,\")\"))","v":" "},"",{"$f":"IF($C156=\"\",\"\",VLOOKUP(基本登録情報!$C$7,登録データ!$I$3:$L$100,3,FALSE))","v":""},{"$f":"IF($C156=\"\",\"\",VLOOKUP(OFFSET(女子様式!$M$18,3*A156,0),登録データ!AM156:AN202,2,FALSE))","v":""},"",{"$f":"IF(女子様式!$AG483=\"\",\"\",女子様式!$AG483)","v":""},{"$f":"IF(女子様式!$AG484=\"\",\"\",女子様式!$AG484)","v":""},{"$f":"IF(女子様式!$AG485=\"\",\"\",女子様式!$AG485)","v":""}]
[null,{"$f":"IF(女子様式!$C486=\"\",\"\",IF(女子様式!$C486=\"@\",\"@\",女子様式!$C486))","v":""},{"$f":"IF(女子様式!$C486=\"\",\"\",IF($B157=\"@\",\"@\",$B157+200000000))","v":""},{"$f":"IF($C157=\"\",\"\",CONCATENATE(女子様式!$D486,\" \",\"(\",女子様式!$K486,\")\"))","v":""},"",{"$f":"IF($C157=\"\",\"\",女子様式!$G486)","v":""},{"$f":"CONCATENATE(OFFSET(女子様式!$J$18,3*A157,0),\" \",IF(LEN(OFFSET(女子様式!$K$18,A157*3,0))=0,,\"(\"),LEFT(OFFSET(女子様式!$K$18,A157*3,0),2),IF(LEN(OFFSET(女子様式!$J$18,A157*3,0))=0,,\")\"))","v":" "},"",{"$f":"IF($C157=\"\",\"\",VLOOKUP(基本登録情報!$C$7,登録データ!$I$3:$L$100,3,FALSE))","v":""},{"$f":"IF($C157=\"\",\"\",VLOOKUP(OFFSET(女子様式!$M$18,3*A157,0),登録データ!AM157:AN203,2,FALSE))","v":""},"",{"$f":"IF(女子様式!$AG486=\"\",\"\",女子様式!$AG486)","v":""},{"$f":"IF(女子様式!$AG487=\"\",\"\",女子様式!$AG487)","v":""},{"$f":"IF(女子様式!$AG488=\"\",\"\",女子様式!$AG488)","v":""}]
[null,{"$f":"IF(女子様式!$C489=\"\",\"\",IF(女子様式!$C489=\"@\",\"@\",女子様式!$C489))","v":""},{"$f":"IF(女子様式!$C489=\"\",\"\",IF($B158=\"@\",\"@\",$B158+200000000))","v":""},{"$f":"IF($C158=\"\",\"\",CONCATENATE(女子様式!$D489,\" \",\"(\",女子様式!$K489,\")\"))","v":""},"",{"$f":"IF($C158=\"\",\"\",女子様式!$G489)","v":""},{"$f":"CONCATENATE(OFFSET(女子様式!$J$18,3*A158,0),\" \",IF(LEN(OFFSET(女子様式!$K$18,A158*3,0))=0,,\"(\"),LEFT(OFFSET(女子様式!$K$18,A158*3,0),2),IF(LEN(OFFSET(女子様式!$J$18,A158*3,0))=0,,\")\"))","v":" "},"",{"$f":"IF($C158=\"\",\"\",VLOOKUP(基本登録情報!$C$7,登録データ!$I$3:$L$100,3,FALSE))","v":""},{"$f":"IF($C158=\"\",\"\",VLOOKUP(OFFSET(女子様式!$M$18,3*A158,0),登録データ!AM158:AN204,2,FALSE))","v":""},"",{"$f":"IF(女子様式!$AG489=\"\",\"\",女子様式!$AG489)","v":""},{"$f":"IF(女子様式!$AG490=\"\",\"\",女子様式!$AG490)","v":""},{"$f":"IF(女子様式!$AG491=\"\",\"\",女子様式!$AG491)","v":""}]
[null,{"$f":"IF(女子様式!$C492=\"\",\"\",IF(女子様式!$C492=\"@\",\"@\",女子様式!$C492))","v":""},{"$f":"IF(女子様式!$C492=\"\",\"\",IF($B159=\"@\",\"@\",$B159+200000000))","v":""},{"$f":"IF($C159=\"\",\"\",CONCATENATE(女子様式!$D492,\" \",\"(\",女子様式!$K492,\")\"))","v":""},"",{"$f":"IF($C159=\"\",\"\",女子様式!$G492)","v":""},{"$f":"CONCATENATE(OFFSET(女子様式!$J$18,3*A159,0),\" \",IF(LEN(OFFSET(女子様式!$K$18,A159*3,0))=0,,\"(\"),LEFT(OFFSET(女子様式!$K$18,A159*3,0),2),IF(LEN(OFFSET(女子様式!$J$18,A159*3,0))=0,,\")\"))","v":" "},"",{"$f":"IF($C159=\"\",\"\",VLOOKUP(基本登録情報!$C$7,登録データ!$I$3:$L$100,3,FALSE))","v":""},{"$f":"IF($C159=\"\",\"\",VLOOKUP(OFFSET(女子様式!$M$18,3*A159,0),登録データ!AM159:AN205,2,FALSE))","v":""},"",{"$f":"IF(女子様式!$AG492=\"\",\"\",女子様式!$AG492)","v":""},{"$f":"IF(女子様式!$AG493=\"\",\"\",女子様式!$AG493)","v":""},{"$f":"IF(女子様式!$AG494=\"\",\"\",女子様式!$AG494)","v":""}]
[null,{"$f":"IF(女子様式!$C495=\"\",\"\",IF(女子様式!$C495=\"@\",\"@\",女子様式!$C495))","v":""},{"$f":"IF(女子様式!$C495=\"\",\"\",IF($B160=\"@\",\"@\",$B160+200000000))","v":""},{"$f":"IF($C160=\"\",\"\",CONCATENATE(女子様式!$D495,\" \",\"(\",女子様式!$K495,\")\"))","v":""},"",{"$f":"IF($C160=\"\",\"\",女子様式!$G495)","v":""},{"$f":"CONCATENATE(OFFSET(女子様式!$J$18,3*A160,0),\" \",IF(LEN(OFFSET(女子様式!$K$18,A160*3,0))=0,,\"(\"),LEFT(OFFSET(女子様式!$K$18,A160*3,0),2),IF(LEN(OFFSET(女子様式!$J$18,A160*3,0))=0,,\")\"))","v":" "},"",{"$f":"IF($C160=\"\",\"\",VLOOKUP(基本登録情報!$C$7,登録データ!$I$3:$L$100,3,FALSE))","v":""},{"$f":"IF($C160=\"\",\"\",VLOOKUP(OFFSET(女子様式!$M$18,3*A160,0),登録データ!AM160:AN206,2,FALSE))","v":""},"",{"$f":"IF(女子様式!$AG495=\"\",\"\",女子様式!$AG495)","v":""},{"$f":"IF(女子様式!$AG496=\"\",\"\",女子様式!$AG496)","v":""},{"$f":"IF(女子様式!$AG497=\"\",\"\",女子様式!$AG497)","v":""}]
[null,{"$f":"IF(女子様式!$C498=\"\",\"\",IF(女子様式!$C498=\"@\",\"@\",女子様式!$C498))","v":""},{"$f":"IF(女子様式!$C498=\"\",\"\",IF($B161=\"@\",\"@\",$B161+200000000))","v":""},{"$f":"IF($C161=\"\",\"\",CONCATENATE(女子様式!$D498,\" \",\"(\",女子様式!$K498,\")\"))","v":""},"",{"$f":"IF($C161=\"\",\"\",女子様式!$G498)","v":""},{"$f":"CONCATENATE(OFFSET(女子様式!$J$18,3*A161,0),\" \",IF(LEN(OFFSET(女子様式!$K$18,A161*3,0))=0,,\"(\"),LEFT(OFFSET(女子様式!$K$18,A161*3,0),2),IF(LEN(OFFSET(女子様式!$J$18,A161*3,0))=0,,\")\"))","v":" "},"",{"$f":"IF($C161=\"\",\"\",VLOOKUP(基本登録情報!$C$7,登録データ!$I$3:$L$100,3,FALSE))","v":""},{"$f":"IF($C161=\"\",\"\",VLOOKUP(OFFSET(女子様式!$M$18,3*A161,0),登録データ!AM161:AN207,2,FALSE))","v":""},"",{"$f":"IF(女子様式!$AG498=\"\",\"\",女子様式!$AG498)","v":""},{"$f":"IF(女子様式!$AG499=\"\",\"\",女子様式!$AG499)","v":""},{"$f":"IF(女子様式!$AG500=\"\",\"\",女子様式!$AG500)","v":""}]
[null,{"$f":"IF(女子様式!$C501=\"\",\"\",IF(女子様式!$C501=\"@\",\"@\",女子様式!$C501))","v":""},{"$f":"IF(女子様式!$C501=\"\",\"\",IF($B162=\"@\",\"@\",$B162+200000000))","v":""},{"$f":"IF($C162=\"\",\"\",CONCATENATE(女子様式!$D501,\" \",\"(\",女子様式!$K501,\")\"))","v":""},"",{"$f":"IF($C162=\"\",\"\",女子様式!$G501)","v":""},{"$f":"CONCATENATE(OFFSET(女子様式!$J$18,3*A162,0),\" \",IF(LEN(OFFSET(女子様式!$K$18,A162*3,0))=0,,\"(\"),LEFT(OFFSET(女子様式!$K$18,A162*3,0),2),IF(LEN(OFFSET(女子様式!$J$18,A162*3,0))=0,,\")\"))","v":" "},"",{"$f":"IF($C162=\"\",\"\",VLOOKUP(基本登録情報!$C$7,登録データ!$I$3:$L$100,3,FALSE))","v":""},{"$f":"IF($C162=\"\",\"\",VLOOKUP(OFFSET(女子様式!$M$18,3*A162,0),登録データ!AM162:AN208,2,FALSE))","v":""},"",{"$f":"IF(女子様式!$AG501=\"\",\"\",女子様式!$AG501)","v":""},{"$f":"IF(女子様式!$AG502=\"\",\"\",女子様式!$AG502)","v":""},{"$f":"IF(女子様式!$AG503=\"\",\"\",女子様式!$AG503)","v":""}]
[null,{"$f":"IF(女子様式!$C504=\"\",\"\",IF(女子様式!$C504=\"@\",\"@\",女子様式!$C504))","v":""},{"$f":"IF(女子様式!$C504=\"\",\"\",IF($B163=\"@\",\"@\",$B163+200000000))","v":""},{"$f":"IF($C163=\"\",\"\",CONCATENATE(女子様式!$D504,\" \",\"(\",女子様式!$K504,\")\"))","v":""},"",{"$f":"IF($C163=\"\",\"\",女子様式!$G504)","v":""},{"$f":"CONCATENATE(OFFSET(女子様式!$J$18,3*A163,0),\" \",IF(LEN(OFFSET(女子様式!$K$18,A163*3,0))=0,,\"(\"),LEFT(OFFSET(女子様式!$K$18,A163*3,0),2),IF(LEN(OFFSET(女子様式!$J$18,A163*3,0))=0,,\")\"))","v":" "},"",{"$f":"IF($C163=\"\",\"\",VLOOKUP(基本登録情報!$C$7,登録データ!$I$3:$L$100,3,FALSE))","v":""},{"$f":"IF($C163=\"\",\"\",VLOOKUP(OFFSET(女子様式!$M$18,3*A163,0),登録データ!AM163:AN209,2,FALSE))","v":""},"",{"$f":"IF(女子様式!$AG504=\"\",\"\",女子様式!$AG504)","v":""},{"$f":"IF(女子様式!$AG505=\"\",\"\",女子様式!$AG505)","v":""},{"$f":"IF(女子様式!$AG506=\"\",\"\",女子様式!$AG506)","v":""}]
[null,{"$f":"IF(女子様式!$C507=\"\",\"\",IF(女子様式!$C507=\"@\",\"@\",女子様式!$C507))","v":""},{"$f":"IF(女子様式!$C507=\"\",\"\",IF($B164=\"@\",\"@\",$B164+200000000))","v":""},{"$f":"IF($C164=\"\",\"\",CONCATENATE(女子様式!$D507,\" \",\"(\",女子様式!$K507,\")\"))","v":""},"",{"$f":"IF($C164=\"\",\"\",女子様式!$G507)","v":""},{"$f":"CONCATENATE(OFFSET(女子様式!$J$18,3*A164,0),\" \",IF(LEN(OFFSET(女子様式!$K$18,A164*3,0))=0,,\"(\"),LEFT(OFFSET(女子様式!$K$18,A164*3,0),2),IF(LEN(OFFSET(女子様式!$J$18,A164*3,0))=0,,\")\"))","v":" "},"",{"$f":"IF($C164=\"\",\"\",VLOOKUP(基本登録情報!$C$7,登録データ!$I$3:$L$100,3,FALSE))","v":""},{"$f":"IF($C164=\"\",\"\",VLOOKUP(OFFSET(女子様式!$M$18,3*A164,0),登録データ!AM164:AN210,2,FALSE))","v":""},"",{"$f":"IF(女子様式!$AG507=\"\",\"\",女子様式!$AG507)","v":""},{"$f":"IF(女子様式!$AG508=\"\",\"\",女子様式!$AG508)","v":""},{"$f":"IF(女子様式!$AG509=\"\",\"\",女子様式!$AG509)","v":""}]
[null,{"$f":"IF(女子様式!$C510=\"\",\"\",IF(女子様式!$C510=\"@\",\"@\",女子様式!$C510))","v":""},{"$f":"IF(女子様式!$C510=\"\",\"\",IF($B165=\"@\",\"@\",$B165+200000000))","v":""},{"$f":"IF($C165=\"\",\"\",CONCATENATE(女子様式!$D510,\" \",\"(\",女子様式!$K510,\")\"))","v":""},"",{"$f":"IF($C165=\"\",\"\",女子様式!$G510)","v":""},{"$f":"CONCATENATE(OFFSET(女子様式!$J$18,3*A165,0),\" \",IF(LEN(OFFSET(女子様式!$K$18,A165*3,0))=0,,\"(\"),LEFT(OFFSET(女子様式!$K$18,A165*3,0),2),IF(LEN(OFFSET(女子様式!$J$18,A165*3,0))=0,,\")\"))","v":" "},"",{"$f":"IF($C165=\"\",\"\",VLOOKUP(基本登録情報!$C$7,登録データ!$I$3:$L$100,3,FALSE))","v":""},{"$f":"IF($C165=\"\",\"\",VLOOKUP(OFFSET(女子様式!$M$18,3*A165,0),登録データ!AM165:AN211,2,FALSE))","v":""},"",{"$f":"IF(女子様式!$AG510=\"\",\"\",女子様式!$AG510)","v":""},{"$f":"IF(女子様式!$AG511=\"\",\"\",女子様式!$AG511)","v":""},{"$f":"IF(女子様式!$AG512=\"\",\"\",女子様式!$AG512)","v":""}]
[null,{"$f":"IF(女子様式!$C513=\"\",\"\",IF(女子様式!$C513=\"@\",\"@\",女子様式!$C513))","v":""},{"$f":"IF(女子様式!$C513=\"\",\"\",IF($B166=\"@\",\"@\",$B166+200000000))","v":""},{"$f":"IF($C166=\"\",\"\",CONCATENATE(女子様式!$D513,\" \",\"(\",女子様式!$K513,\")\"))","v":""},"",{"$f":"IF($C166=\"\",\"\",女子様式!$G513)","v":""},{"$f":"CONCATENATE(OFFSET(女子様式!$J$18,3*A166,0),\" \",IF(LEN(OFFSET(女子様式!$K$18,A166*3,0))=0,,\"(\"),LEFT(OFFSET(女子様式!$K$18,A166*3,0),2),IF(LEN(OFFSET(女子様式!$J$18,A166*3,0))=0,,\")\"))","v":" "},"",{"$f":"IF($C166=\"\",\"\",VLOOKUP(基本登録情報!$C$7,登録データ!$I$3:$L$100,3,FALSE))","v":""},{"$f":"IF($C166=\"\",\"\",VLOOKUP(OFFSET(女子様式!$M$18,3*A166,0),登録データ!AM166:AN212,2,FALSE))","v":""},"",{"$f":"IF(女子様式!$AG513=\"\",\"\",女子様式!$AG513)","v":""},{"$f":"IF(女子様式!$AG514=\"\",\"\",女子様式!$AG514)","v":""},{"$f":"IF(女子様式!$AG515=\"\",\"\",女子様式!$AG515)","v":""}]
[null,{"$f":"IF(女子様式!$C516=\"\",\"\",IF(女子様式!$C516=\"@\",\"@\",女子様式!$C516))","v":""},{"$f":"IF(女子様式!$C516=\"\",\"\",IF($B167=\"@\",\"@\",$B167+200000000))","v":""},{"$f":"IF($C167=\"\",\"\",CONCATENATE(女子様式!$D516,\" \",\"(\",女子様式!$K516,\")\"))","v":""},"",{"$f":"IF($C167=\"\",\"\",女子様式!$G516)","v":""},{"$f":"CONCATENATE(OFFSET(女子様式!$J$18,3*A167,0),\" \",IF(LEN(OFFSET(女子様式!$K$18,A167*3,0))=0,,\"(\"),LEFT(OFFSET(女子様式!$K$18,A167*3,0),2),IF(LEN(OFFSET(女子様式!$J$18,A167*3,0))=0,,\")\"))","v":" "},"",{"$f":"IF($C167=\"\",\"\",VLOOKUP(基本登録情報!$C$7,登録データ!$I$3:$L$100,3,FALSE))","v":""},{"$f":"IF($C167=\"\",\"\",VLOOKUP(OFFSET(女子様式!$M$18,3*A167,0),登録データ!AM167:AN213,2,FALSE))","v":""},"",{"$f":"IF(女子様式!$AG516=\"\",\"\",女子様式!$AG516)","v":""},{"$f":"IF(女子様式!$AG517=\"\",\"\",女子様式!$AG517)","v":""},{"$f":"IF(女子様式!$AG518=\"\",\"\",女子様式!$AG518)","v":""}]
[null,{"$f":"IF(女子様式!$C519=\"\",\"\",IF(女子様式!$C519=\"@\",\"@\",女子様式!$C519))","v":""},{"$f":"IF(女子様式!$C519=\"\",\"\",IF($B168=\"@\",\"@\",$B168+200000000))","v":""},{"$f":"IF($C168=\"\",\"\",CONCATENATE(女子様式!$D519,\" \",\"(\",女子様式!$K519,\")\"))","v":""},"",{"$f":"IF($C168=\"\",\"\",女子様式!$G519)","v":""},{"$f":"CONCATENATE(OFFSET(女子様式!$J$18,3*A168,0),\" \",IF(LEN(OFFSET(女子様式!$K$18,A168*3,0))=0,,\"(\"),LEFT(OFFSET(女子様式!$K$18,A168*3,0),2),IF(LEN(OFFSET(女子様式!$J$18,A168*3,0))=0,,\")\"))","v":" "},"",{"$f":"IF($C168=\"\",\"\",VLOOKUP(基本登録情報!$C$7,登録データ!$I$3:$L$100,3,FALSE))","v":""},{"$f":"IF($C168=\"\",\"\",VLOOKUP(OFFSET(女子様式!$M$18,3*A168,0),登録データ!AM168:AN214,2,FALSE))","v":""},"",{"$f":"IF(女子様式!$AG519=\"\",\"\",女子様式!$AG519)","v":""},{"$f":"IF(女子様式!$AG520=\"\",\"\",女子様式!$AG520)","v":""},{"$f":"IF(女子様式!$AG521=\"\",\"\",女子様式!$AG521)","v":""}]
[null,{"$f":"IF(女子様式!$C522=\"\",\"\",IF(女子様式!$C522=\"@\",\"@\",女子様式!$C522))","v":""},{"$f":"IF(女子様式!$C522=\"\",\"\",IF($B169=\"@\",\"@\",$B169+200000000))","v":""},{"$f":"IF($C169=\"\",\"\",CONCATENATE(女子様式!$D522,\" \",\"(\",女子様式!$K522,\")\"))","v":""},"",{"$f":"IF($C169=\"\",\"\",女子様式!$G522)","v":""},{"$f":"CONCATENATE(OFFSET(女子様式!$J$18,3*A169,0),\" \",IF(LEN(OFFSET(女子様式!$K$18,A169*3,0))=0,,\"(\"),LEFT(OFFSET(女子様式!$K$18,A169*3,0),2),IF(LEN(OFFSET(女子様式!$J$18,A169*3,0))=0,,\")\"))","v":" "},"",{"$f":"IF($C169=\"\",\"\",VLOOKUP(基本登録情報!$C$7,登録データ!$I$3:$L$100,3,FALSE))","v":""},{"$f":"IF($C169=\"\",\"\",VLOOKUP(OFFSET(女子様式!$M$18,3*A169,0),登録データ!AM169:AN215,2,FALSE))","v":""},"",{"$f":"IF(女子様式!$AG522=\"\",\"\",女子様式!$AG522)","v":""},{"$f":"IF(女子様式!$AG523=\"\",\"\",女子様式!$AG523)","v":""},{"$f":"IF(女子様式!$AG524=\"\",\"\",女子様式!$AG524)","v":""}]
[null,{"$f":"IF(女子様式!$C525=\"\",\"\",IF(女子様式!$C525=\"@\",\"@\",女子様式!$C525))","v":""},{"$f":"IF(女子様式!$C525=\"\",\"\",IF($B170=\"@\",\"@\",$B170+200000000))","v":""},{"$f":"IF($C170=\"\",\"\",CONCATENATE(女子様式!$D525,\" \",\"(\",女子様式!$K525,\")\"))","v":""},"",{"$f":"IF($C170=\"\",\"\",女子様式!$G525)","v":""},{"$f":"CONCATENATE(OFFSET(女子様式!$J$18,3*A170,0),\" \",IF(LEN(OFFSET(女子様式!$K$18,A170*3,0))=0,,\"(\"),LEFT(OFFSET(女子様式!$K$18,A170*3,0),2),IF(LEN(OFFSET(女子様式!$J$18,A170*3,0))=0,,\")\"))","v":" "},"",{"$f":"IF($C170=\"\",\"\",VLOOKUP(基本登録情報!$C$7,登録データ!$I$3:$L$100,3,FALSE))","v":""},{"$f":"IF($C170=\"\",\"\",VLOOKUP(OFFSET(女子様式!$M$18,3*A170,0),登録データ!AM170:AN216,2,FALSE))","v":""},"",{"$f":"IF(女子様式!$AG525=\"\",\"\",女子様式!$AG525)","v":""},{"$f":"IF(女子様式!$AG526=\"\",\"\",女子様式!$AG526)","v":""},{"$f":"IF(女子様式!$AG527=\"\",\"\",女子様式!$AG527)","v":""}]
[null,{"$f":"IF(女子様式!$C528=\"\",\"\",IF(女子様式!$C528=\"@\",\"@\",女子様式!$C528))","v":""},{"$f":"IF(女子様式!$C528=\"\",\"\",IF($B171=\"@\",\"@\",$B171+200000000))","v":""},{"$f":"IF($C171=\"\",\"\",CONCATENATE(女子様式!$D528,\" \",\"(\",女子様式!$K528,\")\"))","v":""},"",{"$f":"IF($C171=\"\",\"\",女子様式!$G528)","v":""},{"$f":"CONCATENATE(OFFSET(女子様式!$J$18,3*A171,0),\" \",IF(LEN(OFFSET(女子様式!$K$18,A171*3,0))=0,,\"(\"),LEFT(OFFSET(女子様式!$K$18,A171*3,0),2),IF(LEN(OFFSET(女子様式!$J$18,A171*3,0))=0,,\")\"))","v":" "},"",{"$f":"IF($C171=\"\",\"\",VLOOKUP(基本登録情報!$C$7,登録データ!$I$3:$L$100,3,FALSE))","v":""},{"$f":"IF($C171=\"\",\"\",VLOOKUP(OFFSET(女子様式!$M$18,3*A171,0),登録データ!AM171:AN217,2,FALSE))","v":""},"",{"$f":"IF(女子様式!$AG528=\"\",\"\",女子様式!$AG528)","v":""},{"$f":"IF(女子様式!$AG529=\"\",\"\",女子様式!$AG529)","v":""},{"$f":"IF(女子様式!$AG530=\"\",\"\",女子様式!$AG530)","v":""}]
[null,{"$f":"IF(女子様式!$C531=\"\",\"\",IF(女子様式!$C531=\"@\",\"@\",女子様式!$C531))","v":""},{"$f":"IF(女子様式!$C531=\"\",\"\",IF($B172=\"@\",\"@\",$B172+200000000))","v":""},{"$f":"IF($C172=\"\",\"\",CONCATENATE(女子様式!$D531,\" \",\"(\",女子様式!$K531,\")\"))","v":""},"",{"$f":"IF($C172=\"\",\"\",女子様式!$G531)","v":""},{"$f":"CONCATENATE(OFFSET(女子様式!$J$18,3*A172,0),\" \",IF(LEN(OFFSET(女子様式!$K$18,A172*3,0))=0,,\"(\"),LEFT(OFFSET(女子様式!$K$18,A172*3,0),2),IF(LEN(OFFSET(女子様式!$J$18,A172*3,0))=0,,\")\"))","v":" "},"",{"$f":"IF($C172=\"\",\"\",VLOOKUP(基本登録情報!$C$7,登録データ!$I$3:$L$100,3,FALSE))","v":""},{"$f":"IF($C172=\"\",\"\",VLOOKUP(OFFSET(女子様式!$M$18,3*A172,0),登録データ!AM172:AN218,2,FALSE))","v":""},"",{"$f":"IF(女子様式!$AG531=\"\",\"\",女子様式!$AG531)","v":""},{"$f":"IF(女子様式!$AG532=\"\",\"\",女子様式!$AG532)","v":""},{"$f":"IF(女子様式!$AG533=\"\",\"\",女子様式!$AG533)","v":""}]
[null,{"$f":"IF(女子様式!$C534=\"\",\"\",IF(女子様式!$C534=\"@\",\"@\",女子様式!$C534))","v":""},{"$f":"IF(女子様式!$C534=\"\",\"\",IF($B173=\"@\",\"@\",$B173+200000000))","v":""},{"$f":"IF($C173=\"\",\"\",CONCATENATE(女子様式!$D534,\" \",\"(\",女子様式!$K534,\")\"))","v":""},"",{"$f":"IF($C173=\"\",\"\",女子様式!$G534)","v":""},{"$f":"CONCATENATE(OFFSET(女子様式!$J$18,3*A173,0),\" \",IF(LEN(OFFSET(女子様式!$K$18,A173*3,0))=0,,\"(\"),LEFT(OFFSET(女子様式!$K$18,A173*3,0),2),IF(LEN(OFFSET(女子様式!$J$18,A173*3,0))=0,,\")\"))","v":" "},"",{"$f":"IF($C173=\"\",\"\",VLOOKUP(基本登録情報!$C$7,登録データ!$I$3:$L$100,3,FALSE))","v":""},{"$f":"IF($C173=\"\",\"\",VLOOKUP(OFFSET(女子様式!$M$18,3*A173,0),登録データ!AM173:AN219,2,FALSE))","v":""},"",{"$f":"IF(女子様式!$AG534=\"\",\"\",女子様式!$AG534)","v":""},{"$f":"IF(女子様式!$AG535=\"\",\"\",女子様式!$AG535)","v":""},{"$f":"IF(女子様式!$AG536=\"\",\"\",女子様式!$AG536)","v":""}]
[null,{"$f":"IF(女子様式!$C537=\"\",\"\",IF(女子様式!$C537=\"@\",\"@\",女子様式!$C537))","v":""},{"$f":"IF(女子様式!$C537=\"\",\"\",IF($B174=\"@\",\"@\",$B174+200000000))","v":""},{"$f":"IF($C174=\"\",\"\",CONCATENATE(女子様式!$D537,\" \",\"(\",女子様式!$K537,\")\"))","v":""},"",{"$f":"IF($C174=\"\",\"\",女子様式!$G537)","v":""},{"$f":"CONCATENATE(OFFSET(女子様式!$J$18,3*A174,0),\" \",IF(LEN(OFFSET(女子様式!$K$18,A174*3,0))=0,,\"(\"),LEFT(OFFSET(女子様式!$K$18,A174*3,0),2),IF(LEN(OFFSET(女子様式!$J$18,A174*3,0))=0,,\")\"))","v":" "},"",{"$f":"IF($C174=\"\",\"\",VLOOKUP(基本登録情報!$C$7,登録データ!$I$3:$L$100,3,FALSE))","v":""},{"$f":"IF($C174=\"\",\"\",VLOOKUP(OFFSET(女子様式!$M$18,3*A174,0),登録データ!AM174:AN220,2,FALSE))","v":""},"",{"$f":"IF(女子様式!$AG537=\"\",\"\",女子様式!$AG537)","v":""},{"$f":"IF(女子様式!$AG538=\"\",\"\",女子様式!$AG538)","v":""},{"$f":"IF(女子様式!$AG539=\"\",\"\",女子様式!$AG539)","v":""}]
[null,{"$f":"IF(女子様式!$C540=\"\",\"\",IF(女子様式!$C540=\"@\",\"@\",女子様式!$C540))","v":""},{"$f":"IF(女子様式!$C540=\"\",\"\",IF($B175=\"@\",\"@\",$B175+200000000))","v":""},{"$f":"IF($C175=\"\",\"\",CONCATENATE(女子様式!$D540,\" \",\"(\",女子様式!$K540,\")\"))","v":""},"",{"$f":"IF($C175=\"\",\"\",女子様式!$G540)","v":""},{"$f":"CONCATENATE(OFFSET(女子様式!$J$18,3*A175,0),\" \",IF(LEN(OFFSET(女子様式!$K$18,A175*3,0))=0,,\"(\"),LEFT(OFFSET(女子様式!$K$18,A175*3,0),2),IF(LEN(OFFSET(女子様式!$J$18,A175*3,0))=0,,\")\"))","v":" "},"",{"$f":"IF($C175=\"\",\"\",VLOOKUP(基本登録情報!$C$7,登録データ!$I$3:$L$100,3,FALSE))","v":""},{"$f":"IF($C175=\"\",\"\",VLOOKUP(OFFSET(女子様式!$M$18,3*A175,0),登録データ!AM175:AN221,2,FALSE))","v":""},"",{"$f":"IF(女子様式!$AG540=\"\",\"\",女子様式!$AG540)","v":""},{"$f":"IF(女子様式!$AG541=\"\",\"\",女子様式!$AG541)","v":""},{"$f":"IF(女子様式!$AG542=\"\",\"\",女子様式!$AG542)","v":""}]
[null,{"$f":"IF(女子様式!$C543=\"\",\"\",IF(女子様式!$C543=\"@\",\"@\",女子様式!$C543))","v":""},{"$f":"IF(女子様式!$C543=\"\",\"\",IF($B176=\"@\",\"@\",$B176+200000000))","v":""},{"$f":"IF($C176=\"\",\"\",CONCATENATE(女子様式!$D543,\" \",\"(\",女子様式!$K543,\")\"))","v":""},"",{"$f":"IF($C176=\"\",\"\",女子様式!$G543)","v":""},{"$f":"CONCATENATE(OFFSET(女子様式!$J$18,3*A176,0),\" \",IF(LEN(OFFSET(女子様式!$K$18,A176*3,0))=0,,\"(\"),LEFT(OFFSET(女子様式!$K$18,A176*3,0),2),IF(LEN(OFFSET(女子様式!$J$18,A176*3,0))=0,,\")\"))","v":" "},"",{"$f":"IF($C176=\"\",\"\",VLOOKUP(基本登録情報!$C$7,登録データ!$I$3:$L$100,3,FALSE))","v":""},{"$f":"IF($C176=\"\",\"\",VLOOKUP(OFFSET(女子様式!$M$18,3*A176,0),登録データ!AM176:AN222,2,FALSE))","v":""},"",{"$f":"IF(女子様式!$AG543=\"\",\"\",女子様式!$AG543)","v":""},{"$f":"IF(女子様式!$AG544=\"\",\"\",女子様式!$AG544)","v":""},{"$f":"IF(女子様式!$AG545=\"\",\"\",女子様式!$AG545)","v":""}]
[null,{"$f":"IF(女子様式!$C546=\"\",\"\",IF(女子様式!$C546=\"@\",\"@\",女子様式!$C546))","v":""},{"$f":"IF(女子様式!$C546=\"\",\"\",IF($B177=\"@\",\"@\",$B177+200000000))","v":""},{"$f":"IF($C177=\"\",\"\",CONCATENATE(女子様式!$D546,\" \",\"(\",女子様式!$K546,\")\"))","v":""},"",{"$f":"IF($C177=\"\",\"\",女子様式!$G546)","v":""},{"$f":"CONCATENATE(OFFSET(女子様式!$J$18,3*A177,0),\" \",IF(LEN(OFFSET(女子様式!$K$18,A177*3,0))=0,,\"(\"),LEFT(OFFSET(女子様式!$K$18,A177*3,0),2),IF(LEN(OFFSET(女子様式!$J$18,A177*3,0))=0,,\")\"))","v":" "},"",{"$f":"IF($C177=\"\",\"\",VLOOKUP(基本登録情報!$C$7,登録データ!$I$3:$L$100,3,FALSE))","v":""},{"$f":"IF($C177=\"\",\"\",VLOOKUP(OFFSET(女子様式!$M$18,3*A177,0),登録データ!AM177:AN223,2,FALSE))","v":""},"",{"$f":"IF(女子様式!$AG546=\"\",\"\",女子様式!$AG546)","v":""},{"$f":"IF(女子様式!$AG547=\"\",\"\",女子様式!$AG547)","v":""},{"$f":"IF(女子様式!$AG548=\"\",\"\",女子様式!$AG548)","v":""}]
[null,{"$f":"IF(女子様式!$C549=\"\",\"\",IF(女子様式!$C549=\"@\",\"@\",女子様式!$C549))","v":""},{"$f":"IF(女子様式!$C549=\"\",\"\",IF($B178=\"@\",\"@\",$B178+200000000))","v":""},{"$f":"IF($C178=\"\",\"\",CONCATENATE(女子様式!$D549,\" \",\"(\",女子様式!$K549,\")\"))","v":""},"",{"$f":"IF($C178=\"\",\"\",女子様式!$G549)","v":""},{"$f":"CONCATENATE(OFFSET(女子様式!$J$18,3*A178,0),\" \",IF(LEN(OFFSET(女子様式!$K$18,A178*3,0))=0,,\"(\"),LEFT(OFFSET(女子様式!$K$18,A178*3,0),2),IF(LEN(OFFSET(女子様式!$J$18,A178*3,0))=0,,\")\"))","v":" "},"",{"$f":"IF($C178=\"\",\"\",VLOOKUP(基本登録情報!$C$7,登録データ!$I$3:$L$100,3,FALSE))","v":""},{"$f":"IF($C178=\"\",\"\",VLOOKUP(OFFSET(女子様式!$M$18,3*A178,0),登録データ!AM178:AN224,2,FALSE))","v":""},"",{"$f":"IF(女子様式!$AG549=\"\",\"\",女子様式!$AG549)","v":""},{"$f":"IF(女子様式!$AG550=\"\",\"\",女子様式!$AG550)","v":""},{"$f":"IF(女子様式!$AG551=\"\",\"\",女子様式!$AG551)","v":""}]
[null,{"$f":"IF(女子様式!$C552=\"\",\"\",IF(女子様式!$C552=\"@\",\"@\",女子様式!$C552))","v":""},{"$f":"IF(女子様式!$C552=\"\",\"\",IF($B179=\"@\",\"@\",$B179+200000000))","v":""},{"$f":"IF($C179=\"\",\"\",CONCATENATE(女子様式!$D552,\" \",\"(\",女子様式!$K552,\")\"))","v":""},"",{"$f":"IF($C179=\"\",\"\",女子様式!$G552)","v":""},{"$f":"CONCATENATE(OFFSET(女子様式!$J$18,3*A179,0),\" \",IF(LEN(OFFSET(女子様式!$K$18,A179*3,0))=0,,\"(\"),LEFT(OFFSET(女子様式!$K$18,A179*3,0),2),IF(LEN(OFFSET(女子様式!$J$18,A179*3,0))=0,,\")\"))","v":" "},"",{"$f":"IF($C179=\"\",\"\",VLOOKUP(基本登録情報!$C$7,登録データ!$I$3:$L$100,3,FALSE))","v":""},{"$f":"IF($C179=\"\",\"\",VLOOKUP(OFFSET(女子様式!$M$18,3*A179,0),登録データ!AM179:AN225,2,FALSE))","v":""},"",{"$f":"IF(女子様式!$AG552=\"\",\"\",女子様式!$AG552)","v":""},{"$f":"IF(女子様式!$AG553=\"\",\"\",女子様式!$AG553)","v":""},{"$f":"IF(女子様式!$AG554=\"\",\"\",女子様式!$AG554)","v":""}]
[null,{"$f":"IF(女子様式!$C555=\"\",\"\",IF(女子様式!$C555=\"@\",\"@\",女子様式!$C555))","v":""},{"$f":"IF(女子様式!$C555=\"\",\"\",IF($B180=\"@\",\"@\",$B180+200000000))","v":""},{"$f":"IF($C180=\"\",\"\",CONCATENATE(女子様式!$D555,\" \",\"(\",女子様式!$K555,\")\"))","v":""},"",{"$f":"IF($C180=\"\",\"\",女子様式!$G555)","v":""},{"$f":"CONCATENATE(OFFSET(女子様式!$J$18,3*A180,0),\" \",IF(LEN(OFFSET(女子様式!$K$18,A180*3,0))=0,,\"(\"),LEFT(OFFSET(女子様式!$K$18,A180*3,0),2),IF(LEN(OFFSET(女子様式!$J$18,A180*3,0))=0,,\")\"))","v":" "},"",{"$f":"IF($C180=\"\",\"\",VLOOKUP(基本登録情報!$C$7,登録データ!$I$3:$L$100,3,FALSE))","v":""},{"$f":"IF($C180=\"\",\"\",VLOOKUP(OFFSET(女子様式!$M$18,3*A180,0),登録データ!AM180:AN226,2,FALSE))","v":""},"",{"$f":"IF(女子様式!$AG555=\"\",\"\",女子様式!$AG555)","v":""},{"$f":"IF(女子様式!$AG556=\"\",\"\",女子様式!$AG556)","v":""},{"$f":"IF(女子様式!$AG557=\"\",\"\",女子様式!$AG557)","v":""}]
[null,{"$f":"IF(女子様式!$C558=\"\",\"\",IF(女子様式!$C558=\"@\",\"@\",女子様式!$C558))","v":""},{"$f":"IF(女子様式!$C558=\"\",\"\",IF($B181=\"@\",\"@\",$B181+200000000))","v":""},{"$f":"IF($C181=\"\",\"\",CONCATENATE(女子様式!$D558,\" \",\"(\",女子様式!$K558,\")\"))","v":""},"",{"$f":"IF($C181=\"\",\"\",女子様式!$G558)","v":""},{"$f":"CONCATENATE(OFFSET(女子様式!$J$18,3*A181,0),\" \",IF(LEN(OFFSET(女子様式!$K$18,A181*3,0))=0,,\"(\"),LEFT(OFFSET(女子様式!$K$18,A181*3,0),2),IF(LEN(OFFSET(女子様式!$J$18,A181*3,0))=0,,\")\"))","v":" "},"",{"$f":"IF($C181=\"\",\"\",VLOOKUP(基本登録情報!$C$7,登録データ!$I$3:$L$100,3,FALSE))","v":""},{"$f":"IF($C181=\"\",\"\",VLOOKUP(OFFSET(女子様式!$M$18,3*A181,0),登録データ!AM181:AN227,2,FALSE))","v":""},"",{"$f":"IF(女子様式!$AG558=\"\",\"\",女子様式!$AG558)","v":""},{"$f":"IF(女子様式!$AG559=\"\",\"\",女子様式!$AG559)","v":""},{"$f":"IF(女子様式!$AG560=\"\",\"\",女子様式!$AG560)","v":""}]
[null,{"$f":"IF(女子様式!$C561=\"\",\"\",IF(女子様式!$C561=\"@\",\"@\",女子様式!$C561))","v":""},{"$f":"IF(女子様式!$C561=\"\",\"\",IF($B182=\"@\",\"@\",$B182+200000000))","v":""},{"$f":"IF($C182=\"\",\"\",CONCATENATE(女子様式!$D561,\" \",\"(\",女子様式!$K561,\")\"))","v":""},"",{"$f":"IF($C182=\"\",\"\",女子様式!$G561)","v":""},{"$f":"CONCATENATE(OFFSET(女子様式!$J$18,3*A182,0),\" \",IF(LEN(OFFSET(女子様式!$K$18,A182*3,0))=0,,\"(\"),LEFT(OFFSET(女子様式!$K$18,A182*3,0),2),IF(LEN(OFFSET(女子様式!$J$18,A182*3,0))=0,,\")\"))","v":" "},"",{"$f":"IF($C182=\"\",\"\",VLOOKUP(基本登録情報!$C$7,登録データ!$I$3:$L$100,3,FALSE))","v":""},{"$f":"IF($C182=\"\",\"\",VLOOKUP(OFFSET(女子様式!$M$18,3*A182,0),登録データ!AM182:AN228,2,FALSE))","v":""},"",{"$f":"IF(女子様式!$AG561=\"\",\"\",女子様式!$AG561)","v":""},{"$f":"IF(女子様式!$AG562=\"\",\"\",女子様式!$AG562)","v":""},{"$f":"IF(女子様式!$AG563=\"\",\"\",女子様式!$AG563)","v":""}]
[null,{"$f":"IF(女子様式!$C564=\"\",\"\",IF(女子様式!$C564=\"@\",\"@\",女子様式!$C564))","v":""},{"$f":"IF(女子様式!$C564=\"\",\"\",IF($B183=\"@\",\"@\",$B183+200000000))","v":""},{"$f":"IF($C183=\"\",\"\",CONCATENATE(女子様式!$D564,\" \",\"(\",女子様式!$K564,\")\"))","v":""},"",{"$f":"IF($C183=\"\",\"\",女子様式!$G564)","v":""},{"$f":"CONCATENATE(OFFSET(女子様式!$J$18,3*A183,0),\" \",IF(LEN(OFFSET(女子様式!$K$18,A183*3,0))=0,,\"(\"),LEFT(OFFSET(女子様式!$K$18,A183*3,0),2),IF(LEN(OFFSET(女子様式!$J$18,A183*3,0))=0,,\")\"))","v":" "},"",{"$f":"IF($C183=\"\",\"\",VLOOKUP(基本登録情報!$C$7,登録データ!$I$3:$L$100,3,FALSE))","v":""},{"$f":"IF($C183=\"\",\"\",VLOOKUP(OFFSET(女子様式!$M$18,3*A183,0),登録データ!AM183:AN229,2,FALSE))","v":""},"",{"$f":"IF(女子様式!$AG564=\"\",\"\",女子様式!$AG564)","v":""},{"$f":"IF(女子様式!$AG565=\"\",\"\",女子様式!$AG565)","v":""},{"$f":"IF(女子様式!$AG566=\"\",\"\",女子様式!$AG566)","v":""}]
[null,{"$f":"IF(女子様式!$C567=\"\",\"\",IF(女子様式!$C567=\"@\",\"@\",女子様式!$C567))","v":""},{"$f":"IF(女子様式!$C567=\"\",\"\",IF($B184=\"@\",\"@\",$B184+200000000))","v":""},{"$f":"IF($C184=\"\",\"\",CONCATENATE(女子様式!$D567,\" \",\"(\",女子様式!$K567,\")\"))","v":""},"",{"$f":"IF($C184=\"\",\"\",女子様式!$G567)","v":""},{"$f":"CONCATENATE(OFFSET(女子様式!$J$18,3*A184,0),\" \",IF(LEN(OFFSET(女子様式!$K$18,A184*3,0))=0,,\"(\"),LEFT(OFFSET(女子様式!$K$18,A184*3,0),2),IF(LEN(OFFSET(女子様式!$J$18,A184*3,0))=0,,\")\"))","v":" "},"",{"$f":"IF($C184=\"\",\"\",VLOOKUP(基本登録情報!$C$7,登録データ!$I$3:$L$100,3,FALSE))","v":""},{"$f":"IF($C184=\"\",\"\",VLOOKUP(OFFSET(女子様式!$M$18,3*A184,0),登録データ!AM184:AN230,2,FALSE))","v":""},"",{"$f":"IF(女子様式!$AG567=\"\",\"\",女子様式!$AG567)","v":""},{"$f":"IF(女子様式!$AG568=\"\",\"\",女子様式!$AG568)","v":""},{"$f":"IF(女子様式!$AG569=\"\",\"\",女子様式!$AG569)","v":""}]
[null,{"$f":"IF(女子様式!$C570=\"\",\"\",IF(女子様式!$C570=\"@\",\"@\",女子様式!$C570))","v":""},{"$f":"IF(女子様式!$C570=\"\",\"\",IF($B185=\"@\",\"@\",$B185+200000000))","v":""},{"$f":"IF($C185=\"\",\"\",CONCATENATE(女子様式!$D570,\" \",\"(\",女子様式!$K570,\")\"))","v":""},"",{"$f":"IF($C185=\"\",\"\",女子様式!$G570)","v":""},{"$f":"CONCATENATE(OFFSET(女子様式!$J$18,3*A185,0),\" \",IF(LEN(OFFSET(女子様式!$K$18,A185*3,0))=0,,\"(\"),LEFT(OFFSET(女子様式!$K$18,A185*3,0),2),IF(LEN(OFFSET(女子様式!$J$18,A185*3,0))=0,,\")\"))","v":" "},"",{"$f":"IF($C185=\"\",\"\",VLOOKUP(基本登録情報!$C$7,登録データ!$I$3:$L$100,3,FALSE))","v":""},{"$f":"IF($C185=\"\",\"\",VLOOKUP(OFFSET(女子様式!$M$18,3*A185,0),登録データ!AM185:AN231,2,FALSE))","v":""},"",{"$f":"IF(女子様式!$AG570=\"\",\"\",女子様式!$AG570)","v":""},{"$f":"IF(女子様式!$AG571=\"\",\"\",女子様式!$AG571)","v":""},{"$f":"IF(女子様式!$AG572=\"\",\"\",女子様式!$AG572)","v":""}]
[null,{"$f":"IF(女子様式!$C573=\"\",\"\",IF(女子様式!$C573=\"@\",\"@\",女子様式!$C573))","v":""},{"$f":"IF(女子様式!$C573=\"\",\"\",IF($B186=\"@\",\"@\",$B186+200000000))","v":""},{"$f":"IF($C186=\"\",\"\",CONCATENATE(女子様式!$D573,\" \",\"(\",女子様式!$K573,\")\"))","v":""},"",{"$f":"IF($C186=\"\",\"\",女子様式!$G573)","v":""},{"$f":"CONCATENATE(OFFSET(女子様式!$J$18,3*A186,0),\" \",IF(LEN(OFFSET(女子様式!$K$18,A186*3,0))=0,,\"(\"),LEFT(OFFSET(女子様式!$K$18,A186*3,0),2),IF(LEN(OFFSET(女子様式!$J$18,A186*3,0))=0,,\")\"))","v":" "},"",{"$f":"IF($C186=\"\",\"\",VLOOKUP(基本登録情報!$C$7,登録データ!$I$3:$L$100,3,FALSE))","v":""},{"$f":"IF($C186=\"\",\"\",VLOOKUP(OFFSET(女子様式!$M$18,3*A186,0),登録データ!AM186:AN232,2,FALSE))","v":""},"",{"$f":"IF(女子様式!$AG573=\"\",\"\",女子様式!$AG573)","v":""},{"$f":"IF(女子様式!$AG574=\"\",\"\",女子様式!$AG574)","v":""},{"$f":"IF(女子様式!$AG575=\"\",\"\",女子様式!$AG575)","v":""}]
[null,{"$f":"IF(女子様式!$C576=\"\",\"\",IF(女子様式!$C576=\"@\",\"@\",女子様式!$C576))","v":""},{"$f":"IF(女子様式!$C576=\"\",\"\",IF($B187=\"@\",\"@\",$B187+200000000))","v":""},{"$f":"IF($C187=\"\",\"\",CONCATENATE(女子様式!$D576,\" \",\"(\",女子様式!$K576,\")\"))","v":""},"",{"$f":"IF($C187=\"\",\"\",女子様式!$G576)","v":""},{"$f":"CONCATENATE(OFFSET(女子様式!$J$18,3*A187,0),\" \",IF(LEN(OFFSET(女子様式!$K$18,A187*3,0))=0,,\"(\"),LEFT(OFFSET(女子様式!$K$18,A187*3,0),2),IF(LEN(OFFSET(女子様式!$J$18,A187*3,0))=0,,\")\"))","v":" "},"",{"$f":"IF($C187=\"\",\"\",VLOOKUP(基本登録情報!$C$7,登録データ!$I$3:$L$100,3,FALSE))","v":""},{"$f":"IF($C187=\"\",\"\",VLOOKUP(OFFSET(女子様式!$M$18,3*A187,0),登録データ!AM187:AN233,2,FALSE))","v":""},"",{"$f":"IF(女子様式!$AG576=\"\",\"\",女子様式!$AG576)","v":""},{"$f":"IF(女子様式!$AG577=\"\",\"\",女子様式!$AG577)","v":""},{"$f":"IF(女子様式!$AG578=\"\",\"\",女子様式!$AG578)","v":""}]
[null,{"$f":"IF(女子様式!$C579=\"\",\"\",IF(女子様式!$C579=\"@\",\"@\",女子様式!$C579))","v":""},{"$f":"IF(女子様式!$C579=\"\",\"\",IF($B188=\"@\",\"@\",$B188+200000000))","v":""},{"$f":"IF($C188=\"\",\"\",CONCATENATE(女子様式!$D579,\" \",\"(\",女子様式!$K579,\")\"))","v":""},"",{"$f":"IF($C188=\"\",\"\",女子様式!$G579)","v":""},{"$f":"CONCATENATE(OFFSET(女子様式!$J$18,3*A188,0),\" \",IF(LEN(OFFSET(女子様式!$K$18,A188*3,0))=0,,\"(\"),LEFT(OFFSET(女子様式!$K$18,A188*3,0),2),IF(LEN(OFFSET(女子様式!$J$18,A188*3,0))=0,,\")\"))","v":" "},"",{"$f":"IF($C188=\"\",\"\",VLOOKUP(基本登録情報!$C$7,登録データ!$I$3:$L$100,3,FALSE))","v":""},{"$f":"IF($C188=\"\",\"\",VLOOKUP(OFFSET(女子様式!$M$18,3*A188,0),登録データ!AM188:AN234,2,FALSE))","v":""},"",{"$f":"IF(女子様式!$AG579=\"\",\"\",女子様式!$AG579)","v":""},{"$f":"IF(女子様式!$AG580=\"\",\"\",女子様式!$AG580)","v":""},{"$f":"IF(女子様式!$AG581=\"\",\"\",女子様式!$AG581)","v":""}]
[null,{"$f":"IF(女子様式!$C582=\"\",\"\",IF(女子様式!$C582=\"@\",\"@\",女子様式!$C582))","v":""},{"$f":"IF(女子様式!$C582=\"\",\"\",IF($B189=\"@\",\"@\",$B189+200000000))","v":""},{"$f":"IF($C189=\"\",\"\",CONCATENATE(女子様式!$D582,\" \",\"(\",女子様式!$K582,\")\"))","v":""},"",{"$f":"IF($C189=\"\",\"\",女子様式!$G582)","v":""},{"$f":"CONCATENATE(OFFSET(女子様式!$J$18,3*A189,0),\" \",IF(LEN(OFFSET(女子様式!$K$18,A189*3,0))=0,,\"(\"),LEFT(OFFSET(女子様式!$K$18,A189*3,0),2),IF(LEN(OFFSET(女子様式!$J$18,A189*3,0))=0,,\")\"))","v":" "},"",{"$f":"IF($C189=\"\",\"\",VLOOKUP(基本登録情報!$C$7,登録データ!$I$3:$L$100,3,FALSE))","v":""},{"$f":"IF($C189=\"\",\"\",VLOOKUP(OFFSET(女子様式!$M$18,3*A189,0),登録データ!AM189:AN235,2,FALSE))","v":""},"",{"$f":"IF(女子様式!$AG582=\"\",\"\",女子様式!$AG582)","v":""},{"$f":"IF(女子様式!$AG583=\"\",\"\",女子様式!$AG583)","v":""},{"$f":"IF(女子様式!$AG584=\"\",\"\",女子様式!$AG584)","v":""}]
[null,{"$f":"IF(女子様式!$C585=\"\",\"\",IF(女子様式!$C585=\"@\",\"@\",女子様式!$C585))","v":""},{"$f":"IF(女子様式!$C585=\"\",\"\",IF($B190=\"@\",\"@\",$B190+200000000))","v":""},{"$f":"IF($C190=\"\",\"\",CONCATENATE(女子様式!$D585,\" \",\"(\",女子様式!$K585,\")\"))","v":""},"",{"$f":"IF($C190=\"\",\"\",女子様式!$G585)","v":""},{"$f":"CONCATENATE(OFFSET(女子様式!$J$18,3*A190,0),\" \",IF(LEN(OFFSET(女子様式!$K$18,A190*3,0))=0,,\"(\"),LEFT(OFFSET(女子様式!$K$18,A190*3,0),2),IF(LEN(OFFSET(女子様式!$J$18,A190*3,0))=0,,\")\"))","v":" "},"",{"$f":"IF($C190=\"\",\"\",VLOOKUP(基本登録情報!$C$7,登録データ!$I$3:$L$100,3,FALSE))","v":""},{"$f":"IF($C190=\"\",\"\",VLOOKUP(OFFSET(女子様式!$M$18,3*A190,0),登録データ!AM190:AN236,2,FALSE))","v":""},"",{"$f":"IF(女子様式!$AG585=\"\",\"\",女子様式!$AG585)","v":""},{"$f":"IF(女子様式!$AG586=\"\",\"\",女子様式!$AG586)","v":""},{"$f":"IF(女子様式!$AG587=\"\",\"\",女子様式!$AG587)","v":""}]
[null,{"$f":"IF(女子様式!$C588=\"\",\"\",IF(女子様式!$C588=\"@\",\"@\",女子様式!$C588))","v":""},{"$f":"IF(女子様式!$C588=\"\",\"\",IF($B191=\"@\",\"@\",$B191+200000000))","v":""},{"$f":"IF($C191=\"\",\"\",CONCATENATE(女子様式!$D588,\" \",\"(\",女子様式!$K588,\")\"))","v":""},"",{"$f":"IF($C191=\"\",\"\",女子様式!$G588)","v":""},{"$f":"CONCATENATE(OFFSET(女子様式!$J$18,3*A191,0),\" \",IF(LEN(OFFSET(女子様式!$K$18,A191*3,0))=0,,\"(\"),LEFT(OFFSET(女子様式!$K$18,A191*3,0),2),IF(LEN(OFFSET(女子様式!$J$18,A191*3,0))=0,,\")\"))","v":" "},"",{"$f":"IF($C191=\"\",\"\",VLOOKUP(基本登録情報!$C$7,登録データ!$I$3:$L$100,3,FALSE))","v":""},{"$f":"IF($C191=\"\",\"\",VLOOKUP(OFFSET(女子様式!$M$18,3*A191,0),登録データ!AM191:AN237,2,FALSE))","v":""},"",{"$f":"IF(女子様式!$AG588=\"\",\"\",女子様式!$AG588)","v":""},{"$f":"IF(女子様式!$AG589=\"\",\"\",女子様式!$AG589)","v":""},{"$f":"IF(女子様式!$AG590=\"\",\"\",女子様式!$AG590)","v":""}]
[null,{"$f":"IF(女子様式!$C591=\"\",\"\",IF(女子様式!$C591=\"@\",\"@\",女子様式!$C591))","v":""},{"$f":"IF(女子様式!$C591=\"\",\"\",IF($B192=\"@\",\"@\",$B192+200000000))","v":""},{"$f":"IF($C192=\"\",\"\",CONCATENATE(女子様式!$D591,\" \",\"(\",女子様式!$K591,\")\"))","v":""},"",{"$f":"IF($C192=\"\",\"\",女子様式!$G591)","v":""},{"$f":"CONCATENATE(OFFSET(女子様式!$J$18,3*A192,0),\" \",IF(LEN(OFFSET(女子様式!$K$18,A192*3,0))=0,,\"(\"),LEFT(OFFSET(女子様式!$K$18,A192*3,0),2),IF(LEN(OFFSET(女子様式!$J$18,A192*3,0))=0,,\")\"))","v":" "},"",{"$f":"IF($C192=\"\",\"\",VLOOKUP(基本登録情報!$C$7,登録データ!$I$3:$L$100,3,FALSE))","v":""},{"$f":"IF($C192=\"\",\"\",VLOOKUP(OFFSET(女子様式!$M$18,3*A192,0),登録データ!AM192:AN238,2,FALSE))","v":""},"",{"$f":"IF(女子様式!$AG591=\"\",\"\",女子様式!$AG591)","v":""},{"$f":"IF(女子様式!$AG592=\"\",\"\",女子様式!$AG592)","v":""},{"$f":"IF(女子様式!$AG593=\"\",\"\",女子様式!$AG593)","v":""}]
[null,{"$f":"IF(女子様式!$C594=\"\",\"\",IF(女子様式!$C594=\"@\",\"@\",女子様式!$C594))","v":""},{"$f":"IF(女子様式!$C594=\"\",\"\",IF($B193=\"@\",\"@\",$B193+200000000))","v":""},{"$f":"IF($C193=\"\",\"\",CONCATENATE(女子様式!$D594,\" \",\"(\",女子様式!$K594,\")\"))","v":""},"",{"$f":"IF($C193=\"\",\"\",女子様式!$G594)","v":""},{"$f":"CONCATENATE(OFFSET(女子様式!$J$18,3*A193,0),\" \",IF(LEN(OFFSET(女子様式!$K$18,A193*3,0))=0,,\"(\"),LEFT(OFFSET(女子様式!$K$18,A193*3,0),2),IF(LEN(OFFSET(女子様式!$J$18,A193*3,0))=0,,\")\"))","v":" "},"",{"$f":"IF($C193=\"\",\"\",VLOOKUP(基本登録情報!$C$7,登録データ!$I$3:$L$100,3,FALSE))","v":""},{"$f":"IF($C193=\"\",\"\",VLOOKUP(OFFSET(女子様式!$M$18,3*A193,0),登録データ!AM193:AN239,2,FALSE))","v":""},"",{"$f":"IF(女子様式!$AG594=\"\",\"\",女子様式!$AG594)","v":""},{"$f":"IF(女子様式!$AG595=\"\",\"\",女子様式!$AG595)","v":""},{"$f":"IF(女子様式!$AG596=\"\",\"\",女子様式!$AG596)","v":""}]
[null,{"$f":"IF(女子様式!$C597=\"\",\"\",IF(女子様式!$C597=\"@\",\"@\",女子様式!$C597))","v":""},{"$f":"IF(女子様式!$C597=\"\",\"\",IF($B194=\"@\",\"@\",$B194+200000000))","v":""},{"$f":"IF($C194=\"\",\"\",CONCATENATE(女子様式!$D597,\" \",\"(\",女子様式!$K597,\")\"))","v":""},"",{"$f":"IF($C194=\"\",\"\",女子様式!$G597)","v":""},{"$f":"CONCATENATE(OFFSET(女子様式!$J$18,3*A194,0),\" \",IF(LEN(OFFSET(女子様式!$K$18,A194*3,0))=0,,\"(\"),LEFT(OFFSET(女子様式!$K$18,A194*3,0),2),IF(LEN(OFFSET(女子様式!$J$18,A194*3,0))=0,,\")\"))","v":" "},"",{"$f":"IF($C194=\"\",\"\",VLOOKUP(基本登録情報!$C$7,登録データ!$I$3:$L$100,3,FALSE))","v":""},{"$f":"IF($C194=\"\",\"\",VLOOKUP(OFFSET(女子様式!$M$18,3*A194,0),登録データ!AM194:AN240,2,FALSE))","v":""},"",{"$f":"IF(女子様式!$AG597=\"\",\"\",女子様式!$AG597)","v":""},{"$f":"IF(女子様式!$AG598=\"\",\"\",女子様式!$AG598)","v":""},{"$f":"IF(女子様式!$AG599=\"\",\"\",女子様式!$AG599)","v":""}]
[null,{"$f":"IF(女子様式!$C600=\"\",\"\",IF(女子様式!$C600=\"@\",\"@\",女子様式!$C600))","v":""},{"$f":"IF(女子様式!$C600=\"\",\"\",IF($B195=\"@\",\"@\",$B195+200000000))","v":""},{"$f":"IF($C195=\"\",\"\",CONCATENATE(女子様式!$D600,\" \",\"(\",女子様式!$K600,\")\"))","v":""},{"$f":"IF(D195=\"\",\"\",LEFT(D195,FIND(\"(\",D195)-1))","v":""},{"$f":"IF($C195=\"\",\"\",女子様式!$G600)","v":""},{"$f":"CONCATENATE(OFFSET(女子様式!$J$18,3*A195,0),\" \",IF(LEN(OFFSET(女子様式!$K$18,A195*3,0))=0,,\"(\"),LEFT(OFFSET(女子様式!$K$18,A195*3,0),2),IF(LEN(OFFSET(女子様式!$J$18,A195*3,0))=0,,\")\"))","v":" "},{"$f":"IF($C195=\"\",\"\",2)","v":""},{"$f":"IF($C195=\"\",\"\",VLOOKUP(基本登録情報!$C$7,登録データ!$I$3:$L$100,3,FALSE))","v":""},{"$f":"IF($C195=\"\",\"\",VLOOKUP(OFFSET(女子様式!$M$18,3*A195,0),登録データ!AM195:AN241,2,FALSE))","v":""},{"$f":"IF($C195=\"\",\"\",IF($B195=\"@\",\"@\",VALUE(RIGHT($C195,4))))","v":""},{"$f":"IF(女子様式!$AG600=\"\",\"\",女子様式!$AG600)","v":""},{"$f":"IF(女子様式!$AG601=\"\",\"\",女子様式!$AG601)","v":""},{"$f":"IF(女子様式!$AG602=\"\",\"\",女子様式!$AG602)","v":""}]
[null,{"$f":"IF(女子様式!$C603=\"\",\"\",IF(女子様式!$C603=\"@\",\"@\",女子様式!$C603))","v":""},{"$f":"IF(女子様式!$C603=\"\",\"\",IF($B196=\"@\",\"@\",$B196+200000000))","v":""},{"$f":"IF($C196=\"\",\"\",CONCATENATE(女子様式!$D603,\" \",\"(\",女子様式!$K603,\")\"))","v":""},"",{"$f":"IF($C196=\"\",\"\",女子様式!$G603)","v":""},{"$f":"CONCATENATE(OFFSET(女子様式!$J$18,3*A196,0),\" \",IF(LEN(OFFSET(女子様式!$K$18,A196*3,0))=0,,\"(\"),LEFT(OFFSET(女子様式!$K$18,A196*3,0),2),IF(LEN(OFFSET(女子様式!$J$18,A196*3,0))=0,,\")\"))","v":" "},"",{"$f":"IF($C196=\"\",\"\",VLOOKUP(基本登録情報!$C$7,登録データ!$I$3:$L$100,3,FALSE))","v":""},{"$f":"IF($C196=\"\",\"\",VLOOKUP(OFFSET(女子様式!$M$18,3*A196,0),登録データ!AM196:AN242,2,FALSE))","v":""},"",{"$f":"IF(女子様式!$AG603=\"\",\"\",女子様式!$AG603)","v":""},{"$f":"IF(女子様式!$AG604=\"\",\"\",女子様式!$AG604)","v":""},{"$f":"IF(女子様式!$AG605=\"\",\"\",女子様式!$AG605)","v":""}]
[null,{"$f":"IF(女子様式!$C606=\"\",\"\",IF(女子様式!$C606=\"@\",\"@\",女子様式!$C606))","v":""},{"$f":"IF(女子様式!$C606=\"\",\"\",IF($B197=\"@\",\"@\",$B197+200000000))","v":""},{"$f":"IF($C197=\"\",\"\",CONCATENATE(女子様式!$D606,\" \",\"(\",女子様式!$K606,\")\"))","v":""},"",{"$f":"IF($C197=\"\",\"\",女子様式!$G606)","v":""},{"$f":"CONCATENATE(OFFSET(女子様式!$J$18,3*A197,0),\" \",IF(LEN(OFFSET(女子様式!$K$18,A197*3,0))=0,,\"(\"),LEFT(OFFSET(女子様式!$K$18,A197*3,0),2),IF(LEN(OFFSET(女子様式!$J$18,A197*3,0))=0,,\")\"))","v":" "},"",{"$f":"IF($C197=\"\",\"\",VLOOKUP(基本登録情報!$C$7,登録データ!$I$3:$L$100,3,FALSE))","v":""},{"$f":"IF($C197=\"\",\"\",VLOOKUP(OFFSET(女子様式!$M$18,3*A197,0),登録データ!AM197:AN243,2,FALSE))","v":""},"",{"$f":"IF(女子様式!$AG606=\"\",\"\",女子様式!$AG606)","v":""},{"$f":"IF(女子様式!$AG607=\"\",\"\",女子様式!$AG607)","v":""},{"$f":"IF(女子様式!$AG608=\"\",\"\",女子様式!$AG608)","v":""}]
[null,{"$f":"IF(女子様式!$C609=\"\",\"\",IF(女子様式!$C609=\"@\",\"@\",女子様式!$C609))","v":""},{"$f":"IF(女子様式!$C609=\"\",\"\",IF($B198=\"@\",\"@\",$B198+200000000))","v":""},{"$f":"IF($C198=\"\",\"\",CONCATENATE(女子様式!$D609,\" \",\"(\",女子様式!$K609,\")\"))","v":""},"",{"$f":"IF($C198=\"\",\"\",女子様式!$G609)","v":""},{"$f":"CONCATENATE(OFFSET(女子様式!$J$18,3*A198,0),\" \",IF(LEN(OFFSET(女子様式!$K$18,A198*3,0))=0,,\"(\"),LEFT(OFFSET(女子様式!$K$18,A198*3,0),2),IF(LEN(OFFSET(女子様式!$J$18,A198*3,0))=0,,\")\"))","v":" "},"",{"$f":"IF($C198=\"\",\"\",VLOOKUP(基本登録情報!$C$7,登録データ!$I$3:$L$100,3,FALSE))","v":""},{"$f":"IF($C198=\"\",\"\",VLOOKUP(OFFSET(女子様式!$M$18,3*A198,0),登録データ!AM198:AN244,2,FALSE))","v":""},"",{"$f":"IF(女子様式!$AG609=\"\",\"\",女子様式!$AG609)","v":""},{"$f":"IF(女子様式!$AG610=\"\",\"\",女子様式!$AG610)","v":""},{"$f":"IF(女子様式!$AG611=\"\",\"\",女子様式!$AG611)","v":""}]
[null,{"$f":"IF(女子様式!$C612=\"\",\"\",IF(女子様式!$C612=\"@\",\"@\",女子様式!$C612))","v":""},{"$f":"IF(女子様式!$C612=\"\",\"\",IF($B199=\"@\",\"@\",$B199+200000000))","v":""},{"$f":"IF($C199=\"\",\"\",CONCATENATE(女子様式!$D612,\" \",\"(\",女子様式!$K612,\")\"))","v":""},"",{"$f":"IF($C199=\"\",\"\",女子様式!$G612)","v":""},{"$f":"CONCATENATE(OFFSET(女子様式!$J$18,3*A199,0),\" \",IF(LEN(OFFSET(女子様式!$K$18,A199*3,0))=0,,\"(\"),LEFT(OFFSET(女子様式!$K$18,A199*3,0),2),IF(LEN(OFFSET(女子様式!$J$18,A199*3,0))=0,,\")\"))","v":" "},"",{"$f":"IF($C199=\"\",\"\",VLOOKUP(基本登録情報!$C$7,登録データ!$I$3:$L$100,3,FALSE))","v":""},{"$f":"IF($C199=\"\",\"\",VLOOKUP(OFFSET(女子様式!$M$18,3*A199,0),登録データ!AM199:AN245,2,FALSE))","v":""},"",{"$f":"IF(女子様式!$AG612=\"\",\"\",女子様式!$AG612)","v":""},{"$f":"IF(女子様式!$AG613=\"\",\"\",女子様式!$AG613)","v":""},{"$f":"IF(女子様式!$AG614=\"\",\"\",女子様式!$AG614)","v":""}]
[null,{"$f":"IF(女子様式!$C615=\"\",\"\",IF(女子様式!$C615=\"@\",\"@\",女子様式!$C615))","v":""},{"$f":"IF(女子様式!$C615=\"\",\"\",IF($B200=\"@\",\"@\",$B200+200000000))","v":""},{"$f":"IF($C200=\"\",\"\",CONCATENATE(女子様式!$D615,\" \",\"(\",女子様式!$K615,\")\"))","v":""},"",{"$f":"IF($C200=\"\",\"\",女子様式!$G615)","v":""},{"$f":"CONCATENATE(OFFSET(女子様式!$J$18,3*A200,0),\" \",IF(LEN(OFFSET(女子様式!$K$18,A200*3,0))=0,,\"(\"),LEFT(OFFSET(女子様式!$K$18,A200*3,0),2),IF(LEN(OFFSET(女子様式!$J$18,A200*3,0))=0,,\")\"))","v":" "},"",{"$f":"IF($C200=\"\",\"\",VLOOKUP(基本登録情報!$C$7,登録データ!$I$3:$L$100,3,FALSE))","v":""},{"$f":"IF($C200=\"\",\"\",VLOOKUP(OFFSET(女子様式!$M$18,3*A200,0),登録データ!AM200:AN246,2,FALSE))","v":""},"",{"$f":"IF(女子様式!$AG615=\"\",\"\",女子様式!$AG615)","v":""},{"$f":"IF(女子様式!$AG616=\"\",\"\",女子様式!$AG616)","v":""},{"$f":"IF(女子様式!$AG617=\"\",\"\",女子様式!$AG617)","v":""}]
[null,{"$f":"IF(女子様式!$C618=\"\",\"\",IF(女子様式!$C618=\"@\",\"@\",女子様式!$C618))","v":""},{"$f":"IF(女子様式!$C618=\"\",\"\",IF($B201=\"@\",\"@\",$B201+200000000))","v":""},{"$f":"IF($C201=\"\",\"\",CONCATENATE(女子様式!$D618,\" \",\"(\",女子様式!$K618,\")\"))","v":""},null,{"$f":"IF($C201=\"\",\"\",女子様式!$G618)","v":""},{"$f":"CONCATENATE(OFFSET(女子様式!$J$18,3*A201,0),\" \",IF(LEN(OFFSET(女子様式!$K$18,A201*3,0))=0,,\"(\"),LEFT(OFFSET(女子様式!$K$18,A201*3,0),2),IF(LEN(OFFSET(女子様式!$J$18,A201*3,0))=0,,\")\"))","v":" "},"",{"$f":"IF($C201=\"\",\"\",VLOOKUP(基本登録情報!$C$7,登録データ!$I$3:$L$100,3,FALSE))","v":""},{"$f":"IF($C201=\"\",\"\",VLOOKUP(OFFSET(女子様式!$M$18,3*A201,0),登録データ!AM201:AN247,2,FALSE))","v":""},"",{"$f":"IF(女子様式!$AG618=\"\",\"\",女子様式!$AG618)","v":""},{"$f":"IF(女子様式!$AG619=\"\",\"\",女子様式!$AG619)","v":""},{"$f":"IF(女子様式!$AG620=\"\",\"\",女子様式!$AG620)","v":""}]
[null,null,null,null,null,null,{"$f":"CONCATENATE(OFFSET(女子様式!$J$18,3*A202,0),\" \",IF(LEN(OFFSET(女子様式!$K$18,A202*3,0))=0,,\"(\"),LEFT(OFFSET(女子様式!$K$18,A202*3,0),2),IF(LEN(OFFSET(女子様式!$J$18,A202*3,0))=0,,\")\"))","v":" "},null,{"$f":"IF($C202=\"\",\"\",VLOOKUP(基本登録情報!$C$7,登録データ!$I$3:$L$100,3,FALSE))","v":""},{"$f":"IF($C202=\"\",\"\",VLOOKUP(OFFSET(女子様式!$M$18,3*A202,0),登録データ!AM202:AN248,2,FALSE))","v":""}]
[null,null,null,null,null,null,{"$f":"CONCATENATE(OFFSET(女子様式!$J$18,3*A203,0),\" \",IF(LEN(OFFSET(女子様式!$K$18,A203*3,0))=0,,\"(\"),LEFT(OFFSET(女子様式!$K$18,A203*3,0),2),IF(LEN(OFFSET(女子様式!$J$18,A203*3,0))=0,,\")\"))","v":" "},null,{"$f":"IF($C203=\"\",\"\",VLOOKUP(基本登録情報!$C$7,登録データ!$I$3:$L$100,3,FALSE))","v":""},{"$f":"IF($C203=\"\",\"\",VLOOKUP(OFFSET(女子様式!$M$18,3*A203,0),登録データ!AM203:AN249,2,FALSE))","v":""}]
[null,null,null,null,null,null,{"$f":"CONCATENATE(OFFSET(女子様式!$J$18,3*A204,0),\" \",IF(LEN(OFFSET(女子様式!$K$18,A204*3,0))=0,,\"(\"),LEFT(OFFSET(女子様式!$K$18,A204*3,0),2),IF(LEN(OFFSET(女子様式!$J$18,A204*3,0))=0,,\")\"))","v":" "},null,{"$f":"IF($C204=\"\",\"\",VLOOKUP(基本登録情報!$C$7,登録データ!$I$3:$L$100,3,FALSE))","v":""},{"$f":"IF($C204=\"\",\"\",VLOOKUP(OFFSET(女子様式!$M$18,3*A204,0),登録データ!AM204:AN250,2,FALSE))","v":""}]
[null,null,null,null,null,null,{"$f":"CONCATENATE(OFFSET(女子様式!$J$18,3*A205,0),\" \",IF(LEN(OFFSET(女子様式!$K$18,A205*3,0))=0,,\"(\"),LEFT(OFFSET(女子様式!$K$18,A205*3,0),2),IF(LEN(OFFSET(女子様式!$J$18,A205*3,0))=0,,\")\"))","v":" "},null,{"$f":"IF($C205=\"\",\"\",VLOOKUP(基本登録情報!$C$7,登録データ!$I$3:$L$100,3,FALSE))","v":""},{"$f":"IF($C205=\"\",\"\",VLOOKUP(OFFSET(女子様式!$M$18,3*A205,0),登録データ!AM205:AN251,2,FALSE))","v":""}]
[null,null,null,null,null,null,{"$f":"CONCATENATE(OFFSET(女子様式!$J$18,3*A206,0),\" \",IF(LEN(OFFSET(女子様式!$K$18,A206*3,0))=0,,\"(\"),LEFT(OFFSET(女子様式!$K$18,A206*3,0),2),IF(LEN(OFFSET(女子様式!$J$18,A206*3,0))=0,,\")\"))","v":" "},null,{"$f":"IF($C206=\"\",\"\",VLOOKUP(基本登録情報!$C$7,登録データ!$I$3:$L$100,3,FALSE))","v":""},{"$f":"IF($C206=\"\",\"\",VLOOKUP(OFFSET(女子様式!$M$18,3*A206,0),登録データ!AM206:AN252,2,FALSE))","v":""}]
[null,null,null,null,null,null,{"$f":"CONCATENATE(OFFSET(女子様式!$J$18,3*A207,0),\" \",IF(LEN(OFFSET(女子様式!$K$18,A207*3,0))=0,,\"(\"),LEFT(OFFSET(女子様式!$K$18,A207*3,0),2),IF(LEN(OFFSET(女子様式!$J$18,A207*3,0))=0,,\")\"))","v":" "},null,{"$f":"IF($C207=\"\",\"\",VLOOKUP(基本登録情報!$C$7,登録データ!$I$3:$L$100,3,FALSE))","v":""},{"$f":"IF($C207=\"\",\"\",VLOOKUP(OFFSET(女子様式!$M$18,3*A207,0),登録データ!AM207:AN253,2,FALSE))","v":""}]
[null,null,null,null,null,null,{"$f":"CONCATENATE(OFFSET(女子様式!$J$18,3*A208,0),\" \",IF(LEN(OFFSET(女子様式!$K$18,A208*3,0))=0,,\"(\"),LEFT(OFFSET(女子様式!$K$18,A208*3,0),2),IF(LEN(OFFSET(女子様式!$J$18,A208*3,0))=0,,\")\"))","v":" "},null,{"$f":"IF($C208=\"\",\"\",VLOOKUP(基本登録情報!$C$7,登録データ!$I$3:$L$100,3,FALSE))","v":""},{"$f":"IF($C208=\"\",\"\",VLOOKUP(OFFSET(女子様式!$M$18,3*A208,0),登録データ!AM208:AN254,2,FALSE))","v":""}]
[null,null,null,null,null,null,{"$f":"CONCATENATE(OFFSET(女子様式!$J$18,3*A209,0),\" \",IF(LEN(OFFSET(女子様式!$K$18,A209*3,0))=0,,\"(\"),LEFT(OFFSET(女子様式!$K$18,A209*3,0),2),IF(LEN(OFFSET(女子様式!$J$18,A209*3,0))=0,,\")\"))","v":" "},null,{"$f":"IF($C209=\"\",\"\",VLOOKUP(基本登録情報!$C$7,登録データ!$I$3:$L$100,3,FALSE))","v":""},{"$f":"IF($C209=\"\",\"\",VLOOKUP(OFFSET(女子様式!$M$18,3*A209,0),登録データ!AM209:AN255,2,FALSE))","v":""}]
[null,null,null,null,null,null,{"$f":"CONCATENATE(OFFSET(女子様式!$J$18,3*A210,0),\" \",IF(LEN(OFFSET(女子様式!$K$18,A210*3,0))=0,,\"(\"),LEFT(OFFSET(女子様式!$K$18,A210*3,0),2),IF(LEN(OFFSET(女子様式!$J$18,A210*3,0))=0,,\")\"))","v":" "},null,{"$f":"IF($C210=\"\",\"\",VLOOKUP(基本登録情報!$C$7,登録データ!$I$3:$L$100,3,FALSE))","v":""},{"$f":"IF($C210=\"\",\"\",VLOOKUP(OFFSET(女子様式!$M$18,3*A210,0),登録データ!AM210:AN256,2,FALSE))","v":""}]
[null,null,null,null,null,null,{"$f":"CONCATENATE(OFFSET(女子様式!$J$18,3*A211,0),\" \",IF(LEN(OFFSET(女子様式!$K$18,A211*3,0))=0,,\"(\"),LEFT(OFFSET(女子様式!$K$18,A211*3,0),2),IF(LEN(OFFSET(女子様式!$J$18,A211*3,0))=0,,\")\"))","v":" "},null,{"$f":"IF($C211=\"\",\"\",VLOOKUP(基本登録情報!$C$7,登録データ!$I$3:$L$100,3,FALSE))","v":""},{"$f":"IF($C211=\"\",\"\",VLOOKUP(OFFSET(女子様式!$M$18,3*A211,0),登録データ!AM211:AN257,2,FALSE))","v":""}]
[null,null,null,null,null,null,{"$f":"CONCATENATE(OFFSET(女子様式!$J$18,3*A212,0),\" \",IF(LEN(OFFSET(女子様式!$K$18,A212*3,0))=0,,\"(\"),LEFT(OFFSET(女子様式!$K$18,A212*3,0),2),IF(LEN(OFFSET(女子様式!$J$18,A212*3,0))=0,,\")\"))","v":" "},null,{"$f":"IF($C212=\"\",\"\",VLOOKUP(基本登録情報!$C$7,登録データ!$I$3:$L$100,3,FALSE))","v":""},{"$f":"IF($C212=\"\",\"\",VLOOKUP(OFFSET(女子様式!$M$18,3*A212,0),登録データ!AM212:AN258,2,FALSE))","v":""}]
[null,null,null,null,null,null,{"$f":"CONCATENATE(OFFSET(女子様式!$J$18,3*A213,0),\" \",IF(LEN(OFFSET(女子様式!$K$18,A213*3,0))=0,,\"(\"),LEFT(OFFSET(女子様式!$K$18,A213*3,0),2),IF(LEN(OFFSET(女子様式!$J$18,A213*3,0))=0,,\")\"))","v":" "},null,{"$f":"IF($C213=\"\",\"\",VLOOKUP(基本登録情報!$C$7,登録データ!$I$3:$L$100,3,FALSE))","v":""},{"$f":"IF($C213=\"\",\"\",VLOOKUP(OFFSET(女子様式!$M$18,3*A213,0),登録データ!AM213:AN259,2,FALSE))","v":""}]
[null,null,null,null,null,null,{"$f":"CONCATENATE(OFFSET(女子様式!$J$18,3*A214,0),\" \",IF(LEN(OFFSET(女子様式!$K$18,A214*3,0))=0,,\"(\"),LEFT(OFFSET(女子様式!$K$18,A214*3,0),2),IF(LEN(OFFSET(女子様式!$J$18,A214*3,0))=0,,\")\"))","v":" "},null,{"$f":"IF($C214=\"\",\"\",VLOOKUP(基本登録情報!$C$7,登録データ!$I$3:$L$100,3,FALSE))","v":""},{"$f":"IF($C214=\"\",\"\",VLOOKUP(OFFSET(女子様式!$M$18,3*A214,0),登録データ!AM214:AN260,2,FALSE))","v":""}]
[null,null,null,null,null,null,{"$f":"CONCATENATE(OFFSET(女子様式!$J$18,3*A215,0),\" \",IF(LEN(OFFSET(女子様式!$K$18,A215*3,0))=0,,\"(\"),LEFT(OFFSET(女子様式!$K$18,A215*3,0),2),IF(LEN(OFFSET(女子様式!$J$18,A215*3,0))=0,,\")\"))","v":" "},null,{"$f":"IF($C215=\"\",\"\",VLOOKUP(基本登録情報!$C$7,登録データ!$I$3:$L$100,3,FALSE))","v":""},{"$f":"IF($C215=\"\",\"\",VLOOKUP(OFFSET(女子様式!$M$18,3*A215,0),登録データ!AM215:AN261,2,FALSE))","v":""}]
[null,null,null,null,null,null,{"$f":"CONCATENATE(OFFSET(女子様式!$J$18,3*A216,0),\" \",IF(LEN(OFFSET(女子様式!$K$18,A216*3,0))=0,,\"(\"),LEFT(OFFSET(女子様式!$K$18,A216*3,0),2),IF(LEN(OFFSET(女子様式!$J$18,A216*3,0))=0,,\")\"))","v":" "},null,{"$f":"IF($C216=\"\",\"\",VLOOKUP(基本登録情報!$C$7,登録データ!$I$3:$L$100,3,FALSE))","v":""},{"$f":"IF($C216=\"\",\"\",VLOOKUP(OFFSET(女子様式!$M$18,3*A216,0),登録データ!AM216:AN262,2,FALSE))","v":""}]
[null,null,null,null,null,null,{"$f":"CONCATENATE(OFFSET(女子様式!$J$18,3*A217,0),\" \",IF(LEN(OFFSET(女子様式!$K$18,A217*3,0))=0,,\"(\"),LEFT(OFFSET(女子様式!$K$18,A217*3,0),2),IF(LEN(OFFSET(女子様式!$J$18,A217*3,0))=0,,\")\"))","v":" "},null,{"$f":"IF($C217=\"\",\"\",VLOOKUP(基本登録情報!$C$7,登録データ!$I$3:$L$100,3,FALSE))","v":""},{"$f":"IF($C217=\"\",\"\",VLOOKUP(OFFSET(女子様式!$M$18,3*A217,0),登録データ!AM217:AN263,2,FALSE))","v":""}]
[null,null,null,null,null,null,{"$f":"CONCATENATE(OFFSET(女子様式!$J$18,3*A218,0),\" \",IF(LEN(OFFSET(女子様式!$K$18,A218*3,0))=0,,\"(\"),LEFT(OFFSET(女子様式!$K$18,A218*3,0),2),IF(LEN(OFFSET(女子様式!$J$18,A218*3,0))=0,,\")\"))","v":" "},null,{"$f":"IF($C218=\"\",\"\",VLOOKUP(基本登録情報!$C$7,登録データ!$I$3:$L$100,3,FALSE))","v":""},{"$f":"IF($C218=\"\",\"\",VLOOKUP(OFFSET(女子様式!$M$18,3*A218,0),登録データ!AM218:AN264,2,FALSE))","v":""}]
[null,null,null,null,null,null,{"$f":"CONCATENATE(OFFSET(女子様式!$J$18,3*A219,0),\" \",IF(LEN(OFFSET(女子様式!$K$18,A219*3,0))=0,,\"(\"),LEFT(OFFSET(女子様式!$K$18,A219*3,0),2),IF(LEN(OFFSET(女子様式!$J$18,A219*3,0))=0,,\")\"))","v":" "},null,{"$f":"IF($C219=\"\",\"\",VLOOKUP(基本登録情報!$C$7,登録データ!$I$3:$L$100,3,FALSE))","v":""},{"$f":"IF($C219=\"\",\"\",VLOOKUP(OFFSET(女子様式!$M$18,3*A219,0),登録データ!AM219:AN265,2,FALSE))","v":""}]
[null,null,null,null,null,null,{"$f":"CONCATENATE(OFFSET(女子様式!$J$18,3*A220,0),\" \",IF(LEN(OFFSET(女子様式!$K$18,A220*3,0))=0,,\"(\"),LEFT(OFFSET(女子様式!$K$18,A220*3,0),2),IF(LEN(OFFSET(女子様式!$J$18,A220*3,0))=0,,\")\"))","v":" "},null,{"$f":"IF($C220=\"\",\"\",VLOOKUP(基本登録情報!$C$7,登録データ!$I$3:$L$100,3,FALSE))","v":""},{"$f":"IF($C220=\"\",\"\",VLOOKUP(OFFSET(女子様式!$M$18,3*A220,0),登録データ!AM220:AN266,2,FALSE))","v":""}]
[null,null,null,null,null,null,{"$f":"CONCATENATE(OFFSET(女子様式!$J$18,3*A221,0),\" \",IF(LEN(OFFSET(女子様式!$K$18,A221*3,0))=0,,\"(\"),LEFT(OFFSET(女子様式!$K$18,A221*3,0),2),IF(LEN(OFFSET(女子様式!$J$18,A221*3,0))=0,,\")\"))","v":" "},null,{"$f":"IF($C221=\"\",\"\",VLOOKUP(基本登録情報!$C$7,登録データ!$I$3:$L$100,3,FALSE))","v":""},{"$f":"IF($C221=\"\",\"\",VLOOKUP(OFFSET(女子様式!$M$18,3*A221,0),登録データ!AM221:AN267,2,FALSE))","v":""}]
[null,null,null,null,null,null,{"$f":"CONCATENATE(OFFSET(女子様式!$J$18,3*A222,0),\" \",IF(LEN(OFFSET(女子様式!$K$18,A222*3,0))=0,,\"(\"),LEFT(OFFSET(女子様式!$K$18,A222*3,0),2),IF(LEN(OFFSET(女子様式!$J$18,A222*3,0))=0,,\")\"))","v":" "},null,{"$f":"IF($C222=\"\",\"\",VLOOKUP(基本登録情報!$C$7,登録データ!$I$3:$L$100,3,FALSE))","v":""},{"$f":"IF($C222=\"\",\"\",VLOOKUP(OFFSET(女子様式!$M$18,3*A222,0),登録データ!AM222:AN268,2,FALSE))","v":""}]
[null,null,null,null,null,null,{"$f":"CONCATENATE(OFFSET(女子様式!$J$18,3*A223,0),\" \",IF(LEN(OFFSET(女子様式!$K$18,A223*3,0))=0,,\"(\"),LEFT(OFFSET(女子様式!$K$18,A223*3,0),2),IF(LEN(OFFSET(女子様式!$J$18,A223*3,0))=0,,\")\"))","v":" "},null,{"$f":"IF($C223=\"\",\"\",VLOOKUP(基本登録情報!$C$7,登録データ!$I$3:$L$100,3,FALSE))","v":""},{"$f":"IF($C223=\"\",\"\",VLOOKUP(OFFSET(女子様式!$M$18,3*A223,0),登録データ!AM223:AN269,2,FALSE))","v":""}]
[null,null,null,null,null,null,{"$f":"CONCATENATE(OFFSET(女子様式!$J$18,3*A224,0),\" \",IF(LEN(OFFSET(女子様式!$K$18,A224*3,0))=0,,\"(\"),LEFT(OFFSET(女子様式!$K$18,A224*3,0),2),IF(LEN(OFFSET(女子様式!$J$18,A224*3,0))=0,,\")\"))","v":" "},null,{"$f":"IF($C224=\"\",\"\",VLOOKUP(基本登録情報!$C$7,登録データ!$I$3:$L$100,3,FALSE))","v":""},{"$f":"IF($C224=\"\",\"\",VLOOKUP(OFFSET(女子様式!$M$18,3*A224,0),登録データ!AM224:AN270,2,FALSE))","v":""}]
[null,null,null,null,null,null,{"$f":"CONCATENATE(OFFSET(女子様式!$J$18,3*A225,0),\" \",IF(LEN(OFFSET(女子様式!$K$18,A225*3,0))=0,,\"(\"),LEFT(OFFSET(女子様式!$K$18,A225*3,0),2),IF(LEN(OFFSET(女子様式!$J$18,A225*3,0))=0,,\")\"))","v":" "},null,{"$f":"IF($C225=\"\",\"\",VLOOKUP(基本登録情報!$C$7,登録データ!$I$3:$L$100,3,FALSE))","v":""},{"$f":"IF($C225=\"\",\"\",VLOOKUP(OFFSET(女子様式!$M$18,3*A225,0),登録データ!AM225:AN271,2,FALSE))","v":""}]
[null,null,null,null,null,null,{"$f":"CONCATENATE(OFFSET(女子様式!$J$18,3*A226,0),\" \",IF(LEN(OFFSET(女子様式!$K$18,A226*3,0))=0,,\"(\"),LEFT(OFFSET(女子様式!$K$18,A226*3,0),2),IF(LEN(OFFSET(女子様式!$J$18,A226*3,0))=0,,\")\"))","v":" "},null,{"$f":"IF($C226=\"\",\"\",VLOOKUP(基本登録情報!$C$7,登録データ!$I$3:$L$100,3,FALSE))","v":""},{"$f":"IF($C226=\"\",\"\",VLOOKUP(OFFSET(女子様式!$M$18,3*A226,0),登録データ!AM226:AN272,2,FALSE))","v":""}]
[null,null,null,null,null,null,{"$f":"CONCATENATE(OFFSET(女子様式!$J$18,3*A227,0),\" \",IF(LEN(OFFSET(女子様式!$K$18,A227*3,0))=0,,\"(\"),LEFT(OFFSET(女子様式!$K$18,A227*3,0),2),IF(LEN(OFFSET(女子様式!$J$18,A227*3,0))=0,,\")\"))","v":" "},null,{"$f":"IF($C227=\"\",\"\",VLOOKUP(基本登録情報!$C$7,登録データ!$I$3:$L$100,3,FALSE))","v":""},{"$f":"IF($C227=\"\",\"\",VLOOKUP(OFFSET(女子様式!$M$18,3*A227,0),登録データ!AM227:AN273,2,FALSE))","v":""}]
[null,null,null,null,null,null,{"$f":"CONCATENATE(OFFSET(女子様式!$J$18,3*A228,0),\" \",IF(LEN(OFFSET(女子様式!$K$18,A228*3,0))=0,,\"(\"),LEFT(OFFSET(女子様式!$K$18,A228*3,0),2),IF(LEN(OFFSET(女子様式!$J$18,A228*3,0))=0,,\")\"))","v":" "},null,{"$f":"IF($C228=\"\",\"\",VLOOKUP(基本登録情報!$C$7,登録データ!$I$3:$L$100,3,FALSE))","v":""},{"$f":"IF($C228=\"\",\"\",VLOOKUP(OFFSET(女子様式!$M$18,3*A228,0),登録データ!AM228:AN274,2,FALSE))","v":""}]
[null,null,null,null,null,null,{"$f":"CONCATENATE(OFFSET(女子様式!$J$18,3*A229,0),\" \",IF(LEN(OFFSET(女子様式!$K$18,A229*3,0))=0,,\"(\"),LEFT(OFFSET(女子様式!$K$18,A229*3,0),2),IF(LEN(OFFSET(女子様式!$J$18,A229*3,0))=0,,\")\"))","v":" "},null,{"$f":"IF($C229=\"\",\"\",VLOOKUP(基本登録情報!$C$7,登録データ!$I$3:$L$100,3,FALSE))","v":""},{"$f":"IF($C229=\"\",\"\",VLOOKUP(OFFSET(女子様式!$M$18,3*A229,0),登録データ!AM229:AN275,2,FALSE))","v":""}]
[null,null,null,null,null,null,{"$f":"CONCATENATE(OFFSET(女子様式!$J$18,3*A230,0),\" \",IF(LEN(OFFSET(女子様式!$K$18,A230*3,0))=0,,\"(\"),LEFT(OFFSET(女子様式!$K$18,A230*3,0),2),IF(LEN(OFFSET(女子様式!$J$18,A230*3,0))=0,,\")\"))","v":" "},null,{"$f":"IF($C230=\"\",\"\",VLOOKUP(基本登録情報!$C$7,登録データ!$I$3:$L$100,3,FALSE))","v":""},{"$f":"IF($C230=\"\",\"\",VLOOKUP(OFFSET(女子様式!$M$18,3*A230,0),登録データ!AM230:AN276,2,FALSE))","v":""}]
[null,null,null,null,null,null,{"$f":"CONCATENATE(OFFSET(女子様式!$J$18,3*A231,0),\" \",IF(LEN(OFFSET(女子様式!$K$18,A231*3,0))=0,,\"(\"),LEFT(OFFSET(女子様式!$K$18,A231*3,0),2),IF(LEN(OFFSET(女子様式!$J$18,A231*3,0))=0,,\")\"))","v":" "},null,{"$f":"IF($C231=\"\",\"\",VLOOKUP(基本登録情報!$C$7,登録データ!$I$3:$L$100,3,FALSE))","v":""},{"$f":"IF($C231=\"\",\"\",VLOOKUP(OFFSET(女子様式!$M$18,3*A231,0),登録データ!AM231:AN277,2,FALSE))","v":""}]
[null,null,null,null,null,null,{"$f":"CONCATENATE(OFFSET(女子様式!$J$18,3*A232,0),\" \",IF(LEN(OFFSET(女子様式!$K$18,A232*3,0))=0,,\"(\"),LEFT(OFFSET(女子様式!$K$18,A232*3,0),2),IF(LEN(OFFSET(女子様式!$J$18,A232*3,0))=0,,\")\"))","v":" "},null,{"$f":"IF($C232=\"\",\"\",VLOOKUP(基本登録情報!$C$7,登録データ!$I$3:$L$100,3,FALSE))","v":""},{"$f":"IF($C232=\"\",\"\",VLOOKUP(OFFSET(女子様式!$M$18,3*A232,0),登録データ!AM232:AN278,2,FALSE))","v":""}]
[null,null,null,null,null,null,{"$f":"CONCATENATE(OFFSET(女子様式!$J$18,3*A233,0),\" \",IF(LEN(OFFSET(女子様式!$K$18,A233*3,0))=0,,\"(\"),LEFT(OFFSET(女子様式!$K$18,A233*3,0),2),IF(LEN(OFFSET(女子様式!$J$18,A233*3,0))=0,,\")\"))","v":" "},null,{"$f":"IF($C233=\"\",\"\",VLOOKUP(基本登録情報!$C$7,登録データ!$I$3:$L$100,3,FALSE))","v":""},{"$f":"IF($C233=\"\",\"\",VLOOKUP(OFFSET(女子様式!$M$18,3*A233,0),登録データ!AM233:AN279,2,FALSE))","v":""}]
[null,null,null,null,null,null,{"$f":"CONCATENATE(OFFSET(女子様式!$J$18,3*A234,0),\" \",IF(LEN(OFFSET(女子様式!$K$18,A234*3,0))=0,,\"(\"),LEFT(OFFSET(女子様式!$K$18,A234*3,0),2),IF(LEN(OFFSET(女子様式!$J$18,A234*3,0))=0,,\")\"))","v":" "},null,{"$f":"IF($C234=\"\",\"\",VLOOKUP(基本登録情報!$C$7,登録データ!$I$3:$L$100,3,FALSE))","v":""},{"$f":"IF($C234=\"\",\"\",VLOOKUP(OFFSET(女子様式!$M$18,3*A234,0),登録データ!AM234:AN280,2,FALSE))","v":""}]
[null,null,null,null,null,null,{"$f":"CONCATENATE(OFFSET(女子様式!$J$18,3*A235,0),\" \",IF(LEN(OFFSET(女子様式!$K$18,A235*3,0))=0,,\"(\"),LEFT(OFFSET(女子様式!$K$18,A235*3,0),2),IF(LEN(OFFSET(女子様式!$J$18,A235*3,0))=0,,\")\"))","v":" "},null,{"$f":"IF($C235=\"\",\"\",VLOOKUP(基本登録情報!$C$7,登録データ!$I$3:$L$100,3,FALSE))","v":""},{"$f":"IF($C235=\"\",\"\",VLOOKUP(OFFSET(女子様式!$M$18,3*A235,0),登録データ!AM235:AN281,2,FALSE))","v":""}]
[null,null,null,null,null,null,{"$f":"CONCATENATE(OFFSET(女子様式!$J$18,3*A236,0),\" \",IF(LEN(OFFSET(女子様式!$K$18,A236*3,0))=0,,\"(\"),LEFT(OFFSET(女子様式!$K$18,A236*3,0),2),IF(LEN(OFFSET(女子様式!$J$18,A236*3,0))=0,,\")\"))","v":" "},null,{"$f":"IF($C236=\"\",\"\",VLOOKUP(基本登録情報!$C$7,登録データ!$I$3:$L$100,3,FALSE))","v":""},{"$f":"IF($C236=\"\",\"\",VLOOKUP(OFFSET(女子様式!$M$18,3*A236,0),登録データ!AM236:AN282,2,FALSE))","v":""}]
[null,null,null,null,null,null,{"$f":"CONCATENATE(OFFSET(女子様式!$J$18,3*A237,0),\" \",IF(LEN(OFFSET(女子様式!$K$18,A237*3,0))=0,,\"(\"),LEFT(OFFSET(女子様式!$K$18,A237*3,0),2),IF(LEN(OFFSET(女子様式!$J$18,A237*3,0))=0,,\")\"))","v":" "},null,{"$f":"IF($C237=\"\",\"\",VLOOKUP(基本登録情報!$C$7,登録データ!$I$3:$L$100,3,FALSE))","v":""},{"$f":"IF($C237=\"\",\"\",VLOOKUP(OFFSET(女子様式!$M$18,3*A237,0),登録データ!AM237:AN283,2,FALSE))","v":""}]
[null,null,null,null,null,null,{"$f":"CONCATENATE(OFFSET(女子様式!$J$18,3*A238,0),\" \",IF(LEN(OFFSET(女子様式!$K$18,A238*3,0))=0,,\"(\"),LEFT(OFFSET(女子様式!$K$18,A238*3,0),2),IF(LEN(OFFSET(女子様式!$J$18,A238*3,0))=0,,\")\"))","v":" "},null,{"$f":"IF($C238=\"\",\"\",VLOOKUP(基本登録情報!$C$7,登録データ!$I$3:$L$100,3,FALSE))","v":""},{"$f":"IF($C238=\"\",\"\",VLOOKUP(OFFSET(女子様式!$M$18,3*A238,0),登録データ!AM238:AN284,2,FALSE))","v":""}]
[null,null,null,null,null,null,{"$f":"CONCATENATE(OFFSET(女子様式!$J$18,3*A239,0),\" \",IF(LEN(OFFSET(女子様式!$K$18,A239*3,0))=0,,\"(\"),LEFT(OFFSET(女子様式!$K$18,A239*3,0),2),IF(LEN(OFFSET(女子様式!$J$18,A239*3,0))=0,,\")\"))","v":" "},null,{"$f":"IF($C239=\"\",\"\",VLOOKUP(基本登録情報!$C$7,登録データ!$I$3:$L$100,3,FALSE))","v":""},{"$f":"IF($C239=\"\",\"\",VLOOKUP(OFFSET(女子様式!$M$18,3*A239,0),登録データ!AM239:AN285,2,FALSE))","v":""}]
[null,null,null,null,null,null,{"$f":"CONCATENATE(OFFSET(女子様式!$J$18,3*A240,0),\" \",IF(LEN(OFFSET(女子様式!$K$18,A240*3,0))=0,,\"(\"),LEFT(OFFSET(女子様式!$K$18,A240*3,0),2),IF(LEN(OFFSET(女子様式!$J$18,A240*3,0))=0,,\")\"))","v":" "},null,{"$f":"IF($C240=\"\",\"\",VLOOKUP(基本登録情報!$C$7,登録データ!$I$3:$L$100,3,FALSE))","v":""},{"$f":"IF($C240=\"\",\"\",VLOOKUP(OFFSET(女子様式!$M$18,3*A240,0),登録データ!AM240:AN286,2,FALSE))","v":""}]
[null,null,null,null,null,null,{"$f":"CONCATENATE(OFFSET(女子様式!$J$18,3*A241,0),\" \",IF(LEN(OFFSET(女子様式!$K$18,A241*3,0))=0,,\"(\"),LEFT(OFFSET(女子様式!$K$18,A241*3,0),2),IF(LEN(OFFSET(女子様式!$J$18,A241*3,0))=0,,\")\"))","v":" "},null,{"$f":"IF($C241=\"\",\"\",VLOOKUP(基本登録情報!$C$7,登録データ!$I$3:$L$100,3,FALSE))","v":""},{"$f":"IF($C241=\"\",\"\",VLOOKUP(OFFSET(女子様式!$M$18,3*A241,0),登録データ!AM241:AN287,2,FALSE))","v":""}]
[null,null,null,null,null,null,{"$f":"CONCATENATE(OFFSET(女子様式!$J$18,3*A242,0),\" \",IF(LEN(OFFSET(女子様式!$K$18,A242*3,0))=0,,\"(\"),LEFT(OFFSET(女子様式!$K$18,A242*3,0),2),IF(LEN(OFFSET(女子様式!$J$18,A242*3,0))=0,,\")\"))","v":" "},null,{"$f":"IF($C242=\"\",\"\",VLOOKUP(基本登録情報!$C$7,登録データ!$I$3:$L$100,3,FALSE))","v":""},{"$f":"IF($C242=\"\",\"\",VLOOKUP(OFFSET(女子様式!$M$18,3*A242,0),登録データ!AM242:AN288,2,FALSE))","v":""}]
[null,null,null,null,null,null,{"$f":"CONCATENATE(OFFSET(女子様式!$J$18,3*A243,0),\" \",IF(LEN(OFFSET(女子様式!$K$18,A243*3,0))=0,,\"(\"),LEFT(OFFSET(女子様式!$K$18,A243*3,0),2),IF(LEN(OFFSET(女子様式!$J$18,A243*3,0))=0,,\")\"))","v":" "},null,{"$f":"IF($C243=\"\",\"\",VLOOKUP(基本登録情報!$C$7,登録データ!$I$3:$L$100,3,FALSE))","v":""},{"$f":"IF($C243=\"\",\"\",VLOOKUP(OFFSET(女子様式!$M$18,3*A243,0),登録データ!AM243:AN289,2,FALSE))","v":""}]
[null,null,null,null,null,null,{"$f":"CONCATENATE(OFFSET(女子様式!$J$18,3*A244,0),\" \",IF(LEN(OFFSET(女子様式!$K$18,A244*3,0))=0,,\"(\"),LEFT(OFFSET(女子様式!$K$18,A244*3,0),2),IF(LEN(OFFSET(女子様式!$J$18,A244*3,0))=0,,\")\"))","v":" "},null,{"$f":"IF($C244=\"\",\"\",VLOOKUP(基本登録情報!$C$7,登録データ!$I$3:$L$100,3,FALSE))","v":""},{"$f":"IF($C244=\"\",\"\",VLOOKUP(OFFSET(女子様式!$M$18,3*A244,0),登録データ!AM244:AN290,2,FALSE))","v":""}]
[null,null,null,null,null,null,{"$f":"CONCATENATE(OFFSET(女子様式!$J$18,3*A245,0),\" \",IF(LEN(OFFSET(女子様式!$K$18,A245*3,0))=0,,\"(\"),LEFT(OFFSET(女子様式!$K$18,A245*3,0),2),IF(LEN(OFFSET(女子様式!$J$18,A245*3,0))=0,,\")\"))","v":" "},null,{"$f":"IF($C245=\"\",\"\",VLOOKUP(基本登録情報!$C$7,登録データ!$I$3:$L$100,3,FALSE))","v":""},{"$f":"IF($C245=\"\",\"\",VLOOKUP(OFFSET(女子様式!$M$18,3*A245,0),登録データ!AM245:AN291,2,FALSE))","v":""}]
[null,null,null,null,null,null,{"$f":"CONCATENATE(OFFSET(女子様式!$J$18,3*A246,0),\" \",IF(LEN(OFFSET(女子様式!$K$18,A246*3,0))=0,,\"(\"),LEFT(OFFSET(女子様式!$K$18,A246*3,0),2),IF(LEN(OFFSET(女子様式!$J$18,A246*3,0))=0,,\")\"))","v":" "},null,{"$f":"IF($C246=\"\",\"\",VLOOKUP(基本登録情報!$C$7,登録データ!$I$3:$L$100,3,FALSE))","v":""},{"$f":"IF($C246=\"\",\"\",VLOOKUP(OFFSET(女子様式!$M$18,3*A246,0),登録データ!AM246:AN292,2,FALSE))","v":""}]
[null,null,null,null,null,null,{"$f":"CONCATENATE(OFFSET(女子様式!$J$18,3*A247,0),\" \",IF(LEN(OFFSET(女子様式!$K$18,A247*3,0))=0,,\"(\"),LEFT(OFFSET(女子様式!$K$18,A247*3,0),2),IF(LEN(OFFSET(女子様式!$J$18,A247*3,0))=0,,\")\"))","v":" "},null,{"$f":"IF($C247=\"\",\"\",VLOOKUP(基本登録情報!$C$7,登録データ!$I$3:$L$100,3,FALSE))","v":""},{"$f":"IF($C247=\"\",\"\",VLOOKUP(OFFSET(女子様式!$M$18,3*A247,0),登録データ!AM247:AN293,2,FALSE))","v":""}]
[null,null,null,null,null,null,{"$f":"CONCATENATE(OFFSET(女子様式!$J$18,3*A248,0),\" \",IF(LEN(OFFSET(女子様式!$K$18,A248*3,0))=0,,\"(\"),LEFT(OFFSET(女子様式!$K$18,A248*3,0),2),IF(LEN(OFFSET(女子様式!$J$18,A248*3,0))=0,,\")\"))","v":" "},null,{"$f":"IF($C248=\"\",\"\",VLOOKUP(基本登録情報!$C$7,登録データ!$I$3:$L$100,3,FALSE))","v":""},{"$f":"IF($C248=\"\",\"\",VLOOKUP(OFFSET(女子様式!$M$18,3*A248,0),登録データ!AM248:AN294,2,FALSE))","v":""}]
[null,null,null,null,null,null,{"$f":"CONCATENATE(OFFSET(女子様式!$J$18,3*A249,0),\" \",IF(LEN(OFFSET(女子様式!$K$18,A249*3,0))=0,,\"(\"),LEFT(OFFSET(女子様式!$K$18,A249*3,0),2),IF(LEN(OFFSET(女子様式!$J$18,A249*3,0))=0,,\")\"))","v":" "},null,{"$f":"IF($C249=\"\",\"\",VLOOKUP(基本登録情報!$C$7,登録データ!$I$3:$L$100,3,FALSE))","v":""},{"$f":"IF($C249=\"\",\"\",VLOOKUP(OFFSET(女子様式!$M$18,3*A249,0),登録データ!AM249:AN295,2,FALSE))","v":""}]
[null,null,null,null,null,null,{"$f":"CONCATENATE(OFFSET(女子様式!$J$18,3*A250,0),\" \",IF(LEN(OFFSET(女子様式!$K$18,A250*3,0))=0,,\"(\"),LEFT(OFFSET(女子様式!$K$18,A250*3,0),2),IF(LEN(OFFSET(女子様式!$J$18,A250*3,0))=0,,\")\"))","v":" "},null,{"$f":"IF($C250=\"\",\"\",VLOOKUP(基本登録情報!$C$7,登録データ!$I$3:$L$100,3,FALSE))","v":""},{"$f":"IF($C250=\"\",\"\",VLOOKUP(OFFSET(女子様式!$M$18,3*A250,0),登録データ!AM250:AN296,2,FALSE))","v":""}]
[null,null,null,null,null,null,{"$f":"CONCATENATE(OFFSET(女子様式!$J$18,3*A251,0),\" \",IF(LEN(OFFSET(女子様式!$K$18,A251*3,0))=0,,\"(\"),LEFT(OFFSET(女子様式!$K$18,A251*3,0),2),IF(LEN(OFFSET(女子様式!$J$18,A251*3,0))=0,,\")\"))","v":" "},null,{"$f":"IF($C251=\"\",\"\",VLOOKUP(基本登録情報!$C$7,登録データ!$I$3:$L$100,3,FALSE))","v":""},{"$f":"IF($C251=\"\",\"\",VLOOKUP(OFFSET(女子様式!$M$18,3*A251,0),登録データ!AM251:AN297,2,FALSE))","v":""}]
[null,null,null,null,null,null,null,null,{"$f":"IF($C252=\"\",\"\",VLOOKUP(基本登録情報!$C$7,登録データ!$I$3:$L$100,3,FALSE))","v":""},{"$f":"IF($C252=\"\",\"\",VLOOKUP(OFFSET(女子様式!$M$18,3*A252,0),登録データ!AM252:AN298,2,FALSE))","v":""}]
[null,null,null,null,null,null,null,null,{"$f":"IF($C253=\"\",\"\",VLOOKUP(基本登録情報!$C$7,登録データ!$I$3:$L$100,3,FALSE))","v":""},{"$f":"IF($C253=\"\",\"\",VLOOKUP(OFFSET(女子様式!$M$18,3*A253,0),登録データ!AM253:AN299,2,FALSE))","v":""}]
[null,null,null,null,null,null,null,null,{"$f":"IF($C254=\"\",\"\",VLOOKUP(基本登録情報!$C$7,登録データ!$I$3:$L$100,3,FALSE))","v":""},{"$f":"IF($C254=\"\",\"\",VLOOKUP(OFFSET(女子様式!$M$18,3*A254,0),登録データ!AM254:AN300,2,FALSE))","v":""}]
[null,null,null,null,null,null,null,null,{"$f":"IF($C255=\"\",\"\",VLOOKUP(基本登録情報!$C$7,登録データ!$I$3:$L$100,3,FALSE))","v":""},{"$f":"IF($C255=\"\",\"\",VLOOKUP(OFFSET(女子様式!$M$18,3*A255,0),登録データ!AM255:AN301,2,FALSE))","v":""}]
[null,null,null,null,null,null,null,null,{"$f":"IF($C256=\"\",\"\",VLOOKUP(基本登録情報!$C$7,登録データ!$I$3:$L$100,3,FALSE))","v":""},{"$f":"IF($C256=\"\",\"\",VLOOKUP(OFFSET(女子様式!$M$18,3*A256,0),登録データ!AM256:AN302,2,FALSE))","v":""}]
[null,null,null,null,null,null,null,null,{"$f":"IF($C257=\"\",\"\",VLOOKUP(基本登録情報!$C$7,登録データ!$I$3:$L$100,3,FALSE))","v":""},{"$f":"IF($C257=\"\",\"\",VLOOKUP(OFFSET(女子様式!$M$18,3*A257,0),登録データ!AM257:AN303,2,FALSE))","v":""}]
[null,null,null,null,null,null,null,null,{"$f":"IF($C258=\"\",\"\",VLOOKUP(基本登録情報!$C$7,登録データ!$I$3:$L$100,3,FALSE))","v":""},{"$f":"IF($C258=\"\",\"\",VLOOKUP(OFFSET(女子様式!$M$18,3*A258,0),登録データ!AM258:AN304,2,FALSE))","v":""}]
[null,null,null,null,null,null,null,null,{"$f":"IF($C259=\"\",\"\",VLOOKUP(基本登録情報!$C$7,登録データ!$I$3:$L$100,3,FALSE))","v":""},{"$f":"IF($C259=\"\",\"\",VLOOKUP(OFFSET(女子様式!$M$18,3*A259,0),登録データ!AM259:AN305,2,FALSE))","v":""}]
[null,null,null,null,null,null,null,null,{"$f":"IF($C260=\"\",\"\",VLOOKUP(基本登録情報!$C$7,登録データ!$I$3:$L$100,3,FALSE))","v":""},{"$f":"IF($C260=\"\",\"\",VLOOKUP(OFFSET(女子様式!$M$18,3*A260,0),登録データ!AM260:AN306,2,FALSE))","v":""}]
[null,null,null,null,null,null,null,null,{"$f":"IF($C261=\"\",\"\",VLOOKUP(基本登録情報!$C$7,登録データ!$I$3:$L$100,3,FALSE))","v":""},{"$f":"IF($C261=\"\",\"\",VLOOKUP(OFFSET(女子様式!$M$18,3*A261,0),登録データ!AM261:AN307,2,FALSE))","v":""}]
[null,null,null,null,null,null,null,null,{"$f":"IF($C262=\"\",\"\",VLOOKUP(基本登録情報!$C$7,登録データ!$I$3:$L$100,3,FALSE))","v":""},{"$f":"IF($C262=\"\",\"\",VLOOKUP(OFFSET(女子様式!$M$18,3*A262,0),登録データ!AM262:AN308,2,FALSE))","v":""}]
[null,null,null,null,null,null,null,null,{"$f":"IF($C263=\"\",\"\",VLOOKUP(基本登録情報!$C$7,登録データ!$I$3:$L$100,3,FALSE))","v":""},{"$f":"IF($C263=\"\",\"\",VLOOKUP(OFFSET(女子様式!$M$18,3*A263,0),登録データ!AM263:AN309,2,FALSE))","v":""}]
[null,null,null,null,null,null,null,null,{"$f":"IF($C264=\"\",\"\",VLOOKUP(基本登録情報!$C$7,登録データ!$I$3:$L$100,3,FALSE))","v":""},{"$f":"IF($C264=\"\",\"\",VLOOKUP(OFFSET(女子様式!$M$18,3*A264,0),登録データ!AM264:AN310,2,FALSE))","v":""}]
[null,null,null,null,null,null,null,null,{"$f":"IF($C265=\"\",\"\",VLOOKUP(基本登録情報!$C$7,登録データ!$I$3:$L$100,3,FALSE))","v":""},{"$f":"IF($C265=\"\",\"\",VLOOKUP(OFFSET(女子様式!$M$18,3*A265,0),登録データ!AM265:AN311,2,FALSE))","v":""}]
[null,null,null,null,null,null,null,null,{"$f":"IF($C266=\"\",\"\",VLOOKUP(基本登録情報!$C$7,登録データ!$I$3:$L$100,3,FALSE))","v":""},{"$f":"IF($C266=\"\",\"\",VLOOKUP(OFFSET(女子様式!$M$18,3*A266,0),登録データ!AM266:AN312,2,FALSE))","v":""}]
[null,null,null,null,null,null,null,null,{"$f":"IF($C267=\"\",\"\",VLOOKUP(基本登録情報!$C$7,登録データ!$I$3:$L$100,3,FALSE))","v":""},{"$f":"IF($C267=\"\",\"\",VLOOKUP(OFFSET(女子様式!$M$18,3*A267,0),登録データ!AM267:AN313,2,FALSE))","v":""}]
[null,null,null,null,null,null,null,null,{"$f":"IF($C268=\"\",\"\",VLOOKUP(基本登録情報!$C$7,登録データ!$I$3:$L$100,3,FALSE))","v":""},{"$f":"IF($C268=\"\",\"\",VLOOKUP(OFFSET(女子様式!$M$18,3*A268,0),登録データ!AM268:AN314,2,FALSE))","v":""}]
[null,null,null,null,null,null,null,null,{"$f":"IF($C269=\"\",\"\",VLOOKUP(基本登録情報!$C$7,登録データ!$I$3:$L$100,3,FALSE))","v":""},{"$f":"IF($C269=\"\",\"\",VLOOKUP(OFFSET(女子様式!$M$18,3*A269,0),登録データ!AM269:AN315,2,FALSE))","v":""}]
[null,null,null,null,null,null,null,null,{"$f":"IF($C270=\"\",\"\",VLOOKUP(基本登録情報!$C$7,登録データ!$I$3:$L$100,3,FALSE))","v":""},{"$f":"IF($C270=\"\",\"\",VLOOKUP(OFFSET(女子様式!$M$18,3*A270,0),登録データ!AM270:AN316,2,FALSE))","v":""}]
[null,null,null,null,null,null,null,null,{"$f":"IF($C271=\"\",\"\",VLOOKUP(基本登録情報!$C$7,登録データ!$I$3:$L$100,3,FALSE))","v":""},{"$f":"IF($C271=\"\",\"\",VLOOKUP(OFFSET(女子様式!$M$18,3*A271,0),登録データ!AM271:AN317,2,FALSE))","v":""}]
[null,null,null,null,null,null,null,null,{"$f":"IF($C272=\"\",\"\",VLOOKUP(基本登録情報!$C$7,登録データ!$I$3:$L$100,3,FALSE))","v":""},{"$f":"IF($C272=\"\",\"\",VLOOKUP(OFFSET(女子様式!$M$18,3*A272,0),登録データ!AM272:AN318,2,FALSE))","v":""}]
[null,null,null,null,null,null,null,null,{"$f":"IF($C273=\"\",\"\",VLOOKUP(基本登録情報!$C$7,登録データ!$I$3:$L$100,3,FALSE))","v":""},{"$f":"IF($C273=\"\",\"\",VLOOKUP(OFFSET(女子様式!$M$18,3*A273,0),登録データ!AM273:AN319,2,FALSE))","v":""}]
[null,null,null,null,null,null,null,null,{"$f":"IF($C274=\"\",\"\",VLOOKUP(基本登録情報!$C$7,登録データ!$I$3:$L$100,3,FALSE))","v":""},{"$f":"IF($C274=\"\",\"\",VLOOKUP(OFFSET(女子様式!$M$18,3*A274,0),登録データ!AM274:AN320,2,FALSE))","v":""}]
[null,null,null,null,null,null,null,null,{"$f":"IF($C275=\"\",\"\",VLOOKUP(基本登録情報!$C$7,登録データ!$I$3:$L$100,3,FALSE))","v":""},{"$f":"IF($C275=\"\",\"\",VLOOKUP(OFFSET(女子様式!$M$18,3*A275,0),登録データ!AM275:AN321,2,FALSE))","v":""}]
[null,null,null,null,null,null,null,null,{"$f":"IF($C276=\"\",\"\",VLOOKUP(基本登録情報!$C$7,登録データ!$I$3:$L$100,3,FALSE))","v":""},{"$f":"IF($C276=\"\",\"\",VLOOKUP(OFFSET(女子様式!$M$18,3*A276,0),登録データ!AM276:AN322,2,FALSE))","v":""}]
[null,null,null,null,null,null,null,null,{"$f":"IF($C277=\"\",\"\",VLOOKUP(基本登録情報!$C$7,登録データ!$I$3:$L$100,3,FALSE))","v":""},{"$f":"IF($C277=\"\",\"\",VLOOKUP(OFFSET(女子様式!$M$18,3*A277,0),登録データ!AM277:AN323,2,FALSE))","v":""}]
[null,null,null,null,null,null,null,null,{"$f":"IF($C278=\"\",\"\",VLOOKUP(基本登録情報!$C$7,登録データ!$I$3:$L$100,3,FALSE))","v":""},{"$f":"IF($C278=\"\",\"\",VLOOKUP(OFFSET(女子様式!$M$18,3*A278,0),登録データ!AM278:AN324,2,FALSE))","v":""}]
[null,null,null,null,null,null,null,null,{"$f":"IF($C279=\"\",\"\",VLOOKUP(基本登録情報!$C$7,登録データ!$I$3:$L$100,3,FALSE))","v":""},{"$f":"IF($C279=\"\",\"\",VLOOKUP(OFFSET(女子様式!$M$18,3*A279,0),登録データ!AM279:AN325,2,FALSE))","v":""}]
[null,null,null,null,null,null,null,null,{"$f":"IF($C280=\"\",\"\",VLOOKUP(基本登録情報!$C$7,登録データ!$I$3:$L$100,3,FALSE))","v":""},{"$f":"IF($C280=\"\",\"\",VLOOKUP(OFFSET(女子様式!$M$18,3*A280,0),登録データ!AM280:AN326,2,FALSE))","v":""}]
[null,null,null,null,null,null,null,null,{"$f":"IF($C281=\"\",\"\",VLOOKUP(基本登録情報!$C$7,登録データ!$I$3:$L$100,3,FALSE))","v":""},{"$f":"IF($C281=\"\",\"\",VLOOKUP(OFFSET(女子様式!$M$18,3*A281,0),登録データ!AM281:AN327,2,FALSE))","v":""}]
[null,null,null,null,null,null,null,null,{"$f":"IF($C282=\"\",\"\",VLOOKUP(基本登録情報!$C$7,登録データ!$I$3:$L$100,3,FALSE))","v":""},{"$f":"IF($C282=\"\",\"\",VLOOKUP(OFFSET(女子様式!$M$18,3*A282,0),登録データ!AM282:AN328,2,FALSE))","v":""}]
[null,null,null,null,null,null,null,null,{"$f":"IF($C283=\"\",\"\",VLOOKUP(基本登録情報!$C$7,登録データ!$I$3:$L$100,3,FALSE))","v":""},{"$f":"IF($C283=\"\",\"\",VLOOKUP(OFFSET(女子様式!$M$18,3*A283,0),登録データ!AM283:AN329,2,FALSE))","v":""}]
[null,null,null,null,null,null,null,null,{"$f":"IF($C284=\"\",\"\",VLOOKUP(基本登録情報!$C$7,登録データ!$I$3:$L$100,3,FALSE))","v":""},{"$f":"IF($C284=\"\",\"\",VLOOKUP(OFFSET(女子様式!$M$18,3*A284,0),登録データ!AM284:AN330,2,FALSE))","v":""}]
[null,null,null,null,null,null,null,null,{"$f":"IF($C285=\"\",\"\",VLOOKUP(基本登録情報!$C$7,登録データ!$I$3:$L$100,3,FALSE))","v":""},{"$f":"IF($C285=\"\",\"\",VLOOKUP(OFFSET(女子様式!$M$18,3*A285,0),登録データ!AM285:AN331,2,FALSE))","v":""}]
[null,null,null,null,null,null,null,null,{"$f":"IF($C286=\"\",\"\",VLOOKUP(基本登録情報!$C$7,登録データ!$I$3:$L$100,3,FALSE))","v":""},{"$f":"IF($C286=\"\",\"\",VLOOKUP(OFFSET(女子様式!$M$18,3*A286,0),登録データ!AM286:AN332,2,FALSE))","v":""}]
[null,null,null,null,null,null,null,null,{"$f":"IF($C287=\"\",\"\",VLOOKUP(基本登録情報!$C$7,登録データ!$I$3:$L$100,3,FALSE))","v":""},{"$f":"IF($C287=\"\",\"\",VLOOKUP(OFFSET(女子様式!$M$18,3*A287,0),登録データ!AM287:AN333,2,FALSE))","v":""}]
[null,null,null,null,null,null,null,null,{"$f":"IF($C288=\"\",\"\",VLOOKUP(基本登録情報!$C$7,登録データ!$I$3:$L$100,3,FALSE))","v":""},{"$f":"IF($C288=\"\",\"\",VLOOKUP(OFFSET(女子様式!$M$18,3*A288,0),登録データ!AM288:AN334,2,FALSE))","v":""}]
[null,null,null,null,null,null,null,null,{"$f":"IF($C289=\"\",\"\",VLOOKUP(基本登録情報!$C$7,登録データ!$I$3:$L$100,3,FALSE))","v":""},{"$f":"IF($C289=\"\",\"\",VLOOKUP(OFFSET(女子様式!$M$18,3*A289,0),登録データ!AM289:AN335,2,FALSE))","v":""}]
[null,null,null,null,null,null,null,null,{"$f":"IF($C290=\"\",\"\",VLOOKUP(基本登録情報!$C$7,登録データ!$I$3:$L$100,3,FALSE))","v":""},{"$f":"IF($C290=\"\",\"\",VLOOKUP(OFFSET(女子様式!$M$18,3*A290,0),登録データ!AM290:AN336,2,FALSE))","v":""}]
[null,null,null,null,null,null,null,null,{"$f":"IF($C291=\"\",\"\",VLOOKUP(基本登録情報!$C$7,登録データ!$I$3:$L$100,3,FALSE))","v":""},{"$f":"IF($C291=\"\",\"\",VLOOKUP(OFFSET(女子様式!$M$18,3*A291,0),登録データ!AM291:AN337,2,FALSE))","v":""}]
[null,null,null,null,null,null,null,null,{"$f":"IF($C292=\"\",\"\",VLOOKUP(基本登録情報!$C$7,登録データ!$I$3:$L$100,3,FALSE))","v":""},{"$f":"IF($C292=\"\",\"\",VLOOKUP(OFFSET(女子様式!$M$18,3*A292,0),登録データ!AM292:AN338,2,FALSE))","v":""}]
[null,null,null,null,null,null,null,null,{"$f":"IF($C293=\"\",\"\",VLOOKUP(基本登録情報!$C$7,登録データ!$I$3:$L$100,3,FALSE))","v":""},{"$f":"IF($C293=\"\",\"\",VLOOKUP(OFFSET(女子様式!$M$18,3*A293,0),登録データ!AM293:AN339,2,FALSE))","v":""}]
[null,null,null,null,null,null,null,null,{"$f":"IF($C294=\"\",\"\",VLOOKUP(基本登録情報!$C$7,登録データ!$I$3:$L$100,3,FALSE))","v":""},{"$f":"IF($C294=\"\",\"\",VLOOKUP(OFFSET(女子様式!$M$18,3*A294,0),登録データ!AM294:AN340,2,FALSE))","v":""}]
[null,null,null,null,null,null,null,null,{"$f":"IF($C295=\"\",\"\",VLOOKUP(基本登録情報!$C$7,登録データ!$I$3:$L$100,3,FALSE))","v":""},{"$f":"IF($C295=\"\",\"\",VLOOKUP(OFFSET(女子様式!$M$18,3*A295,0),登録データ!AM295:AN341,2,FALSE))","v":""}]
[null,null,null,null,null,null,null,null,{"$f":"IF($C296=\"\",\"\",VLOOKUP(基本登録情報!$C$7,登録データ!$I$3:$L$100,3,FALSE))","v":""},{"$f":"IF($C296=\"\",\"\",VLOOKUP(OFFSET(女子様式!$M$18,3*A296,0),登録データ!AM296:AN342,2,FALSE))","v":""}]
[null,null,null,null,null,null,null,null,{"$f":"IF($C297=\"\",\"\",VLOOKUP(基本登録情報!$C$7,登録データ!$I$3:$L$100,3,FALSE))","v":""},{"$f":"IF($C297=\"\",\"\",VLOOKUP(OFFSET(女子様式!$M$18,3*A297,0),登録データ!AM297:AN343,2,FALSE))","v":""}]
[null,null,null,null,null,null,null,null,{"$f":"IF($C298=\"\",\"\",VLOOKUP(基本登録情報!$C$7,登録データ!$I$3:$L$100,3,FALSE))","v":""},{"$f":"IF($C298=\"\",\"\",VLOOKUP(OFFSET(女子様式!$M$18,3*A298,0),登録データ!AM298:AN344,2,FALSE))","v":""}]
[null,null,null,null,null,null,null,null,{"$f":"IF($C299=\"\",\"\",VLOOKUP(基本登録情報!$C$7,登録データ!$I$3:$L$100,3,FALSE))","v":""},{"$f":"IF($C299=\"\",\"\",VLOOKUP(OFFSET(女子様式!$M$18,3*A299,0),登録データ!AM299:AN345,2,FALSE))","v":""}]
[null,null,null,null,null,null,null,null,{"$f":"IF($C300=\"\",\"\",VLOOKUP(基本登録情報!$C$7,登録データ!$I$3:$L$100,3,FALSE))","v":""},{"$f":"IF($C300=\"\",\"\",VLOOKUP(OFFSET(女子様式!$M$18,3*A300,0),登録データ!AM300:AN346,2,FALSE))","v":""}]
[null,null,null,null,null,null,null,null,{"$f":"IF($C301=\"\",\"\",VLOOKUP(基本登録情報!$C$7,登録データ!$I$3:$L$100,3,FALSE))","v":""},{"$f":"IF($C301=\"\",\"\",VLOOKUP(OFFSET(女子様式!$M$18,3*A301,0),登録データ!AM301:AN347,2,FALSE))","v":""}]
[null,null,null,null,null,null,null,null,{"$f":"IF($C302=\"\",\"\",VLOOKUP(基本登録情報!$C$7,登録データ!$I$3:$L$100,3,FALSE))","v":""},{"$f":"IF($C302=\"\",\"\",VLOOKUP(OFFSET(女子様式!$M$18,3*A302,0),登録データ!AM302:AN348,2,FALSE))","v":""}]
[null,null,null,null,null,null,null,null,{"$f":"IF($C303=\"\",\"\",VLOOKUP(基本登録情報!$C$7,登録データ!$I$3:$L$100,3,FALSE))","v":""},{"$f":"IF($C303=\"\",\"\",VLOOKUP(OFFSET(女子様式!$M$18,3*A303,0),登録データ!AM303:AN349,2,FALSE))","v":""}]
[null,null,null,null,null,null,null,null,{"$f":"IF($C304=\"\",\"\",VLOOKUP(基本登録情報!$C$7,登録データ!$I$3:$L$100,3,FALSE))","v":""},{"$f":"IF($C304=\"\",\"\",VLOOKUP(OFFSET(女子様式!$M$18,3*A304,0),登録データ!AM304:AN350,2,FALSE))","v":""}]
[null,null,null,null,null,null,null,null,{"$f":"IF($C305=\"\",\"\",VLOOKUP(基本登録情報!$C$7,登録データ!$I$3:$L$100,3,FALSE))","v":""},{"$f":"IF($C305=\"\",\"\",VLOOKUP(OFFSET(女子様式!$M$18,3*A305,0),登録データ!AM305:AN351,2,FALSE))","v":""}]
[null,null,null,null,null,null,null,null,{"$f":"IF($C306=\"\",\"\",VLOOKUP(基本登録情報!$C$7,登録データ!$I$3:$L$100,3,FALSE))","v":""},{"$f":"IF($C306=\"\",\"\",VLOOKUP(OFFSET(女子様式!$M$18,3*A306,0),登録データ!AM306:AN352,2,FALSE))","v":""}]
[null,null,null,null,null,null,null,null,{"$f":"IF($C307=\"\",\"\",VLOOKUP(基本登録情報!$C$7,登録データ!$I$3:$L$100,3,FALSE))","v":""},{"$f":"IF($C307=\"\",\"\",VLOOKUP(OFFSET(女子様式!$M$18,3*A307,0),登録データ!AM307:AN353,2,FALSE))","v":""}]
[null,null,null,null,null,null,null,null,{"$f":"IF($C308=\"\",\"\",VLOOKUP(基本登録情報!$C$7,登録データ!$I$3:$L$100,3,FALSE))","v":""},{"$f":"IF($C308=\"\",\"\",VLOOKUP(OFFSET(女子様式!$M$18,3*A308,0),登録データ!AM308:AN354,2,FALSE))","v":""}]
[null,null,null,null,null,null,null,null,{"$f":"IF($C309=\"\",\"\",VLOOKUP(基本登録情報!$C$7,登録データ!$I$3:$L$100,3,FALSE))","v":""},{"$f":"IF($C309=\"\",\"\",VLOOKUP(OFFSET(女子様式!$M$18,3*A309,0),登録データ!AM309:AN355,2,FALSE))","v":""}]
[null,null,null,null,null,null,null,null,{"$f":"IF($C310=\"\",\"\",VLOOKUP(基本登録情報!$C$7,登録データ!$I$3:$L$100,3,FALSE))","v":""},{"$f":"IF($C310=\"\",\"\",VLOOKUP(OFFSET(女子様式!$M$18,3*A310,0),登録データ!AM310:AN356,2,FALSE))","v":""}]
[null,null,null,null,null,null,null,null,{"$f":"IF($C311=\"\",\"\",VLOOKUP(基本登録情報!$C$7,登録データ!$I$3:$L$100,3,FALSE))","v":""},{"$f":"IF($C311=\"\",\"\",VLOOKUP(OFFSET(女子様式!$M$18,3*A311,0),登録データ!AM311:AN357,2,FALSE))","v":""}]
[null,null,null,null,null,null,null,null,{"$f":"IF($C312=\"\",\"\",VLOOKUP(基本登録情報!$C$7,登録データ!$I$3:$L$100,3,FALSE))","v":""},{"$f":"IF($C312=\"\",\"\",VLOOKUP(OFFSET(女子様式!$M$18,3*A312,0),登録データ!AM312:AN358,2,FALSE))","v":""}]
[null,null,null,null,null,null,null,null,{"$f":"IF($C313=\"\",\"\",VLOOKUP(基本登録情報!$C$7,登録データ!$I$3:$L$100,3,FALSE))","v":""},{"$f":"IF($C313=\"\",\"\",VLOOKUP(OFFSET(女子様式!$M$18,3*A313,0),登録データ!AM313:AN359,2,FALSE))","v":""}]
[null,null,null,null,null,null,null,null,{"$f":"IF($C314=\"\",\"\",VLOOKUP(基本登録情報!$C$7,登録データ!$I$3:$L$100,3,FALSE))","v":""},{"$f":"IF($C314=\"\",\"\",VLOOKUP(OFFSET(女子様式!$M$18,3*A314,0),登録データ!AM314:AN360,2,FALSE))","v":""}]
[null,null,null,null,null,null,null,null,{"$f":"IF($C315=\"\",\"\",VLOOKUP(基本登録情報!$C$7,登録データ!$I$3:$L$100,3,FALSE))","v":""},{"$f":"IF($C315=\"\",\"\",VLOOKUP(OFFSET(女子様式!$M$18,3*A315,0),登録データ!AM315:AN361,2,FALSE))","v":""}]
[null,null,null,null,null,null,null,null,{"$f":"IF($C316=\"\",\"\",VLOOKUP(基本登録情報!$C$7,登録データ!$I$3:$L$100,3,FALSE))","v":""},{"$f":"IF($C316=\"\",\"\",VLOOKUP(OFFSET(女子様式!$M$18,3*A316,0),登録データ!AM316:AN362,2,FALSE))","v":""}]
[null,null,null,null,null,null,null,null,{"$f":"IF($C317=\"\",\"\",VLOOKUP(基本登録情報!$C$7,登録データ!$I$3:$L$100,3,FALSE))","v":""},{"$f":"IF($C317=\"\",\"\",VLOOKUP(OFFSET(女子様式!$M$18,3*A317,0),登録データ!AM317:AN363,2,FALSE))","v":""}]
[null,null,null,null,null,null,null,null,{"$f":"IF($C318=\"\",\"\",VLOOKUP(基本登録情報!$C$7,登録データ!$I$3:$L$100,3,FALSE))","v":""},{"$f":"IF($C318=\"\",\"\",VLOOKUP(OFFSET(女子様式!$M$18,3*A318,0),登録データ!AM318:AN364,2,FALSE))","v":""}]
[null,null,null,null,null,null,null,null,{"$f":"IF($C319=\"\",\"\",VLOOKUP(基本登録情報!$C$7,登録データ!$I$3:$L$100,3,FALSE))","v":""},{"$f":"IF($C319=\"\",\"\",VLOOKUP(OFFSET(女子様式!$M$18,3*A319,0),登録データ!AM319:AN365,2,FALSE))","v":""}]
[null,null,null,null,null,null,null,null,{"$f":"IF($C320=\"\",\"\",VLOOKUP(基本登録情報!$C$7,登録データ!$I$3:$L$100,3,FALSE))","v":""},{"$f":"IF($C320=\"\",\"\",VLOOKUP(OFFSET(女子様式!$M$18,3*A320,0),登録データ!AM320:AN366,2,FALSE))","v":""}]
[null,null,null,null,null,null,null,null,{"$f":"IF($C321=\"\",\"\",VLOOKUP(基本登録情報!$C$7,登録データ!$I$3:$L$100,3,FALSE))","v":""},{"$f":"IF($C321=\"\",\"\",VLOOKUP(OFFSET(女子様式!$M$18,3*A321,0),登録データ!AM321:AN367,2,FALSE))","v":""}]
[null,null,null,null,null,null,null,null,{"$f":"IF($C322=\"\",\"\",VLOOKUP(基本登録情報!$C$7,登録データ!$I$3:$L$100,3,FALSE))","v":""},{"$f":"IF($C322=\"\",\"\",VLOOKUP(OFFSET(女子様式!$M$18,3*A322,0),登録データ!AM322:AN368,2,FALSE))","v":""}]
[null,null,null,null,null,null,null,null,{"$f":"IF($C323=\"\",\"\",VLOOKUP(基本登録情報!$C$7,登録データ!$I$3:$L$100,3,FALSE))","v":""},{"$f":"IF($C323=\"\",\"\",VLOOKUP(OFFSET(女子様式!$M$18,3*A323,0),登録データ!AM323:AN369,2,FALSE))","v":""}]
[null,null,null,null,null,null,null,null,{"$f":"IF($C324=\"\",\"\",VLOOKUP(基本登録情報!$C$7,登録データ!$I$3:$L$100,3,FALSE))","v":""},{"$f":"IF($C324=\"\",\"\",VLOOKUP(OFFSET(女子様式!$M$18,3*A324,0),登録データ!AM324:AN370,2,FALSE))","v":""}]
[null,null,null,null,null,null,null,null,{"$f":"IF($C325=\"\",\"\",VLOOKUP(基本登録情報!$C$7,登録データ!$I$3:$L$100,3,FALSE))","v":""},{"$f":"IF($C325=\"\",\"\",VLOOKUP(OFFSET(女子様式!$M$18,3*A325,0),登録データ!AM325:AN371,2,FALSE))","v":""}]
[null,null,null,null,null,null,null,null,{"$f":"IF($C326=\"\",\"\",VLOOKUP(基本登録情報!$C$7,登録データ!$I$3:$L$100,3,FALSE))","v":""},{"$f":"IF($C326=\"\",\"\",VLOOKUP(OFFSET(女子様式!$M$18,3*A326,0),登録データ!AM326:AN372,2,FALSE))","v":""}]
[null,null,null,null,null,null,null,null,{"$f":"IF($C327=\"\",\"\",VLOOKUP(基本登録情報!$C$7,登録データ!$I$3:$L$100,3,FALSE))","v":""},{"$f":"IF($C327=\"\",\"\",VLOOKUP(OFFSET(女子様式!$M$18,3*A327,0),登録データ!AM327:AN373,2,FALSE))","v":""}]
[null,null,null,null,null,null,null,null,{"$f":"IF($C328=\"\",\"\",VLOOKUP(基本登録情報!$C$7,登録データ!$I$3:$L$100,3,FALSE))","v":""},{"$f":"IF($C328=\"\",\"\",VLOOKUP(OFFSET(女子様式!$M$18,3*A328,0),登録データ!AM328:AN374,2,FALSE))","v":""}]
[null,null,null,null,null,null,null,null,{"$f":"IF($C329=\"\",\"\",VLOOKUP(基本登録情報!$C$7,登録データ!$I$3:$L$100,3,FALSE))","v":""},{"$f":"IF($C329=\"\",\"\",VLOOKUP(OFFSET(女子様式!$M$18,3*A329,0),登録データ!AM329:AN375,2,FALSE))","v":""}]
[null,null,null,null,null,null,null,null,{"$f":"IF($C330=\"\",\"\",VLOOKUP(基本登録情報!$C$7,登録データ!$I$3:$L$100,3,FALSE))","v":""},{"$f":"IF($C330=\"\",\"\",VLOOKUP(OFFSET(女子様式!$M$18,3*A330,0),登録データ!AM330:AN376,2,FALSE))","v":""}]
[null,null,null,null,null,null,null,null,{"$f":"IF($C331=\"\",\"\",VLOOKUP(基本登録情報!$C$7,登録データ!$I$3:$L$100,3,FALSE))","v":""},{"$f":"IF($C331=\"\",\"\",VLOOKUP(OFFSET(女子様式!$M$18,3*A331,0),登録データ!AM331:AN377,2,FALSE))","v":""}]
[null,null,null,null,null,null,null,null,{"$f":"IF($C332=\"\",\"\",VLOOKUP(基本登録情報!$C$7,登録データ!$I$3:$L$100,3,FALSE))","v":""},{"$f":"IF($C332=\"\",\"\",VLOOKUP(OFFSET(女子様式!$M$18,3*A332,0),登録データ!AM332:AN378,2,FALSE))","v":""}]
[null,null,null,null,null,null,null,null,{"$f":"IF($C333=\"\",\"\",VLOOKUP(基本登録情報!$C$7,登録データ!$I$3:$L$100,3,FALSE))","v":""},{"$f":"IF($C333=\"\",\"\",VLOOKUP(OFFSET(女子様式!$M$18,3*A333,0),登録データ!AM333:AN379,2,FALSE))","v":""}]
[null,null,null,null,null,null,null,null,{"$f":"IF($C334=\"\",\"\",VLOOKUP(基本登録情報!$C$7,登録データ!$I$3:$L$100,3,FALSE))","v":""},{"$f":"IF($C334=\"\",\"\",VLOOKUP(OFFSET(女子様式!$M$18,3*A334,0),登録データ!AM334:AN380,2,FALSE))","v":""}]
[null,null,null,null,null,null,null,null,{"$f":"IF($C335=\"\",\"\",VLOOKUP(基本登録情報!$C$7,登録データ!$I$3:$L$100,3,FALSE))","v":""},{"$f":"IF($C335=\"\",\"\",VLOOKUP(OFFSET(女子様式!$M$18,3*A335,0),登録データ!AM335:AN381,2,FALSE))","v":""}]
[null,null,null,null,null,null,null,null,{"$f":"IF($C336=\"\",\"\",VLOOKUP(基本登録情報!$C$7,登録データ!$I$3:$L$100,3,FALSE))","v":""},{"$f":"IF($C336=\"\",\"\",VLOOKUP(OFFSET(女子様式!$M$18,3*A336,0),登録データ!AM336:AN382,2,FALSE))","v":""}]
[null,null,null,null,null,null,null,null,{"$f":"IF($C337=\"\",\"\",VLOOKUP(基本登録情報!$C$7,登録データ!$I$3:$L$100,3,FALSE))","v":""},{"$f":"IF($C337=\"\",\"\",VLOOKUP(OFFSET(女子様式!$M$18,3*A337,0),登録データ!AM337:AN383,2,FALSE))","v":""}]
[null,null,null,null,null,null,null,null,{"$f":"IF($C338=\"\",\"\",VLOOKUP(基本登録情報!$C$7,登録データ!$I$3:$L$100,3,FALSE))","v":""},{"$f":"IF($C338=\"\",\"\",VLOOKUP(OFFSET(女子様式!$M$18,3*A338,0),登録データ!AM338:AN384,2,FALSE))","v":""}]
[null,null,null,null,null,null,null,null,{"$f":"IF($C339=\"\",\"\",VLOOKUP(基本登録情報!$C$7,登録データ!$I$3:$L$100,3,FALSE))","v":""},{"$f":"IF($C339=\"\",\"\",VLOOKUP(OFFSET(女子様式!$M$18,3*A339,0),登録データ!AM339:AN385,2,FALSE))","v":""}]
[null,null,null,null,null,null,null,null,{"$f":"IF($C340=\"\",\"\",VLOOKUP(基本登録情報!$C$7,登録データ!$I$3:$L$100,3,FALSE))","v":""},{"$f":"IF($C340=\"\",\"\",VLOOKUP(OFFSET(女子様式!$M$18,3*A340,0),登録データ!AM340:AN386,2,FALSE))","v":""}]
[null,null,null,null,null,null,null,null,{"$f":"IF($C341=\"\",\"\",VLOOKUP(基本登録情報!$C$7,登録データ!$I$3:$L$100,3,FALSE))","v":""},{"$f":"IF($C341=\"\",\"\",VLOOKUP(OFFSET(女子様式!$M$18,3*A341,0),登録データ!AM341:AN387,2,FALSE))","v":""}]
[null,null,null,null,null,null,null,null,{"$f":"IF($C342=\"\",\"\",VLOOKUP(基本登録情報!$C$7,登録データ!$I$3:$L$100,3,FALSE))","v":""},{"$f":"IF($C342=\"\",\"\",VLOOKUP(OFFSET(女子様式!$M$18,3*A342,0),登録データ!AM342:AN388,2,FALSE))","v":""}]
[null,null,null,null,null,null,null,null,{"$f":"IF($C343=\"\",\"\",VLOOKUP(基本登録情報!$C$7,登録データ!$I$3:$L$100,3,FALSE))","v":""},{"$f":"IF($C343=\"\",\"\",VLOOKUP(OFFSET(女子様式!$M$18,3*A343,0),登録データ!AM343:AN389,2,FALSE))","v":""}]
[null,null,null,null,null,null,null,null,{"$f":"IF($C344=\"\",\"\",VLOOKUP(基本登録情報!$C$7,登録データ!$I$3:$L$100,3,FALSE))","v":""},{"$f":"IF($C344=\"\",\"\",VLOOKUP(OFFSET(女子様式!$M$18,3*A344,0),登録データ!AM344:AN390,2,FALSE))","v":""}]
[null,null,null,null,null,null,null,null,{"$f":"IF($C345=\"\",\"\",VLOOKUP(基本登録情報!$C$7,登録データ!$I$3:$L$100,3,FALSE))","v":""},{"$f":"IF($C345=\"\",\"\",VLOOKUP(OFFSET(女子様式!$M$18,3*A345,0),登録データ!AM345:AN391,2,FALSE))","v":""}]
[null,null,null,null,null,null,null,null,{"$f":"IF($C346=\"\",\"\",VLOOKUP(基本登録情報!$C$7,登録データ!$I$3:$L$100,3,FALSE))","v":""},{"$f":"IF($C346=\"\",\"\",VLOOKUP(OFFSET(女子様式!$M$18,3*A346,0),登録データ!AM346:AN392,2,FALSE))","v":""}]
[null,null,null,null,null,null,null,null,{"$f":"IF($C347=\"\",\"\",VLOOKUP(基本登録情報!$C$7,登録データ!$I$3:$L$100,3,FALSE))","v":""},{"$f":"IF($C347=\"\",\"\",VLOOKUP(OFFSET(女子様式!$M$18,3*A347,0),登録データ!AM347:AN393,2,FALSE))","v":""}]
[null,null,null,null,null,null,null,null,{"$f":"IF($C348=\"\",\"\",VLOOKUP(基本登録情報!$C$7,登録データ!$I$3:$L$100,3,FALSE))","v":""},{"$f":"IF($C348=\"\",\"\",VLOOKUP(OFFSET(女子様式!$M$18,3*A348,0),登録データ!AM348:AN394,2,FALSE))","v":""}]
[null,null,null,null,null,null,null,null,{"$f":"IF($C349=\"\",\"\",VLOOKUP(基本登録情報!$C$7,登録データ!$I$3:$L$100,3,FALSE))","v":""},{"$f":"IF($C349=\"\",\"\",VLOOKUP(OFFSET(女子様式!$M$18,3*A349,0),登録データ!AM349:AN395,2,FALSE))","v":""}]
[null,null,null,null,null,null,null,null,{"$f":"IF($C350=\"\",\"\",VLOOKUP(基本登録情報!$C$7,登録データ!$I$3:$L$100,3,FALSE))","v":""},{"$f":"IF($C350=\"\",\"\",VLOOKUP(OFFSET(女子様式!$M$18,3*A350,0),登録データ!AM350:AN396,2,FALSE))","v":""}]
[null,null,null,null,null,null,null,null,{"$f":"IF($C351=\"\",\"\",VLOOKUP(基本登録情報!$C$7,登録データ!$I$3:$L$100,3,FALSE))","v":""},{"$f":"IF($C351=\"\",\"\",VLOOKUP(OFFSET(女子様式!$M$18,3*A351,0),登録データ!AM351:AN397,2,FALSE))","v":""}]
[null,null,null,null,null,null,null,null,{"$f":"IF($C352=\"\",\"\",VLOOKUP(基本登録情報!$C$7,登録データ!$I$3:$L$100,3,FALSE))","v":""},{"$f":"IF($C352=\"\",\"\",VLOOKUP(OFFSET(女子様式!$M$18,3*A352,0),登録データ!AM352:AN398,2,FALSE))","v":""}]
[null,null,null,null,null,null,null,null,{"$f":"IF($C353=\"\",\"\",VLOOKUP(基本登録情報!$C$7,登録データ!$I$3:$L$100,3,FALSE))","v":""},{"$f":"IF($C353=\"\",\"\",VLOOKUP(OFFSET(女子様式!$M$18,3*A353,0),登録データ!AM353:AN399,2,FALSE))","v":""}]
[null,null,null,null,null,null,null,null,{"$f":"IF($C354=\"\",\"\",VLOOKUP(基本登録情報!$C$7,登録データ!$I$3:$L$100,3,FALSE))","v":""},{"$f":"IF($C354=\"\",\"\",VLOOKUP(OFFSET(女子様式!$M$18,3*A354,0),登録データ!AM354:AN400,2,FALSE))","v":""}]
[null,null,null,null,null,null,null,null,{"$f":"IF($C355=\"\",\"\",VLOOKUP(基本登録情報!$C$7,登録データ!$I$3:$L$100,3,FALSE))","v":""},{"$f":"IF($C355=\"\",\"\",VLOOKUP(OFFSET(女子様式!$M$18,3*A355,0),登録データ!AM355:AN401,2,FALSE))","v":""}]
[null,null,null,null,null,null,null,null,{"$f":"IF($C356=\"\",\"\",VLOOKUP(基本登録情報!$C$7,登録データ!$I$3:$L$100,3,FALSE))","v":""},{"$f":"IF($C356=\"\",\"\",VLOOKUP(OFFSET(女子様式!$M$18,3*A356,0),登録データ!AM356:AN402,2,FALSE))","v":""}]
[null,null,null,null,null,null,null,null,{"$f":"IF($C357=\"\",\"\",VLOOKUP(基本登録情報!$C$7,登録データ!$I$3:$L$100,3,FALSE))","v":""},{"$f":"IF($C357=\"\",\"\",VLOOKUP(OFFSET(女子様式!$M$18,3*A357,0),登録データ!AM357:AN403,2,FALSE))","v":""}]
[null,null,null,null,null,null,null,null,{"$f":"IF($C358=\"\",\"\",VLOOKUP(基本登録情報!$C$7,登録データ!$I$3:$L$100,3,FALSE))","v":""},{"$f":"IF($C358=\"\",\"\",VLOOKUP(OFFSET(女子様式!$M$18,3*A358,0),登録データ!AM358:AN404,2,FALSE))","v":""}]
[null,null,null,null,null,null,null,null,{"$f":"IF($C359=\"\",\"\",VLOOKUP(基本登録情報!$C$7,登録データ!$I$3:$L$100,3,FALSE))","v":""}]
[null,null,null,null,null,null,null,null,{"$f":"IF($C360=\"\",\"\",VLOOKUP(基本登録情報!$C$7,登録データ!$I$3:$L$100,3,FALSE))","v":""}]
[null,null,null,null,null,null,null,null,{"$f":"IF($C361=\"\",\"\",VLOOKUP(基本登録情報!$C$7,登録データ!$I$3:$L$100,3,FALSE))","v":""}]
[null,null,null,null,null,null,null,null,{"$f":"IF($C362=\"\",\"\",VLOOKUP(基本登録情報!$C$7,登録データ!$I$3:$L$100,3,FALSE))","v":""}]
[null,null,null,null,null,null,null,null,{"$f":"IF($C363=\"\",\"\",VLOOKUP(基本登録情報!$C$7,登録データ!$I$3:$L$100,3,FALSE))","v":""}]
[null,null,null,null,null,null,null,null,{"$f":"IF($C364=\"\",\"\",VLOOKUP(基本登録情報!$C$7,登録データ!$I$3:$L$100,3,FALSE))","v":""}]
[null,null,null,null,null,null,null,null,{"$f":"IF($C365=\"\",\"\",VLOOKUP(基本登録情報!$C$7,登録データ!$I$3:$L$100,3,FALSE))","v":""}]
[null,null,null,null,null,null,null,null,{"$f":"IF($C366=\"\",\"\",VLOOKUP(基本登録情報!$C$7,登録データ!$I$3:$L$100,3,FALSE))","v":""}]
[null,null,null,null,null,null,null,null,{"$f":"IF($C367=\"\",\"\",VLOOKUP(基本登録情報!$C$7,登録データ!$I$3:$L$100,3,FALSE))","v":""}]
[null,null,null,null,null,null,null,null,{"$f":"IF($C368=\"\",\"\",VLOOKUP(基本登録情報!$C$7,登録データ!$I$3:$L$100,3,FALSE))","v":""}]
[null,null,null,null,null,null,null,null,{"$f":"IF($C369=\"\",\"\",VLOOKUP(基本登録情報!$C$7,登録データ!$I$3:$L$100,3,FALSE))","v":""}]
[null,null,null,null,null,null,null,null,{"$f":"IF($C370=\"\",\"\",VLOOKUP(基本登録情報!$C$7,登録データ!$I$3:$L$100,3,FALSE))","v":""}]
[null,null,null,null,null,null,null,null,{"$f":"IF($C371=\"\",\"\",VLOOKUP(基本登録情報!$C$7,登録データ!$I$3:$L$100,3,FALSE))","v":""}]
[null,null,null,null,null,null,null,null,{"$f":"IF($C372=\"\",\"\",VLOOKUP(基本登録情報!$C$7,登録データ!$I$3:$L$100,3,FALSE))","v":""}]
[null,null,null,null,null,null,null,null,{"$f":"IF($C373=\"\",\"\",VLOOKUP(基本登録情報!$C$7,登録データ!$I$3:$L$100,3,FALSE))","v":""}]
[null,null,null,null,null,null,null,null,{"$f":"IF($C374=\"\",\"\",VLOOKUP(基本登録情報!$C$7,登録データ!$I$3:$L$100,3,FALSE))","v":""}]
[null,null,null,null,null,null,null,null,{"$f":"IF($C375=\"\",\"\",VLOOKUP(基本登録情報!$C$7,登録データ!$I$3:$L$100,3,FALSE))","v":""}]
[null,null,null,null,null,null,null,null,{"$f":"IF($C376=\"\",\"\",VLOOKUP(基本登録情報!$C$7,登録データ!$I$3:$L$100,3,FALSE))","v":""}]
[null,null,null,null,null,null,null,null,{"$f":"IF($C377=\"\",\"\",VLOOKUP(基本登録情報!$C$7,登録データ!$I$3:$L$100,3,FALSE))","v":""}]
[null,null,null,null,null,null,null,null,{"$f":"IF($C378=\"\",\"\",VLOOKUP(基本登録情報!$C$7,登録データ!$I$3:$L$100,3,FALSE))","v":""}]
[null,null,null,null,null,null,null,null,{"$f":"IF($C379=\"\",\"\",VLOOKUP(基本登録情報!$C$7,登録データ!$I$3:$L$100,3,FALSE))","v":""}]
[null,null,null,null,null,null,null,null,{"$f":"IF($C380=\"\",\"\",VLOOKUP(基本登録情報!$C$7,登録データ!$I$3:$L$100,3,FALSE))","v":""}]
[null,null,null,null,null,null,null,null,{"$f":"IF($C381=\"\",\"\",VLOOKUP(基本登録情報!$C$7,登録データ!$I$3:$L$100,3,FALSE))","v":""}]
[null,null,null,null,null,null,null,null,{"$f":"IF($C382=\"\",\"\",VLOOKUP(基本登録情報!$C$7,登録データ!$I$3:$L$100,3,FALSE))","v":""}]
[null,null,null,null,null,null,null,null,{"$f":"IF($C383=\"\",\"\",VLOOKUP(基本登録情報!$C$7,登録データ!$I$3:$L$100,3,FALSE))","v":""}]
[null,null,null,null,null,null,null,null,{"$f":"IF($C384=\"\",\"\",VLOOKUP(基本登録情報!$C$7,登録データ!$I$3:$L$100,3,FALSE))","v":""}]
[null,null,null,null,null,null,null,null,{"$f":"IF($C385=\"\",\"\",VLOOKUP(基本登録情報!$C$7,登録データ!$I$3:$L$100,3,FALSE))","v":""}]
[null,null,null,null,null,null,null,null,{"$f":"IF($C386=\"\",\"\",VLOOKUP(基本登録情報!$C$7,登録データ!$I$3:$L$100,3,FALSE))","v":""}]
[null,null,null,null,null,null,null,null,{"$f":"IF($C387=\"\",\"\",VLOOKUP(基本登録情報!$C$7,登録データ!$I$3:$L$100,3,FALSE))","v":""}]
[null,null,null,null,null,null,null,null,{"$f":"IF($C388=\"\",\"\",VLOOKUP(基本登録情報!$C$7,登録データ!$I$3:$L$100,3,FALSE))","v":""}]
[null,null,null,null,null,null,null,null,{"$f":"IF($C389=\"\",\"\",VLOOKUP(基本登録情報!$C$7,登録データ!$I$3:$L$100,3,FALSE))","v":""}]
[null,null,null,null,null,null,null,null,{"$f":"IF($C390=\"\",\"\",VLOOKUP(基本登録情報!$C$7,登録データ!$I$3:$L$100,3,FALSE))","v":""}]
[null,null,null,null,null,null,null,null,{"$f":"IF($C391=\"\",\"\",VLOOKUP(基本登録情報!$C$7,登録データ!$I$3:$L$100,3,FALSE))","v":""}]
[null,null,null,null,null,null,null,null,{"$f":"IF($C392=\"\",\"\",VLOOKUP(基本登録情報!$C$7,登録データ!$I$3:$L$100,3,FALSE))","v":""}]
[null,null,null,null,null,null,null,null,{"$f":"IF($C393=\"\",\"\",VLOOKUP(基本登録情報!$C$7,登録データ!$I$3:$L$100,3,FALSE))","v":""}]
[null,null,null,null,null,null,null,null,{"$f":"IF($C394=\"\",\"\",VLOOKUP(基本登録情報!$C$7,登録データ!$I$3:$L$100,3,FALSE))","v":""}]
[null,null,null,null,null,null,null,null,{"$f":"IF($C395=\"\",\"\",VLOOKUP(基本登録情報!$C$7,登録データ!$I$3:$L$100,3,FALSE))","v":""}]
[null,null,null,null,null,null,null,null,{"$f":"IF($C396=\"\",\"\",VLOOKUP(基本登録情報!$C$7,登録データ!$I$3:$L$100,3,FALSE))","v":""}]
[null,null,null,null,null,null,null,null,{"$f":"IF($C397=\"\",\"\",VLOOKUP(基本登録情報!$C$7,登録データ!$I$3:$L$100,3,FALSE))","v":""}]
[null,null,null,null,null,null,null,null,{"$f":"IF($C398=\"\",\"\",VLOOKUP(基本登録情報!$C$7,登録データ!$I$3:$L$100,3,FALSE))","v":""}]
[null,null,null,null,null,null,null,null,{"$f":"IF($C399=\"\",\"\",VLOOKUP(基本登録情報!$C$7,登録データ!$I$3:$L$100,3,FALSE))","v":""}]
[null,null,null,null,null,null,null,null,{"$f":"IF($C400=\"\",\"\",VLOOKUP(基本登録情報!$C$7,登録データ!$I$3:$L$100,3,FALSE))","v":""}]
[null,null,null,null,null,null,null,null,{"$f":"IF($C401=\"\",\"\",VLOOKUP(基本登録情報!$C$7,登録データ!$I$3:$L$100,3,FALSE))","v":""}]
[null,null,null,null,null,null,null,null,{"$f":"IF($C402=\"\",\"\",VLOOKUP(基本登録情報!$C$7,登録データ!$I$3:$L$100,3,FALSE))","v":""}]
[null,null,null,null,null,null,null,null,{"$f":"IF($C403=\"\",\"\",VLOOKUP(基本登録情報!$C$7,登録データ!$I$3:$L$100,3,FALSE))","v":""}]
[null,null,null,null,null,null,null,null,{"$f":"IF($C404=\"\",\"\",VLOOKUP(基本登録情報!$C$7,登録データ!$I$3:$L$100,3,FALSE))","v":""}]
[null,null,null,null,null,null,null,null,{"$f":"IF($C405=\"\",\"\",VLOOKUP(基本登録情報!$C$7,登録データ!$I$3:$L$100,3,FALSE))","v":""}]
[null,null,null,null,null,null,null,null,{"$f":"IF($C406=\"\",\"\",VLOOKUP(基本登録情報!$C$7,登録データ!$I$3:$L$100,3,FALSE))","v":""}]
[null,null,null,null,null,null,null,null,{"$f":"IF($C407=\"\",\"\",VLOOKUP(基本登録情報!$C$7,登録データ!$I$3:$L$100,3,FALSE))","v":""}]
[null,null,null,null,null,null,null,null,{"$f":"IF($C408=\"\",\"\",VLOOKUP(基本登録情報!$C$7,登録データ!$I$3:$L$100,3,FALSE))","v":""}]
[null,null,null,null,null,null,null,null,{"$f":"IF($C409=\"\",\"\",VLOOKUP(基本登録情報!$C$7,登録データ!$I$3:$L$100,3,FALSE))","v":""}]
[null,null,null,null,null,null,null,null,{"$f":"IF($C410=\"\",\"\",VLOOKUP(基本登録情報!$C$7,登録データ!$I$3:$L$100,3,FALSE))","v":""}]
[null,null,null,null,null,null,null,null,{"$f":"IF($C411=\"\",\"\",VLOOKUP(基本登録情報!$C$7,登録データ!$I$3:$L$100,3,FALSE))","v":""}]
[null,null,null,null,null,null,null,null,{"$f":"IF($C412=\"\",\"\",VLOOKUP(基本登録情報!$C$7,登録データ!$I$3:$L$100,3,FALSE))","v":""}]
[null,null,null,null,null,null,null,null,{"$f":"IF($C413=\"\",\"\",VLOOKUP(基本登録情報!$C$7,登録データ!$I$3:$L$100,3,FALSE))","v":""}]
[null,null,null,null,null,null,null,null,{"$f":"IF($C414=\"\",\"\",VLOOKUP(基本登録情報!$C$7,登録データ!$I$3:$L$100,3,FALSE))","v":""}]
[null,null,null,null,null,null,null,null,{"$f":"IF($C415=\"\",\"\",VLOOKUP(基本登録情報!$C$7,登録データ!$I$3:$L$100,3,FALSE))","v":""}]
[null,null,null,null,null,null,null,null,{"$f":"IF($C416=\"\",\"\",VLOOKUP(基本登録情報!$C$7,登録データ!$I$3:$L$100,3,FALSE))","v":""}]
[null,null,null,null,null,null,null,null,{"$f":"IF($C417=\"\",\"\",VLOOKUP(基本登録情報!$C$7,登録データ!$I$3:$L$100,3,FALSE))","v":""}]
[null,null,null,null,null,null,null,null,{"$f":"IF($C418=\"\",\"\",VLOOKUP(基本登録情報!$C$7,登録データ!$I$3:$L$100,3,FALSE))","v":""}]
[null,null,null,null,null,null,null,null,{"$f":"IF($C419=\"\",\"\",VLOOKUP(基本登録情報!$C$7,登録データ!$I$3:$L$100,3,FALSE))","v":""}]
[null,null,null,null,null,null,null,null,{"$f":"IF($C420=\"\",\"\",VLOOKUP(基本登録情報!$C$7,登録データ!$I$3:$L$100,3,FALSE))","v":""}]
[null,null,null,null,null,null,null,null,{"$f":"IF($C421=\"\",\"\",VLOOKUP(基本登録情報!$C$7,登録データ!$I$3:$L$100,3,FALSE))","v":""}]
[null,null,null,null,null,null,null,null,{"$f":"IF($C422=\"\",\"\",VLOOKUP(基本登録情報!$C$7,登録データ!$I$3:$L$100,3,FALSE))","v":""}]
[null,null,null,null,null,null,null,null,{"$f":"IF($C423=\"\",\"\",VLOOKUP(基本登録情報!$C$7,登録データ!$I$3:$L$100,3,FALSE))","v":""}]
[null,null,null,null,null,null,null,null,{"$f":"IF($C424=\"\",\"\",VLOOKUP(基本登録情報!$C$7,登録データ!$I$3:$L$100,3,FALSE))","v":""}]
[null,null,null,null,null,null,null,null,{"$f":"IF($C425=\"\",\"\",VLOOKUP(基本登録情報!$C$7,登録データ!$I$3:$L$100,3,FALSE))","v":""}]
[null,null,null,null,null,null,null,null,{"$f":"IF($C426=\"\",\"\",VLOOKUP(基本登録情報!$C$7,登録データ!$I$3:$L$100,3,FALSE))","v":""}]
[null,null,null,null,null,null,null,null,{"$f":"IF($C427=\"\",\"\",VLOOKUP(基本登録情報!$C$7,登録データ!$I$3:$L$100,3,FALSE))","v":""}]
[null,null,null,null,null,null,null,null,{"$f":"IF($C428=\"\",\"\",VLOOKUP(基本登録情報!$C$7,登録データ!$I$3:$L$100,3,FALSE))","v":""}]
[null,null,null,null,null,null,null,null,{"$f":"IF($C429=\"\",\"\",VLOOKUP(基本登録情報!$C$7,登録データ!$I$3:$L$100,3,FALSE))","v":""}]
[null,null,null,null,null,null,null,null,{"$f":"IF($C430=\"\",\"\",VLOOKUP(基本登録情報!$C$7,登録データ!$I$3:$L$100,3,FALSE))","v":""}]
[null,null,null,null,null,null,null,null,{"$f":"IF($C431=\"\",\"\",VLOOKUP(基本登録情報!$C$7,登録データ!$I$3:$L$100,3,FALSE))","v":""}]
[null,null,null,null,null,null,null,null,{"$f":"IF($C432=\"\",\"\",VLOOKUP(基本登録情報!$C$7,登録データ!$I$3:$L$100,3,FALSE))","v":""}]
[null,null,null,null,null,null,null,null,{"$f":"IF($C433=\"\",\"\",VLOOKUP(基本登録情報!$C$7,登録データ!$I$3:$L$100,3,FALSE))","v":""}]
[null,null,null,null,null,null,null,null,{"$f":"IF($C434=\"\",\"\",VLOOKUP(基本登録情報!$C$7,登録データ!$I$3:$L$100,3,FALSE))","v":""}]
[null,null,null,null,null,null,null,null,{"$f":"IF($C435=\"\",\"\",VLOOKUP(基本登録情報!$C$7,登録データ!$I$3:$L$100,3,FALSE))","v":""}]
[null,null,null,null,null,null,null,null,{"$f":"IF($C436=\"\",\"\",VLOOKUP(基本登録情報!$C$7,登録データ!$I$3:$L$100,3,FALSE))","v":""}]
[null,null,null,null,null,null,null,null,{"$f":"IF($C437=\"\",\"\",VLOOKUP(基本登録情報!$C$7,登録データ!$I$3:$L$100,3,FALSE))","v":""}]
[null,null,null,null,null,null,null,null,{"$f":"IF($C438=\"\",\"\",VLOOKUP(基本登録情報!$C$7,登録データ!$I$3:$L$100,3,FALSE))","v":""}]
[null,null,null,null,null,null,null,null,{"$f":"IF($C439=\"\",\"\",VLOOKUP(基本登録情報!$C$7,登録データ!$I$3:$L$100,3,FALSE))","v":""}]
[null,null,null,null,null,null,null,null,{"$f":"IF($C440=\"\",\"\",VLOOKUP(基本登録情報!$C$7,登録データ!$I$3:$L$100,3,FALSE))","v":""}]
[null,null,null,null,null,null,null,null,{"$f":"IF($C441=\"\",\"\",VLOOKUP(基本登録情報!$C$7,登録データ!$I$3:$L$100,3,FALSE))","v":""}]
[null,null,null,null,null,null,null,null,{"$f":"IF($C442=\"\",\"\",VLOOKUP(基本登録情報!$C$7,登録データ!$I$3:$L$100,3,FALSE))","v":""}]
[null,null,null,null,null,null,null,null,{"$f":"IF($C443=\"\",\"\",VLOOKUP(基本登録情報!$C$7,登録データ!$I$3:$L$100,3,FALSE))","v":""}]
[null,null,null,null,null,null,null,null,{"$f":"IF($C444=\"\",\"\",VLOOKUP(基本登録情報!$C$7,登録データ!$I$3:$L$100,3,FALSE))","v":""}]
[null,null,null,null,null,null,null,null,{"$f":"IF($C445=\"\",\"\",VLOOKUP(基本登録情報!$C$7,登録データ!$I$3:$L$100,3,FALSE))","v":""}]
[null,null,null,null,null,null,null,null,{"$f":"IF($C446=\"\",\"\",VLOOKUP(基本登録情報!$C$7,登録データ!$I$3:$L$100,3,FALSE))","v":""}]
[null,null,null,null,null,null,null,null,{"$f":"IF($C447=\"\",\"\",VLOOKUP(基本登録情報!$C$7,登録データ!$I$3:$L$100,3,FALSE))","v":""}]
[null,null,null,null,null,null,null,null,{"$f":"IF($C448=\"\",\"\",VLOOKUP(基本登録情報!$C$7,登録データ!$I$3:$L$100,3,FALSE))","v":""}]
[null,null,null,null,null,null,null,null,{"$f":"IF($C449=\"\",\"\",VLOOKUP(基本登録情報!$C$7,登録データ!$I$3:$L$100,3,FALSE))","v":""}]
[null,null,null,null,null,null,null,null,{"$f":"IF($C450=\"\",\"\",VLOOKUP(基本登録情報!$C$7,登録データ!$I$3:$L$100,3,FALSE))","v":""}]
[null,null,null,null,null,null,null,null,{"$f":"IF($C451=\"\",\"\",VLOOKUP(基本登録情報!$C$7,登録データ!$I$3:$L$100,3,FALSE))","v":""}]
[null,null,null,null,null,null,null,null,{"$f":"IF($C452=\"\",\"\",VLOOKUP(基本登録情報!$C$7,登録データ!$I$3:$L$100,3,FALSE))","v":""}]
[null,null,null,null,null,null,null,null,{"$f":"IF($C453=\"\",\"\",VLOOKUP(基本登録情報!$C$7,登録データ!$I$3:$L$100,3,FALSE))","v":""}]
[null,null,null,null,null,null,null,null,{"$f":"IF($C454=\"\",\"\",VLOOKUP(基本登録情報!$C$7,登録データ!$I$3:$L$100,3,FALSE))","v":""}]
[null,null,null,null,null,null,null,null,{"$f":"IF($C455=\"\",\"\",VLOOKUP(基本登録情報!$C$7,登録データ!$I$3:$L$100,3,FALSE))","v":""}]
[null,null,null,null,null,null,null,null,{"$f":"IF($C456=\"\",\"\",VLOOKUP(基本登録情報!$C$7,登録データ!$I$3:$L$100,3,FALSE))","v":""}]
[null,null,null,null,null,null,null,null,{"$f":"IF($C457=\"\",\"\",VLOOKUP(基本登録情報!$C$7,登録データ!$I$3:$L$100,3,FALSE))","v":""}]
[null,null,null,null,null,null,null,null,{"$f":"IF($C458=\"\",\"\",VLOOKUP(基本登録情報!$C$7,登録データ!$I$3:$L$100,3,FALSE))","v":""}]
[null,null,null,null,null,null,null,null,{"$f":"IF($C459=\"\",\"\",VLOOKUP(基本登録情報!$C$7,登録データ!$I$3:$L$100,3,FALSE))","v":""}]
[null,null,null,null,null,null,null,null,{"$f":"IF($C460=\"\",\"\",VLOOKUP(基本登録情報!$C$7,登録データ!$I$3:$L$100,3,FALSE))","v":""}]
[null,null,null,null,null,null,null,null,{"$f":"IF($C461=\"\",\"\",VLOOKUP(基本登録情報!$C$7,登録データ!$I$3:$L$100,3,FALSE))","v":""}]
[null,null,null,null,null,null,null,null,{"$f":"IF($C462=\"\",\"\",VLOOKUP(基本登録情報!$C$7,登録データ!$I$3:$L$100,3,FALSE))","v":""}]
[null,null,null,null,null,null,null,null,{"$f":"IF($C463=\"\",\"\",VLOOKUP(基本登録情報!$C$7,登録データ!$I$3:$L$100,3,FALSE))","v":""}]
[null,null,null,null,null,null,null,null,{"$f":"IF($C464=\"\",\"\",VLOOKUP(基本登録情報!$C$7,登録データ!$I$3:$L$100,3,FALSE))","v":""}]
[null,null,null,null,null,null,null,null,{"$f":"IF($C465=\"\",\"\",VLOOKUP(基本登録情報!$C$7,登録データ!$I$3:$L$100,3,FALSE))","v":""}]
[null,null,null,null,null,null,null,null,{"$f":"IF($C466=\"\",\"\",VLOOKUP(基本登録情報!$C$7,登録データ!$I$3:$L$100,3,FALSE))","v":""}]
[null,null,null,null,null,null,null,null,{"$f":"IF($C467=\"\",\"\",VLOOKUP(基本登録情報!$C$7,登録データ!$I$3:$L$100,3,FALSE))","v":""}]
[null,null,null,null,null,null,null,null,{"$f":"IF($C468=\"\",\"\",VLOOKUP(基本登録情報!$C$7,登録データ!$I$3:$L$100,3,FALSE))","v":""}]
[null,null,null,null,null,null,null,null,{"$f":"IF($C469=\"\",\"\",VLOOKUP(基本登録情報!$C$7,登録データ!$I$3:$L$100,3,FALSE))","v":""}]
[null,null,null,null,null,null,null,null,{"$f":"IF($C470=\"\",\"\",VLOOKUP(基本登録情報!$C$7,登録データ!$I$3:$L$100,3,FALSE))","v":""}]
[null,null,null,null,null,null,null,null,{"$f":"IF($C471=\"\",\"\",VLOOKUP(基本登録情報!$C$7,登録データ!$I$3:$L$100,3,FALSE))","v":""}]
[null,null,null,null,null,null,null,null,{"$f":"IF($C472=\"\",\"\",VLOOKUP(基本登録情報!$C$7,登録データ!$I$3:$L$100,3,FALSE))","v":""}]
[null,null,null,null,null,null,null,null,{"$f":"IF($C473=\"\",\"\",VLOOKUP(基本登録情報!$C$7,登録データ!$I$3:$L$100,3,FALSE))","v":""}]
[null,null,null,null,null,null,null,null,{"$f":"IF($C474=\"\",\"\",VLOOKUP(基本登録情報!$C$7,登録データ!$I$3:$L$100,3,FALSE))","v":""}]
[null,null,null,null,null,null,null,null,{"$f":"IF($C475=\"\",\"\",VLOOKUP(基本登録情報!$C$7,登録データ!$I$3:$L$100,3,FALSE))","v":""}]
[null,null,null,null,null,null,null,null,{"$f":"IF($C476=\"\",\"\",VLOOKUP(基本登録情報!$C$7,登録データ!$I$3:$L$100,3,FALSE))","v":""}]
[null,null,null,null,null,null,null,null,{"$f":"IF($C477=\"\",\"\",VLOOKUP(基本登録情報!$C$7,登録データ!$I$3:$L$100,3,FALSE))","v":""}]
[null,null,null,null,null,null,null,null,{"$f":"IF($C478=\"\",\"\",VLOOKUP(基本登録情報!$C$7,登録データ!$I$3:$L$100,3,FALSE))","v":""}]
[null,null,null,null,null,null,null,null,{"$f":"IF($C479=\"\",\"\",VLOOKUP(基本登録情報!$C$7,登録データ!$I$3:$L$100,3,FALSE))","v":""}]
[null,null,null,null,null,null,null,null,{"$f":"IF($C480=\"\",\"\",VLOOKUP(基本登録情報!$C$7,登録データ!$I$3:$L$100,3,FALSE))","v":""}]
[null,null,null,null,null,null,null,null,{"$f":"IF($C481=\"\",\"\",VLOOKUP(基本登録情報!$C$7,登録データ!$I$3:$L$100,3,FALSE))","v":""}]
[null,null,null,null,null,null,null,null,{"$f":"IF($C482=\"\",\"\",VLOOKUP(基本登録情報!$C$7,登録データ!$I$3:$L$100,3,FALSE))","v":""}]
[null,null,null,null,null,null,null,null,{"$f":"IF($C483=\"\",\"\",VLOOKUP(基本登録情報!$C$7,登録データ!$I$3:$L$100,3,FALSE))","v":""}]
[null,null,null,null,null,null,null,null,{"$f":"IF($C484=\"\",\"\",VLOOKUP(基本登録情報!$C$7,登録データ!$I$3:$L$100,3,FALSE))","v":""}]
[null,null,null,null,null,null,null,null,{"$f":"IF($C485=\"\",\"\",VLOOKUP(基本登録情報!$C$7,登録データ!$I$3:$L$100,3,FALSE))","v":""}]
[null,null,null,null,null,null,null,null,{"$f":"IF($C486=\"\",\"\",VLOOKUP(基本登録情報!$C$7,登録データ!$I$3:$L$100,3,FALSE))","v":""}]
[null,null,null,null,null,null,null,null,{"$f":"IF($C487=\"\",\"\",VLOOKUP(基本登録情報!$C$7,登録データ!$I$3:$L$100,3,FALSE))","v":""}]
[null,null,null,null,null,null,null,null,{"$f":"IF($C488=\"\",\"\",VLOOKUP(基本登録情報!$C$7,登録データ!$I$3:$L$100,3,FALSE))","v":""}]
[null,null,null,null,null,null,null,null,{"$f":"IF($C489=\"\",\"\",VLOOKUP(基本登録情報!$C$7,登録データ!$I$3:$L$100,3,FALSE))","v":""}]
[null,null,null,null,null,null,null,null,{"$f":"IF($C490=\"\",\"\",VLOOKUP(基本登録情報!$C$7,登録データ!$I$3:$L$100,3,FALSE))","v":""}]
[null,null,null,null,null,null,null,null,{"$f":"IF($C491=\"\",\"\",VLOOKUP(基本登録情報!$C$7,登録データ!$I$3:$L$100,3,FALSE))","v":""}]
[null,null,null,null,null,null,null,null,{"$f":"IF($C492=\"\",\"\",VLOOKUP(基本登録情報!$C$7,登録データ!$I$3:$L$100,3,FALSE))","v":""}]
[null,null,null,null,null,null,null,null,{"$f":"IF($C493=\"\",\"\",VLOOKUP(基本登録情報!$C$7,登録データ!$I$3:$L$100,3,FALSE))","v":""}]
[null,null,null,null,null,null,null,null,{"$f":"IF($C494=\"\",\"\",VLOOKUP(基本登録情報!$C$7,登録データ!$I$3:$L$100,3,FALSE))","v":""}]
[null,null,null,null,null,null,null,null,{"$f":"IF($C495=\"\",\"\",VLOOKUP(基本登録情報!$C$7,登録データ!$I$3:$L$100,3,FALSE))","v":""}]
[null,null,null,null,null,null,null,null,{"$f":"IF($C496=\"\",\"\",VLOOKUP(基本登録情報!$C$7,登録データ!$I$3:$L$100,3,FALSE))","v":""}]
[null,null,null,null,null,null,null,null,{"$f":"IF($C497=\"\",\"\",VLOOKUP(基本登録情報!$C$7,登録データ!$I$3:$L$100,3,FALSE))","v":""}]
[null,null,null,null,null,null,null,null,{"$f":"IF($C498=\"\",\"\",VLOOKUP(基本登録情報!$C$7,登録データ!$I$3:$L$100,3,FALSE))","v":""}]
[null,null,null,null,null,null,null,null,{"$f":"IF($C499=\"\",\"\",VLOOKUP(基本登録情報!$C$7,登録データ!$I$3:$L$100,3,FALSE))","v":""}]
[null,null,null,null,null,null,null,null,{"$f":"IF($C500=\"\",\"\",VLOOKUP(基本登録情報!$C$7,登録データ!$I$3:$L$100,3,FALSE))","v":""}]
[null,null,null,null,null,null,null,null,{"$f":"IF($C501=\"\",\"\",VLOOKUP(基本登録情報!$C$7,登録データ!$I$3:$L$100,3,FALSE))","v":""}]
[null,null,null,null,null,null,null,null,{"$f":"IF($C502=\"\",\"\",VLOOKUP(基本登録情報!$C$7,登録データ!$I$3:$L$100,3,FALSE))","v":""}]
[null,null,null,null,null,null,null,null,{"$f":"IF($C503=\"\",\"\",VLOOKUP(基本登録情報!$C$7,登録データ!$I$3:$L$100,3,FALSE))","v":""}]
[null,null,null,null,null,null,null,null,{"$f":"IF($C504=\"\",\"\",VLOOKUP(基本登録情報!$C$7,登録データ!$I$3:$L$100,3,FALSE))","v":""}]
[null,null,null,null,null,null,null,null,{"$f":"IF($C505=\"\",\"\",VLOOKUP(基本登録情報!$C$7,登録データ!$I$3:$L$100,3,FALSE))","v":""}]
[null,null,null,null,null,null,null,null,{"$f":"IF($C506=\"\",\"\",VLOOKUP(基本登録情報!$C$7,登録データ!$I$3:$L$100,3,FALSE))","v":""}]
[null,null,null,null,null,null,null,null,{"$f":"IF($C507=\"\",\"\",VLOOKUP(基本登録情報!$C$7,登録データ!$I$3:$L$100,3,FALSE))","v":""}]
[null,null,null,null,null,null,null,null,{"$f":"IF($C508=\"\",\"\",VLOOKUP(基本登録情報!$C$7,登録データ!$I$3:$L$100,3,FALSE))","v":""}]
[null,null,null,null,null,null,null,null,{"$f":"IF($C509=\"\",\"\",VLOOKUP(基本登録情報!$C$7,登録データ!$I$3:$L$100,3,FALSE))","v":""}]
[null,null,null,null,null,null,null,null,{"$f":"IF($C510=\"\",\"\",VLOOKUP(基本登録情報!$C$7,登録データ!$I$3:$L$100,3,FALSE))","v":""}]
[null,null,null,null,null,null,null,null,{"$f":"IF($C511=\"\",\"\",VLOOKUP(基本登録情報!$C$7,登録データ!$I$3:$L$100,3,FALSE))","v":""}]
[null,null,null,null,null,null,null,null,{"$f":"IF($C512=\"\",\"\",VLOOKUP(基本登録情報!$C$7,登録データ!$I$3:$L$100,3,FALSE))","v":""}]
[null,null,null,null,null,null,null,null,{"$f":"IF($C513=\"\",\"\",VLOOKUP(基本登録情報!$C$7,登録データ!$I$3:$L$100,3,FALSE))","v":""}]
[null,null,null,null,null,null,null,null,{"$f":"IF($C514=\"\",\"\",VLOOKUP(基本登録情報!$C$7,登録データ!$I$3:$L$100,3,FALSE))","v":""}]
[null,null,null,null,null,null,null,null,{"$f":"IF($C515=\"\",\"\",VLOOKUP(基本登録情報!$C$7,登録データ!$I$3:$L$100,3,FALSE))","v":""}]
[null,null,null,null,null,null,null,null,{"$f":"IF($C516=\"\",\"\",VLOOKUP(基本登録情報!$C$7,登録データ!$I$3:$L$100,3,FALSE))","v":""}]
[null,null,null,null,null,null,null,null,{"$f":"IF($C517=\"\",\"\",VLOOKUP(基本登録情報!$C$7,登録データ!$I$3:$L$100,3,FALSE))","v":""}]
[null,null,null,null,null,null,null,null,{"$f":"IF($C518=\"\",\"\",VLOOKUP(基本登録情報!$C$7,登録データ!$I$3:$L$100,3,FALSE))","v":""}]
[null,null,null,null,null,null,null,null,{"$f":"IF($C519=\"\",\"\",VLOOKUP(基本登録情報!$C$7,登録データ!$I$3:$L$100,3,FALSE))","v":""}]
[null,null,null,null,null,null,null,null,{"$f":"IF($C520=\"\",\"\",VLOOKUP(基本登録情報!$C$7,登録データ!$I$3:$L$100,3,FALSE))","v":""}]
[null,null,null,null,null,null,null,null,{"$f":"IF($C521=\"\",\"\",VLOOKUP(基本登録情報!$C$7,登録データ!$I$3:$L$100,3,FALSE))","v":""}]
[null,null,null,null,null,null,null,null,{"$f":"IF($C522=\"\",\"\",VLOOKUP(基本登録情報!$C$7,登録データ!$I$3:$L$100,3,FALSE))","v":""}]
[null,null,null,null,null,null,null,null,{"$f":"IF($C523=\"\",\"\",VLOOKUP(基本登録情報!$C$7,登録データ!$I$3:$L$100,3,FALSE))","v":""}]
[null,null,null,null,null,null,null,null,{"$f":"IF($C524=\"\",\"\",VLOOKUP(基本登録情報!$C$7,登録データ!$I$3:$L$100,3,FALSE))","v":""}]
[null,null,null,null,null,null,null,null,{"$f":"IF($C525=\"\",\"\",VLOOKUP(基本登録情報!$C$7,登録データ!$I$3:$L$100,3,FALSE))","v":""}]
[null,null,null,null,null,null,null,null,{"$f":"IF($C526=\"\",\"\",VLOOKUP(基本登録情報!$C$7,登録データ!$I$3:$L$100,3,FALSE))","v":""}]
[null,null,null,null,null,null,null,null,{"$f":"IF($C527=\"\",\"\",VLOOKUP(基本登録情報!$C$7,登録データ!$I$3:$L$100,3,FALSE))","v":""}]
[null,null,null,null,null,null,null,null,{"$f":"IF($C528=\"\",\"\",VLOOKUP(基本登録情報!$C$7,登録データ!$I$3:$L$100,3,FALSE))","v":""}]
[null,null,null,null,null,null,null,null,{"$f":"IF($C529=\"\",\"\",VLOOKUP(基本登録情報!$C$7,登録データ!$I$3:$L$100,3,FALSE))","v":""}]
[null,null,null,null,null,null,null,null,{"$f":"IF($C530=\"\",\"\",VLOOKUP(基本登録情報!$C$7,登録データ!$I$3:$L$100,3,FALSE))","v":""}]
[null,null,null,null,null,null,null,null,{"$f":"IF($C531=\"\",\"\",VLOOKUP(基本登録情報!$C$7,登録データ!$I$3:$L$100,3,FALSE))","v":""}]
[null,null,null,null,null,null,null,null,{"$f":"IF($C532=\"\",\"\",VLOOKUP(基本登録情報!$C$7,登録データ!$I$3:$L$100,3,FALSE))","v":""}]
[null,null,null,null,null,null,null,null,{"$f":"IF($C533=\"\",\"\",VLOOKUP(基本登録情報!$C$7,登録データ!$I$3:$L$100,3,FALSE))","v":""}]
[null,null,null,null,null,null,null,null,{"$f":"IF($C534=\"\",\"\",VLOOKUP(基本登録情報!$C$7,登録データ!$I$3:$L$100,3,FALSE))","v":""}]
[null,null,null,null,null,null,null,null,{"$f":"IF($C535=\"\",\"\",VLOOKUP(基本登録情報!$C$7,登録データ!$I$3:$L$100,3,FALSE))","v":""}]
[null,null,null,null,null,null,null,null,{"$f":"IF($C536=\"\",\"\",VLOOKUP(基本登録情報!$C$7,登録データ!$I$3:$L$100,3,FALSE))","v":""}]
[null,null,null,null,null,null,null,null,{"$f":"IF($C537=\"\",\"\",VLOOKUP(基本登録情報!$C$7,登録データ!$I$3:$L$100,3,FALSE))","v":""}]
[null,null,null,null,null,null,null,null,{"$f":"IF($C538=\"\",\"\",VLOOKUP(基本登録情報!$C$7,登録データ!$I$3:$L$100,3,FALSE))","v":""}]
[null,null,null,null,null,null,null,null,{"$f":"IF($C539=\"\",\"\",VLOOKUP(基本登録情報!$C$7,登録データ!$I$3:$L$100,3,FALSE))","v":""}]
[null,null,null,null,null,null,null,null,{"$f":"IF($C540=\"\",\"\",VLOOKUP(基本登録情報!$C$7,登録データ!$I$3:$L$100,3,FALSE))","v":""}]
[null,null,null,null,null,null,null,null,{"$f":"IF($C541=\"\",\"\",VLOOKUP(基本登録情報!$C$7,登録データ!$I$3:$L$100,3,FALSE))","v":""}]
[null,null,null,null,null,null,null,null,{"$f":"IF($C542=\"\",\"\",VLOOKUP(基本登録情報!$C$7,登録データ!$I$3:$L$100,3,FALSE))","v":""}]
[null,null,null,null,null,null,null,null,{"$f":"IF($C543=\"\",\"\",VLOOKUP(基本登録情報!$C$7,登録データ!$I$3:$L$100,3,FALSE))","v":""}]
[null,null,null,null,null,null,null,null,{"$f":"IF($C544=\"\",\"\",VLOOKUP(基本登録情報!$C$7,登録データ!$I$3:$L$100,3,FALSE))","v":""}]
[null,null,null,null,null,null,null,null,{"$f":"IF($C545=\"\",\"\",VLOOKUP(基本登録情報!$C$7,登録データ!$I$3:$L$100,3,FALSE))","v":""}]
[null,null,null,null,null,null,null,null,{"$f":"IF($C546=\"\",\"\",VLOOKUP(基本登録情報!$C$7,登録データ!$I$3:$L$100,3,FALSE))","v":""}]
[null,null,null,null,null,null,null,null,{"$f":"IF($C547=\"\",\"\",VLOOKUP(基本登録情報!$C$7,登録データ!$I$3:$L$100,3,FALSE))","v":""}]
[null,null,null,null,null,null,null,null,{"$f":"IF($C548=\"\",\"\",VLOOKUP(基本登録情報!$C$7,登録データ!$I$3:$L$100,3,FALSE))","v":""}]
[null,null,null,null,null,null,null,null,{"$f":"IF($C549=\"\",\"\",VLOOKUP(基本登録情報!$C$7,登録データ!$I$3:$L$100,3,FALSE))","v":""}]
[null,null,null,null,null,null,null,null,{"$f":"IF($C550=\"\",\"\",VLOOKUP(基本登録情報!$C$7,登録データ!$I$3:$L$100,3,FALSE))","v":""}]
[null,null,null,null,null,null,null,null,{"$f":"IF($C551=\"\",\"\",VLOOKUP(基本登録情報!$C$7,登録データ!$I$3:$L$100,3,FALSE))","v":""}]
[null,null,null,null,null,null,null,null,{"$f":"IF($C552=\"\",\"\",VLOOKUP(基本登録情報!$C$7,登録データ!$I$3:$L$100,3,FALSE))","v":""}]
[null,null,null,null,null,null,null,null,{"$f":"IF($C553=\"\",\"\",VLOOKUP(基本登録情報!$C$7,登録データ!$I$3:$L$100,3,FALSE))","v":""}]
[null,null,null,null,null,null,null,null,{"$f":"IF($C554=\"\",\"\",VLOOKUP(基本登録情報!$C$7,登録データ!$I$3:$L$100,3,FALSE))","v":""}]
[null,null,null,null,null,null,null,null,{"$f":"IF($C555=\"\",\"\",VLOOKUP(基本登録情報!$C$7,登録データ!$I$3:$L$100,3,FALSE))","v":""}]
[null,null,null,null,null,null,null,null,{"$f":"IF($C556=\"\",\"\",VLOOKUP(基本登録情報!$C$7,登録データ!$I$3:$L$100,3,FALSE))","v":""}]
[null,null,null,null,null,null,null,null,{"$f":"IF($C557=\"\",\"\",VLOOKUP(基本登録情報!$C$7,登録データ!$I$3:$L$100,3,FALSE))","v":""}]
[null,null,null,null,null,null,null,null,{"$f":"IF($C558=\"\",\"\",VLOOKUP(基本登録情報!$C$7,登録データ!$I$3:$L$100,3,FALSE))","v":""}]
[null,null,null,null,null,null,null,null,{"$f":"IF($C559=\"\",\"\",VLOOKUP(基本登録情報!$C$7,登録データ!$I$3:$L$100,3,FALSE))","v":""}]
[null,null,null,null,null,null,null,null,{"$f":"IF($C560=\"\",\"\",VLOOKUP(基本登録情報!$C$7,登録データ!$I$3:$L$100,3,FALSE))","v":""}]
[null,null,null,null,null,null,null,null,{"$f":"IF($C561=\"\",\"\",VLOOKUP(基本登録情報!$C$7,登録データ!$I$3:$L$100,3,FALSE))","v":""}]
[null,null,null,null,null,null,null,null,{"$f":"IF($C562=\"\",\"\",VLOOKUP(基本登録情報!$C$7,登録データ!$I$3:$L$100,3,FALSE))","v":""}]
[null,null,null,null,null,null,null,null,{"$f":"IF($C563=\"\",\"\",VLOOKUP(基本登録情報!$C$7,登録データ!$I$3:$L$100,3,FALSE))","v":""}]
[null,null,null,null,null,null,null,null,{"$f":"IF($C564=\"\",\"\",VLOOKUP(基本登録情報!$C$7,登録データ!$I$3:$L$100,3,FALSE))","v":""}]
[null,null,null,null,null,null,null,null,{"$f":"IF($C565=\"\",\"\",VLOOKUP(基本登録情報!$C$7,登録データ!$I$3:$L$100,3,FALSE))","v":""}]
[null,null,null,null,null,null,null,null,{"$f":"IF($C566=\"\",\"\",VLOOKUP(基本登録情報!$C$7,登録データ!$I$3:$L$100,3,FALSE))","v":""}]
[null,null,null,null,null,null,null,null,{"$f":"IF($C567=\"\",\"\",VLOOKUP(基本登録情報!$C$7,登録データ!$I$3:$L$100,3,FALSE))","v":""}]
[null,null,null,null,null,null,null,null,{"$f":"IF($C568=\"\",\"\",VLOOKUP(基本登録情報!$C$7,登録データ!$I$3:$L$100,3,FALSE))","v":""}]
[null,null,null,null,null,null,null,null,{"$f":"IF($C569=\"\",\"\",VLOOKUP(基本登録情報!$C$7,登録データ!$I$3:$L$100,3,FALSE))","v":""}]
[null,null,null,null,null,null,null,null,{"$f":"IF($C570=\"\",\"\",VLOOKUP(基本登録情報!$C$7,登録データ!$I$3:$L$100,3,FALSE))","v":""}]
[null,null,null,null,null,null,null,null,{"$f":"IF($C571=\"\",\"\",VLOOKUP(基本登録情報!$C$7,登録データ!$I$3:$L$100,3,FALSE))","v":""}]
[null,null,null,null,null,null,null,null,{"$f":"IF($C572=\"\",\"\",VLOOKUP(基本登録情報!$C$7,登録データ!$I$3:$L$100,3,FALSE))","v":""}]
[null,null,null,null,null,null,null,null,{"$f":"IF($C573=\"\",\"\",VLOOKUP(基本登録情報!$C$7,登録データ!$I$3:$L$100,3,FALSE))","v":""}]
[null,null,null,null,null,null,null,null,{"$f":"IF($C574=\"\",\"\",VLOOKUP(基本登録情報!$C$7,登録データ!$I$3:$L$100,3,FALSE))","v":""}]
[null,null,null,null,null,null,null,null,{"$f":"IF($C575=\"\",\"\",VLOOKUP(基本登録情報!$C$7,登録データ!$I$3:$L$100,3,FALSE))","v":""}]
[null,null,null,null,null,null,null,null,{"$f":"IF($C576=\"\",\"\",VLOOKUP(基本登録情報!$C$7,登録データ!$I$3:$L$100,3,FALSE))","v":""}]
[null,null,null,null,null,null,null,null,{"$f":"IF($C577=\"\",\"\",VLOOKUP(基本登録情報!$C$7,登録データ!$I$3:$L$100,3,FALSE))","v":""}]
[null,null,null,null,null,null,null,null,{"$f":"IF($C578=\"\",\"\",VLOOKUP(基本登録情報!$C$7,登録データ!$I$3:$L$100,3,FALSE))","v":""}]
[null,null,null,null,null,null,null,null,{"$f":"IF($C579=\"\",\"\",VLOOKUP(基本登録情報!$C$7,登録データ!$I$3:$L$100,3,FALSE))","v":""}]
[null,null,null,null,null,null,null,null,{"$f":"IF($C580=\"\",\"\",VLOOKUP(基本登録情報!$C$7,登録データ!$I$3:$L$100,3,FALSE))","v":""}]
[null,null,null,null,null,null,null,null,{"$f":"IF($C581=\"\",\"\",VLOOKUP(基本登録情報!$C$7,登録データ!$I$3:$L$100,3,FALSE))","v":""}]
[null,null,null,null,null,null,null,null,{"$f":"IF($C582=\"\",\"\",VLOOKUP(基本登録情報!$C$7,登録データ!$I$3:$L$100,3,FALSE))","v":""}]
[null,null,null,null,null,null,null,null,{"$f":"IF($C583=\"\",\"\",VLOOKUP(基本登録情報!$C$7,登録データ!$I$3:$L$100,3,FALSE))","v":""}]
[null,null,null,null,null,null,null,null,{"$f":"IF($C584=\"\",\"\",VLOOKUP(基本登録情報!$C$7,登録データ!$I$3:$L$100,3,FALSE))","v":""}]
[null,null,null,null,null,null,null,null,{"$f":"IF($C585=\"\",\"\",VLOOKUP(基本登録情報!$C$7,登録データ!$I$3:$L$100,3,FALSE))","v":""}]
[null,null,null,null,null,null,null,null,{"$f":"IF($C586=\"\",\"\",VLOOKUP(基本登録情報!$C$7,登録データ!$I$3:$L$100,3,FALSE))","v":""}]
[null,null,null,null,null,null,null,null,{"$f":"IF($C587=\"\",\"\",VLOOKUP(基本登録情報!$C$7,登録データ!$I$3:$L$100,3,FALSE))","v":""}]
[null,null,null,null,null,null,null,null,{"$f":"IF($C588=\"\",\"\",VLOOKUP(基本登録情報!$C$7,登録データ!$I$3:$L$100,3,FALSE))","v":""}]
[null,null,null,null,null,null,null,null,{"$f":"IF($C589=\"\",\"\",VLOOKUP(基本登録情報!$C$7,登録データ!$I$3:$L$100,3,FALSE))","v":""}]
[null,null,null,null,null,null,null,null,{"$f":"IF($C590=\"\",\"\",VLOOKUP(基本登録情報!$C$7,登録データ!$I$3:$L$100,3,FALSE))","v":""}]
[null,null,null,null,null,null,null,null,{"$f":"IF($C591=\"\",\"\",VLOOKUP(基本登録情報!$C$7,登録データ!$I$3:$L$100,3,FALSE))","v":""}]
[null,null,null,null,null,null,null,null,{"$f":"IF($C592=\"\",\"\",VLOOKUP(基本登録情報!$C$7,登録データ!$I$3:$L$100,3,FALSE))","v":""}]
[null,null,null,null,null,null,null,null,{"$f":"IF($C593=\"\",\"\",VLOOKUP(基本登録情報!$C$7,登録データ!$I$3:$L$100,3,FALSE))","v":""}]
[null,null,null,null,null,null,null,null,{"$f":"IF($C594=\"\",\"\",VLOOKUP(基本登録情報!$C$7,登録データ!$I$3:$L$100,3,FALSE))","v":""}]
[null,null,null,null,null,null,null,null,{"$f":"IF($C595=\"\",\"\",VLOOKUP(基本登録情報!$C$7,登録データ!$I$3:$L$100,3,FALSE))","v":""}]
[null,null,null,null,null,null,null,null,{"$f":"IF($C596=\"\",\"\",VLOOKUP(基本登録情報!$C$7,登録データ!$I$3:$L$100,3,FALSE))","v":""}]
[null,null,null,null,null,null,null,null,{"$f":"IF($C597=\"\",\"\",VLOOKUP(基本登録情報!$C$7,登録データ!$I$3:$L$100,3,FALSE))","v":""}]
[null,null,null,null,null,null,null,null,{"$f":"IF($C598=\"\",\"\",VLOOKUP(基本登録情報!$C$7,登録データ!$I$3:$L$100,3,FALSE))","v":""}]
[null,null,null,null,null,null,null,null,{"$f":"IF($C599=\"\",\"\",VLOOKUP(基本登録情報!$C$7,登録データ!$I$3:$L$100,3,FALSE))","v":""}]
[null,null,null,null,null,null,null,null,{"$f":"IF($C600=\"\",\"\",VLOOKUP(基本登録情報!$C$7,登録データ!$I$3:$L$100,3,FALSE))","v":""}]
[null,null,null,null,null,null,null,null,{"$f":"IF($C601=\"\",\"\",VLOOKUP(基本登録情報!$C$7,登録データ!$I$3:$L$100,3,FALSE))","v":""}]
[null,null,null,null,null,null,null,null,{"$f":"IF($C602=\"\",\"\",VLOOKUP(基本登録情報!$C$7,登録データ!$I$3:$L$100,3,FALSE))","v":""}]
[null,null,null,null,null,null,null,null,{"$f":"IF($C603=\"\",\"\",VLOOKUP(基本登録情報!$C$7,登録データ!$I$3:$L$100,3,FALSE))","v":""}]
[null,null,null,null,null,null,null,null,{"$f":"IF($C604=\"\",\"\",VLOOKUP(基本登録情報!$C$7,登録データ!$I$3:$L$100,3,FALSE))","v":""}]
[null,null,null,null,null,null,null,null,{"$f":"IF($C605=\"\",\"\",VLOOKUP(基本登録情報!$C$7,登録データ!$I$3:$L$100,3,FALSE))","v":""}]
[null,null,null,null,null,null,null,null,{"$f":"IF($C606=\"\",\"\",VLOOKUP(基本登録情報!$C$7,登録データ!$I$3:$L$100,3,FALSE))","v":""}]
[null,null,null,null,null,null,null,null,{"$f":"IF($C607=\"\",\"\",VLOOKUP(基本登録情報!$C$7,登録データ!$I$3:$L$100,3,FALSE))","v":""}]
[null,null,null,null,null,null,null,null,{"$f":"IF($C608=\"\",\"\",VLOOKUP(基本登録情報!$C$7,登録データ!$I$3:$L$100,3,FALSE))","v":""}]
[null,null,null,null,null,null,null,null,{"$f":"IF($C609=\"\",\"\",VLOOKUP(基本登録情報!$C$7,登録データ!$I$3:$L$100,3,FALSE))","v":""}]
[null,null,null,null,null,null,null,null,{"$f":"IF($C610=\"\",\"\",VLOOKUP(基本登録情報!$C$7,登録データ!$I$3:$L$100,3,FALSE))","v":""}]
[null,null,null,null,null,null,null,null,{"$f":"IF($C611=\"\",\"\",VLOOKUP(基本登録情報!$C$7,登録データ!$I$3:$L$100,3,FALSE))","v":""}]
[null,null,null,null,null,null,null,null,{"$f":"IF($C612=\"\",\"\",VLOOKUP(基本登録情報!$C$7,登録データ!$I$3:$L$100,3,FALSE))","v":""}]
[null,null,null,null,null,null,null,null,{"$f":"IF($C613=\"\",\"\",VLOOKUP(基本登録情報!$C$7,登録データ!$I$3:$L$100,3,FALSE))","v":""}]
[null,null,null,null,null,null,null,null,{"$f":"IF($C614=\"\",\"\",VLOOKUP(基本登録情報!$C$7,登録データ!$I$3:$L$100,3,FALSE))","v":""}]
[null,null,null,null,null,null,null,null,{"$f":"IF($C615=\"\",\"\",VLOOKUP(基本登録情報!$C$7,登録データ!$I$3:$L$100,3,FALSE))","v":""}]
[null,null,null,null,null,null,null,null,{"$f":"IF($C616=\"\",\"\",VLOOKUP(基本登録情報!$C$7,登録データ!$I$3:$L$100,3,FALSE))","v":""}]
[null,null,null,null,null,null,null,null,{"$f":"IF($C617=\"\",\"\",VLOOKUP(基本登録情報!$C$7,登録データ!$I$3:$L$100,3,FALSE))","v":""}]
[null,null,null,null,null,null,null,null,{"$f":"IF($C618=\"\",\"\",VLOOKUP(基本登録情報!$C$7,登録データ!$I$3:$L$100,3,FALSE))","v":""}]
[null,null,null,null,null,null,null,null,{"$f":"IF($C619=\"\",\"\",VLOOKUP(基本登録情報!$C$7,登録データ!$I$3:$L$100,3,FALSE))","v":""}]
[null,null,null,null,null,null,null,null,{"$f":"IF($C620=\"\",\"\",VLOOKUP(基本登録情報!$C$7,登録データ!$I$3:$L$100,3,FALSE))","v":""}]
[null,null,null,null,null,null,null,null,{"$f":"IF($C621=\"\",\"\",VLOOKUP(基本登録情報!$C$7,登録データ!$I$3:$L$100,3,FALSE))","v":""}]
[null,null,null,null,null,null,null,null,{"$f":"IF($C622=\"\",\"\",VLOOKUP(基本登録情報!$C$7,登録データ!$I$3:$L$100,3,FALSE))","v":""}]
[null,null,null,null,null,null,null,null,{"$f":"IF($C623=\"\",\"\",VLOOKUP(基本登録情報!$C$7,登録データ!$I$3:$L$100,3,FALSE))","v":""}]
[null,null,null,null,null,null,null,null,{"$f":"IF($C624=\"\",\"\",VLOOKUP(基本登録情報!$C$7,登録データ!$I$3:$L$100,3,FALSE))","v":""}]
[null,null,null,null,null,null,null,null,{"$f":"IF($C625=\"\",\"\",VLOOKUP(基本登録情報!$C$7,登録データ!$I$3:$L$100,3,FALSE))","v":""}]
[null,null,null,null,null,null,null,null,{"$f":"IF($C626=\"\",\"\",VLOOKUP(基本登録情報!$C$7,登録データ!$I$3:$L$100,3,FALSE))","v":""}]
[null,null,null,null,null,null,null,null,{"$f":"IF($C627=\"\",\"\",VLOOKUP(基本登録情報!$C$7,登録データ!$I$3:$L$100,3,FALSE))","v":""}]
[null,null,null,null,null,null,null,null,{"$f":"IF($C628=\"\",\"\",VLOOKUP(基本登録情報!$C$7,登録データ!$I$3:$L$100,3,FALSE))","v":""}]
[null,null,null,null,null,null,null,null,{"$f":"IF($C629=\"\",\"\",VLOOKUP(基本登録情報!$C$7,登録データ!$I$3:$L$100,3,FALSE))","v":""}]
[null,null,null,null,null,null,null,null,{"$f":"IF($C630=\"\",\"\",VLOOKUP(基本登録情報!$C$7,登録データ!$I$3:$L$100,3,FALSE))","v":""}]
[null,null,null,null,null,null,null,null,{"$f":"IF($C631=\"\",\"\",VLOOKUP(基本登録情報!$C$7,登録データ!$I$3:$L$100,3,FALSE))","v":""}]
[null,null,null,null,null,null,null,null,{"$f":"IF($C632=\"\",\"\",VLOOKUP(基本登録情報!$C$7,登録データ!$I$3:$L$100,3,FALSE))","v":""}]
[null,null,null,null,null,null,null,null,{"$f":"IF($C633=\"\",\"\",VLOOKUP(基本登録情報!$C$7,登録データ!$I$3:$L$100,3,FALSE))","v":""}]
[null,null,null,null,null,null,null,null,{"$f":"IF($C634=\"\",\"\",VLOOKUP(基本登録情報!$C$7,登録データ!$I$3:$L$100,3,FALSE))","v":""}]
[null,null,null,null,null,null,null,null,{"$f":"IF($C635=\"\",\"\",VLOOKUP(基本登録情報!$C$7,登録データ!$I$3:$L$100,3,FALSE))","v":""}]
[null,null,null,null,null,null,null,null,{"$f":"IF($C636=\"\",\"\",VLOOKUP(基本登録情報!$C$7,登録データ!$I$3:$L$100,3,FALSE))","v":""}]
[null,null,null,null,null,null,null,null,{"$f":"IF($C637=\"\",\"\",VLOOKUP(基本登録情報!$C$7,登録データ!$I$3:$L$100,3,FALSE))","v":""}]
[null,null,null,null,null,null,null,null,{"$f":"IF($C638=\"\",\"\",VLOOKUP(基本登録情報!$C$7,登録データ!$I$3:$L$100,3,FALSE))","v":""}]
[null,null,null,null,null,null,null,null,{"$f":"IF($C639=\"\",\"\",VLOOKUP(基本登録情報!$C$7,登録データ!$I$3:$L$100,3,FALSE))","v":""}]
[null,null,null,null,null,null,null,null,{"$f":"IF($C640=\"\",\"\",VLOOKUP(基本登録情報!$C$7,登録データ!$I$3:$L$100,3,FALSE))","v":""}]
[null,null,null,null,null,null,null,null,{"$f":"IF($C641=\"\",\"\",VLOOKUP(基本登録情報!$C$7,登録データ!$I$3:$L$100,3,FALSE))","v":""}]
[null,null,null,null,null,null,null,null,{"$f":"IF($C642=\"\",\"\",VLOOKUP(基本登録情報!$C$7,登録データ!$I$3:$L$100,3,FALSE))","v":""}]
[null,null,null,null,null,null,null,null,{"$f":"IF($C643=\"\",\"\",VLOOKUP(基本登録情報!$C$7,登録データ!$I$3:$L$100,3,FALSE))","v":""}]
[null,null,null,null,null,null,null,null,{"$f":"IF($C644=\"\",\"\",VLOOKUP(基本登録情報!$C$7,登録データ!$I$3:$L$100,3,FALSE))","v":""}]
[null,null,null,null,null,null,null,null,{"$f":"IF($C645=\"\",\"\",VLOOKUP(基本登録情報!$C$7,登録データ!$I$3:$L$100,3,FALSE))","v":""}]
[null,null,null,null,null,null,null,null,{"$f":"IF($C646=\"\",\"\",VLOOKUP(基本登録情報!$C$7,登録データ!$I$3:$L$100,3,FALSE))","v":""}]
[null,null,null,null,null,null,null,null,{"$f":"IF($C647=\"\",\"\",VLOOKUP(基本登録情報!$C$7,登録データ!$I$3:$L$100,3,FALSE))","v":""}]
[null,null,null,null,null,null,null,null,{"$f":"IF($C648=\"\",\"\",VLOOKUP(基本登録情報!$C$7,登録データ!$I$3:$L$100,3,FALSE))","v":""}]
[null,null,null,null,null,null,null,null,{"$f":"IF($C649=\"\",\"\",VLOOKUP(基本登録情報!$C$7,登録データ!$I$3:$L$100,3,FALSE))","v":""}]
[null,null,null,null,null,null,null,null,{"$f":"IF($C650=\"\",\"\",VLOOKUP(基本登録情報!$C$7,登録データ!$I$3:$L$100,3,FALSE))","v":""}]
[null,null,null,null,null,null,null,null,{"$f":"IF($C651=\"\",\"\",VLOOKUP(基本登録情報!$C$7,登録データ!$I$3:$L$100,3,FALSE))","v":""}]
[null,null,null,null,null,null,null,null,{"$f":"IF($C652=\"\",\"\",VLOOKUP(基本登録情報!$C$7,登録データ!$I$3:$L$100,3,FALSE))","v":""}]
[null,null,null,null,null,null,null,null,{"$f":"IF($C653=\"\",\"\",VLOOKUP(基本登録情報!$C$7,登録データ!$I$3:$L$100,3,FALSE))","v":""}]
[null,null,null,null,null,null,null,null,{"$f":"IF($C654=\"\",\"\",VLOOKUP(基本登録情報!$C$7,登録データ!$I$3:$L$100,3,FALSE))","v":""}]
[null,null,null,null,null,null,null,null,{"$f":"IF($C655=\"\",\"\",VLOOKUP(基本登録情報!$C$7,登録データ!$I$3:$L$100,3,FALSE))","v":""}]
[null,null,null,null,null,null,null,null,{"$f":"IF($C656=\"\",\"\",VLOOKUP(基本登録情報!$C$7,登録データ!$I$3:$L$100,3,FALSE))","v":""}]
[null,null,null,null,null,null,null,null,{"$f":"IF($C657=\"\",\"\",VLOOKUP(基本登録情報!$C$7,登録データ!$I$3:$L$100,3,FALSE))","v":""}]
[null,null,null,null,null,null,null,null,{"$f":"IF($C658=\"\",\"\",VLOOKUP(基本登録情報!$C$7,登録データ!$I$3:$L$100,3,FALSE))","v":""}]
[null,null,null,null,null,null,null,null,{"$f":"IF($C659=\"\",\"\",VLOOKUP(基本登録情報!$C$7,登録データ!$I$3:$L$100,3,FALSE))","v":""}]
[null,null,null,null,null,null,null,null,{"$f":"IF($C660=\"\",\"\",VLOOKUP(基本登録情報!$C$7,登録データ!$I$3:$L$100,3,FALSE))","v":""}]
[null,null,null,null,null,null,null,null,{"$f":"IF($C661=\"\",\"\",VLOOKUP(基本登録情報!$C$7,登録データ!$I$3:$L$100,3,FALSE))","v":""}]
[null,null,null,null,null,null,null,null,{"$f":"IF($C662=\"\",\"\",VLOOKUP(基本登録情報!$C$7,登録データ!$I$3:$L$100,3,FALSE))","v":""}]
[null,null,null,null,null,null,null,null,{"$f":"IF($C663=\"\",\"\",VLOOKUP(基本登録情報!$C$7,登録データ!$I$3:$L$100,3,FALSE))","v":""}]
[null,null,null,null,null,null,null,null,{"$f":"IF($C664=\"\",\"\",VLOOKUP(基本登録情報!$C$7,登録データ!$I$3:$L$100,3,FALSE))","v":""}]
[null,null,null,null,null,null,null,null,{"$f":"IF($C665=\"\",\"\",VLOOKUP(基本登録情報!$C$7,登録データ!$I$3:$L$100,3,FALSE))","v":""}]
[null,null,null,null,null,null,null,null,{"$f":"IF($C666=\"\",\"\",VLOOKUP(基本登録情報!$C$7,登録データ!$I$3:$L$100,3,FALSE))","v":""}]
[null,null,null,null,null,null,null,null,{"$f":"IF($C667=\"\",\"\",VLOOKUP(基本登録情報!$C$7,登録データ!$I$3:$L$100,3,FALSE))","v":""}]
[null,null,null,null,null,null,null,null,{"$f":"IF($C668=\"\",\"\",VLOOKUP(基本登録情報!$C$7,登録データ!$I$3:$L$100,3,FALSE))","v":""}]
[null,null,null,null,null,null,null,null,{"$f":"IF($C669=\"\",\"\",VLOOKUP(基本登録情報!$C$7,登録データ!$I$3:$L$100,3,FALSE))","v":""}]
[null,null,null,null,null,null,null,null,{"$f":"IF($C670=\"\",\"\",VLOOKUP(基本登録情報!$C$7,登録データ!$I$3:$L$100,3,FALSE))","v":""}]
[null,null,null,null,null,null,null,null,{"$f":"IF($C671=\"\",\"\",VLOOKUP(基本登録情報!$C$7,登録データ!$I$3:$L$100,3,FALSE))","v":""}]
[null,null,null,null,null,null,null,null,{"$f":"IF($C672=\"\",\"\",VLOOKUP(基本登録情報!$C$7,登録データ!$I$3:$L$100,3,FALSE))","v":""}]
[null,null,null,null,null,null,null,null,{"$f":"IF($C673=\"\",\"\",VLOOKUP(基本登録情報!$C$7,登録データ!$I$3:$L$100,3,FALSE))","v":""}]
[null,null,null,null,null,null,null,null,{"$f":"IF($C674=\"\",\"\",VLOOKUP(基本登録情報!$C$7,登録データ!$I$3:$L$100,3,FALSE))","v":""}]
[null,null,null,null,null,null,null,null,{"$f":"IF($C675=\"\",\"\",VLOOKUP(基本登録情報!$C$7,登録データ!$I$3:$L$100,3,FALSE))","v":""}]
[null,null,null,null,null,null,null,null,{"$f":"IF($C676=\"\",\"\",VLOOKUP(基本登録情報!$C$7,登録データ!$I$3:$L$100,3,FALSE))","v":""}]
[null,null,null,null,null,null,null,null,{"$f":"IF($C677=\"\",\"\",VLOOKUP(基本登録情報!$C$7,登録データ!$I$3:$L$100,3,FALSE))","v":""}]
[null,null,null,null,null,null,null,null,{"$f":"IF($C678=\"\",\"\",VLOOKUP(基本登録情報!$C$7,登録データ!$I$3:$L$100,3,FALSE))","v":""}]
[null,null,null,null,null,null,null,null,{"$f":"IF($C679=\"\",\"\",VLOOKUP(基本登録情報!$C$7,登録データ!$I$3:$L$100,3,FALSE))","v":""}]
[null,null,null,null,null,null,null,null,{"$f":"IF($C680=\"\",\"\",VLOOKUP(基本登録情報!$C$7,登録データ!$I$3:$L$100,3,FALSE))","v":""}]
[null,null,null,null,null,null,null,null,{"$f":"IF($C681=\"\",\"\",VLOOKUP(基本登録情報!$C$7,登録データ!$I$3:$L$100,3,FALSE))","v":""}]
[null,null,null,null,null,null,null,null,{"$f":"IF($C682=\"\",\"\",VLOOKUP(基本登録情報!$C$7,登録データ!$I$3:$L$100,3,FALSE))","v":""}]
[null,null,null,null,null,null,null,null,{"$f":"IF($C683=\"\",\"\",VLOOKUP(基本登録情報!$C$7,登録データ!$I$3:$L$100,3,FALSE))","v":""}]
[null,null,null,null,null,null,null,null,{"$f":"IF($C684=\"\",\"\",VLOOKUP(基本登録情報!$C$7,登録データ!$I$3:$L$100,3,FALSE))","v":""}]
[null,null,null,null,null,null,null,null,{"$f":"IF($C685=\"\",\"\",VLOOKUP(基本登録情報!$C$7,登録データ!$I$3:$L$100,3,FALSE))","v":""}]
[null,null,null,null,null,null,null,null,{"$f":"IF($C686=\"\",\"\",VLOOKUP(基本登録情報!$C$7,登録データ!$I$3:$L$100,3,FALSE))","v":""}]
[null,null,null,null,null,null,null,null,{"$f":"IF($C687=\"\",\"\",VLOOKUP(基本登録情報!$C$7,登録データ!$I$3:$L$100,3,FALSE))","v":""}]
[null,null,null,null,null,null,null,null,{"$f":"IF($C688=\"\",\"\",VLOOKUP(基本登録情報!$C$7,登録データ!$I$3:$L$100,3,FALSE))","v":""}]
[null,null,null,null,null,null,null,null,{"$f":"IF($C689=\"\",\"\",VLOOKUP(基本登録情報!$C$7,登録データ!$I$3:$L$100,3,FALSE))","v":""}]
[null,null,null,null,null,null,null,null,{"$f":"IF($C690=\"\",\"\",VLOOKUP(基本登録情報!$C$7,登録データ!$I$3:$L$100,3,FALSE))","v":""}]
[null,null,null,null,null,null,null,null,{"$f":"IF($C691=\"\",\"\",VLOOKUP(基本登録情報!$C$7,登録データ!$I$3:$L$100,3,FALSE))","v":""}]
[null,null,null,null,null,null,null,null,{"$f":"IF($C692=\"\",\"\",VLOOKUP(基本登録情報!$C$7,登録データ!$I$3:$L$65,3,FALSE))","v":""}]
[null,null,null,null,null,null,null,null,{"$f":"IF($C693=\"\",\"\",VLOOKUP(基本登録情報!$C$7,登録データ!$I$3:$L$65,3,FALSE))","v":""}]
[null,null,null,null,null,null,null,null,{"$f":"IF($C694=\"\",\"\",VLOOKUP(基本登録情報!$C$7,登録データ!$I$3:$L$65,3,FALSE))","v":""}]
[null,null,null,null,null,null,null,null,{"$f":"IF($C695=\"\",\"\",VLOOKUP(基本登録情報!$C$7,登録データ!$I$3:$L$65,3,FALSE))","v":""}]
[null,null,null,null,null,null,null,null,{"$f":"IF($C696=\"\",\"\",VLOOKUP(基本登録情報!$C$7,登録データ!$I$3:$L$65,3,FALSE))","v":""}]
[null,null,null,null,null,null,null,null,{"$f":"IF($C697=\"\",\"\",VLOOKUP(基本登録情報!$C$7,登録データ!$I$3:$L$65,3,FALSE))","v":""}]
[null,null,null,null,null,null,null,null,{"$f":"IF($C698=\"\",\"\",VLOOKUP(基本登録情報!$C$7,登録データ!$I$3:$L$65,3,FALSE))","v":""}]
[null,null,null,null,null,null,null,null,{"$f":"IF($C699=\"\",\"\",VLOOKUP(基本登録情報!$C$7,登録データ!$I$3:$L$65,3,FALSE))","v":""}]
[null,null,null,null,null,null,null,null,{"$f":"IF($C700=\"\",\"\",VLOOKUP(基本登録情報!$C$7,登録データ!$I$3:$L$65,3,FALSE))","v":""}]
[null,null,null,null,null,null,null,null,{"$f":"IF($C701=\"\",\"\",VLOOKUP(基本登録情報!$C$7,登録データ!$I$3:$L$65,3,FALSE))","v":""}]
[null,null,null,null,null,null,null,null,{"$f":"IF($C702=\"\",\"\",VLOOKUP(基本登録情報!$C$7,登録データ!$I$3:$L$65,3,FALSE))","v":""}]
[null,null,null,null,null,null,null,null,{"$f":"IF($C703=\"\",\"\",VLOOKUP(基本登録情報!$C$7,登録データ!$I$3:$L$65,3,FALSE))","v":""}]
[null,null,null,null,null,null,null,null,{"$f":"IF($C704=\"\",\"\",VLOOKUP(基本登録情報!$C$7,登録データ!$I$3:$L$65,3,FALSE))","v":""}]
[null,null,null,null,null,null,null,null,{"$f":"IF($C705=\"\",\"\",VLOOKUP(基本登録情報!$C$7,登録データ!$I$3:$L$65,3,FALSE))","v":""}]
[null,null,null,null,null,null,null,null,{"$f":"IF($C706=\"\",\"\",VLOOKUP(基本登録情報!$C$7,登録データ!$I$3:$L$65,3,FALSE))","v":""}]
[null,null,null,null,null,null,null,null,{"$f":"IF($C707=\"\",\"\",VLOOKUP(基本登録情報!$C$7,登録データ!$I$3:$L$65,3,FALSE))","v":""}]
[null,null,null,null,null,null,null,null,{"$f":"IF($C708=\"\",\"\",VLOOKUP(基本登録情報!$C$7,登録データ!$I$3:$L$65,3,FALSE))","v":""}]
[null,null,null,null,null,null,null,null,{"$f":"IF($C709=\"\",\"\",VLOOKUP(基本登録情報!$C$7,登録データ!$I$3:$L$65,3,FALSE))","v":""}]
[null,null,null,null,null,null,null,null,{"$f":"IF($C710=\"\",\"\",VLOOKUP(基本登録情報!$C$7,登録データ!$I$3:$L$65,3,FALSE))","v":""}]
[null,null,null,null,null,null,null,null,{"$f":"IF($C711=\"\",\"\",VLOOKUP(基本登録情報!$C$7,登録データ!$I$3:$L$65,3,FALSE))","v":""}]
[null,null,null,null,null,null,null,null,{"$f":"IF($C712=\"\",\"\",VLOOKUP(基本登録情報!$C$7,登録データ!$I$3:$L$65,3,FALSE))","v":""}]
[null,null,null,null,null,null,null,null,{"$f":"IF($C713=\"\",\"\",VLOOKUP(基本登録情報!$C$7,登録データ!$I$3:$L$65,3,FALSE))","v":""}]
[null,null,null,null,null,null,null,null,{"$f":"IF($C714=\"\",\"\",VLOOKUP(基本登録情報!$C$7,登録データ!$I$3:$L$65,3,FALSE))","v":""}]
[null,null,null,null,null,null,null,null,{"$f":"IF($C715=\"\",\"\",VLOOKUP(基本登録情報!$C$7,登録データ!$I$3:$L$65,3,FALSE))","v":""}]
[null,null,null,null,null,null,null,null,{"$f":"IF($C716=\"\",\"\",VLOOKUP(基本登録情報!$C$7,登録データ!$I$3:$L$65,3,FALSE))","v":""}]
[null,null,null,null,null,null,null,null,{"$f":"IF($C717=\"\",\"\",VLOOKUP(基本登録情報!$C$7,登録データ!$I$3:$L$65,3,FALSE))","v":""}]
[null,null,null,null,null,null,null,null,{"$f":"IF($C718=\"\",\"\",VLOOKUP(基本登録情報!$C$7,登録データ!$I$3:$L$65,3,FALSE))","v":""}]
[null,null,null,null,null,null,null,null,{"$f":"IF($C719=\"\",\"\",VLOOKUP(基本登録情報!$C$7,登録データ!$I$3:$L$65,3,FALSE))","v":""}]
[null,null,null,null,null,null,null,null,{"$f":"IF($C720=\"\",\"\",VLOOKUP(基本登録情報!$C$7,登録データ!$I$3:$L$65,3,FALSE))","v":""}]
[null,null,null,null,null,null,null,null,{"$f":"IF($C721=\"\",\"\",VLOOKUP(基本登録情報!$C$7,登録データ!$I$3:$L$65,3,FALSE))","v":""}]
[null,null,null,null,null,null,null,null,{"$f":"IF($C722=\"\",\"\",VLOOKUP(基本登録情報!$C$7,登録データ!$I$3:$L$65,3,FALSE))","v":""}]
[null,null,null,null,null,null,null,null,{"$f":"IF($C723=\"\",\"\",VLOOKUP(基本登録情報!$C$7,登録データ!$I$3:$L$65,3,FALSE))","v":""}]
[null,null,null,null,null,null,null,null,{"$f":"IF($C724=\"\",\"\",VLOOKUP(基本登録情報!$C$7,登録データ!$I$3:$L$65,3,FALSE))","v":""}]
[null,null,null,null,null,null,null,null,{"$f":"IF($C725=\"\",\"\",VLOOKUP(基本登録情報!$C$7,登録データ!$I$3:$L$65,3,FALSE))","v":""}]
[null,null,null,null,null,null,null,null,{"$f":"IF($C726=\"\",\"\",VLOOKUP(基本登録情報!$C$7,登録データ!$I$3:$L$65,3,FALSE))","v":""}]
[null,null,null,null,null,null,null,null,{"$f":"IF($C727=\"\",\"\",VLOOKUP(基本登録情報!$C$7,登録データ!$I$3:$L$65,3,FALSE))","v":""}]
[null,null,null,null,null,null,null,null,{"$f":"IF($C728=\"\",\"\",VLOOKUP(基本登録情報!$C$7,登録データ!$I$3:$L$65,3,FALSE))","v":""}]
[null,null,null,null,null,null,null,null,{"$f":"IF($C729=\"\",\"\",VLOOKUP(基本登録情報!$C$7,登録データ!$I$3:$L$65,3,FALSE))","v":""}]
[null,null,null,null,null,null,null,null,{"$f":"IF($C730=\"\",\"\",VLOOKUP(基本登録情報!$C$7,登録データ!$I$3:$L$65,3,FALSE))","v":""}]
[null,null,null,null,null,null,null,null,{"$f":"IF($C731=\"\",\"\",VLOOKUP(基本登録情報!$C$7,登録データ!$I$3:$L$65,3,FALSE))","v":""}]
[null,null,null,null,null,null,null,null,{"$f":"IF($C732=\"\",\"\",VLOOKUP(基本登録情報!$C$7,登録データ!$I$3:$L$65,3,FALSE))","v":""}]
[null,null,null,null,null,null,null,null,{"$f":"IF($C733=\"\",\"\",VLOOKUP(基本登録情報!$C$7,登録データ!$I$3:$L$65,3,FALSE))","v":""}]
[null,null,null,null,null,null,null,null,{"$f":"IF($C734=\"\",\"\",VLOOKUP(基本登録情報!$C$7,登録データ!$I$3:$L$65,3,FALSE))","v":""}]
[null,null,null,null,null,null,null,null,{"$f":"IF($C735=\"\",\"\",VLOOKUP(基本登録情報!$C$7,登録データ!$I$3:$L$65,3,FALSE))","v":""}]
[null,null,null,null,null,null,null,null,{"$f":"IF($C736=\"\",\"\",VLOOKUP(基本登録情報!$C$7,登録データ!$I$3:$L$65,3,FALSE))","v":""}]
[null,null,null,null,null,null,null,null,{"$f":"IF($C737=\"\",\"\",VLOOKUP(基本登録情報!$C$7,登録データ!$I$3:$L$65,3,FALSE))","v":""}]
[null,null,null,null,null,null,null,null,{"$f":"IF($C738=\"\",\"\",VLOOKUP(基本登録情報!$C$7,登録データ!$I$3:$L$65,3,FALSE))","v":""}]
[null,null,null,null,null,null,null,null,{"$f":"IF($C739=\"\",\"\",VLOOKUP(基本登録情報!$C$7,登録データ!$I$3:$L$65,3,FALSE))","v":""}]
[null,null,null,null,null,null,null,null,{"$f":"IF($C740=\"\",\"\",VLOOKUP(基本登録情報!$C$7,登録データ!$I$3:$L$65,3,FALSE))","v":""}]
[null,null,null,null,null,null,null,null,{"$f":"IF($C741=\"\",\"\",VLOOKUP(基本登録情報!$C$7,登録データ!$I$3:$L$65,3,FALSE))","v":""}]
[null,null,null,null,null,null,null,null,{"$f":"IF($C742=\"\",\"\",VLOOKUP(基本登録情報!$C$7,登録データ!$I$3:$L$65,3,FALSE))","v":""}]
[null,null,null,null,null,null,null,null,{"$f":"IF($C743=\"\",\"\",VLOOKUP(基本登録情報!$C$7,登録データ!$I$3:$L$65,3,FALSE))","v":""}]
[null,null,null,null,null,null,null,null,{"$f":"IF($C744=\"\",\"\",VLOOKUP(基本登録情報!$C$7,登録データ!$I$3:$L$65,3,FALSE))","v":""}]
[null,null,null,null,null,null,null,null,{"$f":"IF($C745=\"\",\"\",VLOOKUP(基本登録情報!$C$7,登録データ!$I$3:$L$65,3,FALSE))","v":""}]
[null,null,null,null,null,null,null,null,{"$f":"IF($C746=\"\",\"\",VLOOKUP(基本登録情報!$C$7,登録データ!$I$3:$L$65,3,FALSE))","v":""}]
[null,null,null,null,null,null,null,null,{"$f":"IF($C747=\"\",\"\",VLOOKUP(基本登録情報!$C$7,登録データ!$I$3:$L$65,3,FALSE))","v":""}]
[null,null,null,null,null,null,null,null,{"$f":"IF($C748=\"\",\"\",VLOOKUP(基本登録情報!$C$7,登録データ!$I$3:$L$65,3,FALSE))","v":""}]
[null,null,null,null,null,null,null,null,{"$f":"IF($C749=\"\",\"\",VLOOKUP(基本登録情報!$C$7,登録データ!$I$3:$L$65,3,FALSE))","v":""}]
[null,null,null,null,null,null,null,null,{"$f":"IF($C750=\"\",\"\",VLOOKUP(基本登録情報!$C$7,登録データ!$I$3:$L$65,3,FALSE))","v":""}]
[null,null,null,null,null,null,null,null,{"$f":"IF($C751=\"\",\"\",VLOOKUP(基本登録情報!$C$7,登録データ!$I$3:$L$65,3,FALSE))","v":""}]
[null,null,null,null,null,null,null,null,{"$f":"IF($C752=\"\",\"\",VLOOKUP(基本登録情報!$C$7,登録データ!$I$3:$L$65,3,FALSE))","v":""}]
[null,null,null,null,null,null,null,null,{"$f":"IF($C753=\"\",\"\",VLOOKUP(基本登録情報!$C$7,登録データ!$I$3:$L$65,3,FALSE))","v":""}]
[null,null,null,null,null,null,null,null,{"$f":"IF($C754=\"\",\"\",VLOOKUP(基本登録情報!$C$7,登録データ!$I$3:$L$65,3,FALSE))","v":""}]
[null,null,null,null,null,null,null,null,{"$f":"IF($C755=\"\",\"\",VLOOKUP(基本登録情報!$C$7,登録データ!$I$3:$L$65,3,FALSE))","v":""}]
[null,null,null,null,null,null,null,null,{"$f":"IF($C756=\"\",\"\",VLOOKUP(基本登録情報!$C$7,登録データ!$I$3:$L$65,3,FALSE))","v":""}]
[null,null,null,null,null,null,null,null,{"$f":"IF($C757=\"\",\"\",VLOOKUP(基本登録情報!$C$7,登録データ!$I$3:$L$65,3,FALSE))","v":""}]
[null,null,null,null,null,null,null,null,{"$f":"IF($C758=\"\",\"\",VLOOKUP(基本登録情報!$C$7,登録データ!$I$3:$L$65,3,FALSE))","v":""}]
[null,null,null,null,null,null,null,null,{"$f":"IF($C759=\"\",\"\",VLOOKUP(基本登録情報!$C$7,登録データ!$I$3:$L$65,3,FALSE))","v":""}]
[null,null,null,null,null,null,null,null,{"$f":"IF($C760=\"\",\"\",VLOOKUP(基本登録情報!$C$7,登録データ!$I$3:$L$65,3,FALSE))","v":""}]
[null,null,null,null,null,null,null,null,{"$f":"IF($C761=\"\",\"\",VLOOKUP(基本登録情報!$C$7,登録データ!$I$3:$L$65,3,FALSE))","v":""}]
[null,null,null,null,null,null,null,null,{"$f":"IF($C762=\"\",\"\",VLOOKUP(基本登録情報!$C$7,登録データ!$I$3:$L$65,3,FALSE))","v":""}]
[null,null,null,null,null,null,null,null,{"$f":"IF($C763=\"\",\"\",VLOOKUP(基本登録情報!$C$7,登録データ!$I$3:$L$65,3,FALSE))","v":""}]
[null,null,null,null,null,null,null,null,{"$f":"IF($C764=\"\",\"\",VLOOKUP(基本登録情報!$C$7,登録データ!$I$3:$L$65,3,FALSE))","v":""}]
[null,null,null,null,null,null,null,null,{"$f":"IF($C765=\"\",\"\",VLOOKUP(基本登録情報!$C$7,登録データ!$I$3:$L$65,3,FALSE))","v":""}]
[null,null,null,null,null,null,null,null,{"$f":"IF($C766=\"\",\"\",VLOOKUP(基本登録情報!$C$7,登録データ!$I$3:$L$65,3,FALSE))","v":""}]
[null,null,null,null,null,null,null,null,{"$f":"IF($C767=\"\",\"\",VLOOKUP(基本登録情報!$C$7,登録データ!$I$3:$L$65,3,FALSE))","v":""}]
[null,null,null,null,null,null,null,null,{"$f":"IF($C768=\"\",\"\",VLOOKUP(基本登録情報!$C$7,登録データ!$I$3:$L$65,3,FALSE))","v":""}]
[null,null,null,null,null,null,null,null,{"$f":"IF($C769=\"\",\"\",VLOOKUP(基本登録情報!$C$7,登録データ!$I$3:$L$65,3,FALSE))","v":""}]
[null,null,null,null,null,null,null,null,{"$f":"IF($C770=\"\",\"\",VLOOKUP(基本登録情報!$C$7,登録データ!$I$3:$L$65,3,FALSE))","v":""}]
[null,null,null,null,null,null,null,null,{"$f":"IF($C771=\"\",\"\",VLOOKUP(基本登録情報!$C$7,登録データ!$I$3:$L$65,3,FALSE))","v":""}]
[null,null,null,null,null,null,null,null,{"$f":"IF($C772=\"\",\"\",VLOOKUP(基本登録情報!$C$7,登録データ!$I$3:$L$65,3,FALSE))","v":""}]
[null,null,null,null,null,null,null,null,{"$f":"IF($C773=\"\",\"\",VLOOKUP(基本登録情報!$C$7,登録データ!$I$3:$L$65,3,FALSE))","v":""}]
[null,null,null,null,null,null,null,null,{"$f":"IF($C774=\"\",\"\",VLOOKUP(基本登録情報!$C$7,登録データ!$I$3:$L$65,3,FALSE))","v":""}]
[null,null,null,null,null,null,null,null,{"$f":"IF($C775=\"\",\"\",VLOOKUP(基本登録情報!$C$7,登録データ!$I$3:$L$65,3,FALSE))","v":""}]
[null,null,null,null,null,null,null,null,{"$f":"IF($C776=\"\",\"\",VLOOKUP(基本登録情報!$C$7,登録データ!$I$3:$L$65,3,FALSE))","v":""}]
[null,null,null,null,null,null,null,null,{"$f":"IF($C777=\"\",\"\",VLOOKUP(基本登録情報!$C$7,登録データ!$I$3:$L$65,3,FALSE))","v":""}]
[null,null,null,null,null,null,null,null,{"$f":"IF($C778=\"\",\"\",VLOOKUP(基本登録情報!$C$7,登録データ!$I$3:$L$65,3,FALSE))","v":""}]
[null,null,null,null,null,null,null,null,{"$f":"IF($C779=\"\",\"\",VLOOKUP(基本登録情報!$C$7,登録データ!$I$3:$L$65,3,FALSE))","v":""}]
[null,null,null,null,null,null,null,null,{"$f":"IF($C780=\"\",\"\",VLOOKUP(基本登録情報!$C$7,登録データ!$I$3:$L$65,3,FALSE))","v":""}]
[null,null,null,null,null,null,null,null,{"$f":"IF($C781=\"\",\"\",VLOOKUP(基本登録情報!$C$7,登録データ!$I$3:$L$65,3,FALSE))","v":""}]
[null,null,null,null,null,null,null,null,{"$f":"IF($C782=\"\",\"\",VLOOKUP(基本登録情報!$C$7,登録データ!$I$3:$L$65,3,FALSE))","v":""}]
[null,null,null,null,null,null,null,null,{"$f":"IF($C783=\"\",\"\",VLOOKUP(基本登録情報!$C$7,登録データ!$I$3:$L$65,3,FALSE))","v":""}]
[null,null,null,null,null,null,null,null,{"$f":"IF($C784=\"\",\"\",VLOOKUP(基本登録情報!$C$7,登録データ!$I$3:$L$65,3,FALSE))","v":""}]
[null,null,null,null,null,null,null,null,{"$f":"IF($C785=\"\",\"\",VLOOKUP(基本登録情報!$C$7,登録データ!$I$3:$L$65,3,FALSE))","v":""}]
[null,null,null,null,null,null,null,null,{"$f":"IF($C786=\"\",\"\",VLOOKUP(基本登録情報!$C$7,登録データ!$I$3:$L$65,3,FALSE))","v":""}]
[null,null,null,null,null,null,null,null,{"$f":"IF($C787=\"\",\"\",VLOOKUP(基本登録情報!$C$7,登録データ!$I$3:$L$65,3,FALSE))","v":""}]
[null,null,null,null,null,null,null,null,{"$f":"IF($C788=\"\",\"\",VLOOKUP(基本登録情報!$C$7,登録データ!$I$3:$L$65,3,FALSE))","v":""}]
[null,null,null,null,null,null,null,null,{"$f":"IF($C789=\"\",\"\",VLOOKUP(基本登録情報!$C$7,登録データ!$I$3:$L$65,3,FALSE))","v":""}]
[null,null,null,null,null,null,null,null,{"$f":"IF($C790=\"\",\"\",VLOOKUP(基本登録情報!$C$7,登録データ!$I$3:$L$65,3,FALSE))","v":""}]
[null,null,null,null,null,null,null,null,{"$f":"IF($C791=\"\",\"\",VLOOKUP(基本登録情報!$C$7,登録データ!$I$3:$L$65,3,FALSE))","v":""}]
[null,null,null,null,null,null,null,null,{"$f":"IF($C792=\"\",\"\",VLOOKUP(基本登録情報!$C$7,登録データ!$I$3:$L$65,3,FALSE))","v":""}]
[null,null,null,null,null,null,null,null,{"$f":"IF($C793=\"\",\"\",VLOOKUP(基本登録情報!$C$7,登録データ!$I$3:$L$65,3,FALSE))","v":""}]
[null,null,null,null,null,null,null,null,{"$f":"IF($C794=\"\",\"\",VLOOKUP(基本登録情報!$C$7,登録データ!$I$3:$L$65,3,FALSE))","v":""}]
[null,null,null,null,null,null,null,null,{"$f":"IF($C795=\"\",\"\",VLOOKUP(基本登録情報!$C$7,登録データ!$I$3:$L$65,3,FALSE))","v":""}]
[null,null,null,null,null,null,null,null,{"$f":"IF($C796=\"\",\"\",VLOOKUP(基本登録情報!$C$7,登録データ!$I$3:$L$65,3,FALSE))","v":""}]
[null,null,null,null,null,null,null,null,{"$f":"IF($C797=\"\",\"\",VLOOKUP(基本登録情報!$C$7,登録データ!$I$3:$L$65,3,FALSE))","v":""}]
[null,null,null,null,null,null,null,null,{"$f":"IF($C798=\"\",\"\",VLOOKUP(基本登録情報!$C$7,登録データ!$I$3:$L$65,3,FALSE))","v":""}]
[null,null,null,null,null,null,null,null,{"$f":"IF($C799=\"\",\"\",VLOOKUP(基本登録情報!$C$7,登録データ!$I$3:$L$65,3,FALSE))","v":""}]
[null,null,null,null,null,null,null,null,{"$f":"IF($C800=\"\",\"\",VLOOKUP(基本登録情報!$C$7,登録データ!$I$3:$L$65,3,FALSE))","v":""}]
[null,null,null,null,null,null,null,null,{"$f":"IF($C801=\"\",\"\",VLOOKUP(基本登録情報!$C$7,登録データ!$I$3:$L$65,3,FALSE))","v":""}]
[null,null,null,null,null,null,null,null,{"$f":"IF($C802=\"\",\"\",VLOOKUP(基本登録情報!$C$7,登録データ!$I$3:$L$65,3,FALSE))","v":""}]
[null,null,null,null,null,null,null,null,{"$f":"IF($C803=\"\",\"\",VLOOKUP(基本登録情報!$C$7,登録データ!$I$3:$L$65,3,FALSE))","v":""}]
[null,null,null,null,null,null,null,null,{"$f":"IF($C804=\"\",\"\",VLOOKUP(基本登録情報!$C$7,登録データ!$I$3:$L$65,3,FALSE))","v":""}]
[null,null,null,null,null,null,null,null,{"$f":"IF($C805=\"\",\"\",VLOOKUP(基本登録情報!$C$7,登録データ!$I$3:$L$65,3,FALSE))","v":""}]
[null,null,null,null,null,null,null,null,{"$f":"IF($C806=\"\",\"\",VLOOKUP(基本登録情報!$C$7,登録データ!$I$3:$L$65,3,FALSE))","v":""}]
[null,null,null,null,null,null,null,null,{"$f":"IF($C807=\"\",\"\",VLOOKUP(基本登録情報!$C$7,登録データ!$I$3:$L$65,3,FALSE))","v":""}]
[null,null,null,null,null,null,null,null,{"$f":"IF($C808=\"\",\"\",VLOOKUP(基本登録情報!$C$7,登録データ!$I$3:$L$65,3,FALSE))","v":""}]
[null,null,null,null,null,null,null,null,{"$f":"IF($C809=\"\",\"\",VLOOKUP(基本登録情報!$C$7,登録データ!$I$3:$L$65,3,FALSE))","v":""}]
[null,null,null,null,null,null,null,null,{"$f":"IF($C810=\"\",\"\",VLOOKUP(基本登録情報!$C$7,登録データ!$I$3:$L$65,3,FALSE))","v":""}]
[null,null,null,null,null,null,null,null,{"$f":"IF($C811=\"\",\"\",VLOOKUP(基本登録情報!$C$7,登録データ!$I$3:$L$65,3,FALSE))","v":""}]
[null,null,null,null,null,null,null,null,{"$f":"IF($C812=\"\",\"\",VLOOKUP(基本登録情報!$C$7,登録データ!$I$3:$L$65,3,FALSE))","v":""}]
[null,null,null,null,null,null,null,null,{"$f":"IF($C813=\"\",\"\",VLOOKUP(基本登録情報!$C$7,登録データ!$I$3:$L$65,3,FALSE))","v":""}]
[null,null,null,null,null,null,null,null,{"$f":"IF($C814=\"\",\"\",VLOOKUP(基本登録情報!$C$7,登録データ!$I$3:$L$65,3,FALSE))","v":""}]
[null,null,null,null,null,null,null,null,{"$f":"IF($C815=\"\",\"\",VLOOKUP(基本登録情報!$C$7,登録データ!$I$3:$L$65,3,FALSE))","v":""}]
[null,null,null,null,null,null,null,null,{"$f":"IF($C816=\"\",\"\",VLOOKUP(基本登録情報!$C$7,登録データ!$I$3:$L$65,3,FALSE))","v":""}]
[null,null,null,null,null,null,null,null,{"$f":"IF($C817=\"\",\"\",VLOOKUP(基本登録情報!$C$7,登録データ!$I$3:$L$65,3,FALSE))","v":""}]
[null,null,null,null,null,null,null,null,{"$f":"IF($C818=\"\",\"\",VLOOKUP(基本登録情報!$C$7,登録データ!$I$3:$L$65,3,FALSE))","v":""}]
[null,null,null,null,null,null,null,null,{"$f":"IF($C819=\"\",\"\",VLOOKUP(基本登録情報!$C$7,登録データ!$I$3:$L$65,3,FALSE))","v":""}]
[null,null,null,null,null,null,null,null,{"$f":"IF($C820=\"\",\"\",VLOOKUP(基本登録情報!$C$7,登録データ!$I$3:$L$65,3,FALSE))","v":""}]
[null,null,null,null,null,null,null,null,{"$f":"IF($C821=\"\",\"\",VLOOKUP(基本登録情報!$C$7,登録データ!$I$3:$L$65,3,FALSE))","v":""}]
[null,null,null,null,null,null,null,null,{"$f":"IF($C822=\"\",\"\",VLOOKUP(基本登録情報!$C$7,登録データ!$I$3:$L$65,3,FALSE))","v":""}]
[null,null,null,null,null,null,null,null,{"$f":"IF($C823=\"\",\"\",VLOOKUP(基本登録情報!$C$7,登録データ!$I$3:$L$65,3,FALSE))","v":""}]
[null,null,null,null,null,null,null,null,{"$f":"IF($C824=\"\",\"\",VLOOKUP(基本登録情報!$C$7,登録データ!$I$3:$L$65,3,FALSE))","v":""}]
[null,null,null,null,null,null,null,null,{"$f":"IF($C825=\"\",\"\",VLOOKUP(基本登録情報!$C$7,登録データ!$I$3:$L$65,3,FALSE))","v":""}]
[null,null,null,null,null,null,null,null,{"$f":"IF($C826=\"\",\"\",VLOOKUP(基本登録情報!$C$7,登録データ!$I$3:$L$65,3,FALSE))","v":""}]
[null,null,null,null,null,null,null,null,{"$f":"IF($C827=\"\",\"\",VLOOKUP(基本登録情報!$C$7,登録データ!$I$3:$L$65,3,FALSE))","v":""}]
[null,null,null,null,null,null,null,null,{"$f":"IF($C828=\"\",\"\",VLOOKUP(基本登録情報!$C$7,登録データ!$I$3:$L$65,3,FALSE))","v":""}]
[null,null,null,null,null,null,null,null,{"$f":"IF($C829=\"\",\"\",VLOOKUP(基本登録情報!$C$7,登録データ!$I$3:$L$65,3,FALSE))","v":""}]
[null,null,null,null,null,null,null,null,{"$f":"IF($C830=\"\",\"\",VLOOKUP(基本登録情報!$C$7,登録データ!$I$3:$L$65,3,FALSE))","v":""}]
[null,null,null,null,null,null,null,null,{"$f":"IF($C831=\"\",\"\",VLOOKUP(基本登録情報!$C$7,登録データ!$I$3:$L$65,3,FALSE))","v":""}]
[null,null,null,null,null,null,null,null,{"$f":"IF($C832=\"\",\"\",VLOOKUP(基本登録情報!$C$7,登録データ!$I$3:$L$65,3,FALSE))","v":""}]
[null,null,null,null,null,null,null,null,{"$f":"IF($C833=\"\",\"\",VLOOKUP(基本登録情報!$C$7,登録データ!$I$3:$L$65,3,FALSE))","v":""}]
[null,null,null,null,null,null,null,null,{"$f":"IF($C834=\"\",\"\",VLOOKUP(基本登録情報!$C$7,登録データ!$I$3:$L$65,3,FALSE))","v":""}]
[null,null,null,null,null,null,null,null,{"$f":"IF($C835=\"\",\"\",VLOOKUP(基本登録情報!$C$7,登録データ!$I$3:$L$65,3,FALSE))","v":""}]

{"sheet":"所属","index":8,"n_rows":12,"n_cols":5,"rows_kept":12,"cut":false,"hidden":false,"merged":[]}
["所属"]
["DB","N1","N2","N3","KC"]
[{"$f":"IF(基本登録情報!C7=\"\",\"\",VLOOKUP(基本登録情報!C7,登録データ!I3:L100,3,FALSE))","v":""},{"$f":"IF(A3=\"\",\"\",VLOOKUP(基本登録情報!$C$7,登録データ!I3:L100,2,FALSE))","v":""},{"$f":"IF(A3=\"\",\"\",VLOOKUP(基本登録情報!$C$7,登録データ!I3:L100,1,FALSE))","v":""},{"$f":"IF(A3=\"\",\"\",VLOOKUP(基本登録情報!$C$7,登録データ!I3:L100,1,FALSE))","v":""},{"$f":"IF(A3=\"\",\"\",VLOOKUP(基本登録情報!$C$7,登録データ!I3:M100,5,FALSE))","v":""}]
[null,null,null,null,{"$f":"IF(A4=\"\",\"\",VLOOKUP(基本登録情報!$C$7,登録データ!I4:M53,5,FALSE))","v":""}]
[null,null,null,null,{"$f":"IF(A5=\"\",\"\",VLOOKUP(基本登録情報!$C$7,登録データ!I5:M54,5,FALSE))","v":""}]
[null,null,null,null,{"$f":"IF(A6=\"\",\"\",VLOOKUP(基本登録情報!$C$7,登録データ!I6:M55,5,FALSE))","v":""}]
[null,null,null,null,{"$f":"IF(A7=\"\",\"\",VLOOKUP(基本登録情報!$C$7,登録データ!I7:M56,5,FALSE))","v":""}]
[null,null,null,null,{"$f":"IF(A8=\"\",\"\",VLOOKUP(基本登録情報!$C$7,登録データ!I8:M57,5,FALSE))","v":""}]
[null,null,null,null,{"$f":"IF(A9=\"\",\"\",VLOOKUP(基本登録情報!$C$7,登録データ!I9:M58,5,FALSE))","v":""}]
[null,null,null,null,{"$f":"IF(A10=\"\",\"\",VLOOKUP(基本登録情報!$C$7,登録データ!I10:M59,5,FALSE))","v":""}]
[null,null,null,null,{"$f":"IF(A11=\"\",\"\",VLOOKUP(基本登録情報!$C$7,登録データ!I11:M60,5,FALSE))","v":""}]
[null,null,null,null,{"$f":"IF(A12=\"\",\"\",VLOOKUP(基本登録情報!$C$7,登録データ!I12:M61,5,FALSE))","v":""}]